Workbook
Name _050BMG9020E: #REF!
Name _146BMG0070: #REF!
Name _187EMG0240: #REF!
Name _187EMG0260: #REF!
Name _187EMG0280: #REF!
Name _187EMG0300: #REF!
Name _187EMG0320: #REF!
Name _187EMG0340: #REF!
Name _190EMG0340: #REF!
Name _190EMG0360: #REF!
Name _190EMG0370: #REF!
Name _190EMG0375: #REF!
Name _190EMG0420: #REF!
Name _190EMG0440: #REF!
Name _364BMG0250: #REF!
Name _364BMG0270: #REF!
Name _365BMG0230: #REF!
Name _365BMG0240: #REF!
Name _365BMG0243: #REF!
Name _365BMG0250: #REF!
Name _365BMG0255: #REF!
Name _427EMG0200E: #REF!
Name _427EMG0205_02: #REF!
Name _427EMG0205D_01: #REF!
Name _427EMG0220: #REF!
Name _427EMG0240: #REF!
Name _427EMG0260: #REF!
Name _427EMG0280: #REF!
Name _427EMG0300: #REF!
Name _452BMG0230: #REF!
Name _452BMG0235: #REF!
Name _452BMG0237: #REF!
Name _452BMG0240: #REF!
Name _452BMG0250: #REF!
Name _452CMG0210: #REF!
Name _452CMG0220: #REF!
Name _452CMG0225: #REF!
Name _462CMG0010_01: #REF!
Name _462CMG0010_02: #REF!
Name _462CMG0010_03: #REF!
Name _462CMG0010_04: #REF!
Name _462CMG0010_05: #REF!
Name _462CMG0010_06: #REF!
Name _462CMG0011_01: #REF!
Name _462CMG0011_02: #REF!
Name _462CMG0030_01: #REF!
Name _462CMG0030_02: #REF!
Name _462CMG0030_03: #REF!
Name _782LMG0005: #REF!
Name _782LMG0010: #REF!
Name _798LMG0020: #REF!
Name _812LMG0020: #REF!
Name AMG900.2: #REF!
Name AMG900.2f: #REF!
Name AMG900.2i: #REF!
Name AMG900.4: #REF!
Name AMG900.4f: #REF!
Name AMG900.4i: #REF!
Name AMG9001.4: #REF!
Name AMG9001.4f: #REF!

Sheet Resumo Custos
C2: Cliente: | D2: BNDES - Banco Nacional de Desenvolvimento | H2: BDI: | I2: 0.2232
C3: Trecho: | D3: Centro Norte | H3: BDI DIFERENCADO: | I3: 0.149954
C4: Objeto: | D4: Estudos de Viabilidade do Programa de Desestatização do Sistema Rodoviário Federal - 6700km | H4: DATA-BASE | I4: Outubro/2020
E6: PREÇOS POR SEGMENTOS - MANUTENÇÃO RODOVIÁRIA
B8: Item | C8: Estado | D8: Segmento | E8: Diamante - PAV I | F8: Diamante - PAV II | G8: Diamante com Rotatórias - PAV I | H8: Rotatória Alongada - PAV I | I8: Rotatória Alongada - PAV II | J8: Rotatória Alongada - PAV III | K8: Trombeta - PAV I | L8: Trombeta - PAV III
B10: 1 | C10: =RIGHT(LEFT(D10,6),2) -> GO | D10: 060BGO0270% | E10: =IF(E$8=APOIO!$D12,IF($C10="GO",#REF!,IF($C10="MT",#REF!,IF($C10="RO",#REF!,0))),0)*_xlfn.XLOOKUP($D10,APOIO!$C:$C,APOIO!$G:$G) -> #REF! | F10: =IF(F$8=APOIO!$D12,IF($C10="GO",#REF!,IF($C10="MT",#REF!,IF($C10="RO",#REF!,0))),0)*_xlfn.XLOOKUP($D10,APOIO!$C:$C,APOIO!$G:$G) -> 0 | G10: =IF(G$8=APOIO!$D12,IF($C10="GO",#REF!,IF($C10="MT",#REF!,IF($C10="RO",#REF!,0))),0)*_xlfn.XLOOKUP($D10,APOIO!$C:$C,APOIO!$G:$G) -> 0 | H10: =IF(H$8=APOIO!$D12,IF($C10="GO",#REF!,IF($C10="MT",#REF!,IF($C10="RO",#REF!,0))),0)*_xlfn.XLOOKUP($D10,APOIO!$C:$C,APOIO!$G:$G) -> 0 | I10: =IF(I$8=APOIO!$D12,IF($C10="GO",#REF!,IF($C10="MT",#REF!,IF($C10="RO",#REF!,0))),0)*_xlfn.XLOOKUP($D10,APOIO!$C:$C,APOIO!$G:$G) -> 0 | J10: =IF(J$8=APOIO!$D12,IF($C10="GO",#REF!,IF($C10="MT",#REF!,IF($C10="RO",#REF!,0))),0)*_xlfn.XLOOKUP($D10,APOIO!$C:$C,APOIO!$G:$G) -> 0 | K10: =IF(K$8=APOIO!$D12,IF($C10="GO",#REF!,IF($C10="MT",#REF!,IF($C10="RO",#REF!,0))),0)*_xlfn.XLOOKUP($D10,APOIO!$C:$C,APOIO!$G:$G) -> 0 | L10: =IF(L$8=APOIO!$D12,IF($C10="GO",#REF!,IF($C10="MT",#REF!,IF($C10="RO",#REF!,0))),0)*_xlfn.XLOOKUP($D10,APOIO!$C:$C,APOIO!$G:$G) -> 0 | N10: =IF(E$8=APOIO!#REF!,IF($C10="GO",#REF!,IF($C10="MT",#REF!,IF($C10="RO",#REF!,0))),0)*_xlfn.XLOOKUP($D10,APOIO!#REF!,APOIO!#REF!) -> #REF! | O10: =IF(G$8=APOIO!#REF!,IF($C10="GO",#REF!,IF($C10="MT",#REF!,IF($C10="RO",#REF!,0))),0)*_xlfn.XLOOKUP($D10,APOIO!#REF!,APOIO!#REF!) -> #REF! | P10: =IF(H$8=APOIO!#REF!,IF($C10="GO",#REF!,IF($C10="MT",#REF!,IF($C10="RO",#REF!,0))),0)*_xlfn.XLOOKUP($D10,APOIO!#REF!,APOIO!#REF!) -> #REF! | Q10: =IF(L$8=APOIO!#REF!,IF($C10="GO",#REF!,IF($C10="MT",#REF!,IF($C10="RO",#REF!,0))),0)*_xlfn.XLOOKUP($D10,APOIO!#REF!,APOIO!#REF!) -> #REF! | R10: =IF(HLOOKUP(E$8,APOIO!#REF!,1)=E$8,IF($C10="GO",#REF!,IF($C10="MT",#REF!,IF($C10="RO",#REF!,0))),0)*_xlfn.XLOOKUP(D10,APOIO!#REF!,APOIO!#REF!) -> #REF!
B11: 2 | C11: =RIGHT(LEFT(D11,6),2) -> RO | D11: 364BRO1160 | E11: =IF(E$8=APOIO!$D13,IF($C11="GO",#REF!,IF($C11="MT",#REF!,IF($C11="RO",#REF!,0))),0)*_xlfn.XLOOKUP($D11,APOIO!$C:$C,APOIO!$G:$G) -> #REF! | F11: =IF(F$8=APOIO!$D13,IF($C11="GO",#REF!,IF($C11="MT",#REF!,IF($C11="RO",#REF!,0))),0)*_xlfn.XLOOKUP($D11,APOIO!$C:$C,APOIO!$G:$G) -> 0 | G11: 0 | H11: =2*H34 -> #REF! | I11: =IF(I$8=APOIO!$D13,IF($C11="GO",#REF!,IF($C11="MT",#REF!,IF($C11="RO",#REF!,0))),0)*_xlfn.XLOOKUP($D11,APOIO!$C:$C,APOIO!$G:$G) -> 0 | J11: =IF(J$8=APOIO!$D13,IF($C11="GO",#REF!,IF($C11="MT",#REF!,IF($C11="RO",#REF!,0))),0)*_xlfn.XLOOKUP($D11,APOIO!$C:$C,APOIO!$G:$G) -> 0 | K11: =IF(K$8=APOIO!$D13,IF($C11="GO",#REF!,IF($C11="MT",#REF!,IF($C11="RO",#REF!,0))),0)*_xlfn.XLOOKUP($D11,APOIO!$C:$C,APOIO!$G:$G) -> 0 | L11: =IF(L$8=APOIO!$D13,IF($C11="GO",#REF!,IF($C11="MT",#REF!,IF($C11="RO",#REF!,0))),0)*_xlfn.XLOOKUP($D11,APOIO!$C:$C,APOIO!$G:$G) -> 0 | N11: =IF(E$8=APOIO!#REF!,IF($C11="GO",#REF!,IF($C11="MT",#REF!,IF($C11="RO",#REF!,0))),0)*_xlfn.XLOOKUP(D$10,APOIO!#REF!,APOIO!#REF!) -> #REF! | O11: =IF(G$8=APOIO!#REF!,IF($C11="GO",#REF!,IF($C11="MT",#REF!,IF($C11="RO",#REF!,0))),0)*_xlfn.XLOOKUP(D11,APOIO!#REF!,APOIO!#REF!) -> #REF! | P11: =IF(H$8=APOIO!#REF!,IF($C11="GO",#REF!,IF($C11="MT",#REF!,IF($C11="RO",#REF!,0))),0)*_xlfn.XLOOKUP(D11,APOIO!#REF!,APOIO!#REF!) -> #REF! | Q11: =IF(L$8=APOIO!#REF!,IF($C11="GO",#REF!,IF($C11="MT",#REF!,IF($C11="RO",#REF!,0))),0)*_xlfn.XLOOKUP(D11,APOIO!#REF!,APOIO!#REF!) -> #REF!
B12: 3 | C12: =RIGHT(LEFT(D12,6),2) -> RO | D12: 364BRO1030 | E12: =IF(E$8=APOIO!$D14,IF($C12="GO",#REF!,IF($C12="MT",#REF!,IF($C12="RO",#REF!,0))),0)*_xlfn.XLOOKUP($D12,APOIO!$C:$C,APOIO!$G:$G) -> 0 | F12: =IF(F$8=APOIO!$D14,IF($C12="GO",#REF!,IF($C12="MT",#REF!,IF($C12="RO",#REF!,0))),0)*_xlfn.XLOOKUP($D12,APOIO!$C:$C,APOIO!$G:$G) -> #REF! | G12: =IF(G$8=APOIO!$D14,IF($C12="GO",#REF!,IF($C12="MT",#REF!,IF($C12="RO",#REF!,0))),0)*_xlfn.XLOOKUP($D12,APOIO!$C:$C,APOIO!$G:$G) -> 0 | H12: =IF(H$8=APOIO!$D14,IF($C12="GO",#REF!,IF($C12="MT",#REF!,IF($C12="RO",#REF!,0))),0)*_xlfn.XLOOKUP($D12,APOIO!$C:$C,APOIO!$G:$G) -> 0 | I12: =IF(I$8=APOIO!$D14,IF($C12="GO",#REF!,IF($C12="MT",#REF!,IF($C12="RO",#REF!,0))),0)*_xlfn.XLOOKUP($D12,APOIO!$C:$C,APOIO!$G:$G) -> 0 | J12: =IF(J$8=APOIO!$D14,IF($C12="GO",#REF!,IF($C12="MT",#REF!,IF($C12="RO",#REF!,0))),0)*_xlfn.XLOOKUP($D12,APOIO!$C:$C,APOIO!$G:$G) -> 0 | K12: =IF(K$8=APOIO!$D14,IF($C12="GO",#REF!,IF($C12="MT",#REF!,IF($C12="RO",#REF!,0))),0)*_xlfn.XLOOKUP($D12,APOIO!$C:$C,APOIO!$G:$G) -> 0 | L12: =IF(L$8=APOIO!$D14,IF($C12="GO",#REF!,IF($C12="MT",#REF!,IF($C12="RO",#REF!,0))),0)*_xlfn.XLOOKUP($D12,APOIO!$C:$C,APOIO!$G:$G) -> 0 | N12: =IF(E$8=APOIO!#REF!,IF($C12="GO",#REF!,IF($C12="MT",#REF!,IF($C12="RO",#REF!,0))),0)*_xlfn.XLOOKUP(D$10,APOIO!#REF!,APOIO!#REF!) -> #REF! | O12: =IF(G$8=APOIO!#REF!,IF($C12="GO",#REF!,IF($C12="MT",#REF!,IF($C12="RO",#REF!,0))),0)*_xlfn.XLOOKUP(D12,APOIO!#REF!,APOIO!#REF!) -> #REF! | P12: =IF(H$8=APOIO!#REF!,IF($C12="GO",#REF!,IF($C12="MT",#REF!,IF($C12="RO",#REF!,0))),0)*_xlfn.XLOOKUP(D12,APOIO!#REF!,APOIO!#REF!) -> #REF! | Q12: =IF(L$8=APOIO!#REF!,IF($C12="GO",#REF!,IF($C12="MT",#REF!,IF($C12="RO",#REF!,0))),0)*_xlfn.XLOOKUP(D12,APOIO!#REF!,APOIO!#REF!) -> #REF!
B13: 4 | C13: =RIGHT(LEFT(D13,6),2) -> GO | D13: 364BGO0490% | E13: =IF(E$8=APOIO!$D15,IF($C13="GO",#REF!,IF($C13="MT",#REF!,IF($C13="RO",#REF!,0))),0)*_xlfn.XLOOKUP($D13,APOIO!$C:$C,APOIO!$G:$G) -> 0 | F13: =IF(F$8=APOIO!$D15,IF($C13="GO",#REF!,IF($C13="MT",#REF!,IF($C13="RO",#REF!,0))),0)*_xlfn.XLOOKUP($D13,APOIO!$C:$C,APOIO!$G:$G) -> 0 | G13: =IF(G$8=APOIO!$D15,IF($C13="GO",#REF!,IF($C13="MT",#REF!,IF($C13="RO",#REF!,0))),0)*_xlfn.XLOOKUP($D13,APOIO!$C:$C,APOIO!$G:$G) -> #REF! | H13: =IF(H$8=APOIO!$D15,IF($C13="GO",#REF!,IF($C13="MT",#REF!,IF($C13="RO",#REF!,0))),0)*_xlfn.XLOOKUP($D13,APOIO!$C:$C,APOIO!$G:$G) -> 0 | I13: =IF(I$8=APOIO!$D15,IF($C13="GO",#REF!,IF($C13="MT",#REF!,IF($C13="RO",#REF!,0))),0)*_xlfn.XLOOKUP($D13,APOIO!$C:$C,APOIO!$G:$G) -> 0 | J13: =IF(J$8=APOIO!$D15,IF($C13="GO",#REF!,IF($C13="MT",#REF!,IF($C13="RO",#REF!,0))),0)*_xlfn.XLOOKUP($D13,APOIO!$C:$C,APOIO!$G:$G) -> 0 | K13: =IF(K$8=APOIO!$D15,IF($C13="GO",#REF!,IF($C13="MT",#REF!,IF($C13="RO",#REF!,0))),0)*_xlfn.XLOOKUP($D13,APOIO!$C:$C,APOIO!$G:$G) -> 0 | L13: =IF(L$8=APOIO!$D15,IF($C13="GO",#REF!,IF($C13="MT",#REF!,IF($C13="RO",#REF!,0))),0)*_xlfn.XLOOKUP($D13,APOIO!$C:$C,APOIO!$G:$G) -> 0 | N13: =IF(E$8=APOIO!#REF!,IF($C13="GO",#REF!,IF($C13="MT",#REF!,IF($C13="RO",#REF!,0))),0)*_xlfn.XLOOKUP(D$10,APOIO!#REF!,APOIO!#REF!) -> #REF! | O13: =IF(G$8=APOIO!#REF!,IF($C13="GO",#REF!,IF($C13="MT",#REF!,IF($C13="RO",#REF!,0))),0)*_xlfn.XLOOKUP(D13,APOIO!#REF!,APOIO!#REF!) -> #REF! | P13: =IF(H$8=APOIO!#REF!,IF($C13="GO",#REF!,IF($C13="MT",#REF!,IF($C13="RO",#REF!,0))),0)*_xlfn.XLOOKUP(D13,APOIO!#REF!,APOIO!#REF!) -> #REF! | Q13: =IF(L$8=APOIO!#REF!,IF($C13="GO",#REF!,IF($C13="MT",#REF!,IF($C13="RO",#REF!,0))),0)*_xlfn.XLOOKUP(D13,APOIO!#REF!,APOIO!#REF!) -> #REF!
B14: 5 | C14: =RIGHT(LEFT(D14,6),2) -> GO | D14: 060BGO0270 | E14: =IF(E$8=APOIO!$D16,IF($C14="GO",#REF!,IF($C14="MT",#REF!,IF($C14="RO",#REF!,0))),0)*_xlfn.XLOOKUP($D14,APOIO!$C:$C,APOIO!$G:$G) -> 0 | F14: =IF(F$8=APOIO!$D16,IF($C14="GO",#REF!,IF($C14="MT",#REF!,IF($C14="RO",#REF!,0))),0)*_xlfn.XLOOKUP($D14,APOIO!$C:$C,APOIO!$G:$G) -> 0 | G14: =IF(G$8=APOIO!$D16,IF($C14="GO",#REF!,IF($C14="MT",#REF!,IF($C14="RO",#REF!,0))),0)*_xlfn.XLOOKUP($D14,APOIO!$C:$C,APOIO!$G:$G) -> 0 | H14: =IF(H$8=APOIO!$D16,IF($C14="GO",#REF!,IF($C14="MT",#REF!,IF($C14="RO",#REF!,0))),0)*_xlfn.XLOOKUP($D14,APOIO!$C:$C,APOIO!$G:$G) -> #REF! | I14: =IF(I$8=APOIO!$D16,IF($C14="GO",#REF!,IF($C14="MT",#REF!,IF($C14="RO",#REF!,0))),0)*_xlfn.XLOOKUP($D14,APOIO!$C:$C,APOIO!$G:$G) -> 0 | J14: =IF(J$8=APOIO!$D16,IF($C14="GO",#REF!,IF($C14="MT",#REF!,IF($C14="RO",#REF!,0))),0)*_xlfn.XLOOKUP($D14,APOIO!$C:$C,APOIO!$G:$G) -> 0 | K14: =IF(K$8=APOIO!$D16,IF($C14="GO",#REF!,IF($C14="MT",#REF!,IF($C14="RO",#REF!,0))),0)*_xlfn.XLOOKUP($D14,APOIO!$C:$C,APOIO!$G:$G) -> 0 | L14: =IF(L$8=APOIO!$D16,IF($C14="GO",#REF!,IF($C14="MT",#REF!,IF($C14="RO",#REF!,0))),0)*_xlfn.XLOOKUP($D14,APOIO!$C:$C,APOIO!$G:$G) -> 0 | N14: =IF(E$8=APOIO!#REF!,IF($C14="GO",#REF!,IF($C14="MT",#REF!,IF($C14="RO",#REF!,0))),0)*_xlfn.XLOOKUP(D$10,APOIO!#REF!,APOIO!#REF!) -> #REF! | O14: =IF(G$8=APOIO!#REF!,IF($C14="GO",#REF!,IF($C14="MT",#REF!,IF($C14="RO",#REF!,0))),0)*_xlfn.XLOOKUP(D14,APOIO!#REF!,APOIO!#REF!) -> #REF! | P14: =IF(H$8=APOIO!#REF!,IF($C14="GO",#REF!,IF($C14="MT",#REF!,IF($C14="RO",#REF!,0))),0)*_xlfn.XLOOKUP(D14,APOIO!#REF!,APOIO!#REF!) -> #REF! | Q14: =IF(L$8=APOIO!#REF!,IF($C14="GO",#REF!,IF($C14="MT",#REF!,IF($C14="RO",#REF!,0))),0)*_xlfn.XLOOKUP(D14,APOIO!#REF!,APOIO!#REF!) -> #REF!
B15: 6 | C15: =RIGHT(LEFT(D15,6),2) -> MT | D15: 070BMT0570 | E15: =IF(E$8=APOIO!$D17,IF($C15="GO",#REF!,IF($C15="MT",#REF!,IF($C15="RO",#REF!,0))),0)*_xlfn.XLOOKUP($D15,APOIO!$C:$C,APOIO!$G:$G) -> 0 | F15: =IF(F$8=APOIO!$D17,IF($C15="GO",#REF!,IF($C15="MT",#REF!,IF($C15="RO",#REF!,0))),0)*_xlfn.XLOOKUP($D15,APOIO!$C:$C,APOIO!$G:$G) -> 0 | G15: =IF(G$8=APOIO!$D17,IF($C15="GO",#REF!,IF($C15="MT",#REF!,IF($C15="RO",#REF!,0))),0)*_xlfn.XLOOKUP($D15,APOIO!$C:$C,APOIO!$G:$G) -> 0 | H15: =IF(H$8=APOIO!$D17,IF($C15="GO",#REF!,IF($C15="MT",#REF!,IF($C15="RO",#REF!,0))),0)*_xlfn.XLOOKUP($D15,APOIO!$C:$C,APOIO!$G:$G) -> #REF! | I15: =IF(I$8=APOIO!$D17,IF($C15="GO",#REF!,IF($C15="MT",#REF!,IF($C15="RO",#REF!,0))),0)*_xlfn.XLOOKUP($D15,APOIO!$C:$C,APOIO!$G:$G) -> 0 | J15: =IF(J$8=APOIO!$D17,IF($C15="GO",#REF!,IF($C15="MT",#REF!,IF($C15="RO",#REF!,0))),0)*_xlfn.XLOOKUP($D15,APOIO!$C:$C,APOIO!$G:$G) -> 0 | K15: =IF(K$8=APOIO!$D17,IF($C15="GO",#REF!,IF($C15="MT",#REF!,IF($C15="RO",#REF!,0))),0)*_xlfn.XLOOKUP($D15,APOIO!$C:$C,APOIO!$G:$G) -> 0 | L15: =IF(L$8=APOIO!$D17,IF($C15="GO",#REF!,IF($C15="MT",#REF!,IF($C15="RO",#REF!,0))),0)*_xlfn.XLOOKUP($D15,APOIO!$C:$C,APOIO!$G:$G) -> 0 | N15: =IF(E$8=APOIO!#REF!,IF($C15="GO",#REF!,IF($C15="MT",#REF!,IF($C15="RO",#REF!,0))),0)*_xlfn.XLOOKUP(D$10,APOIO!#REF!,APOIO!#REF!) -> #REF! | O15: =IF(G$8=APOIO!#REF!,IF($C15="GO",#REF!,IF($C15="MT",#REF!,IF($C15="RO",#REF!,0))),0)*_xlfn.XLOOKUP(D15,APOIO!#REF!,APOIO!#REF!) -> #REF! | P15: =IF(H$8=APOIO!#REF!,IF($C15="GO",#REF!,IF($C15="MT",#REF!,IF($C15="RO",#REF!,0))),0)*_xlfn.XLOOKUP(D15,APOIO!#REF!,APOIO!#REF!) -> #REF! | Q15: =IF(L$8=APOIO!#REF!,IF($C15="GO",#REF!,IF($C15="MT",#REF!,IF($C15="RO",#REF!,0))),0)*_xlfn.XLOOKUP(D15,APOIO!#REF!,APOIO!#REF!) -> #REF!
B16: 7 | C16: =RIGHT(LEFT(D16,6),2) -> MT | D16: 174BMT0025 | E16: =IF(E$8=APOIO!$D18,IF($C16="GO",#REF!,IF($C16="MT",#REF!,IF($C16="RO",#REF!,0))),0)*_xlfn.XLOOKUP($D16,APOIO!$C:$C,APOIO!$G:$G) -> 0 | F16: =IF(F$8=APOIO!$D18,IF($C16="GO",#REF!,IF($C16="MT",#REF!,IF($C16="RO",#REF!,0))),0)*_xlfn.XLOOKUP($D16,APOIO!$C:$C,APOIO!$G:$G) -> 0 | G16: =IF(G$8=APOIO!$D18,IF($C16="GO",#REF!,IF($C16="MT",#REF!,IF($C16="RO",#REF!,0))),0)*_xlfn.XLOOKUP($D16,APOIO!$C:$C,APOIO!$G:$G) -> 0 | H16: =IF(H$8=APOIO!$D18,IF($C16="GO",#REF!,IF($C16="MT",#REF!,IF($C16="RO",#REF!,0))),0)*_xlfn.XLOOKUP($D16,APOIO!$C:$C,APOIO!$G:$G) -> #REF! | I16: =IF(I$8=APOIO!$D18,IF($C16="GO",#REF!,IF($C16="MT",#REF!,IF($C16="RO",#REF!,0))),0)*_xlfn.XLOOKUP($D16,APOIO!$C:$C,APOIO!$G:$G) -> 0 | J16: =IF(J$8=APOIO!$D18,IF($C16="GO",#REF!,IF($C16="MT",#REF!,IF($C16="RO",#REF!,0))),0)*_xlfn.XLOOKUP($D16,APOIO!$C:$C,APOIO!$G:$G) -> 0 | K16: =IF(K$8=APOIO!$D18,IF($C16="GO",#REF!,IF($C16="MT",#REF!,IF($C16="RO",#REF!,0))),0)*_xlfn.XLOOKUP($D16,APOIO!$C:$C,APOIO!$G:$G) -> 0 | L16: =IF(L$8=APOIO!$D18,IF($C16="GO",#REF!,IF($C16="MT",#REF!,IF($C16="RO",#REF!,0))),0)*_xlfn.XLOOKUP($D16,APOIO!$C:$C,APOIO!$G:$G) -> 0 | N16: =IF(E$8=APOIO!#REF!,IF($C16="GO",#REF!,IF($C16="MT",#REF!,IF($C16="RO",#REF!,0))),0)*_xlfn.XLOOKUP(D$10,APOIO!#REF!,APOIO!#REF!) -> #REF! | O16: =IF(G$8=APOIO!#REF!,IF($C16="GO",#REF!,IF($C16="MT",#REF!,IF($C16="RO",#REF!,0))),0)*_xlfn.XLOOKUP(D16,APOIO!#REF!,APOIO!#REF!) -> #REF! | P16: =IF(H$8=APOIO!#REF!,IF($C16="GO",#REF!,IF($C16="MT",#REF!,IF($C16="RO",#REF!,0))),0)*_xlfn.XLOOKUP(D16,APOIO!#REF!,APOIO!#REF!) -> #REF! | Q16: =IF(L$8=APOIO!#REF!,IF($C16="GO",#REF!,IF($C16="MT",#REF!,IF($C16="RO",#REF!,0))),0)*_xlfn.XLOOKUP(D16,APOIO!#REF!,APOIO!#REF!) -> #REF!
B17: 8 | C17: =RIGHT(LEFT(D17,6),2) -> MT | D17: 174BMT0032 | E17: =IF(E$8=APOIO!$D19,IF($C17="GO",#REF!,IF($C17="MT",#REF!,IF($C17="RO",#REF!,0))),0)*_xlfn.XLOOKUP($D17,APOIO!$C:$C,APOIO!$G:$G) -> 0 | F17: =IF(F$8=APOIO!$D19,IF($C17="GO",#REF!,IF($C17="MT",#REF!,IF($C17="RO",#REF!,0))),0)*_xlfn.XLOOKUP($D17,APOIO!$C:$C,APOIO!$G:$G) -> 0 | G17: =IF(G$8=APOIO!$D19,IF($C17="GO",#REF!,IF($C17="MT",#REF!,IF($C17="RO",#REF!,0))),0)*_xlfn.XLOOKUP($D17,APOIO!$C:$C,APOIO!$G:$G) -> 0 | H17: =IF(H$8=APOIO!$D19,IF($C17="GO",#REF!,IF($C17="MT",#REF!,IF($C17="RO",#REF!,0))),0)*_xlfn.XLOOKUP($D17,APOIO!$C:$C,APOIO!$G:$G) -> #REF! | I17: =IF(I$8=APOIO!$D19,IF($C17="GO",#REF!,IF($C17="MT",#REF!,IF($C17="RO",#REF!,0))),0)*_xlfn.XLOOKUP($D17,APOIO!$C:$C,APOIO!$G:$G) -> 0 | J17: =IF(J$8=APOIO!$D19,IF($C17="GO",#REF!,IF($C17="MT",#REF!,IF($C17="RO",#REF!,0))),0)*_xlfn.XLOOKUP($D17,APOIO!$C:$C,APOIO!$G:$G) -> 0 | K17: =IF(K$8=APOIO!$D19,IF($C17="GO",#REF!,IF($C17="MT",#REF!,IF($C17="RO",#REF!,0))),0)*_xlfn.XLOOKUP($D17,APOIO!$C:$C,APOIO!$G:$G) -> 0 | L17: =IF(L$8=APOIO!$D19,IF($C17="GO",#REF!,IF($C17="MT",#REF!,IF($C17="RO",#REF!,0))),0)*_xlfn.XLOOKUP($D17,APOIO!$C:$C,APOIO!$G:$G) -> 0 | N17: =IF(E$8=APOIO!#REF!,IF($C17="GO",#REF!,IF($C17="MT",#REF!,IF($C17="RO",#REF!,0))),0)*_xlfn.XLOOKUP(D$10,APOIO!#REF!,APOIO!#REF!) -> #REF! | O17: =IF(G$8=APOIO!#REF!,IF($C17="GO",#REF!,IF($C17="MT",#REF!,IF($C17="RO",#REF!,0))),0)*_xlfn.XLOOKUP(D17,APOIO!#REF!,APOIO!#REF!) -> #REF! | P17: =IF(H$8=APOIO!#REF!,IF($C17="GO",#REF!,IF($C17="MT",#REF!,IF($C17="RO",#REF!,0))),0)*_xlfn.XLOOKUP(D17,APOIO!#REF!,APOIO!#REF!) -> #REF! | Q17: =IF(L$8=APOIO!#REF!,IF($C17="GO",#REF!,IF($C17="MT",#REF!,IF($C17="RO",#REF!,0))),0)*_xlfn.XLOOKUP(D17,APOIO!#REF!,APOIO!#REF!) -> #REF!
B18: 9 | C18: =RIGHT(LEFT(D18,6),2) -> MT | D18: 174BMT0033 | E18: =IF(E$8=APOIO!$D20,IF($C18="GO",#REF!,IF($C18="MT",#REF!,IF($C18="RO",#REF!,0))),0)*_xlfn.XLOOKUP($D18,APOIO!$C:$C,APOIO!$G:$G) -> 0 | F18: =IF(F$8=APOIO!$D20,IF($C18="GO",#REF!,IF($C18="MT",#REF!,IF($C18="RO",#REF!,0))),0)*_xlfn.XLOOKUP($D18,APOIO!$C:$C,APOIO!$G:$G) -> 0 | G18: =IF(G$8=APOIO!$D20,IF($C18="GO",#REF!,IF($C18="MT",#REF!,IF($C18="RO",#REF!,0))),0)*_xlfn.XLOOKUP($D18,APOIO!$C:$C,APOIO!$G:$G) -> 0 | H18: =IF(H$8=APOIO!$D20,IF($C18="GO",#REF!,IF($C18="MT",#REF!,IF($C18="RO",#REF!,0))),0)*_xlfn.XLOOKUP($D18,APOIO!$C:$C,APOIO!$G:$G) -> #REF! | I18: =IF(I$8=APOIO!$D20,IF($C18="GO",#REF!,IF($C18="MT",#REF!,IF($C18="RO",#REF!,0))),0)*_xlfn.XLOOKUP($D18,APOIO!$C:$C,APOIO!$G:$G) -> 0 | J18: =IF(J$8=APOIO!$D20,IF($C18="GO",#REF!,IF($C18="MT",#REF!,IF($C18="RO",#REF!,0))),0)*_xlfn.XLOOKUP($D18,APOIO!$C:$C,APOIO!$G:$G) -> 0 | K18: =IF(K$8=APOIO!$D20,IF($C18="GO",#REF!,IF($C18="MT",#REF!,IF($C18="RO",#REF!,0))),0)*_xlfn.XLOOKUP($D18,APOIO!$C:$C,APOIO!$G:$G) -> 0 | L18: =IF(L$8=APOIO!$D20,IF($C18="GO",#REF!,IF($C18="MT",#REF!,IF($C18="RO",#REF!,0))),0)*_xlfn.XLOOKUP($D18,APOIO!$C:$C,APOIO!$G:$G) -> 0 | N18: =IF(E$8=APOIO!#REF!,IF($C18="GO",#REF!,IF($C18="MT",#REF!,IF($C18="RO",#REF!,0))),0)*_xlfn.XLOOKUP(D$10,APOIO!#REF!,APOIO!#REF!) -> #REF! | O18: =IF(G$8=APOIO!#REF!,IF($C18="GO",#REF!,IF($C18="MT",#REF!,IF($C18="RO",#REF!,0))),0)*_xlfn.XLOOKUP(D18,APOIO!#REF!,APOIO!#REF!) -> #REF! | P18: =IF(H$8=APOIO!#REF!,IF($C18="GO",#REF!,IF($C18="MT",#REF!,IF($C18="RO",#REF!,0))),0)*_xlfn.XLOOKUP(D18,APOIO!#REF!,APOIO!#REF!) -> #REF! | Q18: =IF(L$8=APOIO!#REF!,IF($C18="GO",#REF!,IF($C18="MT",#REF!,IF($C18="RO",#REF!,0))),0)*_xlfn.XLOOKUP(D18,APOIO!#REF!,APOIO!#REF!) -> #REF!
B19: 10 | C19: =RIGHT(LEFT(D19,6),2) -> MT | D19: 174BMT0034 | E19: =IF(E$8=APOIO!$D21,IF($C19="GO",#REF!,IF($C19="MT",#REF!,IF($C19="RO",#REF!,0))),0)*_xlfn.XLOOKUP($D19,APOIO!$C:$C,APOIO!$G:$G) -> 0 | F19: =IF(F$8=APOIO!$D21,IF($C19="GO",#REF!,IF($C19="MT",#REF!,IF($C19="RO",#REF!,0))),0)*_xlfn.XLOOKUP($D19,APOIO!$C:$C,APOIO!$G:$G) -> 0 | G19: =IF(G$8=APOIO!$D21,IF($C19="GO",#REF!,IF($C19="MT",#REF!,IF($C19="RO",#REF!,0))),0)*_xlfn.XLOOKUP($D19,APOIO!$C:$C,APOIO!$G:$G) -> 0 | H19: =IF(H$8=APOIO!$D21,IF($C19="GO",#REF!,IF($C19="MT",#REF!,IF($C19="RO",#REF!,0))),0)*_xlfn.XLOOKUP($D19,APOIO!$C:$C,APOIO!$G:$G) -> #REF! | I19: =IF(I$8=APOIO!$D21,IF($C19="GO",#REF!,IF($C19="MT",#REF!,IF($C19="RO",#REF!,0))),0)*_xlfn.XLOOKUP($D19,APOIO!$C:$C,APOIO!$G:$G) -> 0 | J19: =IF(J$8=APOIO!$D21,IF($C19="GO",#REF!,IF($C19="MT",#REF!,IF($C19="RO",#REF!,0))),0)*_xlfn.XLOOKUP($D19,APOIO!$C:$C,APOIO!$G:$G) -> 0 | K19: =IF(K$8=APOIO!$D21,IF($C19="GO",#REF!,IF($C19="MT",#REF!,IF($C19="RO",#REF!,0))),0)*_xlfn.XLOOKUP($D19,APOIO!$C:$C,APOIO!$G:$G) -> 0 | L19: =IF(L$8=APOIO!$D21,IF($C19="GO",#REF!,IF($C19="MT",#REF!,IF($C19="RO",#REF!,0))),0)*_xlfn.XLOOKUP($D19,APOIO!$C:$C,APOIO!$G:$G) -> 0 | N19: =IF(E$8=APOIO!#REF!,IF($C19="GO",#REF!,IF($C19="MT",#REF!,IF($C19="RO",#REF!,0))),0)*_xlfn.XLOOKUP(D$10,APOIO!#REF!,APOIO!#REF!) -> #REF! | O19: =IF(G$8=APOIO!#REF!,IF($C19="GO",#REF!,IF($C19="MT",#REF!,IF($C19="RO",#REF!,0))),0)*_xlfn.XLOOKUP(D19,APOIO!#REF!,APOIO!#REF!) -> #REF! | P19: =IF(H$8=APOIO!#REF!,IF($C19="GO",#REF!,IF($C19="MT",#REF!,IF($C19="RO",#REF!,0))),0)*_xlfn.XLOOKUP(D19,APOIO!#REF!,APOIO!#REF!) -> #REF! | Q19: =IF(L$8=APOIO!#REF!,IF($C19="GO",#REF!,IF($C19="MT",#REF!,IF($C19="RO",#REF!,0))),0)*_xlfn.XLOOKUP(D19,APOIO!#REF!,APOIO!#REF!) -> #REF!
B20: 11 | C20: =RIGHT(LEFT(D20,6),2) -> MT | D20: 174BMT0035 | E20: =IF(E$8=APOIO!$D22,IF($C20="GO",#REF!,IF($C20="MT",#REF!,IF($C20="RO",#REF!,0))),0)*_xlfn.XLOOKUP($D20,APOIO!$C:$C,APOIO!$G:$G) -> 0 | F20: =IF(F$8=APOIO!$D22,IF($C20="GO",#REF!,IF($C20="MT",#REF!,IF($C20="RO",#REF!,0))),0)*_xlfn.XLOOKUP($D20,APOIO!$C:$C,APOIO!$G:$G) -> 0 | G20: =IF(G$8=APOIO!$D22,IF($C20="GO",#REF!,IF($C20="MT",#REF!,IF($C20="RO",#REF!,0))),0)*_xlfn.XLOOKUP($D20,APOIO!$C:$C,APOIO!$G:$G) -> 0 | H20: =IF(H$8=APOIO!$D22,IF($C20="GO",#REF!,IF($C20="MT",#REF!,IF($C20="RO",#REF!,0))),0)*_xlfn.XLOOKUP($D20,APOIO!$C:$C,APOIO!$G:$G) -> #REF! | I20: =IF(I$8=APOIO!$D22,IF($C20="GO",#REF!,IF($C20="MT",#REF!,IF($C20="RO",#REF!,0))),0)*_xlfn.XLOOKUP($D20,APOIO!$C:$C,APOIO!$G:$G) -> 0 | J20: =IF(J$8=APOIO!$D22,IF($C20="GO",#REF!,IF($C20="MT",#REF!,IF($C20="RO",#REF!,0))),0)*_xlfn.XLOOKUP($D20,APOIO!$C:$C,APOIO!$G:$G) -> 0 | K20: =IF(K$8=APOIO!$D22,IF($C20="GO",#REF!,IF($C20="MT",#REF!,IF($C20="RO",#REF!,0))),0)*_xlfn.XLOOKUP($D20,APOIO!$C:$C,APOIO!$G:$G) -> 0 | L20: =IF(L$8=APOIO!$D22,IF($C20="GO",#REF!,IF($C20="MT",#REF!,IF($C20="RO",#REF!,0))),0)*_xlfn.XLOOKUP($D20,APOIO!$C:$C,APOIO!$G:$G) -> 0 | N20: =IF(E$8=APOIO!#REF!,IF($C20="GO",#REF!,IF($C20="MT",#REF!,IF($C20="RO",#REF!,0))),0)*_xlfn.XLOOKUP(D$10,APOIO!#REF!,APOIO!#REF!) -> #REF! | O20: =IF(G$8=APOIO!#REF!,IF($C20="GO",#REF!,IF($C20="MT",#REF!,IF($C20="RO",#REF!,0))),0)*_xlfn.XLOOKUP(D20,APOIO!#REF!,APOIO!#REF!) -> #REF! | P20: =IF(H$8=APOIO!#REF!,IF($C20="GO",#REF!,IF($C20="MT",#REF!,IF($C20="RO",#REF!,0))),0)*_xlfn.XLOOKUP(D20,APOIO!#REF!,APOIO!#REF!) -> #REF! | Q20: =IF(L$8=APOIO!#REF!,IF($C20="GO",#REF!,IF($C20="MT",#REF!,IF($C20="RO",#REF!,0))),0)*_xlfn.XLOOKUP(D20,APOIO!#REF!,APOIO!#REF!) -> #REF!
B21: 12 | C21: =RIGHT(LEFT(D21,6),2) -> MT | D21: 174BMT0090 | E21: =IF(E$8=APOIO!$D23,IF($C21="GO",#REF!,IF($C21="MT",#REF!,IF($C21="RO",#REF!,0))),0)*_xlfn.XLOOKUP($D21,APOIO!$C:$C,APOIO!$G:$G) -> 0 | F21: =IF(F$8=APOIO!$D23,IF($C21="GO",#REF!,IF($C21="MT",#REF!,IF($C21="RO",#REF!,0))),0)*_xlfn.XLOOKUP($D21,APOIO!$C:$C,APOIO!$G:$G) -> 0 | G21: =IF(G$8=APOIO!$D23,IF($C21="GO",#REF!,IF($C21="MT",#REF!,IF($C21="RO",#REF!,0))),0)*_xlfn.XLOOKUP($D21,APOIO!$C:$C,APOIO!$G:$G) -> 0 | H21: =IF(H$8=APOIO!$D23,IF($C21="GO",#REF!,IF($C21="MT",#REF!,IF($C21="RO",#REF!,0))),0)*_xlfn.XLOOKUP($D21,APOIO!$C:$C,APOIO!$G:$G) -> #REF! | I21: =IF(I$8=APOIO!$D23,IF($C21="GO",#REF!,IF($C21="MT",#REF!,IF($C21="RO",#REF!,0))),0)*_xlfn.XLOOKUP($D21,APOIO!$C:$C,APOIO!$G:$G) -> 0 | J21: =IF(J$8=APOIO!$D23,IF($C21="GO",#REF!,IF($C21="MT",#REF!,IF($C21="RO",#REF!,0))),0)*_xlfn.XLOOKUP($D21,APOIO!$C:$C,APOIO!$G:$G) -> 0 | K21: =IF(K$8=APOIO!$D23,IF($C21="GO",#REF!,IF($C21="MT",#REF!,IF($C21="RO",#REF!,0))),0)*_xlfn.XLOOKUP($D21,APOIO!$C:$C,APOIO!$G:$G) -> 0 | L21: =IF(L$8=APOIO!$D23,IF($C21="GO",#REF!,IF($C21="MT",#REF!,IF($C21="RO",#REF!,0))),0)*_xlfn.XLOOKUP($D21,APOIO!$C:$C,APOIO!$G:$G) -> 0 | N21: =IF(E$8=APOIO!#REF!,IF($C21="GO",#REF!,IF($C21="MT",#REF!,IF($C21="RO",#REF!,0))),0)*_xlfn.XLOOKUP(D$10,APOIO!#REF!,APOIO!#REF!) -> #REF! | O21: =IF(G$8=APOIO!#REF!,IF($C21="GO",#REF!,IF($C21="MT",#REF!,IF($C21="RO",#REF!,0))),0)*_xlfn.XLOOKUP(D21,APOIO!#REF!,APOIO!#REF!) -> #REF! | P21: =IF(H$8=APOIO!#REF!,IF($C21="GO",#REF!,IF($C21="MT",#REF!,IF($C21="RO",#REF!,0))),0)*_xlfn.XLOOKUP(D21,APOIO!#REF!,APOIO!#REF!) -> #REF! | Q21: =IF(L$8=APOIO!#REF!,IF($C21="GO",#REF!,IF($C21="MT",#REF!,IF($C21="RO",#REF!,0))),0)*_xlfn.XLOOKUP(D21,APOIO!#REF!,APOIO!#REF!) -> #REF!
B22: 13 | C22: =RIGHT(LEFT(D22,6),2) -> GO | D22: 364BGO0510 | E22: =IF(E$8=APOIO!$D24,IF($C22="GO",#REF!,IF($C22="MT",#REF!,IF($C22="RO",#REF!,0))),0)*_xlfn.XLOOKUP($D22,APOIO!$C:$C,APOIO!$G:$G) -> 0 | F22: =IF(F$8=APOIO!$D24,IF($C22="GO",#REF!,IF($C22="MT",#REF!,IF($C22="RO",#REF!,0))),0)*_xlfn.XLOOKUP($D22,APOIO!$C:$C,APOIO!$G:$G) -> 0 | G22: =IF(G$8=APOIO!$D24,IF($C22="GO",#REF!,IF($C22="MT",#REF!,IF($C22="RO",#REF!,0))),0)*_xlfn.XLOOKUP($D22,APOIO!$C:$C,APOIO!$G:$G) -> 0 | H22: =IF(H$8=APOIO!$D24,IF($C22="GO",#REF!,IF($C22="MT",#REF!,IF($C22="RO",#REF!,0))),0)*_xlfn.XLOOKUP($D22,APOIO!$C:$C,APOIO!$G:$G) -> #REF! | I22: =IF(I$8=APOIO!$D24,IF($C22="GO",#REF!,IF($C22="MT",#REF!,IF($C22="RO",#REF!,0))),0)*_xlfn.XLOOKUP($D22,APOIO!$C:$C,APOIO!$G:$G) -> 0 | J22: =IF(J$8=APOIO!$D24,IF($C22="GO",#REF!,IF($C22="MT",#REF!,IF($C22="RO",#REF!,0))),0)*_xlfn.XLOOKUP($D22,APOIO!$C:$C,APOIO!$G:$G) -> 0 | K22: =IF(K$8=APOIO!$D24,IF($C22="GO",#REF!,IF($C22="MT",#REF!,IF($C22="RO",#REF!,0))),0)*_xlfn.XLOOKUP($D22,APOIO!$C:$C,APOIO!$G:$G) -> 0 | L22: =IF(L$8=APOIO!$D24,IF($C22="GO",#REF!,IF($C22="MT",#REF!,IF($C22="RO",#REF!,0))),0)*_xlfn.XLOOKUP($D22,APOIO!$C:$C,APOIO!$G:$G) -> 0 | N22: =IF(E$8=APOIO!#REF!,IF($C22="GO",#REF!,IF($C22="MT",#REF!,IF($C22="RO",#REF!,0))),0)*_xlfn.XLOOKUP(D$10,APOIO!#REF!,APOIO!#REF!) -> #REF! | O22: =IF(G$8=APOIO!#REF!,IF($C22="GO",#REF!,IF($C22="MT",#REF!,IF($C22="RO",#REF!,0))),0)*_xlfn.XLOOKUP(D22,APOIO!#REF!,APOIO!#REF!) -> #REF! | P22: =IF(H$8=APOIO!#REF!,IF($C22="GO",#REF!,IF($C22="MT",#REF!,IF($C22="RO",#REF!,0))),0)*_xlfn.XLOOKUP(D22,APOIO!#REF!,APOIO!#REF!) -> #REF! | Q22: =IF(L$8=APOIO!#REF!,IF($C22="GO",#REF!,IF($C22="MT",#REF!,IF($C22="RO",#REF!,0))),0)*_xlfn.XLOOKUP(D22,APOIO!#REF!,APOIO!#REF!) -> #REF!
B23: 14 | C23: =RIGHT(LEFT(D23,6),2) -> GO | D23: 364BGO0545 | E23: =IF(E$8=APOIO!$D25,IF($C23="GO",#REF!,IF($C23="MT",#REF!,IF($C23="RO",#REF!,0))),0)*_xlfn.XLOOKUP($D23,APOIO!$C:$C,APOIO!$G:$G) -> 0 | F23: =IF(F$8=APOIO!$D25,IF($C23="GO",#REF!,IF($C23="MT",#REF!,IF($C23="RO",#REF!,0))),0)*_xlfn.XLOOKUP($D23,APOIO!$C:$C,APOIO!$G:$G) -> 0 | G23: =IF(G$8=APOIO!$D25,IF($C23="GO",#REF!,IF($C23="MT",#REF!,IF($C23="RO",#REF!,0))),0)*_xlfn.XLOOKUP($D23,APOIO!$C:$C,APOIO!$G:$G) -> 0 | H23: =IF(H$8=APOIO!$D25,IF($C23="GO",#REF!,IF($C23="MT",#REF!,IF($C23="RO",#REF!,0))),0)*_xlfn.XLOOKUP($D23,APOIO!$C:$C,APOIO!$G:$G) -> #REF! | I23: =IF(I$8=APOIO!$D25,IF($C23="GO",#REF!,IF($C23="MT",#REF!,IF($C23="RO",#REF!,0))),0)*_xlfn.XLOOKUP($D23,APOIO!$C:$C,APOIO!$G:$G) -> 0 | J23: =IF(J$8=APOIO!$D25,IF($C23="GO",#REF!,IF($C23="MT",#REF!,IF($C23="RO",#REF!,0))),0)*_xlfn.XLOOKUP($D23,APOIO!$C:$C,APOIO!$G:$G) -> 0 | K23: =IF(K$8=APOIO!$D25,IF($C23="GO",#REF!,IF($C23="MT",#REF!,IF($C23="RO",#REF!,0))),0)*_xlfn.XLOOKUP($D23,APOIO!$C:$C,APOIO!$G:$G) -> 0 | L23: =IF(L$8=APOIO!$D25,IF($C23="GO",#REF!,IF($C23="MT",#REF!,IF($C23="RO",#REF!,0))),0)*_xlfn.XLOOKUP($D23,APOIO!$C:$C,APOIO!$G:$G) -> 0 | N23: =IF(E$8=APOIO!#REF!,IF($C23="GO",#REF!,IF($C23="MT",#REF!,IF($C23="RO",#REF!,0))),0)*_xlfn.XLOOKUP(D$10,APOIO!#REF!,APOIO!#REF!) -> #REF! | O23: =IF(G$8=APOIO!#REF!,IF($C23="GO",#REF!,IF($C23="MT",#REF!,IF($C23="RO",#REF!,0))),0)*_xlfn.XLOOKUP(D23,APOIO!#REF!,APOIO!#REF!) -> #REF! | P23: =IF(H$8=APOIO!#REF!,IF($C23="GO",#REF!,IF($C23="MT",#REF!,IF($C23="RO",#REF!,0))),0)*_xlfn.XLOOKUP(D23,APOIO!#REF!,APOIO!#REF!) -> #REF! | Q23: =IF(L$8=APOIO!#REF!,IF($C23="GO",#REF!,IF($C23="MT",#REF!,IF($C23="RO",#REF!,0))),0)*_xlfn.XLOOKUP(D23,APOIO!#REF!,APOIO!#REF!) -> #REF!
... B34: 25 | C34: =RIGHT(LEFT(D34,6),2) -> RO | D34: 364BRO1145 | E34: =IF(E$8=APOIO!$D36,IF($C34="GO",#REF!,IF($C34="MT",#REF!,IF($C34="RO",#REF!,0))),0)*_xlfn.XLOOKUP($D34,APOIO!$C:$C,APOIO!$G:$G) -> 0 | F34: =IF(F$8=APOIO!$D36,IF($C34="GO",#REF!,IF($C34="MT",#REF!,IF($C34="RO",#REF!,0))),0)*_xlfn.XLOOKUP($D34,APOIO!$C:$C,APOIO!$G:$G) -> 0 | G34: =IF(G$8=APOIO!$D36,IF($C34="GO",#REF!,IF($C34="MT",#REF!,IF($C34="RO",#REF!,0))),0)*_xlfn.XLOOKUP($D34,APOIO!$C:$C,APOIO!$G:$G) -> 0 | H34: =IF(H$8=APOIO!$D36,IF($C34="GO",#REF!,IF($C34="MT",#REF!,IF($C34="RO",#REF!,0))),0)*_xlfn.XLOOKUP($D34,APOIO!$C:$C,APOIO!$G:$G) -> #REF! | I34: =IF(I$8=APOIO!$D36,IF($C34="GO",#REF!,IF($C34="MT",#REF!,IF($C34="RO",#REF!,0))),0)*_xlfn.XLOOKUP($D34,APOIO!$C:$C,APOIO!$G:$G) -> 0 | J34: =IF(J$8=APOIO!$D36,IF($C34="GO",#REF!,IF($C34="MT",#REF!,IF($C34="RO",#REF!,0))),0)*_xlfn.XLOOKUP($D34,APOIO!$C:$C,APOIO!$G:$G) -> 0 | K34: =IF(K$8=APOIO!$D36,IF($C34="GO",#REF!,IF($C34="MT",#REF!,IF($C34="RO",#REF!,0))),0)*_xlfn.XLOOKUP($D34,APOIO!$C:$C,APOIO!$G:$G) -> 0 | L34: =IF(L$8=APOIO!$D36,IF($C34="GO",#REF!,IF($C34="MT",#REF!,IF($C34="RO",#REF!,0))),0)*_xlfn.XLOOKUP($D34,APOIO!$C:$C,APOIO!$G:$G) -> 0 | N34: =IF(E$8=APOIO!#REF!,IF($C34="GO",#REF!,IF($C34="MT",#REF!,IF($C34="RO",#REF!,0))),0)*_xlfn.XLOOKUP(D$10,APOIO!#REF!,APOIO!#REF!) -> #REF! | O34: =IF(G$8=APOIO!#REF!,IF($C34="GO",#REF!,IF($C34="MT",#REF!,IF($C34="RO",#REF!,0))),0)*_xlfn.XLOOKUP(D34,APOIO!#REF!,APOIO!#REF!) -> #REF! | P34: =IF(H$8=APOIO!#REF!,IF($C34="GO",#REF!,IF($C34="MT",#REF!,IF($C34="RO",#REF!,0))),0)*_xlfn.XLOOKUP(D34,APOIO!#REF!,APOIO!#REF!) -> #REF! | Q34: =IF(L$8=APOIO!#REF!,IF($C34="GO",#REF!,IF($C34="MT",#REF!,IF($C34="RO",#REF!,0))),0)*_xlfn.XLOOKUP(D34,APOIO!#REF!,APOIO!#REF!) -> #REF!
B35: 26 | C35: =RIGHT(LEFT(D35,6),2) -> GO | D35: 452BGO0010 | E35: =IF(E$8=APOIO!$D38,IF($C35="GO",#REF!,IF($C35="MT",#REF!,IF($C35="RO",#REF!,0))),0)*_xlfn.XLOOKUP($D35,APOIO!$C:$C,APOIO!$G:$G) -> 0 | F35: =IF(F$8=APOIO!$D38,IF($C35="GO",#REF!,IF($C35="MT",#REF!,IF($C35="RO",#REF!,0))),0)*_xlfn.XLOOKUP($D35,APOIO!$C:$C,APOIO!$G:$G) -> 0 | G35: =IF(G$8=APOIO!$D38,IF($C35="GO",#REF!,IF($C35="MT",#REF!,IF($C35="RO",#REF!,0))),0)*_xlfn.XLOOKUP($D35,APOIO!$C:$C,APOIO!$G:$G) -> 0 | H35: =IF(H$8=APOIO!$D37,IF($C35="GO",#REF!,IF($C35="MT",#REF!,IF($C35="RO",#REF!,0))),0)*_xlfn.XLOOKUP($D35,APOIO!$C:$C,APOIO!$G:$G) -> #REF! | I35: =IF(I$8=APOIO!$D37,IF($C35="GO",#REF!,IF($C35="MT",#REF!,IF($C35="RO",#REF!,0))),0)*_xlfn.XLOOKUP($D35,APOIO!$C:$C,APOIO!$G:$G) -> 0 | J35: =IF(J$8=APOIO!$D37,IF($C35="GO",#REF!,IF($C35="MT",#REF!,IF($C35="RO",#REF!,0))),0)*_xlfn.XLOOKUP($D35,APOIO!$C:$C,APOIO!$G:$G) -> 0 | K35: =IF(K$8=APOIO!$D37,IF($C35="GO",#REF!,IF($C35="MT",#REF!,IF($C35="RO",#REF!,0))),0)*_xlfn.XLOOKUP($D35,APOIO!$C:$C,APOIO!$G:$G) -> 0 | L35: =IF(L$8=APOIO!$D37,IF($C35="GO",#REF!,IF($C35="MT",#REF!,IF($C35="RO",#REF!,0))),0)*_xlfn.XLOOKUP($D35,APOIO!$C:$C,APOIO!$G:$G) -> 0 | N35: =IF(E$8=APOIO!#REF!,IF($C35="GO",#REF!,IF($C35="MT",#REF!,IF($C35="RO",#REF!,0))),0)*_xlfn.XLOOKUP(D$10,APOIO!#REF!,APOIO!#REF!) -> #REF! | O35: =IF(G$8=APOIO!#REF!,IF($C35="GO",#REF!,IF($C35="MT",#REF!,IF($C35="RO",#REF!,0))),0)*_xlfn.XLOOKUP(D35,APOIO!#REF!,APOIO!#REF!) -> #REF! | P35: =IF(H$8=APOIO!#REF!,IF($C35="GO",#REF!,IF($C35="MT",#REF!,IF($C35="RO",#REF!,0))),0)*_xlfn.XLOOKUP(D35,APOIO!#REF!,APOIO!#REF!) -> #REF! | Q35: =IF(L$8=APOIO!#REF!,IF($C35="GO",#REF!,IF($C35="MT",#REF!,IF($C35="RO",#REF!,0))),0)*_xlfn.XLOOKUP(D35,APOIO!#REF!,APOIO!#REF!) -> #REF!
B36: 27 | C36: =RIGHT(LEFT(D36,6),2) -> GO | D36: 452BGO0011 | E36: =IF(E$8=APOIO!$D39,IF($C36="GO",#REF!,IF($C36="MT",#REF!,IF($C36="RO",#REF!,0))),0)*_xlfn.XLOOKUP($D36,APOIO!$C:$C,APOIO!$G:$G) -> 0 | F36: =IF(F$8=APOIO!$D39,IF($C36="GO",#REF!,IF($C36="MT",#REF!,IF($C36="RO",#REF!,0))),0)*_xlfn.XLOOKUP($D36,APOIO!$C:$C,APOIO!$G:$G) -> 0 | G36: =IF(G$8=APOIO!$D39,IF($C36="GO",#REF!,IF($C36="MT",#REF!,IF($C36="RO",#REF!,0))),0)*_xlfn.XLOOKUP($D36,APOIO!$C:$C,APOIO!$G:$G) -> 0 | H36: =IF(H$8=APOIO!$D38,IF($C36="GO",#REF!,IF($C36="MT",#REF!,IF($C36="RO",#REF!,0))),0)*_xlfn.XLOOKUP($D36,APOIO!$C:$C,APOIO!$G:$G) -> #REF! | I36: =IF(I$8=APOIO!$D38,IF($C36="GO",#REF!,IF($C36="MT",#REF!,IF($C36="RO",#REF!,0))),0)*_xlfn.XLOOKUP($D36,APOIO!$C:$C,APOIO!$G:$G) -> 0 | J36: =IF(J$8=APOIO!$D38,IF($C36="GO",#REF!,IF($C36="MT",#REF!,IF($C36="RO",#REF!,0))),0)*_xlfn.XLOOKUP($D36,APOIO!$C:$C,APOIO!$G:$G) -> 0 | K36: =IF(K$8=APOIO!$D38,IF($C36="GO",#REF!,IF($C36="MT",#REF!,IF($C36="RO",#REF!,0))),0)*_xlfn.XLOOKUP($D36,APOIO!$C:$C,APOIO!$G:$G) -> 0 | L36: =IF(L$8=APOIO!$D38,IF($C36="GO",#REF!,IF($C36="MT",#REF!,IF($C36="RO",#REF!,0))),0)*_xlfn.XLOOKUP($D36,APOIO!$C:$C,APOIO!$G:$G) -> 0 | N36: =IF(E$8=APOIO!#REF!,IF($C36="GO",#REF!,IF($C36="MT",#REF!,IF($C36="RO",#REF!,0))),0)*_xlfn.XLOOKUP(D$10,APOIO!#REF!,APOIO!#REF!) -> #REF! | O36: =IF(G$8=APOIO!#REF!,IF($C36="GO",#REF!,IF($C36="MT",#REF!,IF($C36="RO",#REF!,0))),0)*_xlfn.XLOOKUP(D36,APOIO!#REF!,APOIO!#REF!) -> #REF! | P36: =IF(H$8=APOIO!#REF!,IF($C36="GO",#REF!,IF($C36="MT",#REF!,IF($C36="RO",#REF!,0))),0)*_xlfn.XLOOKUP(D36,APOIO!#REF!,APOIO!#REF!) -> #REF! | Q36: =IF(L$8=APOIO!#REF!,IF($C36="GO",#REF!,IF($C36="MT",#REF!,IF($C36="RO",#REF!,0))),0)*_xlfn.XLOOKUP(D36,APOIO!#REF!,APOIO!#REF!) -> #REF!
B37: 28 | C37: =RIGHT(LEFT(D37,6),2) -> GO | D37: 452BGO0030 | E37: =IF(E$8=APOIO!$D40,IF($C37="GO",#REF!,IF($C37="MT",#REF!,IF($C37="RO",#REF!,0))),0)*_xlfn.XLOOKUP($D37,APOIO!$C:$C,APOIO!$G:$G) -> 0 | F37: =IF(F$8=APOIO!$D40,IF($C37="GO",#REF!,IF($C37="MT",#REF!,IF($C37="RO",#REF!,0))),0)*_xlfn.XLOOKUP($D37,APOIO!$C:$C,APOIO!$G:$G) -> 0 | G37: =IF(G$8=APOIO!$D40,IF($C37="GO",#REF!,IF($C37="MT",#REF!,IF($C37="RO",#REF!,0))),0)*_xlfn.XLOOKUP($D37,APOIO!$C:$C,APOIO!$G:$G) -> 0 | H37: =IF(H$8=APOIO!$D39,IF($C37="GO",#REF!,IF($C37="MT",#REF!,IF($C37="RO",#REF!,0))),0)*_xlfn.XLOOKUP($D37,APOIO!$C:$C,APOIO!$G:$G) -> #REF! | I37: =IF(I$8=APOIO!$D39,IF($C37="GO",#REF!,IF($C37="MT",#REF!,IF($C37="RO",#REF!,0))),0)*_xlfn.XLOOKUP($D37,APOIO!$C:$C,APOIO!$G:$G) -> 0 | J37: =IF(J$8=APOIO!$D39,IF($C37="GO",#REF!,IF($C37="MT",#REF!,IF($C37="RO",#REF!,0))),0)*_xlfn.XLOOKUP($D37,APOIO!$C:$C,APOIO!$G:$G) -> 0 | K37: =IF(K$8=APOIO!$D39,IF($C37="GO",#REF!,IF($C37="MT",#REF!,IF($C37="RO",#REF!,0))),0)*_xlfn.XLOOKUP($D37,APOIO!$C:$C,APOIO!$G:$G) -> 0 | L37: =IF(L$8=APOIO!$D39,IF($C37="GO",#REF!,IF($C37="MT",#REF!,IF($C37="RO",#REF!,0))),0)*_xlfn.XLOOKUP($D37,APOIO!$C:$C,APOIO!$G:$G) -> 0 | N37: =IF(E$8=APOIO!#REF!,IF($C37="GO",#REF!,IF($C37="MT",#REF!,IF($C37="RO",#REF!,0))),0)*_xlfn.XLOOKUP(D$10,APOIO!#REF!,APOIO!#REF!) -> #REF! | O37: =IF(G$8=APOIO!#REF!,IF($C37="GO",#REF!,IF($C37="MT",#REF!,IF($C37="RO",#REF!,0))),0)*_xlfn.XLOOKUP(D37,APOIO!#REF!,APOIO!#REF!) -> #REF! | P37: =IF(H$8=APOIO!#REF!,IF($C37="GO",#REF!,IF($C37="MT",#REF!,IF($C37="RO",#REF!,0))),0)*_xlfn.XLOOKUP(D37,APOIO!#REF!,APOIO!#REF!) -> #REF! | Q37: =IF(L$8=APOIO!#REF!,IF($C37="GO",#REF!,IF($C37="MT",#REF!,IF($C37="RO",#REF!,0))),0)*_xlfn.XLOOKUP(D37,APOIO!#REF!,APOIO!#REF!) -> #REF!
B38: 29 | C38: =RIGHT(LEFT(D38,6),2) -> GO | D38: 452BGO0032 | E38: =IF(E$8=APOIO!$D41,IF($C38="GO",#REF!,IF($C38="MT",#REF!,IF($C38="RO",#REF!,0))),0)*_xlfn.XLOOKUP($D38,APOIO!$C:$C,APOIO!$G:$G) -> 0 | F38: =IF(F$8=APOIO!$D41,IF($C38="GO",#REF!,IF($C38="MT",#REF!,IF($C38="RO",#REF!,0))),0)*_xlfn.XLOOKUP($D38,APOIO!$C:$C,APOIO!$G:$G) -> 0 | G38: =IF(G$8=APOIO!$D41,IF($C38="GO",#REF!,IF($C38="MT",#REF!,IF($C38="RO",#REF!,0))),0)*_xlfn.XLOOKUP($D38,APOIO!$C:$C,APOIO!$G:$G) -> 0 | H38: =IF(H$8=APOIO!$D40,IF($C38="GO",#REF!,IF($C38="MT",#REF!,IF($C38="RO",#REF!,0))),0)*_xlfn.XLOOKUP($D38,APOIO!$C:$C,APOIO!$G:$G) -> #REF! | I38: =IF(I$8=APOIO!$D40,IF($C38="GO",#REF!,IF($C38="MT",#REF!,IF($C38="RO",#REF!,0))),0)*_xlfn.XLOOKUP($D38,APOIO!$C:$C,APOIO!$G:$G) -> 0 | J38: =IF(J$8=APOIO!$D40,IF($C38="GO",#REF!,IF($C38="MT",#REF!,IF($C38="RO",#REF!,0))),0)*_xlfn.XLOOKUP($D38,APOIO!$C:$C,APOIO!$G:$G) -> 0 | K38: =IF(K$8=APOIO!$D40,IF($C38="GO",#REF!,IF($C38="MT",#REF!,IF($C38="RO",#REF!,0))),0)*_xlfn.XLOOKUP($D38,APOIO!$C:$C,APOIO!$G:$G) -> 0 | L38: =IF(L$8=APOIO!$D40,IF($C38="GO",#REF!,IF($C38="MT",#REF!,IF($C38="RO",#REF!,0))),0)*_xlfn.XLOOKUP($D38,APOIO!$C:$C,APOIO!$G:$G) -> 0 | N38: =IF(E$8=APOIO!#REF!,IF($C38="GO",#REF!,IF($C38="MT",#REF!,IF($C38="RO",#REF!,0))),0)*_xlfn.XLOOKUP(D$10,APOIO!#REF!,APOIO!#REF!) -> #REF! | O38: =IF(G$8=APOIO!#REF!,IF($C38="GO",#REF!,IF($C38="MT",#REF!,IF($C38="RO",#REF!,0))),0)*_xlfn.XLOOKUP(D38,APOIO!#REF!,APOIO!#REF!) -> #REF! | P38: =IF(H$8=APOIO!#REF!,IF($C38="GO",#REF!,IF($C38="MT",#REF!,IF($C38="RO",#REF!,0))),0)*_xlfn.XLOOKUP(D38,APOIO!#REF!,APOIO!#REF!) -> #REF! | Q38: =IF(L$8=APOIO!#REF!,IF($C38="GO",#REF!,IF($C38="MT",#REF!,IF($C38="RO",#REF!,0))),0)*_xlfn.XLOOKUP(D38,APOIO!#REF!,APOIO!#REF!) -> #REF!
B39: 30 | C39: =RIGHT(LEFT(D39,6),2) -> GO | D39: 452BGO0033 | E39: =IF(E$8=APOIO!$D42,IF($C39="GO",#REF!,IF($C39="MT",#REF!,IF($C39="RO",#REF!,0))),0)*_xlfn.XLOOKUP($D39,APOIO!$C:$C,APOIO!$G:$G) -> 0 | F39: =IF(F$8=APOIO!$D42,IF($C39="GO",#REF!,IF($C39="MT",#REF!,IF($C39="RO",#REF!,0))),0)*_xlfn.XLOOKUP($D39,APOIO!$C:$C,APOIO!$G:$G) -> 0 | G39: =IF(G$8=APOIO!$D42,IF($C39="GO",#REF!,IF($C39="MT",#REF!,IF($C39="RO",#REF!,0))),0)*_xlfn.XLOOKUP($D39,APOIO!$C:$C,APOIO!$G:$G) -> 0 | H39: =IF(H$8=APOIO!$D41,IF($C39="GO",#REF!,IF($C39="MT",#REF!,IF($C39="RO",#REF!,0))),0)*_xlfn.XLOOKUP($D39,APOIO!$C:$C,APOIO!$G:$G) -> #REF! | I39: =IF(I$8=APOIO!$D41,IF($C39="GO",#REF!,IF($C39="MT",#REF!,IF($C39="RO",#REF!,0))),0)*_xlfn.XLOOKUP($D39,APOIO!$C:$C,APOIO!$G:$G) -> 0 | J39: =IF(J$8=APOIO!$D41,IF($C39="GO",#REF!,IF($C39="MT",#REF!,IF($C39="RO",#REF!,0))),0)*_xlfn.XLOOKUP($D39,APOIO!$C:$C,APOIO!$G:$G) -> 0 | K39: =IF(K$8=APOIO!$D41,IF($C39="GO",#REF!,IF($C39="MT",#REF!,IF($C39="RO",#REF!,0))),0)*_xlfn.XLOOKUP($D39,APOIO!$C:$C,APOIO!$G:$G) -> 0 | L39: =IF(L$8=APOIO!$D41,IF($C39="GO",#REF!,IF($C39="MT",#REF!,IF($C39="RO",#REF!,0))),0)*_xlfn.XLOOKUP($D39,APOIO!$C:$C,APOIO!$G:$G) -> 0 | N39: =IF(E$8=APOIO!#REF!,IF($C39="GO",#REF!,IF($C39="MT",#REF!,IF($C39="RO",#REF!,0))),0)*_xlfn.XLOOKUP(D$10,APOIO!#REF!,APOIO!#REF!) -> #REF! | O39: =IF(G$8=APOIO!#REF!,IF($C39="GO",#REF!,IF($C39="MT",#REF!,IF($C39="RO",#REF!,0))),0)*_xlfn.XLOOKUP(D39,APOIO!#REF!,APOIO!#REF!) -> #REF! | P39: =IF(H$8=APOIO!#REF!,IF($C39="GO",#REF!,IF($C39="MT",#REF!,IF($C39="RO",#REF!,0))),0)*_xlfn.XLOOKUP(D39,APOIO!#REF!,APOIO!#REF!) -> #REF! | Q39: =IF(L$8=APOIO!#REF!,IF($C39="GO",#REF!,IF($C39="MT",#REF!,IF($C39="RO",#REF!,0))),0)*_xlfn.XLOOKUP(D39,APOIO!#REF!,APOIO!#REF!) -> #REF!
B40: 31 | C40: =RIGHT(LEFT(D40,6),2) -> GO | D40: 452BGO0036 | E40: =IF(E$8=APOIO!$D43,IF($C40="GO",#REF!,IF($C40="MT",#REF!,IF($C40="RO",#REF!,0))),0)*_xlfn.XLOOKUP($D40,APOIO!$C:$C,APOIO!$G:$G) -> 0 | F40: =IF(F$8=APOIO!$D43,IF($C40="GO",#REF!,IF($C40="MT",#REF!,IF($C40="RO",#REF!,0))),0)*_xlfn.XLOOKUP($D40,APOIO!$C:$C,APOIO!$G:$G) -> 0 | G40: =IF(G$8=APOIO!$D43,IF($C40="GO",#REF!,IF($C40="MT",#REF!,IF($C40="RO",#REF!,0))),0)*_xlfn.XLOOKUP($D40,APOIO!$C:$C,APOIO!$G:$G) -> 0 | H40: =IF(H$8=APOIO!$D42,IF($C40="GO",#REF!,IF($C40="MT",#REF!,IF($C40="RO",#REF!,0))),0)*_xlfn.XLOOKUP($D40,APOIO!$C:$C,APOIO!$G:$G) -> #REF! | I40: =IF(I$8=APOIO!$D42,IF($C40="GO",#REF!,IF($C40="MT",#REF!,IF($C40="RO",#REF!,0))),0)*_xlfn.XLOOKUP($D40,APOIO!$C:$C,APOIO!$G:$G) -> 0 | J40: =IF(J$8=APOIO!$D42,IF($C40="GO",#REF!,IF($C40="MT",#REF!,IF($C40="RO",#REF!,0))),0)*_xlfn.XLOOKUP($D40,APOIO!$C:$C,APOIO!$G:$G) -> 0 | K40: =IF(K$8=APOIO!$D42,IF($C40="GO",#REF!,IF($C40="MT",#REF!,IF($C40="RO",#REF!,0))),0)*_xlfn.XLOOKUP($D40,APOIO!$C:$C,APOIO!$G:$G) -> 0 | L40: =IF(L$8=APOIO!$D42,IF($C40="GO",#REF!,IF($C40="MT",#REF!,IF($C40="RO",#REF!,0))),0)*_xlfn.XLOOKUP($D40,APOIO!$C:$C,APOIO!$G:$G) -> 0 | N40: =IF(E$8=APOIO!#REF!,IF($C40="GO",#REF!,IF($C40="MT",#REF!,IF($C40="RO",#REF!,0))),0)*_xlfn.XLOOKUP(D$10,APOIO!#REF!,APOIO!#REF!) -> #REF! | O40: =IF(G$8=APOIO!#REF!,IF($C40="GO",#REF!,IF($C40="MT",#REF!,IF($C40="RO",#REF!,0))),0)*_xlfn.XLOOKUP(D40,APOIO!#REF!,APOIO!#REF!) -> #REF! | P40: =IF(H$8=APOIO!#REF!,IF($C40="GO",#REF!,IF($C40="MT",#REF!,IF($C40="RO",#REF!,0))),0)*_xlfn.XLOOKUP(D40,APOIO!#REF!,APOIO!#REF!) -> #REF! | Q40: =IF(L$8=APOIO!#REF!,IF($C40="GO",#REF!,IF($C40="MT",#REF!,IF($C40="RO",#REF!,0))),0)*_xlfn.XLOOKUP(D40,APOIO!#REF!,APOIO!#REF!) -> #REF!
B41: 32 | C41: =RIGHT(LEFT(D41,6),2) -> GO | D41: 452BGO0050 | E41: =IF(E$8=APOIO!$D44,IF($C41="GO",#REF!,IF($C41="MT",#REF!,IF($C41="RO",#REF!,0))),0)*_xlfn.XLOOKUP($D41,APOIO!$C:$C,APOIO!$G:$G) -> 0 | F41: =IF(F$8=APOIO!$D44,IF($C41="GO",#REF!,IF($C41="MT",#REF!,IF($C41="RO",#REF!,0))),0)*_xlfn.XLOOKUP($D41,APOIO!$C:$C,APOIO!$G:$G) -> 0 | G41: =IF(G$8=APOIO!$D44,IF($C41="GO",#REF!,IF($C41="MT",#REF!,IF($C41="RO",#REF!,0))),0)*_xlfn.XLOOKUP($D41,APOIO!$C:$C,APOIO!$G:$G) -> 0 | H41: =IF(H$8=APOIO!$D43,IF($C41="GO",#REF!,IF($C41="MT",#REF!,IF($C41="RO",#REF!,0))),0)*_xlfn.XLOOKUP($D41,APOIO!$C:$C,APOIO!$G:$G) -> #REF! | I41: =IF(I$8=APOIO!$D43,IF($C41="GO",#REF!,IF($C41="MT",#REF!,IF($C41="RO",#REF!,0))),0)*_xlfn.XLOOKUP($D41,APOIO!$C:$C,APOIO!$G:$G) -> 0 | J41: =IF(J$8=APOIO!$D43,IF($C41="GO",#REF!,IF($C41="MT",#REF!,IF($C41="RO",#REF!,0))),0)*_xlfn.XLOOKUP($D41,APOIO!$C:$C,APOIO!$G:$G) -> 0 | K41: =IF(K$8=APOIO!$D43,IF($C41="GO",#REF!,IF($C41="MT",#REF!,IF($C41="RO",#REF!,0))),0)*_xlfn.XLOOKUP($D41,APOIO!$C:$C,APOIO!$G:$G) -> 0 | L41: =IF(L$8=APOIO!$D43,IF($C41="GO",#REF!,IF($C41="MT",#REF!,IF($C41="RO",#REF!,0))),0)*_xlfn.XLOOKUP($D41,APOIO!$C:$C,APOIO!$G:$G) -> 0 | N41: =IF(E$8=APOIO!#REF!,IF($C41="GO",#REF!,IF($C41="MT",#REF!,IF($C41="RO",#REF!,0))),0)*_xlfn.XLOOKUP(D$10,APOIO!#REF!,APOIO!#REF!) -> #REF! | O41: =IF(G$8=APOIO!#REF!,IF($C41="GO",#REF!,IF($C41="MT",#REF!,IF($C41="RO",#REF!,0))),0)*_xlfn.XLOOKUP(D41,APOIO!#REF!,APOIO!#REF!) -> #REF! | P41: =IF(H$8=APOIO!#REF!,IF($C41="GO",#REF!,IF($C41="MT",#REF!,IF($C41="RO",#REF!,0))),0)*_xlfn.XLOOKUP(D41,APOIO!#REF!,APOIO!#REF!) -> #REF! | Q41: =IF(L$8=APOIO!#REF!,IF($C41="GO",#REF!,IF($C41="MT",#REF!,IF($C41="RO",#REF!,0))),0)*_xlfn.XLOOKUP(D41,APOIO!#REF!,APOIO!#REF!) -> #REF!
B42: 33 | C42: =RIGHT(LEFT(D42,6),2) -> RO | D42: 364BRO1060 | E42: =IF(E$8=APOIO!$D45,IF($C42="GO",#REF!,IF($C42="MT",#REF!,IF($C42="RO",#REF!,0))),0)*_xlfn.XLOOKUP($D42,APOIO!$C:$C,APOIO!$G:$G) -> 0 | F42: =IF(F$8=APOIO!$D45,IF($C42="GO",#REF!,IF($C42="MT",#REF!,IF($C42="RO",#REF!,0))),0)*_xlfn.XLOOKUP($D42,APOIO!$C:$C,APOIO!$G:$G) -> 0 | G42: =IF(G$8=APOIO!$D45,IF($C42="GO",#REF!,IF($C42="MT",#REF!,IF($C42="RO",#REF!,0))),0)*_xlfn.XLOOKUP($D42,APOIO!$C:$C,APOIO!$G:$G) -> 0 | H42: 0 | I42: =IF(I$8=APOIO!$D45,IF($C42="GO",#REF!,IF($C42="MT",#REF!,IF($C42="RO",#REF!,0))),0)*_xlfn.XLOOKUP($D42,APOIO!$C:$C,APOIO!$G:$G) -> #REF! | J42: =IF(J$8=APOIO!$D44,IF($C42="GO",#REF!,IF($C42="MT",#REF!,IF($C42="RO",#REF!,0))),0)*_xlfn.XLOOKUP($D42,APOIO!$C:$C,APOIO!$G:$G) -> 0 | K42: =IF(K$8=APOIO!$D44,IF($C42="GO",#REF!,IF($C42="MT",#REF!,IF($C42="RO",#REF!,0))),0)*_xlfn.XLOOKUP($D42,APOIO!$C:$C,APOIO!$G:$G) -> 0 | L42: =IF(L$8=APOIO!$D44,IF($C42="GO",#REF!,IF($C42="MT",#REF!,IF($C42="RO",#REF!,0))),0)*_xlfn.XLOOKUP($D42,APOIO!$C:$C,APOIO!$G:$G) -> 0 | N42: =IF(E$8=APOIO!#REF!,IF($C42="GO",#REF!,IF($C42="MT",#REF!,IF($C42="RO",#REF!,0))),0)*_xlfn.XLOOKUP(D$10,APOIO!#REF!,APOIO!#REF!) -> #REF! | O42: =IF(G$8=APOIO!#REF!,IF($C42="GO",#REF!,IF($C42="MT",#REF!,IF($C42="RO",#REF!,0))),0)*_xlfn.XLOOKUP(D42,APOIO!#REF!,APOIO!#REF!) -> #REF! | P42: =IF(H$8=APOIO!#REF!,IF($C42="GO",#REF!,IF($C42="MT",#REF!,IF($C42="RO",#REF!,0))),0)*_xlfn.XLOOKUP(D42,APOIO!#REF!,APOIO!#REF!) -> #REF! | Q42: =IF(L$8=APOIO!#REF!,IF($C42="GO",#REF!,IF($C42="MT",#REF!,IF($C42="RO",#REF!,0))),0)*_xlfn.XLOOKUP(D42,APOIO!#REF!,APOIO!#REF!) -> #REF!
B43: 34 | C43: =RIGHT(LEFT(D43,6),2) -> RO | D43: 364BRO1130 | E43: =IF(E$8=APOIO!$D46,IF($C43="GO",#REF!,IF($C43="MT",#REF!,IF($C43="RO",#REF!,0))),0)*_xlfn.XLOOKUP($D43,APOIO!$C:$C,APOIO!$G:$G) -> 0 | F43: =IF(F$8=APOIO!$D46,IF($C43="GO",#REF!,IF($C43="MT",#REF!,IF($C43="RO",#REF!,0))),0)*_xlfn.XLOOKUP($D43,APOIO!$C:$C,APOIO!$G:$G) -> 0 | G43: =IF(G$8=APOIO!$D46,IF($C43="GO",#REF!,IF($C43="MT",#REF!,IF($C43="RO",#REF!,0))),0)*_xlfn.XLOOKUP($D43,APOIO!$C:$C,APOIO!$G:$G) -> 0 | H43: =IF(H$8=APOIO!$D45,IF($C43="GO",#REF!,IF($C43="MT",#REF!,IF($C43="RO",#REF!,0))),0)*_xlfn.XLOOKUP($D43,APOIO!$C:$C,APOIO!$G:$G) -> 0 | I43: =IF(I$8=APOIO!$D45,IF($C43="GO",#REF!,IF($C43="MT",#REF!,IF($C43="RO",#REF!,0))),0)*_xlfn.XLOOKUP($D43,APOIO!$C:$C,APOIO!$G:$G) -> #REF! | J43: =IF(J$8=APOIO!$D45,IF($C43="GO",#REF!,IF($C43="MT",#REF!,IF($C43="RO",#REF!,0))),0)*_xlfn.XLOOKUP($D43,APOIO!$C:$C,APOIO!$G:$G) -> 0 | K43: =IF(K$8=APOIO!$D45,IF($C43="GO",#REF!,IF($C43="MT",#REF!,IF($C43="RO",#REF!,0))),0)*_xlfn.XLOOKUP($D43,APOIO!$C:$C,APOIO!$G:$G) -> 0 | L43: =IF(L$8=APOIO!$D45,IF($C43="GO",#REF!,IF($C43="MT",#REF!,IF($C43="RO",#REF!,0))),0)*_xlfn.XLOOKUP($D43,APOIO!$C:$C,APOIO!$G:$G) -> 0 | N43: =IF(E$8=APOIO!#REF!,IF($C43="GO",#REF!,IF($C43="MT",#REF!,IF($C43="RO",#REF!,0))),0)*_xlfn.XLOOKUP(D$10,APOIO!#REF!,APOIO!#REF!) -> #REF! | O43: =IF(G$8=APOIO!#REF!,IF($C43="GO",#REF!,IF($C43="MT",#REF!,IF($C43="RO",#REF!,0))),0)*_xlfn.XLOOKUP(D43,APOIO!#REF!,APOIO!#REF!) -> #REF! | P43: =IF(H$8=APOIO!#REF!,IF($C43="GO",#REF!,IF($C43="MT",#REF!,IF($C43="RO",#REF!,0))),0)*_xlfn.XLOOKUP(D43,APOIO!#REF!,APOIO!#REF!) -> #REF! | Q43: =IF(L$8=APOIO!#REF!,IF($C43="GO",#REF!,IF($C43="MT",#REF!,IF($C43="RO",#REF!,0))),0)*_xlfn.XLOOKUP(D43,APOIO!#REF!,APOIO!#REF!) -> #REF!
B44: 35 | C44: =RIGHT(LEFT(D44,6),2) -> RO | D44: 364BRO1148 | E44: =IF(E$8=APOIO!$D47,IF($C44="GO",#REF!,IF($C44="MT",#REF!,IF($C44="RO",#REF!,0))),0)*_xlfn.XLOOKUP($D44,APOIO!$C:$C,APOIO!$G:$G) -> 0 | F44: =IF(F$8=APOIO!$D47,IF($C44="GO",#REF!,IF($C44="MT",#REF!,IF($C44="RO",#REF!,0))),0)*_xlfn.XLOOKUP($D44,APOIO!$C:$C,APOIO!$G:$G) -> 0 | G44: =IF(G$8=APOIO!$D47,IF($C44="GO",#REF!,IF($C44="MT",#REF!,IF($C44="RO",#REF!,0))),0)*_xlfn.XLOOKUP($D44,APOIO!$C:$C,APOIO!$G:$G) -> 0 | H44: =IF(H$8=APOIO!$D46,IF($C44="GO",#REF!,IF($C44="MT",#REF!,IF($C44="RO",#REF!,0))),0)*_xlfn.XLOOKUP($D44,APOIO!$C:$C,APOIO!$G:$G) -> 0 | I44: =IF(I$8=APOIO!$D46,IF($C44="GO",#REF!,IF($C44="MT",#REF!,IF($C44="RO",#REF!,0))),0)*_xlfn.XLOOKUP($D44,APOIO!$C:$C,APOIO!$G:$G) -> #REF! | J44: =IF(J$8=APOIO!$D46,IF($C44="GO",#REF!,IF($C44="MT",#REF!,IF($C44="RO",#REF!,0))),0)*_xlfn.XLOOKUP($D44,APOIO!$C:$C,APOIO!$G:$G) -> 0 | K44: =IF(K$8=APOIO!$D46,IF($C44="GO",#REF!,IF($C44="MT",#REF!,IF($C44="RO",#REF!,0))),0)*_xlfn.XLOOKUP($D44,APOIO!$C:$C,APOIO!$G:$G) -> 0 | L44: =IF(L$8=APOIO!$D46,IF($C44="GO",#REF!,IF($C44="MT",#REF!,IF($C44="RO",#REF!,0))),0)*_xlfn.XLOOKUP($D44,APOIO!$C:$C,APOIO!$G:$G) -> 0 | N44: =IF(E$8=APOIO!#REF!,IF($C44="GO",#REF!,IF($C44="MT",#REF!,IF($C44="RO",#REF!,0))),0)*_xlfn.XLOOKUP(D$10,APOIO!#REF!,APOIO!#REF!) -> #REF! | O44: =IF(G$8=APOIO!#REF!,IF($C44="GO",#REF!,IF($C44="MT",#REF!,IF($C44="RO",#REF!,0))),0)*_xlfn.XLOOKUP(D44,APOIO!#REF!,APOIO!#REF!) -> #REF! | P44: =IF(H$8=APOIO!#REF!,IF($C44="GO",#REF!,IF($C44="MT",#REF!,IF($C44="RO",#REF!,0))),0)*_xlfn.XLOOKUP(D44,APOIO!#REF!,APOIO!#REF!) -> #REF! | Q44: =IF(L$8=APOIO!#REF!,IF($C44="GO",#REF!,IF($C44="MT",#REF!,IF($C44="RO",#REF!,0))),0)*_xlfn.XLOOKUP(D44,APOIO!#REF!,APOIO!#REF!) -> #REF!
B45: 36 | C45: =RIGHT(LEFT(D45,6),2) -> RO | D45: 364BRO1149 | E45: =IF(E$8=APOIO!$D48,IF($C45="GO",#REF!,IF($C45="MT",#REF!,IF($C45="RO",#REF!,0))),0)*_xlfn.XLOOKUP($D45,APOIO!$C:$C,APOIO!$G:$G) -> 0 | F45: =IF(F$8=APOIO!$D48,IF($C45="GO",#REF!,IF($C45="MT",#REF!,IF($C45="RO",#REF!,0))),0)*_xlfn.XLOOKUP($D45,APOIO!$C:$C,APOIO!$G:$G) -> 0 | G45: =IF(G$8=APOIO!$D48,IF($C45="GO",#REF!,IF($C45="MT",#REF!,IF($C45="RO",#REF!,0))),0)*_xlfn.XLOOKUP($D45,APOIO!$C:$C,APOIO!$G:$G) -> 0 | H45: =IF(H$8=APOIO!$D47,IF($C45="GO",#REF!,IF($C45="MT",#REF!,IF($C45="RO",#REF!,0))),0)*_xlfn.XLOOKUP($D45,APOIO!$C:$C,APOIO!$G:$G) -> 0 | I45: =IF(I$8=APOIO!$D47,IF($C45="GO",#REF!,IF($C45="MT",#REF!,IF($C45="RO",#REF!,0))),0)*_xlfn.XLOOKUP($D45,APOIO!$C:$C,APOIO!$G:$G) -> #REF! | J45: =IF(J$8=APOIO!$D47,IF($C45="GO",#REF!,IF($C45="MT",#REF!,IF($C45="RO",#REF!,0))),0)*_xlfn.XLOOKUP($D45,APOIO!$C:$C,APOIO!$G:$G) -> 0 | K45: =IF(K$8=APOIO!$D47,IF($C45="GO",#REF!,IF($C45="MT",#REF!,IF($C45="RO",#REF!,0))),0)*_xlfn.XLOOKUP($D45,APOIO!$C:$C,APOIO!$G:$G) -> 0 | L45: =IF(L$8=APOIO!$D47,IF($C45="GO",#REF!,IF($C45="MT",#REF!,IF($C45="RO",#REF!,0))),0)*_xlfn.XLOOKUP($D45,APOIO!$C:$C,APOIO!$G:$G) -> 0 | N45: =IF(E$8=APOIO!#REF!,IF($C45="GO",#REF!,IF($C45="MT",#REF!,IF($C45="RO",#REF!,0))),0)*_xlfn.XLOOKUP(D$10,APOIO!#REF!,APOIO!#REF!) -> #REF! | O45: =IF(G$8=APOIO!#REF!,IF($C45="GO",#REF!,IF($C45="MT",#REF!,IF($C45="RO",#REF!,0))),0)*_xlfn.XLOOKUP(D45,APOIO!#REF!,APOIO!#REF!) -> #REF! | P45: =IF(H$8=APOIO!#REF!,IF($C45="GO",#REF!,IF($C45="MT",#REF!,IF($C45="RO",#REF!,0))),0)*_xlfn.XLOOKUP(D45,APOIO!#REF!,APOIO!#REF!) -> #REF! | Q45: =IF(L$8=APOIO!#REF!,IF($C45="GO",#REF!,IF($C45="MT",#REF!,IF($C45="RO",#REF!,0))),0)*_xlfn.XLOOKUP(D45,APOIO!#REF!,APOIO!#REF!) -> #REF!
B46: 37 | C46: =RIGHT(LEFT(D46,6),2) -> RO | D46: 364BRO1212 | E46: =IF(E$8=APOIO!$D49,IF($C46="GO",#REF!,IF($C46="MT",#REF!,IF($C46="RO",#REF!,0))),0)*_xlfn.XLOOKUP($D46,APOIO!$C:$C,APOIO!$G:$G) -> 0 | F46: =IF(F$8=APOIO!$D49,IF($C46="GO",#REF!,IF($C46="MT",#REF!,IF($C46="RO",#REF!,0))),0)*_xlfn.XLOOKUP($D46,APOIO!$C:$C,APOIO!$G:$G) -> 0 | G46: =IF(G$8=APOIO!$D49,IF($C46="GO",#REF!,IF($C46="MT",#REF!,IF($C46="RO",#REF!,0))),0)*_xlfn.XLOOKUP($D46,APOIO!$C:$C,APOIO!$G:$G) -> 0 | H46: =IF(H$8=APOIO!$D48,IF($C46="GO",#REF!,IF($C46="MT",#REF!,IF($C46="RO",#REF!,0))),0)*_xlfn.XLOOKUP($D46,APOIO!$C:$C,APOIO!$G:$G) -> 0 | I46: =IF(I$8=APOIO!$D48,IF($C46="GO",#REF!,IF($C46="MT",#REF!,IF($C46="RO",#REF!,0))),0)*_xlfn.XLOOKUP($D46,APOIO!$C:$C,APOIO!$G:$G) -> #REF! | J46: =IF(J$8=APOIO!$D48,IF($C46="GO",#REF!,IF($C46="MT",#REF!,IF($C46="RO",#REF!,0))),0)*_xlfn.XLOOKUP($D46,APOIO!$C:$C,APOIO!$G:$G) -> 0 | K46: =IF(K$8=APOIO!$D48,IF($C46="GO",#REF!,IF($C46="MT",#REF!,IF($C46="RO",#REF!,0))),0)*_xlfn.XLOOKUP($D46,APOIO!$C:$C,APOIO!$G:$G) -> 0 | L46: =IF(L$8=APOIO!$D48,IF($C46="GO",#REF!,IF($C46="MT",#REF!,IF($C46="RO",#REF!,0))),0)*_xlfn.XLOOKUP($D46,APOIO!$C:$C,APOIO!$G:$G) -> 0 | N46: =IF(E$8=APOIO!#REF!,IF($C46="GO",#REF!,IF($C46="MT",#REF!,IF($C46="RO",#REF!,0))),0)*_xlfn.XLOOKUP(D$10,APOIO!#REF!,APOIO!#REF!) -> #REF! | O46: =IF(G$8=APOIO!#REF!,IF($C46="GO",#REF!,IF($C46="MT",#REF!,IF($C46="RO",#REF!,0))),0)*_xlfn.XLOOKUP(D46,APOIO!#REF!,APOIO!#REF!) -> #REF! | P46: =IF(H$8=APOIO!#REF!,IF($C46="GO",#REF!,IF($C46="MT",#REF!,IF($C46="RO",#REF!,0))),0)*_xlfn.XLOOKUP(D46,APOIO!#REF!,APOIO!#REF!) -> #REF! | Q46: =IF(L$8=APOIO!#REF!,IF($C46="GO",#REF!,IF($C46="MT",#REF!,IF($C46="RO",#REF!,0))),0)*_xlfn.XLOOKUP(D46,APOIO!#REF!,APOIO!#REF!) -> #REF!
B47: 38 | C47: =RIGHT(LEFT(D47,6),2) -> RO | D47: 364BRO1215 | E47: =IF(E$8=APOIO!$D50,IF($C47="GO",#REF!,IF($C47="MT",#REF!,IF($C47="RO",#REF!,0))),0)*_xlfn.XLOOKUP($D47,APOIO!$C:$C,APOIO!$G:$G) -> 0 | F47: =IF(F$8=APOIO!$D50,IF($C47="GO",#REF!,IF($C47="MT",#REF!,IF($C47="RO",#REF!,0))),0)*_xlfn.XLOOKUP($D47,APOIO!$C:$C,APOIO!$G:$G) -> 0 | G47: =IF(G$8=APOIO!$D50,IF($C47="GO",#REF!,IF($C47="MT",#REF!,IF($C47="RO",#REF!,0))),0)*_xlfn.XLOOKUP($D47,APOIO!$C:$C,APOIO!$G:$G) -> 0 | H47: =IF(H$8=APOIO!$D49,IF($C47="GO",#REF!,IF($C47="MT",#REF!,IF($C47="RO",#REF!,0))),0)*_xlfn.XLOOKUP($D47,APOIO!$C:$C,APOIO!$G:$G) -> 0 | I47: =IF(I$8=APOIO!$D49,IF($C47="GO",#REF!,IF($C47="MT",#REF!,IF($C47="RO",#REF!,0))),0)*_xlfn.XLOOKUP($D47,APOIO!$C:$C,APOIO!$G:$G) -> #REF! | J47: =IF(J$8=APOIO!$D49,IF($C47="GO",#REF!,IF($C47="MT",#REF!,IF($C47="RO",#REF!,0))),0)*_xlfn.XLOOKUP($D47,APOIO!$C:$C,APOIO!$G:$G) -> 0 | K47: =IF(K$8=APOIO!$D49,IF($C47="GO",#REF!,IF($C47="MT",#REF!,IF($C47="RO",#REF!,0))),0)*_xlfn.XLOOKUP($D47,APOIO!$C:$C,APOIO!$G:$G) -> 0 | L47: =IF(L$8=APOIO!$D49,IF($C47="GO",#REF!,IF($C47="MT",#REF!,IF($C47="RO",#REF!,0))),0)*_xlfn.XLOOKUP($D47,APOIO!$C:$C,APOIO!$G:$G) -> 0 | N47: =IF(E$8=APOIO!#REF!,IF($C47="GO",#REF!,IF($C47="MT",#REF!,IF($C47="RO",#REF!,0))),0)*_xlfn.XLOOKUP(D$10,APOIO!#REF!,APOIO!#REF!) -> #REF! | O47: =IF(G$8=APOIO!#REF!,IF($C47="GO",#REF!,IF($C47="MT",#REF!,IF($C47="RO",#REF!,0))),0)*_xlfn.XLOOKUP(D47,APOIO!#REF!,APOIO!#REF!) -> #REF! | P47: =IF(H$8=APOIO!#REF!,IF($C47="GO",#REF!,IF($C47="MT",#REF!,IF($C47="RO",#REF!,0))),0)*_xlfn.XLOOKUP(D47,APOIO!#REF!,APOIO!#REF!) -> #REF! | Q47: =IF(L$8=APOIO!#REF!,IF($C47="GO",#REF!,IF($C47="MT",#REF!,IF($C47="RO",#REF!,0))),0)*_xlfn.XLOOKUP(D47,APOIO!#REF!,APOIO!#REF!) -> #REF!
B48: 39 | C48: =RIGHT(LEFT(D48,6),2) -> RO | D48: 364BRO1220 | E48: =IF(E$8=APOIO!$D51,IF($C48="GO",#REF!,IF($C48="MT",#REF!,IF($C48="RO",#REF!,0))),0)*_xlfn.XLOOKUP($D48,APOIO!$C:$C,APOIO!$G:$G) -> 0 | F48: =IF(F$8=APOIO!$D51,IF($C48="GO",#REF!,IF($C48="MT",#REF!,IF($C48="RO",#REF!,0))),0)*_xlfn.XLOOKUP($D48,APOIO!$C:$C,APOIO!$G:$G) -> 0 | G48: =IF(G$8=APOIO!$D51,IF($C48="GO",#REF!,IF($C48="MT",#REF!,IF($C48="RO",#REF!,0))),0)*_xlfn.XLOOKUP($D48,APOIO!$C:$C,APOIO!$G:$G) -> 0 | H48: =IF(H$8=APOIO!$D50,IF($C48="GO",#REF!,IF($C48="MT",#REF!,IF($C48="RO",#REF!,0))),0)*_xlfn.XLOOKUP($D48,APOIO!$C:$C,APOIO!$G:$G) -> 0 | I48: =IF(I$8=APOIO!$D50,IF($C48="GO",#REF!,IF($C48="MT",#REF!,IF($C48="RO",#REF!,0))),0)*_xlfn.XLOOKUP($D48,APOIO!$C:$C,APOIO!$G:$G) -> #REF! | J48: =IF(J$8=APOIO!$D50,IF($C48="GO",#REF!,IF($C48="MT",#REF!,IF($C48="RO",#REF!,0))),0)*_xlfn.XLOOKUP($D48,APOIO!$C:$C,APOIO!$G:$G) -> 0 | K48: =IF(K$8=APOIO!$D50,IF($C48="GO",#REF!,IF($C48="MT",#REF!,IF($C48="RO",#REF!,0))),0)*_xlfn.XLOOKUP($D48,APOIO!$C:$C,APOIO!$G:$G) -> 0 | L48: =IF(L$8=APOIO!$D50,IF($C48="GO",#REF!,IF($C48="MT",#REF!,IF($C48="RO",#REF!,0))),0)*_xlfn.XLOOKUP($D48,APOIO!$C:$C,APOIO!$G:$G) -> 0 | N48: =IF(E$8=APOIO!#REF!,IF($C48="GO",#REF!,IF($C48="MT",#REF!,IF($C48="RO",#REF!,0))),0)*_xlfn.XLOOKUP(D$10,APOIO!#REF!,APOIO!#REF!) -> #REF! | O48: =IF(G$8=APOIO!#REF!,IF($C48="GO",#REF!,IF($C48="MT",#REF!,IF($C48="RO",#REF!,0))),0)*_xlfn.XLOOKUP(D48,APOIO!#REF!,APOIO!#REF!) -> #REF! | P48: =IF(H$8=APOIO!#REF!,IF($C48="GO",#REF!,IF($C48="MT",#REF!,IF($C48="RO",#REF!,0))),0)*_xlfn.XLOOKUP(D48,APOIO!#REF!,APOIO!#REF!) -> #REF! | Q48: =IF(L$8=APOIO!#REF!,IF($C48="GO",#REF!,IF($C48="MT",#REF!,IF($C48="RO",#REF!,0))),0)*_xlfn.XLOOKUP(D48,APOIO!#REF!,APOIO!#REF!) -> #REF!
B49: 40 | C49: =RIGHT(LEFT(D49,6),2) -> RO | D49: 364BRO1230 | E49: =IF(E$8=APOIO!$D52,IF($C49="GO",#REF!,IF($C49="MT",#REF!,IF($C49="RO",#REF!,0))),0)*_xlfn.XLOOKUP($D49,APOIO!$C:$C,APOIO!$G:$G) -> 0 | F49: =IF(F$8=APOIO!$D52,IF($C49="GO",#REF!,IF($C49="MT",#REF!,IF($C49="RO",#REF!,0))),0)*_xlfn.XLOOKUP($D49,APOIO!$C:$C,APOIO!$G:$G) -> 0 | G49: =IF(G$8=APOIO!$D52,IF($C49="GO",#REF!,IF($C49="MT",#REF!,IF($C49="RO",#REF!,0))),0)*_xlfn.XLOOKUP($D49,APOIO!$C:$C,APOIO!$G:$G) -> 0 | H49: =IF(H$8=APOIO!$D51,IF($C49="GO",#REF!,IF($C49="MT",#REF!,IF($C49="RO",#REF!,0))),0)*_xlfn.XLOOKUP($D49,APOIO!$C:$C,APOIO!$G:$G) -> 0 | I49: =IF(I$8=APOIO!$D51,IF($C49="GO",#REF!,IF($C49="MT",#REF!,IF($C49="RO",#REF!,0))),0)*_xlfn.XLOOKUP($D49,APOIO!$C:$C,APOIO!$G:$G) -> #REF! | J49: =IF(J$8=APOIO!$D51,IF($C49="GO",#REF!,IF($C49="MT",#REF!,IF($C49="RO",#REF!,0))),0)*_xlfn.XLOOKUP($D49,APOIO!$C:$C,APOIO!$G:$G) -> 0 | K49: =IF(K$8=APOIO!$D51,IF($C49="GO",#REF!,IF($C49="MT",#REF!,IF($C49="RO",#REF!,0))),0)*_xlfn.XLOOKUP($D49,APOIO!$C:$C,APOIO!$G:$G) -> 0 | L49: =IF(L$8=APOIO!$D51,IF($C49="GO",#REF!,IF($C49="MT",#REF!,IF($C49="RO",#REF!,0))),0)*_xlfn.XLOOKUP($D49,APOIO!$C:$C,APOIO!$G:$G) -> 0 | N49: =IF(E$8=APOIO!#REF!,IF($C49="GO",#REF!,IF($C49="MT",#REF!,IF($C49="RO",#REF!,0))),0)*_xlfn.XLOOKUP(D$10,APOIO!#REF!,APOIO!#REF!) -> #REF! | O49: =IF(G$8=APOIO!#REF!,IF($C49="GO",#REF!,IF($C49="MT",#REF!,IF($C49="RO",#REF!,0))),0)*_xlfn.XLOOKUP(D49,APOIO!#REF!,APOIO!#REF!) -> #REF! | P49: =IF(H$8=APOIO!#REF!,IF($C49="GO",#REF!,IF($C49="MT",#REF!,IF($C49="RO",#REF!,0))),0)*_xlfn.XLOOKUP(D49,APOIO!#REF!,APOIO!#REF!) -> #REF! | Q49: =IF(L$8=APOIO!#REF!,IF($C49="GO",#REF!,IF($C49="MT",#REF!,IF($C49="RO",#REF!,0))),0)*_xlfn.XLOOKUP(D49,APOIO!#REF!,APOIO!#REF!) -> #REF!
B50: 41 | C50: =RIGHT(LEFT(D50,6),2) -> RO | D50: 364BRO1245 | E50: =IF(E$8=APOIO!$D53,IF($C50="GO",#REF!,IF($C50="MT",#REF!,IF($C50="RO",#REF!,0))),0)*_xlfn.XLOOKUP($D50,APOIO!$C:$C,APOIO!$G:$G) -> 0 | F50: =IF(F$8=APOIO!$D53,IF($C50="GO",#REF!,IF($C50="MT",#REF!,IF($C50="RO",#REF!,0))),0)*_xlfn.XLOOKUP($D50,APOIO!$C:$C,APOIO!$G:$G) -> 0 | G50: =IF(G$8=APOIO!$D53,IF($C50="GO",#REF!,IF($C50="MT",#REF!,IF($C50="RO",#REF!,0))),0)*_xlfn.XLOOKUP($D50,APOIO!$C:$C,APOIO!$G:$G) -> 0 | H50: =IF(H$8=APOIO!$D52,IF($C50="GO",#REF!,IF($C50="MT",#REF!,IF($C50="RO",#REF!,0))),0)*_xlfn.XLOOKUP($D50,APOIO!$C:$C,APOIO!$G:$G) -> 0 | I50: =IF(I$8=APOIO!$D52,IF($C50="GO",#REF!,IF($C50="MT",#REF!,IF($C50="RO",#REF!,0))),0)*_xlfn.XLOOKUP($D50,APOIO!$C:$C,APOIO!$G:$G) -> #REF! | J50: =IF(J$8=APOIO!$D52,IF($C50="GO",#REF!,IF($C50="MT",#REF!,IF($C50="RO",#REF!,0))),0)*_xlfn.XLOOKUP($D50,APOIO!$C:$C,APOIO!$G:$G) -> 0 | K50: =IF(K$8=APOIO!$D52,IF($C50="GO",#REF!,IF($C50="MT",#REF!,IF($C50="RO",#REF!,0))),0)*_xlfn.XLOOKUP($D50,APOIO!$C:$C,APOIO!$G:$G) -> 0 | L50: =IF(L$8=APOIO!$D52,IF($C50="GO",#REF!,IF($C50="MT",#REF!,IF($C50="RO",#REF!,0))),0)*_xlfn.XLOOKUP($D50,APOIO!$C:$C,APOIO!$G:$G) -> 0 | N50: =IF(E$8=APOIO!#REF!,IF($C50="GO",#REF!,IF($C50="MT",#REF!,IF($C50="RO",#REF!,0))),0)*_xlfn.XLOOKUP(D$10,APOIO!#REF!,APOIO!#REF!) -> #REF! | O50: =IF(G$8=APOIO!#REF!,IF($C50="GO",#REF!,IF($C50="MT",#REF!,IF($C50="RO",#REF!,0))),0)*_xlfn.XLOOKUP(D50,APOIO!#REF!,APOIO!#REF!) -> #REF! | P50: =IF(H$8=APOIO!#REF!,IF($C50="GO",#REF!,IF($C50="MT",#REF!,IF($C50="RO",#REF!,0))),0)*_xlfn.XLOOKUP(D50,APOIO!#REF!,APOIO!#REF!) -> #REF! | Q50: =IF(L$8=APOIO!#REF!,IF($C50="GO",#REF!,IF($C50="MT",#REF!,IF($C50="RO",#REF!,0))),0)*_xlfn.XLOOKUP(D50,APOIO!#REF!,APOIO!#REF!) -> #REF!
B51: 42 | C51: =RIGHT(LEFT(D51,6),2) -> RO | D51: 364BRO1290 | E51: =IF(E$8=APOIO!$D54,IF($C51="GO",#REF!,IF($C51="MT",#REF!,IF($C51="RO",#REF!,0))),0)*_xlfn.XLOOKUP($D51,APOIO!$C:$C,APOIO!$G:$G) -> 0 | F51: =IF(F$8=APOIO!$D54,IF($C51="GO",#REF!,IF($C51="MT",#REF!,IF($C51="RO",#REF!,0))),0)*_xlfn.XLOOKUP($D51,APOIO!$C:$C,APOIO!$G:$G) -> 0 | G51: =IF(G$8=APOIO!$D54,IF($C51="GO",#REF!,IF($C51="MT",#REF!,IF($C51="RO",#REF!,0))),0)*_xlfn.XLOOKUP($D51,APOIO!$C:$C,APOIO!$G:$G) -> 0 | H51: =IF(H$8=APOIO!$D53,IF($C51="GO",#REF!,IF($C51="MT",#REF!,IF($C51="RO",#REF!,0))),0)*_xlfn.XLOOKUP($D51,APOIO!$C:$C,APOIO!$G:$G) -> 0 | I51: =IF(I$8=APOIO!$D53,IF($C51="GO",#REF!,IF($C51="MT",#REF!,IF($C51="RO",#REF!,0))),0)*_xlfn.XLOOKUP($D51,APOIO!$C:$C,APOIO!$G:$G) -> #REF! | J51: =IF(J$8=APOIO!$D53,IF($C51="GO",#REF!,IF($C51="MT",#REF!,IF($C51="RO",#REF!,0))),0)*_xlfn.XLOOKUP($D51,APOIO!$C:$C,APOIO!$G:$G) -> 0 | K51: =IF(K$8=APOIO!$D53,IF($C51="GO",#REF!,IF($C51="MT",#REF!,IF($C51="RO",#REF!,0))),0)*_xlfn.XLOOKUP($D51,APOIO!$C:$C,APOIO!$G:$G) -> 0 | L51: =IF(L$8=APOIO!$D53,IF($C51="GO",#REF!,IF($C51="MT",#REF!,IF($C51="RO",#REF!,0))),0)*_xlfn.XLOOKUP($D51,APOIO!$C:$C,APOIO!$G:$G) -> 0 | N51: =IF(E$8=APOIO!#REF!,IF($C51="GO",#REF!,IF($C51="MT",#REF!,IF($C51="RO",#REF!,0))),0)*_xlfn.XLOOKUP(D$10,APOIO!#REF!,APOIO!#REF!) -> #REF! | O51: =IF(G$8=APOIO!#REF!,IF($C51="GO",#REF!,IF($C51="MT",#REF!,IF($C51="RO",#REF!,0))),0)*_xlfn.XLOOKUP(D51,APOIO!#REF!,APOIO!#REF!) -> #REF! | P51: =IF(H$8=APOIO!#REF!,IF($C51="GO",#REF!,IF($C51="MT",#REF!,IF($C51="RO",#REF!,0))),0)*_xlfn.XLOOKUP(D51,APOIO!#REF!,APOIO!#REF!) -> #REF! | Q51: =IF(L$8=APOIO!#REF!,IF($C51="GO",#REF!,IF($C51="MT",#REF!,IF($C51="RO",#REF!,0))),0)*_xlfn.XLOOKUP(D51,APOIO!#REF!,APOIO!#REF!) -> #REF!
B52: 43 | C52: =RIGHT(LEFT(D52,6),2) -> RO | D52: 364BRO1290#U | E52: =IF(E$8=APOIO!$D55,IF($C52="GO",#REF!,IF($C52="MT",#REF!,IF($C52="RO",#REF!,0))),0)*_xlfn.XLOOKUP($D52,APOIO!$C:$C,APOIO!$G:$G) -> 0 | F52: =IF(F$8=APOIO!$D55,IF($C52="GO",#REF!,IF($C52="MT",#REF!,IF($C52="RO",#REF!,0))),0)*_xlfn.XLOOKUP($D52,APOIO!$C:$C,APOIO!$G:$G) -> 0 | G52: =IF(G$8=APOIO!$D55,IF($C52="GO",#REF!,IF($C52="MT",#REF!,IF($C52="RO",#REF!,0))),0)*_xlfn.XLOOKUP($D52,APOIO!$C:$C,APOIO!$G:$G) -> 0 | H52: =IF(H$8=APOIO!$D54,IF($C52="GO",#REF!,IF($C52="MT",#REF!,IF($C52="RO",#REF!,0))),0)*_xlfn.XLOOKUP($D52,APOIO!$C:$C,APOIO!$G:$G) -> 0 | I52: =IF(I$8=APOIO!$D54,IF($C52="GO",#REF!,IF($C52="MT",#REF!,IF($C52="RO",#REF!,0))),0)*_xlfn.XLOOKUP($D52,APOIO!$C:$C,APOIO!$G:$G) -> #REF! | J52: =IF(J$8=APOIO!$D54,IF($C52="GO",#REF!,IF($C52="MT",#REF!,IF($C52="RO",#REF!,0))),0)*_xlfn.XLOOKUP($D52,APOIO!$C:$C,APOIO!$G:$G) -> 0 | K52: =IF(K$8=APOIO!$D54,IF($C52="GO",#REF!,IF($C52="MT",#REF!,IF($C52="RO",#REF!,0))),0)*_xlfn.XLOOKUP($D52,APOIO!$C:$C,APOIO!$G:$G) -> 0 | L52: =IF(L$8=APOIO!$D54,IF($C52="GO",#REF!,IF($C52="MT",#REF!,IF($C52="RO",#REF!,0))),0)*_xlfn.XLOOKUP($D52,APOIO!$C:$C,APOIO!$G:$G) -> 0 | N52: =IF(E$8=APOIO!#REF!,IF($C52="GO",#REF!,IF($C52="MT",#REF!,IF($C52="RO",#REF!,0))),0)*_xlfn.XLOOKUP(D$10,APOIO!#REF!,APOIO!#REF!) -> #REF! | O52: =IF(G$8=APOIO!#REF!,IF($C52="GO",#REF!,IF($C52="MT",#REF!,IF($C52="RO",#REF!,0))),0)*_xlfn.XLOOKUP(D52,APOIO!#REF!,APOIO!#REF!) -> #REF! | P52: =IF(H$8=APOIO!#REF!,IF($C52="GO",#REF!,IF($C52="MT",#REF!,IF($C52="RO",#REF!,0))),0)*_xlfn.XLOOKUP(D52,APOIO!#REF!,APOIO!#REF!) -> #REF! | Q52: =IF(L$8=APOIO!#REF!,IF($C52="GO",#REF!,IF($C52="MT",#REF!,IF($C52="RO",#REF!,0))),0)*_xlfn.XLOOKUP(D52,APOIO!#REF!,APOIO!#REF!) -> #REF!
B53: 44 | C53: =RIGHT(LEFT(D53,6),2) -> RO | D53: 364BRO1300 | E53: =IF(E$8=APOIO!$D56,IF($C53="GO",#REF!,IF($C53="MT",#REF!,IF($C53="RO",#REF!,0))),0)*_xlfn.XLOOKUP($D53,APOIO!$C:$C,APOIO!$G:$G) -> 0 | F53: =IF(F$8=APOIO!$D56,IF($C53="GO",#REF!,IF($C53="MT",#REF!,IF($C53="RO",#REF!,0))),0)*_xlfn.XLOOKUP($D53,APOIO!$C:$C,APOIO!$G:$G) -> 0 | G53: =IF(G$8=APOIO!$D56,IF($C53="GO",#REF!,IF($C53="MT",#REF!,IF($C53="RO",#REF!,0))),0)*_xlfn.XLOOKUP($D53,APOIO!$C:$C,APOIO!$G:$G) -> 0 | H53: =IF(H$8=APOIO!$D55,IF($C53="GO",#REF!,IF($C53="MT",#REF!,IF($C53="RO",#REF!,0))),0)*_xlfn.XLOOKUP($D53,APOIO!$C:$C,APOIO!$G:$G) -> 0 | I53: =IF(I$8=APOIO!$D55,IF($C53="GO",#REF!,IF($C53="MT",#REF!,IF($C53="RO",#REF!,0))),0)*_xlfn.XLOOKUP($D53,APOIO!$C:$C,APOIO!$G:$G) -> #REF! | J53: =IF(J$8=APOIO!$D55,IF($C53="GO",#REF!,IF($C53="MT",#REF!,IF($C53="RO",#REF!,0))),0)*_xlfn.XLOOKUP($D53,APOIO!$C:$C,APOIO!$G:$G) -> 0 | K53: =IF(K$8=APOIO!$D55,IF($C53="GO",#REF!,IF($C53="MT",#REF!,IF($C53="RO",#REF!,0))),0)*_xlfn.XLOOKUP($D53,APOIO!$C:$C,APOIO!$G:$G) -> 0 | L53: =IF(L$8=APOIO!$D55,IF($C53="GO",#REF!,IF($C53="MT",#REF!,IF($C53="RO",#REF!,0))),0)*_xlfn.XLOOKUP($D53,APOIO!$C:$C,APOIO!$G:$G) -> 0 | N53: =IF(E$8=APOIO!#REF!,IF($C53="GO",#REF!,IF($C53="MT",#REF!,IF($C53="RO",#REF!,0))),0)*_xlfn.XLOOKUP(D$10,APOIO!#REF!,APOIO!#REF!) -> #REF! | O53: =IF(G$8=APOIO!#REF!,IF($C53="GO",#REF!,IF($C53="MT",#REF!,IF($C53="RO",#REF!,0))),0)*_xlfn.XLOOKUP(D53,APOIO!#REF!,APOIO!#REF!) -> #REF! | P53: =IF(H$8=APOIO!#REF!,IF($C53="GO",#REF!,IF($C53="MT",#REF!,IF($C53="RO",#REF!,0))),0)*_xlfn.XLOOKUP(D53,APOIO!#REF!,APOIO!#REF!) -> #REF! | Q53: =IF(L$8=APOIO!#REF!,IF($C53="GO",#REF!,IF($C53="MT",#REF!,IF($C53="RO",#REF!,0))),0)*_xlfn.XLOOKUP(D53,APOIO!#REF!,APOIO!#REF!) -> #REF!
B54: 45 | C54: =RIGHT(LEFT(D54,6),2) -> RO | D54: 364BRO1320 | E54: =IF(E$8=APOIO!$D57,IF($C54="GO",#REF!,IF($C54="MT",#REF!,IF($C54="RO",#REF!,0))),0)*_xlfn.XLOOKUP($D54,APOIO!$C:$C,APOIO!$G:$G) -> 0 | F54: =IF(F$8=APOIO!$D57,IF($C54="GO",#REF!,IF($C54="MT",#REF!,IF($C54="RO",#REF!,0))),0)*_xlfn.XLOOKUP($D54,APOIO!$C:$C,APOIO!$G:$G) -> 0 | G54: =IF(G$8=APOIO!$D57,IF($C54="GO",#REF!,IF($C54="MT",#REF!,IF($C54="RO",#REF!,0))),0)*_xlfn.XLOOKUP($D54,APOIO!$C:$C,APOIO!$G:$G) -> 0 | H54: =IF(H$8=APOIO!$D56,IF($C54="GO",#REF!,IF($C54="MT",#REF!,IF($C54="RO",#REF!,0))),0)*_xlfn.XLOOKUP($D54,APOIO!$C:$C,APOIO!$G:$G) -> 0 | I54: =IF(I$8=APOIO!$D56,IF($C54="GO",#REF!,IF($C54="MT",#REF!,IF($C54="RO",#REF!,0))),0)*_xlfn.XLOOKUP($D54,APOIO!$C:$C,APOIO!$G:$G) -> #REF! | J54: =IF(J$8=APOIO!$D56,IF($C54="GO",#REF!,IF($C54="MT",#REF!,IF($C54="RO",#REF!,0))),0)*_xlfn.XLOOKUP($D54,APOIO!$C:$C,APOIO!$G:$G) -> 0 | K54: =IF(K$8=APOIO!$D56,IF($C54="GO",#REF!,IF($C54="MT",#REF!,IF($C54="RO",#REF!,0))),0)*_xlfn.XLOOKUP($D54,APOIO!$C:$C,APOIO!$G:$G) -> 0 | L54: =IF(L$8=APOIO!$D56,IF($C54="GO",#REF!,IF($C54="MT",#REF!,IF($C54="RO",#REF!,0))),0)*_xlfn.XLOOKUP($D54,APOIO!$C:$C,APOIO!$G:$G) -> 0 | N54: =IF(E$8=APOIO!#REF!,IF($C54="GO",#REF!,IF($C54="MT",#REF!,IF($C54="RO",#REF!,0))),0)*_xlfn.XLOOKUP(D$10,APOIO!#REF!,APOIO!#REF!) -> #REF! | O54: =IF(G$8=APOIO!#REF!,IF($C54="GO",#REF!,IF($C54="MT",#REF!,IF($C54="RO",#REF!,0))),0)*_xlfn.XLOOKUP(D54,APOIO!#REF!,APOIO!#REF!) -> #REF! | P54: =IF(H$8=APOIO!#REF!,IF($C54="GO",#REF!,IF($C54="MT",#REF!,IF($C54="RO",#REF!,0))),0)*_xlfn.XLOOKUP(D54,APOIO!#REF!,APOIO!#REF!) -> #REF! | Q54: =IF(L$8=APOIO!#REF!,IF($C54="GO",#REF!,IF($C54="MT",#REF!,IF($C54="RO",#REF!,0))),0)*_xlfn.XLOOKUP(D54,APOIO!#REF!,APOIO!#REF!) -> #REF!
B55: 46 | C55: =RIGHT(LEFT(D55,6),2) -> RO | D55: 364BRO1360 | E55: =IF(E$8=APOIO!$D58,IF($C55="GO",#REF!,IF($C55="MT",#REF!,IF($C55="RO",#REF!,0))),0)*_xlfn.XLOOKUP($D55,APOIO!$C:$C,APOIO!$G:$G) -> 0 | F55: =IF(F$8=APOIO!$D58,IF($C55="GO",#REF!,IF($C55="MT",#REF!,IF($C55="RO",#REF!,0))),0)*_xlfn.XLOOKUP($D55,APOIO!$C:$C,APOIO!$G:$G) -> 0 | G55: =IF(G$8=APOIO!$D58,IF($C55="GO",#REF!,IF($C55="MT",#REF!,IF($C55="RO",#REF!,0))),0)*_xlfn.XLOOKUP($D55,APOIO!$C:$C,APOIO!$G:$G) -> 0 | H55: =IF(H$8=APOIO!$D57,IF($C55="GO",#REF!,IF($C55="MT",#REF!,IF($C55="RO",#REF!,0))),0)*_xlfn.XLOOKUP($D55,APOIO!$C:$C,APOIO!$G:$G) -> 0 | I55: =IF(I$8=APOIO!$D57,IF($C55="GO",#REF!,IF($C55="MT",#REF!,IF($C55="RO",#REF!,0))),0)*_xlfn.XLOOKUP($D55,APOIO!$C:$C,APOIO!$G:$G) -> #REF! | J55: =IF(J$8=APOIO!$D57,IF($C55="GO",#REF!,IF($C55="MT",#REF!,IF($C55="RO",#REF!,0))),0)*_xlfn.XLOOKUP($D55,APOIO!$C:$C,APOIO!$G:$G) -> 0 | K55: =IF(K$8=APOIO!$D57,IF($C55="GO",#REF!,IF($C55="MT",#REF!,IF($C55="RO",#REF!,0))),0)*_xlfn.XLOOKUP($D55,APOIO!$C:$C,APOIO!$G:$G) -> 0 | L55: =IF(L$8=APOIO!$D57,IF($C55="GO",#REF!,IF($C55="MT",#REF!,IF($C55="RO",#REF!,0))),0)*_xlfn.XLOOKUP($D55,APOIO!$C:$C,APOIO!$G:$G) -> 0 | N55: =IF(E$8=APOIO!#REF!,IF($C55="GO",#REF!,IF($C55="MT",#REF!,IF($C55="RO",#REF!,0))),0)*_xlfn.XLOOKUP(D$10,APOIO!#REF!,APOIO!#REF!) -> #REF! | O55: =IF(G$8=APOIO!#REF!,IF($C55="GO",#REF!,IF($C55="MT",#REF!,IF($C55="RO",#REF!,0))),0)*_xlfn.XLOOKUP(D55,APOIO!#REF!,APOIO!#REF!) -> #REF! | P55: =IF(H$8=APOIO!#REF!,IF($C55="GO",#REF!,IF($C55="MT",#REF!,IF($C55="RO",#REF!,0))),0)*_xlfn.XLOOKUP(D55,APOIO!#REF!,APOIO!#REF!) -> #REF! | Q55: =IF(L$8=APOIO!#REF!,IF($C55="GO",#REF!,IF($C55="MT",#REF!,IF($C55="RO",#REF!,0))),0)*_xlfn.XLOOKUP(D55,APOIO!#REF!,APOIO!#REF!) -> #REF!
B56: 47 | C56: =RIGHT(LEFT(D56,6),2) -> MT | D56: 364BMT0970 | E56: =IF(E$8=APOIO!$D59,IF($C56="GO",#REF!,IF($C56="MT",#REF!,IF($C56="RO",#REF!,0))),0)*_xlfn.XLOOKUP($D56,APOIO!$C:$C,APOIO!$G:$G) -> 0 | F56: =IF(F$8=APOIO!$D59,IF($C56="GO",#REF!,IF($C56="MT",#REF!,IF($C56="RO",#REF!,0))),0)*_xlfn.XLOOKUP($D56,APOIO!$C:$C,APOIO!$G:$G) -> 0 | G56: =IF(G$8=APOIO!$D59,IF($C56="GO",#REF!,IF($C56="MT",#REF!,IF($C56="RO",#REF!,0))),0)*_xlfn.XLOOKUP($D56,APOIO!$C:$C,APOIO!$G:$G) -> 0 | H56: =IF(H$8=APOIO!$D58,IF($C56="GO",#REF!,IF($C56="MT",#REF!,IF($C56="RO",#REF!,0))),0)*_xlfn.XLOOKUP($D56,APOIO!$C:$C,APOIO!$G:$G) -> 0 | I56: 0 | J56: =IF(J$8=APOIO!$D59,IF($C56="GO",#REF!,IF($C56="MT",#REF!,IF($C56="RO",#REF!,0))),0)*_xlfn.XLOOKUP($D56,APOIO!$C:$C,APOIO!$G:$G) -> #REF! | K56: =IF(K$8=APOIO!$D58,IF($C56="GO",#REF!,IF($C56="MT",#REF!,IF($C56="RO",#REF!,0))),0)*_xlfn.XLOOKUP($D56,APOIO!$C:$C,APOIO!$G:$G) -> 0 | L56: =IF(L$8=APOIO!$D58,IF($C56="GO",#REF!,IF($C56="MT",#REF!,IF($C56="RO",#REF!,0))),0)*_xlfn.XLOOKUP($D56,APOIO!$C:$C,APOIO!$G:$G) -> 0 | N56: =IF(E$8=APOIO!#REF!,IF($C56="GO",#REF!,IF($C56="MT",#REF!,IF($C56="RO",#REF!,0))),0)*_xlfn.XLOOKUP(D$10,APOIO!#REF!,APOIO!#REF!) -> #REF! | O56: =IF(G$8=APOIO!#REF!,IF($C56="GO",#REF!,IF($C56="MT",#REF!,IF($C56="RO",#REF!,0))),0)*_xlfn.XLOOKUP(D56,APOIO!#REF!,APOIO!#REF!) -> #REF! | P56: =IF(H$8=APOIO!#REF!,IF($C56="GO",#REF!,IF($C56="MT",#REF!,IF($C56="RO",#REF!,0))),0)*_xlfn.XLOOKUP(D56,APOIO!#REF!,APOIO!#REF!) -> #REF! | Q56: =IF(L$8=APOIO!#REF!,IF($C56="GO",#REF!,IF($C56="MT",#REF!,IF($C56="RO",#REF!,0))),0)*_xlfn.XLOOKUP(D56,APOIO!#REF!,APOIO!#REF!) -> #REF!
B57: 48 | C57: =RIGHT(LEFT(D57,6),2) -> MT | D57: 364BMT0990 | E57: =IF(E$8=APOIO!$D60,IF($C57="GO",#REF!,IF($C57="MT",#REF!,IF($C57="RO",#REF!,0))),0)*_xlfn.XLOOKUP($D57,APOIO!$C:$C,APOIO!$G:$G) -> 0 | F57: =IF(F$8=APOIO!$D60,IF($C57="GO",#REF!,IF($C57="MT",#REF!,IF($C57="RO",#REF!,0))),0)*_xlfn.XLOOKUP($D57,APOIO!$C:$C,APOIO!$G:$G) -> 0 | G57: =IF(G$8=APOIO!$D60,IF($C57="GO",#REF!,IF($C57="MT",#REF!,IF($C57="RO",#REF!,0))),0)*_xlfn.XLOOKUP($D57,APOIO!$C:$C,APOIO!$G:$G) -> 0 | H57: =IF(H$8=APOIO!$D59,IF($C57="GO",#REF!,IF($C57="MT",#REF!,IF($C57="RO",#REF!,0))),0)*_xlfn.XLOOKUP($D57,APOIO!$C:$C,APOIO!$G:$G) -> 0 | I57: =IF(I$8=APOIO!$D59,IF($C57="GO",#REF!,IF($C57="MT",#REF!,IF($C57="RO",#REF!,0))),0)*_xlfn.XLOOKUP($D57,APOIO!$C:$C,APOIO!$G:$G) -> 0 | J57: =IF(J$8=APOIO!$D59,IF($C57="GO",#REF!,IF($C57="MT",#REF!,IF($C57="RO",#REF!,0))),0)*_xlfn.XLOOKUP($D57,APOIO!$C:$C,APOIO!$G:$G) -> #REF! | K57: =IF(K$8=APOIO!$D59,IF($C57="GO",#REF!,IF($C57="MT",#REF!,IF($C57="RO",#REF!,0))),0)*_xlfn.XLOOKUP($D57,APOIO!$C:$C,APOIO!$G:$G) -> 0 | L57: =IF(L$8=APOIO!$D59,IF($C57="GO",#REF!,IF($C57="MT",#REF!,IF($C57="RO",#REF!,0))),0)*_xlfn.XLOOKUP($D57,APOIO!$C:$C,APOIO!$G:$G) -> 0 | N57: =IF(E$8=APOIO!#REF!,IF($C57="GO",#REF!,IF($C57="MT",#REF!,IF($C57="RO",#REF!,0))),0)*_xlfn.XLOOKUP(D$10,APOIO!#REF!,APOIO!#REF!) -> #REF! | O57: =IF(G$8=APOIO!#REF!,IF($C57="GO",#REF!,IF($C57="MT",#REF!,IF($C57="RO",#REF!,0))),0)*_xlfn.XLOOKUP(D57,APOIO!#REF!,APOIO!#REF!) -> #REF! | P57: =IF(H$8=APOIO!#REF!,IF($C57="GO",#REF!,IF($C57="MT",#REF!,IF($C57="RO",#REF!,0))),0)*_xlfn.XLOOKUP(D57,APOIO!#REF!,APOIO!#REF!) -> #REF! | Q57: =IF(L$8=APOIO!#REF!,IF($C57="GO",#REF!,IF($C57="MT",#REF!,IF($C57="RO",#REF!,0))),0)*_xlfn.XLOOKUP(D57,APOIO!#REF!,APOIO!#REF!) -> #REF!
B58: 49 | C58: =RIGHT(LEFT(D58,6),2) -> GO | D58: 060BGO0280% | E58: =IF(E$8=APOIO!$D61,IF($C58="GO",#REF!,IF($C58="MT",#REF!,IF($C58="RO",#REF!,0))),0)*_xlfn.XLOOKUP($D58,APOIO!$C:$C,APOIO!$G:$G) -> 0 | F58: =IF(F$8=APOIO!$D61,IF($C58="GO",#REF!,IF($C58="MT",#REF!,IF($C58="RO",#REF!,0))),0)*_xlfn.XLOOKUP($D58,APOIO!$C:$C,APOIO!$G:$G) -> 0 | G58: =IF(G$8=APOIO!$D61,IF($C58="GO",#REF!,IF($C58="MT",#REF!,IF($C58="RO",#REF!,0))),0)*_xlfn.XLOOKUP($D58,APOIO!$C:$C,APOIO!$G:$G) -> 0 | H58: =IF(H$8=APOIO!$D60,IF($C58="GO",#REF!,IF($C58="MT",#REF!,IF($C58="RO",#REF!,0))),0)*_xlfn.XLOOKUP($D58,APOIO!$C:$C,APOIO!$G:$G) -> 0 | I58: =IF(I$8=APOIO!$D60,IF($C58="GO",#REF!,IF($C58="MT",#REF!,IF($C58="RO",#REF!,0))),0)*_xlfn.XLOOKUP($D58,APOIO!$C:$C,APOIO!$G:$G) -> 0 | K58: =IF(K$8=APOIO!$D61,IF($C58="GO",#REF!,IF($C58="MT",#REF!,IF($C58="RO",#REF!,0))),0)*_xlfn.XLOOKUP($D58,APOIO!$C:$C,APOIO!$G:$G) -> #REF! | L58: =IF(L$8=APOIO!$D60,IF($C58="GO",#REF!,IF($C58="MT",#REF!,IF($C58="RO",#REF!,0))),0)*_xlfn.XLOOKUP($D58,APOIO!$C:$C,APOIO!$G:$G) -> 0 | N58: =IF(E$8=APOIO!#REF!,IF($C58="GO",#REF!,IF($C58="MT",#REF!,IF($C58="RO",#REF!,0))),0)*_xlfn.XLOOKUP(D$10,APOIO!#REF!,APOIO!#REF!) -> #REF! | O58: =IF(G$8=APOIO!#REF!,IF($C58="GO",#REF!,IF($C58="MT",#REF!,IF($C58="RO",#REF!,0))),0)*_xlfn.XLOOKUP(D58,APOIO!#REF!,APOIO!#REF!) -> #REF! | P58: =IF(H$8=APOIO!#REF!,IF($C58="GO",#REF!,IF($C58="MT",#REF!,IF($C58="RO",#REF!,0))),0)*_xlfn.XLOOKUP(D58,APOIO!#REF!,APOIO!#REF!) -> #REF! | Q58: =IF(L$8=APOIO!#REF!,IF($C58="GO",#REF!,IF($C58="MT",#REF!,IF($C58="RO",#REF!,0))),0)*_xlfn.XLOOKUP(D58,APOIO!#REF!,APOIO!#REF!) -> #REF!
B59: 50 | C59: =RIGHT(LEFT(D59,6),2) -> MT | D59: 070BMT0550 | E59: =IF(E$8=APOIO!$D62,IF($C59="GO",#REF!,IF($C59="MT",#REF!,IF($C59="RO",#REF!,0))),0)*_xlfn.XLOOKUP($D59,APOIO!$C:$C,APOIO!$G:$G) -> 0 | F59: =IF(F$8=APOIO!$D62,IF($C59="GO",#REF!,IF($C59="MT",#REF!,IF($C59="RO",#REF!,0))),0)*_xlfn.XLOOKUP($D59,APOIO!$C:$C,APOIO!$G:$G) -> 0 | G59: =IF(G$8=APOIO!$D62,IF($C59="GO",#REF!,IF($C59="MT",#REF!,IF($C59="RO",#REF!,0))),0)*_xlfn.XLOOKUP($D59,APOIO!$C:$C,APOIO!$G:$G) -> 0 | H59: =IF(H$8=APOIO!$D61,IF($C59="GO",#REF!,IF($C59="MT",#REF!,IF($C59="RO",#REF!,0))),0)*_xlfn.XLOOKUP($D59,APOIO!$C:$C,APOIO!$G:$G) -> 0 | I59: =IF(I$8=APOIO!$D61,IF($C59="GO",#REF!,IF($C59="MT",#REF!,IF($C59="RO",#REF!,0))),0)*_xlfn.XLOOKUP($D59,APOIO!$C:$C,APOIO!$G:$G) -> 0 | J59: =IF(J$8=APOIO!$D61,IF($C59="GO",#REF!,IF($C59="MT",#REF!,IF($C59="RO",#REF!,0))),0)*_xlfn.XLOOKUP($D59,APOIO!$C:$C,APOIO!$G:$G) -> 0 | K59: =IF(K$8=APOIO!$D61,IF($C59="GO",#REF!,IF($C59="MT",#REF!,IF($C59="RO",#REF!,0))),0)*_xlfn.XLOOKUP($D59,APOIO!$C:$C,APOIO!$G:$G) -> #REF! | L59: =IF(L$8=APOIO!$D61,IF($C59="GO",#REF!,IF($C59="MT",#REF!,IF($C59="RO",#REF!,0))),0)*_xlfn.XLOOKUP($D59,APOIO!$C:$C,APOIO!$G:$G) -> 0 | N59: =IF(E$8=APOIO!#REF!,IF($C59="GO",#REF!,IF($C59="MT",#REF!,IF($C59="RO",#REF!,0))),0)*_xlfn.XLOOKUP(D$10,APOIO!#REF!,APOIO!#REF!) -> #REF! | O59: =IF(G$8=APOIO!#REF!,IF($C59="GO",#REF!,IF($C59="MT",#REF!,IF($C59="RO",#REF!,0))),0)*_xlfn.XLOOKUP(D59,APOIO!#REF!,APOIO!#REF!) -> #REF! | P59: =IF(H$8=APOIO!#REF!,IF($C59="GO",#REF!,IF($C59="MT",#REF!,IF($C59="RO",#REF!,0))),0)*_xlfn.XLOOKUP(D59,APOIO!#REF!,APOIO!#REF!) -> #REF! | Q59: =IF(L$8=APOIO!#REF!,IF($C59="GO",#REF!,IF($C59="MT",#REF!,IF($C59="RO",#REF!,0))),0)*_xlfn.XLOOKUP(D59,APOIO!#REF!,APOIO!#REF!) -> #REF!
B60: 51 | C60: =RIGHT(LEFT(D60,6),2) -> GO | D60: 060CGO2005 | E60: =IF(E$8=APOIO!$D63,IF($C60="GO",#REF!,IF($C60="MT",#REF!,IF($C60="RO",#REF!,0))),0)*_xlfn.XLOOKUP($D60,APOIO!$C:$C,APOIO!$G:$G) -> 0 | F60: =IF(F$8=APOIO!$D63,IF($C60="GO",#REF!,IF($C60="MT",#REF!,IF($C60="RO",#REF!,0))),0)*_xlfn.XLOOKUP($D60,APOIO!$C:$C,APOIO!$G:$G) -> 0 | G60: =IF(G$8=APOIO!$D63,IF($C60="GO",#REF!,IF($C60="MT",#REF!,IF($C60="RO",#REF!,0))),0)*_xlfn.XLOOKUP($D60,APOIO!$C:$C,APOIO!$G:$G) -> 0 | H60: =IF(H$8=APOIO!$D62,IF($C60="GO",#REF!,IF($C60="MT",#REF!,IF($C60="RO",#REF!,0))),0)*_xlfn.XLOOKUP($D60,APOIO!$C:$C,APOIO!$G:$G) -> 0 | I60: =IF(I$8=APOIO!$D62,IF($C60="GO",#REF!,IF($C60="MT",#REF!,IF($C60="RO",#REF!,0))),0)*_xlfn.XLOOKUP($D60,APOIO!$C:$C,APOIO!$G:$G) -> 0 | J60: =IF(J$8=APOIO!$D62,IF($C60="GO",#REF!,IF($C60="MT",#REF!,IF($C60="RO",#REF!,0))),0)*_xlfn.XLOOKUP($D60,APOIO!$C:$C,APOIO!$G:$G) -> 0 | K60: 0 | L60: =IF(L$8=APOIO!$D63,IF($C60="GO",#REF!,IF($C60="MT",#REF!,IF($C60="RO",#REF!,0))),0)*_xlfn.XLOOKUP($D60,APOIO!$C:$C,APOIO!$G:$G) -> #REF! | N60: =IF(E$8=APOIO!#REF!,IF($C60="GO",#REF!,IF($C60="MT",#REF!,IF($C60="RO",#REF!,0))),0)*_xlfn.XLOOKUP(D$10,APOIO!#REF!,APOIO!#REF!) -> #REF! | O60: =IF(G$8=APOIO!#REF!,IF($C60="GO",#REF!,IF($C60="MT",#REF!,IF($C60="RO",#REF!,0))),0)*_xlfn.XLOOKUP(D60,APOIO!#REF!,APOIO!#REF!) -> #REF! | P60: =IF(H$8=APOIO!#REF!,IF($C60="GO",#REF!,IF($C60="MT",#REF!,IF($C60="RO",#REF!,0))),0)*_xlfn.XLOOKUP(D60,APOIO!#REF!,APOIO!#REF!) -> #REF! | Q60: =IF(L$8=APOIO!#REF!,IF($C60="GO",#REF!,IF($C60="MT",#REF!,IF($C60="RO",#REF!,0))),0)*_xlfn.XLOOKUP(D60,APOIO!#REF!,APOIO!#REF!) -> #REF!
B61: 52 | C61: GO | D61: 060CGO2015 | E61: =IF(E$8=APOIO!$D64,IF($C61="GO",#REF!,IF($C61="MT",#REF!,IF($C61="RO",#REF!,0))),0)*_xlfn.XLOOKUP($D61,APOIO!$C:$C,APOIO!$G:$G) -> 0 | F61: =IF(F$8=APOIO!$D64,IF($C61="GO",#REF!,IF($C61="MT",#REF!,IF($C61="RO",#REF!,0))),0)*_xlfn.XLOOKUP($D61,APOIO!$C:$C,APOIO!$G:$G) -> 0 | G61: =IF(G$8=APOIO!$D64,IF($C61="GO",#REF!,IF($C61="MT",#REF!,IF($C61="RO",#REF!,0))),0)*_xlfn.XLOOKUP($D61,APOIO!$C:$C,APOIO!$G:$G) -> 0 | H61: =IF(H$8=APOIO!$D63,IF($C61="GO",#REF!,IF($C61="MT",#REF!,IF($C61="RO",#REF!,0))),0)*_xlfn.XLOOKUP($D61,APOIO!$C:$C,APOIO!$G:$G) -> 0 | I61: =IF(I$8=APOIO!$D63,IF($C61="GO",#REF!,IF($C61="MT",#REF!,IF($C61="RO",#REF!,0))),0)*_xlfn.XLOOKUP($D61,APOIO!$C:$C,APOIO!$G:$G) -> 0 | J61: =IF(J$8=APOIO!$D63,IF($C61="GO",#REF!,IF($C61="MT",#REF!,IF($C61="RO",#REF!,0))),0)*_xlfn.XLOOKUP($D61,APOIO!$C:$C,APOIO!$G:$G) -> 0 | K61: =IF(K$8=APOIO!$D63,IF($C61="GO",#REF!,IF($C61="MT",#REF!,IF($C61="RO",#REF!,0))),0)*_xlfn.XLOOKUP($D61,APOIO!$C:$C,APOIO!$G:$G) -> 0 | L61: =IF(L$8=APOIO!$D63,IF($C61="GO",#REF!,IF($C61="MT",#REF!,IF($C61="RO",#REF!,0))),0)*_xlfn.XLOOKUP($D61,APOIO!$C:$C,APOIO!$G:$G) -> #REF! | N61: =IF(E$8=APOIO!#REF!,IF($C61="GO",#REF!,IF($C61="MT",#REF!,IF($C61="RO",#REF!,0))),0)*_xlfn.XLOOKUP(D$10,APOIO!#REF!,APOIO!#REF!) -> #REF! | O61: =IF(G$8=APOIO!#REF!,IF($C61="GO",#REF!,IF($C61="MT",#REF!,IF($C61="RO",#REF!,0))),0)*_xlfn.XLOOKUP(D61,APOIO!#REF!,APOIO!#REF!) -> #REF! | P61: =IF(H$8=APOIO!#REF!,IF($C61="GO",#REF!,IF($C61="MT",#REF!,IF($C61="RO",#REF!,0))),0)*_xlfn.XLOOKUP(D61,APOIO!#REF!,APOIO!#REF!) -> #REF! | Q61: =IF(L$8=APOIO!#REF!,IF($C61="GO",#REF!,IF($C61="MT",#REF!,IF($C61="RO",#REF!,0))),0)*_xlfn.XLOOKUP(D61,APOIO!#REF!,APOIO!#REF!) -> #REF!
B62: 53 | C62: MT | D62: ACPORTONOVO | E62: =IF(E$8=APOIO!$D65,IF($C62="GO",#REF!,IF($C62="MT",#REF!,IF($C62="RO",#REF!,0))),0)*_xlfn.XLOOKUP($D62,APOIO!$C:$C,APOIO!$G:$G) -> 0 | F62: =IF(F$8=APOIO!$D65,IF($C62="GO",#REF!,IF($C62="MT",#REF!,IF($C62="RO",#REF!,0))),0)*_xlfn.XLOOKUP($D62,APOIO!$C:$C,APOIO!$G:$G) -> 0 | G62: =IF(G$8=APOIO!$D65,IF($C62="GO",#REF!,IF($C62="MT",#REF!,IF($C62="RO",#REF!,0))),0)*_xlfn.XLOOKUP($D62,APOIO!$C:$C,APOIO!$G:$G) -> 0 | H62: =IF(H$8=APOIO!$D64,IF($C62="GO",#REF!,IF($C62="MT",#REF!,IF($C62="RO",#REF!,0))),0)*_xlfn.XLOOKUP($D62,APOIO!$C:$C,APOIO!$G:$G) -> 0 | I62: =IF(I$8=APOIO!$D64,IF($C62="GO",#REF!,IF($C62="MT",#REF!,IF($C62="RO",#REF!,0))),0)*_xlfn.XLOOKUP($D62,APOIO!$C:$C,APOIO!$G:$G) -> 0 | J62: =IF(J$8=APOIO!$D64,IF($C62="GO",#REF!,IF($C62="MT",#REF!,IF($C62="RO",#REF!,0))),0)*_xlfn.XLOOKUP($D62,APOIO!$C:$C,APOIO!$G:$G) -> 0 | K62: =IF(K$8=APOIO!$D64,IF($C62="GO",#REF!,IF($C62="MT",#REF!,IF($C62="RO",#REF!,0))),0)*_xlfn.XLOOKUP($D62,APOIO!$C:$C,APOIO!$G:$G) -> 0 | L62: =IF(L$8=APOIO!$D64,IF($C62="GO",#REF!,IF($C62="MT",#REF!,IF($C62="RO",#REF!,0))),0)*_xlfn.XLOOKUP($D62,APOIO!$C:$C,APOIO!$G:$G) -> #REF! | N62: =IF(E$8=APOIO!#REF!,IF($C62="GO",#REF!,IF($C62="MT",#REF!,IF($C62="RO",#REF!,0))),0)*_xlfn.XLOOKUP(D$10,APOIO!#REF!,APOIO!#REF!) -> #REF! | O62: =IF(G$8=APOIO!#REF!,IF($C62="GO",#REF!,IF($C62="MT",#REF!,IF($C62="RO",#REF!,0))),0)*_xlfn.XLOOKUP(D62,APOIO!#REF!,APOIO!#REF!) -> #REF! | P62: =IF(H$8=APOIO!#REF!,IF($C62="GO",#REF!,IF($C62="MT",#REF!,IF($C62="RO",#REF!,0))),0)*_xlfn.XLOOKUP(D62,APOIO!#REF!,APOIO!#REF!) -> #REF! | Q62: =IF(L$8=APOIO!#REF!,IF($C62="GO",#REF!,IF($C62="MT",#REF!,IF($C62="RO",#REF!,0))),0)*_xlfn.XLOOKUP(D62,APOIO!#REF!,APOIO!#REF!) -> #REF!
B63: 54 | C63: MT | D63: ContRondonopolis | E63: =IF(E$8=APOIO!$D66,IF($C63="GO",#REF!,IF($C63="MT",#REF!,IF($C63="RO",#REF!,0))),0)*_xlfn.XLOOKUP($D63,APOIO!$C:$C,APOIO!$G:$G) -> 0 | F63: =IF(F$8=APOIO!$D66,IF($C63="GO",#REF!,IF($C63="MT",#REF!,IF($C63="RO",#REF!,0))),0)*_xlfn.XLOOKUP($D63,APOIO!$C:$C,APOIO!$G:$G) -> 0 | G63: =IF(G$8=APOIO!$D66,IF($C63="GO",#REF!,IF($C63="MT",#REF!,IF($C63="RO",#REF!,0))),0)*_xlfn.XLOOKUP($D63,APOIO!$C:$C,APOIO!$G:$G) -> 0 | H63: =IF(H$8=APOIO!$D65,IF($C63="GO",#REF!,IF($C63="MT",#REF!,IF($C63="RO",#REF!,0))),0)*_xlfn.XLOOKUP($D63,APOIO!$C:$C,APOIO!$G:$G) -> 0 | I63: =IF(I$8=APOIO!$D65,IF($C63="GO",#REF!,IF($C63="MT",#REF!,IF($C63="RO",#REF!,0))),0)*_xlfn.XLOOKUP($D63,APOIO!$C:$C,APOIO!$G:$G) -> 0 | J63: =IF(J$8=APOIO!$D65,IF($C63="GO",#REF!,IF($C63="MT",#REF!,IF($C63="RO",#REF!,0))),0)*_xlfn.XLOOKUP($D63,APOIO!$C:$C,APOIO!$G:$G) -> 0 | K63: =IF(K$8=APOIO!$D65,IF($C63="GO",#REF!,IF($C63="MT",#REF!,IF($C63="RO",#REF!,0))),0)*_xlfn.XLOOKUP($D63,APOIO!$C:$C,APOIO!$G:$G) -> 0 | L63: =IF(L$8=APOIO!$D65,IF($C63="GO",#REF!,IF($C63="MT",#REF!,IF($C63="RO",#REF!,0))),0)*_xlfn.XLOOKUP($D63,APOIO!$C:$C,APOIO!$G:$G) -> #REF! | N63: =IF(E$8=APOIO!#REF!,IF($C63="GO",#REF!,IF($C63="MT",#REF!,IF($C63="RO",#REF!,0))),0)*_xlfn.XLOOKUP(D$10,APOIO!#REF!,APOIO!#REF!) -> #REF! | O63: =IF(G$8=APOIO!#REF!,IF($C63="GO",#REF!,IF($C63="MT",#REF!,IF($C63="RO",#REF!,0))),0)*_xlfn.XLOOKUP(D63,APOIO!#REF!,APOIO!#REF!) -> #REF! | P63: =IF(H$8=APOIO!#REF!,IF($C63="GO",#REF!,IF($C63="MT",#REF!,IF($C63="RO",#REF!,0))),0)*_xlfn.XLOOKUP(D63,APOIO!#REF!,APOIO!#REF!) -> #REF! | Q63: =IF(L$8=APOIO!#REF!,IF($C63="GO",#REF!,IF($C63="MT",#REF!,IF($C63="RO",#REF!,0))),0)*_xlfn.XLOOKUP(D63,APOIO!#REF!,APOIO!#REF!) -> #REF!
B64: 55 | C64: GO | D64: ContRioVerde | E64: =IF(E$8=APOIO!$D67,IF($C64="GO",#REF!,IF($C64="MT",#REF!,IF($C64="RO",#REF!,0))),0)*_xlfn.XLOOKUP($D64,APOIO!$C:$C,APOIO!$G:$G) -> 0 | F64: =IF(F$8=APOIO!$D67,IF($C64="GO",#REF!,IF($C64="MT",#REF!,IF($C64="RO",#REF!,0))),0)*_xlfn.XLOOKUP($D64,APOIO!$C:$C,APOIO!$G:$G) -> 0 | G64: =IF(G$8=APOIO!$D67,IF($C64="GO",#REF!,IF($C64="MT",#REF!,IF($C64="RO",#REF!,0))),0)*_xlfn.XLOOKUP($D64,APOIO!$C:$C,APOIO!$G:$G) -> 0 | H64: =IF(H$8=APOIO!$D66,IF($C64="GO",#REF!,IF($C64="MT",#REF!,IF($C64="RO",#REF!,0))),0)*_xlfn.XLOOKUP($D64,APOIO!$C:$C,APOIO!$G:$G) -> 0 | I64: =IF(I$8=APOIO!$D66,IF($C64="GO",#REF!,IF($C64="MT",#REF!,IF($C64="RO",#REF!,0))),0)*_xlfn.XLOOKUP($D64,APOIO!$C:$C,APOIO!$G:$G) -> 0 | J64: =IF(J$8=APOIO!$D66,IF($C64="GO",#REF!,IF($C64="MT",#REF!,IF($C64="RO",#REF!,0))),0)*_xlfn.XLOOKUP($D64,APOIO!$C:$C,APOIO!$G:$G) -> 0 | K64: =IF(K$8=APOIO!$D66,IF($C64="GO",#REF!,IF($C64="MT",#REF!,IF($C64="RO",#REF!,0))),0)*_xlfn.XLOOKUP($D64,APOIO!$C:$C,APOIO!$G:$G) -> 0 | L64: =IF(L$8=APOIO!$D66,IF($C64="GO",#REF!,IF($C64="MT",#REF!,IF($C64="RO",#REF!,0))),0)*_xlfn.XLOOKUP($D64,APOIO!$C:$C,APOIO!$G:$G) -> #REF! | N64: =IF(E$8=APOIO!#REF!,IF($C64="GO",#REF!,IF($C64="MT",#REF!,IF($C64="RO",#REF!,0))),0) -> #REF!

Sheet Cron. Físico
C2: Cliente: | D2: BNDES - Banco Nacional de Desenvolvimento
C3: Trecho: | D3: Minas Gerais
C4: Objeto: | D4: Contratação de serviços técnicos especializados necessários à desestatização do sistema rodoviário no Estado de Minas Gerais, de até 2.798,6 km de extensão - Lote 3
D6: MEMÓRIA DE CÁLCULO - MANUTENÇÃO RODOVIÁRIA | F6: TRABALHOS INICIAIS | H6: RECUPERAÇÃO RODOVIÁRIA | L6: AMPLIAÇÃO
B8: Item | C8: Código | D8: Descrição | F8: Ano 1 | G8: Ano 2 | H8: Ano 3 | I8: Ano 4 | J8: Ano 5 | K8: Ano 6 | L8: Ano 7 | M8: Ano 8 | N8: Ano 9 | O8: Ano 10 | P8: Ano 11 | Q8: Ano 12 | R8: Ano 13 | S8: Ano 14 | T8: Ano 15 | U8: Ano 16 | V8: Ano 17 | W8: Ano 18 | X8: Ano 19 | Y8: Ano 20 | Z8: Ano 21 | AA8: Ano 22 | AB8: Ano 23 | AC8: Ano 24 | AD8: Ano 25 | AE8: Ano 26 | AF8: Ano 27 | AG8: Ano 28 | AH8: Ano 29 | AI8: Ano 30
A10: x | B10: 8.0 | D10: MANUTENÇÃO RODOVIÁRIA
A11: x | B11: 8.2 | D11: SINALIZAÇÃO HORIZONTAL E VERTICAL
A12: x | B12: 8.2.1 | D12: SINALIZAÇÃO HORIZONTAL
A13: x | B13: 8.2.1.1 | D13: PINTURA COM TINTA BASE ACRÍLICA - ESPESSURA DE 0,6 MM | AK13: =SUM(F13:AI13) -> 0
B14: 8.2.1.1.1 | D14: 265BMG0270 | F14: 0 | G14: 0 | H14: 0 | I14: 0 | J14: 0 | K14: 0 | L14: 1 | M14: 0 | N14: 1 | O14: 0 | P14: 1 | Q14: 0 | R14: 1 | S14: 0 | T14: 1 | U14: 0 | V14: 1 | W14: 0 | X14: 1 | Y14: 0 | Z14: 1 | AA14: 0 | AB14: 1 | AC14: 0 | AD14: 1 | AE14: 0 | AF14: 1 | AG14: 0 | AH14: 1 | AI14: 0 | AK14: =SUM(F14:AI14) -> 12
B15: 8.2.1.1.2 | D15: 265BMG0270#U | F15: 0 | G15: 0 | H15: 0 | I15: 0 | J15: 0 | K15: 0 | L15: 1 | M15: 0 | N15: 1 | O15: 0 | P15: 1 | Q15: 0 | R15: 1 | S15: 0 | T15: 1 | U15: 0 | V15: 1 | W15: 0 | X15: 1 | Y15: 0 | Z15: 1 | AA15: 0 | AB15: 1 | AC15: 0 | AD15: 1 | AE15: 0 | AF15: 1 | AG15: 0 | AH15: 1 | AI15: 0 | AK15: =SUM(F15:AI15) -> 12
B16: 8.2.1.1.3 | D16: 265BMG0290#U | F16: 0 | G16: 0 | H16: 0 | I16: 0 | J16: 0 | K16: 0 | L16: 1 | M16: 0 | N16: 1 | O16: 0 | P16: 1 | Q16: 0 | R16: 1 | S16: 0 | T16: 1 | U16: 0 | V16: 1 | W16: 0 | X16: 1 | Y16: 0 | Z16: 1 | AA16: 0 | AB16: 1 | AC16: 0 | AD16: 1 | AE16: 0 | AF16: 1 | AG16: 0 | AH16: 1 | AI16: 0 | AK16: =SUM(F16:AI16) -> 12
B17: 8.2.1.1.4 | D17: 265BMG0290 | F17: 0 | G17: 0 | H17: 0 | I17: 0 | J17: 0 | K17: 0 | L17: 1 | M17: 0 | N17: 1 | O17: 0 | P17: 1 | Q17: 0 | R17: 1 | S17: 0 | T17: 1 | U17: 0 | V17: 1 | W17: 0 | X17: 1 | Y17: 0 | Z17: 1 | AA17: 0 | AB17: 1 | AC17: 0 | AD17: 1 | AE17: 0 | AF17: 1 | AG17: 0 | AH17: 1 | AI17: 0 | AK17: =SUM(F17:AI17) -> 12
B18: 8.2.1.1.5 | D18: 265BMG0305 | F18: 0 | G18: 0 | H18: 0 | I18: 0 | J18: 0 | K18: 0 | L18: 1 | M18: 0 | N18: 1 | O18: 0 | P18: 1 | Q18: 0 | R18: 1 | S18: 0 | T18: 1 | U18: 0 | V18: 1 | W18: 0 | X18: 1 | Y18: 0 | Z18: 1 | AA18: 0 | AB18: 1 | AC18: 0 | AD18: 1 | AE18: 0 | AF18: 1 | AG18: 0 | AH18: 1 | AI18: 0 | AK18: =SUM(F18:AI18) -> 12
B19: 8.2.1.1.6 | D19: 265BMG0310 | F19: 0 | G19: 0 | H19: 0 | I19: 0 | J19: 0 | K19: 0 | L19: 1 | M19: 0 | N19: 1 | O19: 0 | P19: 1 | Q19: 0 | R19: 1 | S19: 0 | T19: 1 | U19: 0 | V19: 1 | W19: 0 | X19: 1 | Y19: 0 | Z19: 1 | AA19: 0 | AB19: 1 | AC19: 0 | AD19: 1 | AE19: 0 | AF19: 1 | AG19: 0 | AH19: 1 | AI19: 0 | AK19: =SUM(F19:AI19) -> 12
B20: 8.2.1.1.7 | D20: 265BMG0311 | F20: 0 | G20: 0 | H20: 0 | I20: 0 | J20: 0 | K20: 0 | L20: 1 | M20: 0 | N20: 1 | O20: 0 | P20: 1 | Q20: 0 | R20: 1 | S20: 0 | T20: 1 | U20: 0 | V20: 1 | W20: 0 | X20: 1 | Y20: 0 | Z20: 1 | AA20: 0 | AB20: 1 | AC20: 0 | AD20: 1 | AE20: 0 | AF20: 1 | AG20: 0 | AH20: 1 | AI20: 0 | AK20: =SUM(F20:AI20) -> 12
B21: 8.2.1.1.8 | D21: 146BMG0250 | F21: 0 | G21: 0 | H21: 0 | I21: 0 | J21: 0 | K21: 0 | L21: 1 | M21: 0 | N21: 1 | O21: 0 | P21: 1 | Q21: 0 | R21: 1 | S21: 0 | T21: 1 | U21: 0 | V21: 1 | W21: 0 | X21: 1 | Y21: 0 | Z21: 1 | AA21: 0 | AB21: 1 | AC21: 0 | AD21: 1 | AE21: 0 | AF21: 1 | AG21: 0 | AH21: 1 | AI21: 0 | AK21: =SUM(F21:AI21) -> 12
B22: 8.2.1.1.9 | D22: 146BMG0252 | F22: 0 | G22: 0 | H22: 0 | I22: 0 | J22: 0 | K22: 0 | L22: 1 | M22: 0 | N22: 1 | O22: 0 | P22: 1 | Q22: 0 | R22: 1 | S22: 0 | T22: 1 | U22: 0 | V22: 1 | W22: 0 | X22: 1 | Y22: 0 | Z22: 1 | AA22: 0 | AB22: 1 | AC22: 0 | AD22: 1 | AE22: 0 | AF22: 1 | AG22: 0 | AH22: 1 | AI22: 0 | AK22: =SUM(F22:AI22) -> 12
B23: 8.2.1.1.10 | D23: 167EMG0200 | F23: 0 | G23: 0 | H23: 0 | I23: 0 | J23: 0 | K23: 0 | L23: 1 | M23: 0 | N23: 1 | O23: 0 | P23: 1 | Q23: 0 | R23: 1 | S23: 0 | T23: 1 | U23: 0 | V23: 1 | W23: 0 | X23: 1 | Y23: 0 | Z23: 1 | AA23: 0 | AB23: 1 | AC23: 0 | AD23: 1 | AE23: 0 | AF23: 1 | AG23: 0 | AH23: 1 | AI23: 0 | AK23: =SUM(F23:AI23) -> 12
B24: 8.2.1.1.11 | D24: 167EMG0205 | F24: 0 | G24: 0 | H24: 0 | I24: 0 | J24: 0 | K24: 0 | L24: 1 | M24: 0 | N24: 1 | O24: 0 | P24: 1 | Q24: 0 | R24: 1 | S24: 0 | T24: 1 | U24: 0 | V24: 1 | W24: 0 | X24: 1 | Y24: 0 | Z24: 1 | AA24: 0 | AB24: 1 | AC24: 0 | AD24: 1 | AE24: 0 | AF24: 1 | AG24: 0 | AH24: 1 | AI24: 0 | AK24: =SUM(F24:AI24) -> 12
B25: 8.2.1.1.12 | D25: 167EMG0220 | F25: 0 | G25: 0 | H25: 0 | I25: 0 | J25: 0 | K25: 0 | L25: 1 | M25: 0 | N25: 1 | O25: 0 | P25: 1 | Q25: 0 | R25: 1 | S25: 0 | T25: 1 | U25: 0 | V25: 1 | W25: 0 | X25: 1 | Y25: 0 | Z25: 1 | AA25: 0 | AB25: 1 | AC25: 0 | AD25: 1 | AE25: 0 | AF25: 1 | AG25: 0 | AH25: 1 | AI25: 0 | AK25: =SUM(F25:AI25) -> 12
... B43: 8.2.1.1.30 | D43: 863LMG0010 | F43: 0 | G43: 0 | H43: 0 | I43: 0 | J43: 0 | K43: 0 | L43: 1 | M43: 0 | N43: 1 | O43: 0 | P43: 1 | Q43: 0 | R43: 1 | S43: 0 | T43: 1 | U43: 0 | V43: 1 | W43: 0 | X43: 1 | Y43: 0 | Z43: 1 | AA43: 0 | AB43: 1 | AC43: 0 | AD43: 1 | AE43: 0 | AF43: 1 | AG43: 0 | AH43: 1 | AI43: 0 | AK43: =SUM(F43:AI43) -> 12
A44: x | B44: 8.2.1.2 | D44: PINTURA COM TERMOPLÁSTICO POR ASPERSÃO - ESPESSURA DE 1,5 MM | AK44: =SUM(F44:AI44) -> 0
B45: 8.2.1.2.1 | D45: =D14 -> 265BMG0270 | F45: 0 | G45: 0 | H45: 0 | I45: 0 | J45: 0 | K45: 0 | L45: 1 | M45: 0 | N45: 0 | O45: 1 | P45: 0 | Q45: 0 | R45: 1 | S45: 0 | T45: 0 | U45: 1 | V45: 0 | W45: 0 | X45: 1 | Y45: 0 | Z45: 0 | AA45: 1 | AB45: 0 | AC45: 0 | AD45: 1 | AE45: 0 | AF45: 0 | AG45: 1 | AH45: 0 | AI45: 0 | AK45: =SUM(F45:AI45) -> 8
B46: 8.2.1.2.2 | D46: =D15 -> 265BMG0270#U | F46: 0 | G46: 0 | H46: 0 | I46: 0 | J46: 0 | K46: 0 | L46: 1 | M46: 0 | N46: 0 | O46: 1 | P46: 0 | Q46: 0 | R46: 1 | S46: 0 | T46: 0 | U46: 1 | V46: 0 | W46: 0 | X46: 1 | Y46: 0 | Z46: 0 | AA46: 1 | AB46: 0 | AC46: 0 | AD46: 1 | AE46: 0 | AF46: 0 | AG46: 1 | AH46: 0 | AI46: 0 | AK46: =SUM(F46:AI46) -> 8
B47: 8.2.1.2.3 | D47: =D16 -> 265BMG0290#U | F47: 0 | G47: 0 | H47: 0 | I47: 0 | J47: 0 | K47: 0 | L47: 1 | M47: 0 | N47: 0 | O47: 1 | P47: 0 | Q47: 0 | R47: 1 | S47: 0 | T47: 0 | U47: 1 | V47: 0 | W47: 0 | X47: 1 | Y47: 0 | Z47: 0 | AA47: 1 | AB47: 0 | AC47: 0 | AD47: 1 | AE47: 0 | AF47: 0 | AG47: 1 | AH47: 0 | AI47: 0 | AK47: =SUM(F47:AI47) -> 8
B48: 8.2.1.2.4 | D48: =D17 -> 265BMG0290 | F48: 0 | G48: 0 | H48: 0 | I48: 0 | J48: 0 | K48: 0 | L48: 1 | M48: 0 | N48: 0 | O48: 1 | P48: 0 | Q48: 0 | R48: 1 | S48: 0 | T48: 0 | U48: 1 | V48: 0 | W48: 0 | X48: 1 | Y48: 0 | Z48: 0 | AA48: 1 | AB48: 0 | AC48: 0 | AD48: 1 | AE48: 0 | AF48: 0 | AG48: 1 | AH48: 0 | AI48: 0 | AK48: =SUM(F48:AI48) -> 8
B49: 8.2.1.2.5 | D49: =D18 -> 265BMG0305 | F49: 0 | G49: 0 | H49: 0 | I49: 0 | J49: 0 | K49: 0 | L49: 1 | M49: 0 | N49: 0 | O49: 1 | P49: 0 | Q49: 0 | R49: 1 | S49: 0 | T49: 0 | U49: 1 | V49: 0 | W49: 0 | X49: 1 | Y49: 0 | Z49: 0 | AA49: 1 | AB49: 0 | AC49: 0 | AD49: 1 | AE49: 0 | AF49: 0 | AG49: 1 | AH49: 0 | AI49: 0 | AK49: =SUM(F49:AI49) -> 8
B50: 8.2.1.2.6 | D50: =D19 -> 265BMG0310 | F50: 0 | G50: 0 | H50: 0 | I50: 0 | J50: 0 | K50: 0 | L50: 1 | M50: 0 | N50: 0 | O50: 1 | P50: 0 | Q50: 0 | R50: 1 | S50: 0 | T50: 0 | U50: 1 | V50: 0 | W50: 0 | X50: 1 | Y50: 0 | Z50: 0 | AA50: 1 | AB50: 0 | AC50: 0 | AD50: 1 | AE50: 0 | AF50: 0 | AG50: 1 | AH50: 0 | AI50: 0 | AK50: =SUM(F50:AI50) -> 8
B51: 8.2.1.2.7 | D51: =D20 -> 265BMG0311 | F51: 0 | G51: 0 | H51: 0 | I51: 0 | J51: 0 | K51: 0 | L51: 1 | M51: 0 | N51: 0 | O51: 1 | P51: 0 | Q51: 0 | R51: 1 | S51: 0 | T51: 0 | U51: 1 | V51: 0 | W51: 0 | X51: 1 | Y51: 0 | Z51: 0 | AA51: 1 | AB51: 0 | AC51: 0 | AD51: 1 | AE51: 0 | AF51: 0 | AG51: 1 | AH51: 0 | AI51: 0 | AK51: =SUM(F51:AI51) -> 8
B52: 8.2.1.2.8 | D52: =D21 -> 146BMG0250 | F52: 0 | G52: 0 | H52: 0 | I52: 0 | J52: 0 | K52: 0 | L52: 1 | M52: 0 | N52: 0 | O52: 1 | P52: 0 | Q52: 0 | R52: 1 | S52: 0 | T52: 0 | U52: 1 | V52: 0 | W52: 0 | X52: 1 | Y52: 0 | Z52: 0 | AA52: 1 | AB52: 0 | AC52: 0 | AD52: 1 | AE52: 0 | AF52: 0 | AG52: 1 | AH52: 0 | AI52: 0 | AK52: =SUM(F52:AI52) -> 8
B53: 8.2.1.2.9 | D53: =D22 -> 146BMG0252 | F53: 0 | G53: 0 | H53: 0 | I53: 0 | J53: 0 | K53: 0 | L53: 1 | M53: 0 | N53: 0 | O53: 1 | P53: 0 | Q53: 0 | R53: 1 | S53: 0 | T53: 0 | U53: 1 | V53: 0 | W53: 0 | X53: 1 | Y53: 0 | Z53: 0 | AA53: 1 | AB53: 0 | AC53: 0 | AD53: 1 | AE53: 0 | AF53: 0 | AG53: 1 | AH53: 0 | AI53: 0 | AK53: =SUM(F53:AI53) -> 8
B54: 8.2.1.2.10 | D54: =D23 -> 167EMG0200 | F54: 0 | G54: 0 | H54: 0 | I54: 0 | J54: 0 | K54: 0 | L54: 1 | M54: 0 | N54: 0 | O54: 1 | P54: 0 | Q54: 0 | R54: 1 | S54: 0 | T54: 0 | U54: 1 | V54: 0 | W54: 0 | X54: 1 | Y54: 0 | Z54: 0 | AA54: 1 | AB54: 0 | AC54: 0 | AD54: 1 | AE54: 0 | AF54: 0 | AG54: 1 | AH54: 0 | AI54: 0 | AK54: =SUM(F54:AI54) -> 8
B55: 8.2.1.2.11 | D55: =D24 -> 167EMG0205 | F55: 0 | G55: 0 | H55: 0 | I55: 0 | J55: 0 | K55: 0 | L55: 1 | M55: 0 | N55: 0 | O55: 1 | P55: 0 | Q55: 0 | R55: 1 | S55: 0 | T55: 0 | U55: 1 | V55: 0 | W55: 0 | X55: 1 | Y55: 0 | Z55: 0 | AA55: 1 | AB55: 0 | AC55: 0 | AD55: 1 | AE55: 0 | AF55: 0 | AG55: 1 | AH55: 0 | AI55: 0 | AK55: =SUM(F55:AI55) -> 8
B56: 8.2.1.2.12 | D56: =D25 -> 167EMG0220 | F56: 0 | G56: 0 | H56: 0 | I56: 0 | J56: 0 | K56: 0 | L56: 1 | M56: 0 | N56: 0 | O56: 1 | P56: 0 | Q56: 0 | R56: 1 | S56: 0 | T56: 0 | U56: 1 | V56: 0 | W56: 0 | X56: 1 | Y56: 0 | Z56: 0 | AA56: 1 | AB56: 0 | AC56: 0 | AD56: 1 | AE56: 0 | AF56: 0 | AG56: 1 | AH56: 0 | AI56: 0 | AK56: =SUM(F56:AI56) -> 8
... B74: 8.2.1.2.30 | D74: =D43 -> 863LMG0010 | F74: 0 | G74: 0 | H74: 0 | I74: 0 | J74: 0 | K74: 0 | L74: 1 | M74: 0 | N74: 0 | O74: 1 | P74: 0 | Q74: 0 | R74: 1 | S74: 0 | T74: 0 | U74: 1 | V74: 0 | W74: 0 | X74: 1 | Y74: 0 | Z74: 0 | AA74: 1 | AB74: 0 | AC74: 0 | AD74: 1 | AE74: 0 | AF74: 0 | AG74: 1 | AH74: 0 | AI74: 0 | AK74: =SUM(F74:AI74) -> 8
A75: x | B75: 8.2.1.3 | D75: PINTURA COM TERMOPLÁSTICO POR EXTRUSÃO - ESPESSURA DE 3,0 MM | AK75: =SUM(F75:AI75) -> 0
B76: 8.2.1.3.1 | D76: =D45 -> 265BMG0270 | F76: 0 | G76: 0 | H76: 0 | I76: 0 | J76: 0 | K76: 0 | L76: 1 | M76: 0 | N76: 0 | O76: 0 | P76: 0 | Q76: 1 | R76: 0 | S76: 0 | T76: 0 | U76: 0 | V76: 1 | W76: 0 | X76: 0 | Y76: 0 | Z76: 0 | AA76: 1 | AB76: 0 | AC76: 0 | AD76: 0 | AE76: 0 | AF76: 1 | AG76: 0 | AH76: 0 | AI76: 0 | AK76: =SUM(F76:AI76) -> 5
B77: 8.2.1.3.2 | D77: =D46 -> 265BMG0270#U | F77: 0 | G77: 0 | H77: 0 | I77: 0 | J77: 0 | K77: 0 | L77: 1 | M77: 0 | N77: 0 | O77: 0 | P77: 0 | Q77: 1 | R77: 0 | S77: 0 | T77: 0 | U77: 0 | V77: 1 | W77: 0 | X77: 0 | Y77: 0 | Z77: 0 | AA77: 1 | AB77: 0 | AC77: 0 | AD77: 0 | AE77: 0 | AF77: 1 | AG77: 0 | AH77: 0 | AI77: 0 | AK77: =SUM(F77:AI77) -> 5
B78: 8.2.1.3.3 | D78: =D47 -> 265BMG0290#U | F78: 0 | G78: 0 | H78: 0 | I78: 0 | J78: 0 | K78: 0 | L78: 1 | M78: 0 | N78: 0 | O78: 0 | P78: 0 | Q78: 1 | R78: 0 | S78: 0 | T78: 0 | U78: 0 | V78: 1 | W78: 0 | X78: 0 | Y78: 0 | Z78: 0 | AA78: 1 | AB78: 0 | AC78: 0 | AD78: 0 | AE78: 0 | AF78: 1 | AG78: 0 | AH78: 0 | AI78: 0 | AK78: =SUM(F78:AI78) -> 5
B79: 8.2.1.3.4 | D79: =D48 -> 265BMG0290 | F79: 0 | G79: 0 | H79: 0 | I79: 0 | J79: 0 | K79: 0 | L79: 1 | M79: 0 | N79: 0 | O79: 0 | P79: 0 | Q79: 1 | R79: 0 | S79: 0 | T79: 0 | U79: 0 | V79: 1 | W79: 0 | X79: 0 | Y79: 0 | Z79: 0 | AA79: 1 | AB79: 0 | AC79: 0 | AD79: 0 | AE79: 0 | AF79: 1 | AG79: 0 | AH79: 0 | AI79: 0 | AK79: =SUM(F79:AI79) -> 5
B80: 8.2.1.3.5 | D80: =D49 -> 265BMG0305 | F80: 0 | G80: 0 | H80: 0 | I80: 0 | J80: 0 | K80: 0 | L80: 1 | M80: 0 | N80: 0 | O80: 0 | P80: 0 | Q80: 1 | R80: 0 | S80: 0 | T80: 0 | U80: 0 | V80: 1 | W80: 0 | X80: 0 | Y80: 0 | Z80: 0 | AA80: 1 | AB80: 0 | AC80: 0 | AD80: 0 | AE80: 0 | AF80: 1 | AG80: 0 | AH80: 0 | AI80: 0 | AK80: =SUM(F80:AI80) -> 5
B81: 8.2.1.3.6 | D81: =D50 -> 265BMG0310 | F81: 0 | G81: 0 | H81: 0 | I81: 0 | J81: 0 | K81: 0 | L81: 1 | M81: 0 | N81: 0 | O81: 0 | P81: 0 | Q81: 1 | R81: 0 | S81: 0 | T81: 0 | U81: 0 | V81: 1 | W81: 0 | X81: 0 | Y81: 0 | Z81: 0 | AA81: 1 | AB81: 0 | AC81: 0 | AD81: 0 | AE81: 0 | AF81: 1 | AG81: 0 | AH81: 0 | AI81: 0 | AK81: =SUM(F81:AI81) -> 5
B82: 8.2.1.3.7 | D82: =D51 -> 265BMG0311 | F82: 0 | G82: 0 | H82: 0 | I82: 0 | J82: 0 | K82: 0 | L82: 1 | M82: 0 | N82: 0 | O82: 0 | P82: 0 | Q82: 1 | R82: 0 | S82: 0 | T82: 0 | U82: 0 | V82: 1 | W82: 0 | X82: 0 | Y82: 0 | Z82: 0 | AA82: 1 | AB82: 0 | AC82: 0 | AD82: 0 | AE82: 0 | AF82: 1 | AG82: 0 | AH82: 0 | AI82: 0 | AK82: =SUM(F82:AI82) -> 5
B83: 8.2.1.3.8 | D83: =D52 -> 146BMG0250 | F83: 0 | G83: 0 | H83: 0 | I83: 0 | J83: 0 | K83: 0 | L83: 1 | M83: 0 | N83: 0 | O83: 0 | P83: 0 | Q83: 1 | R83: 0 | S83: 0 | T83: 0 | U83: 0 | V83: 1 | W83: 0 | X83: 0 | Y83: 0 | Z83: 0 | AA83: 1 | AB83: 0 | AC83: 0 | AD83: 0 | AE83: 0 | AF83: 1 | AG83: 0 | AH83: 0 | AI83: 0 | AK83: =SUM(F83:AI83) -> 5
B84: 8.2.1.3.9 | D84: =D53 -> 146BMG0252 | F84: 0 | G84: 0 | H84: 0 | I84: 0 | J84: 0 | K84: 0 | L84: 1 | M84: 0 | N84: 0 | O84: 0 | P84: 0 | Q84: 1 | R84: 0 | S84: 0 | T84: 0 | U84: 0 | V84: 1 | W84: 0 | X84: 0 | Y84: 0 | Z84: 0 | AA84: 1 | AB84: 0 | AC84: 0 | AD84: 0 | AE84: 0 | AF84: 1 | AG84: 0 | AH84: 0 | AI84: 0 | AK84: =SUM(F84:AI84) -> 5
B85: 8.2.1.3.10 | D85: =D54 -> 167EMG0200 | F85: 0 | G85: 0 | H85: 0 | I85: 0 | J85: 0 | K85: 0 | L85: 1 | M85: 0 | N85: 0 | O85: 0 | P85: 0 | Q85: 1 | R85: 0 | S85: 0 | T85: 0 | U85: 0 | V85: 1 | W85: 0 | X85: 0 | Y85: 0 | Z85: 0 | AA85: 1 | AB85: 0 | AC85: 0 | AD85: 0 | AE85: 0 | AF85: 1 | AG85: 0 | AH85: 0 | AI85: 0 | AK85: =SUM(F85:AI85) -> 5
B86: 8.2.1.3.11 | D86: =D55 -> 167EMG0205 | F86: 0 | G86: 0 | H86: 0 | I86: 0 | J86: 0 | K86: 0 | L86: 1 | M86: 0 | N86: 0 | O86: 0 | P86: 0 | Q86: 1 | R86: 0 | S86: 0 | T86: 0 | U86: 0 | V86: 1 | W86: 0 | X86: 0 | Y86: 0 | Z86: 0 | AA86: 1 | AB86: 0 | AC86: 0 | AD86: 0 | AE86: 0 | AF86: 1 | AG86: 0 | AH86: 0 | AI86: 0 | AK86: =SUM(F86:AI86) -> 5
B87: 8.2.1.3.12 | D87: =D56 -> 167EMG0220 | F87: 0 | G87: 0 | H87: 0 | I87: 0 | J87: 0 | K87: 0 | L87: 1 | M87: 0 | N87: 0 | O87: 0 | P87: 0 | Q87: 1 | R87: 0 | S87: 0 | T87: 0 | U87: 0 | V87: 1 | W87: 0 | X87: 0 | Y87: 0 | Z87: 0 | AA87: 1 | AB87: 0 | AC87: 0 | AD87: 0 | AE87: 0 | AF87: 1 | AG87: 0 | AH87: 0 | AI87: 0 | AK87: =SUM(F87:AI87) -> 5
... B105: 8.2.1.3.30 | D105: =D74 -> 863LMG0010 | F105: 0 | G105: 0 | H105: 0 | I105: 0 | J105: 0 | K105: 0 | L105: 1 | M105: 0 | N105: 0 | O105: 0 | P105: 0 | Q105: 1 | R105: 0 | S105: 0 | T105: 0 | U105: 0 | V105: 1 | W105: 0 | X105: 0 | Y105: 0 | Z105: 0 | AA105: 1 | AB105: 0 | AC105: 0 | AD105: 0 | AE105: 0 | AF105: 1 | AG105: 0 | AH105: 0 | AI105: 0 | AK105: =SUM(F105:AI105) -> 5
A106: x | B106: 8.2.1.4 | D106: TACHA REFLETIVA EM PLÁSTICO INJETADO MONODIRECIONAL | AK106: =SUM(F106:AI106) -> 0
B107: 8.2.1.4.1 | D107: =D76 -> 265BMG0270 | F107: 0 | G107: 0 | H107: 0 | I107: 0 | J107: 0 | K107: 0 | L107: 1 | M107: 0 | N107: 0 | O107: 1 | P107: 0 | Q107: 0 | R107: 1 | S107: 0 | T107: 0 | U107: 1 | V107: 0 | W107: 0 | X107: 1 | Y107: 0 | Z107: 0 | AA107: 1 | AB107: 0 | AC107: 0 | AD107: 1 | AE107: 0 | AF107: 0 | AG107: 1 | AH107: 0 | AI107: 0 | AK107: =SUM(F107:AI107) -> 8
B108: 8.2.1.4.2 | D108: =D77 -> 265BMG0270#U | F108: 0 | G108: 0 | H108: 0 | I108: 0 | J108: 0 | K108: 0 | L108: 1 | M108: 0 | N108: 0 | O108: 1 | P108: 0 | Q108: 0 | R108: 1 | S108: 0 | T108: 0 | U108: 1 | V108: 0 | W108: 0 | X108: 1 | Y108: 0 | Z108: 0 | AA108: 1 | AB108: 0 | AC108: 0 | AD108: 1 | AE108: 0 | AF108: 0 | AG108: 1 | AH108: 0 | AI108: 0 | AK108: =SUM(F108:AI108) -> 8
B109: 8.2.1.4.3 | D109: =D78 -> 265BMG0290#U | F109: 0 | G109: 0 | H109: 0 | I109: 0 | J109: 0 | K109: 0 | L109: 1 | M109: 0 | N109: 0 | O109: 1 | P109: 0 | Q109: 0 | R109: 1 | S109: 0 | T109: 0 | U109: 1 | V109: 0 | W109: 0 | X109: 1 | Y109: 0 | Z109: 0 | AA109: 1 | AB109: 0 | AC109: 0 | AD109: 1 | AE109: 0 | AF109: 0 | AG109: 1 | AH109: 0 | AI109: 0 | AK109: =SUM(F109:AI109) -> 8
B110: 8.2.1.4.4 | D110: =D79 -> 265BMG0290 | F110: 0 | G110: 0 | H110: 0 | I110: 0 | J110: 0 | K110: 0 | L110: 1 | M110: 0 | N110: 0 | O110: 1 | P110: 0 | Q110: 0 | R110: 1 | S110: 0 | T110: 0 | U110: 1 | V110: 0 | W110: 0 | X110: 1 | Y110: 0 | Z110: 0 | AA110: 1 | AB110: 0 | AC110: 0 | AD110: 1 | AE110: 0 | AF110: 0 | AG110: 1 | AH110: 0 | AI110: 0 | AK110: =SUM(F110:AI110) -> 8
B111: 8.2.1.4.5 | D111: =D80 -> 265BMG0305 | F111: 0 | G111: 0 | H111: 0 | I111: 0 | J111: 0 | K111: 0 | L111: 1 | M111: 0 | N111: 0 | O111: 1 | P111: 0 | Q111: 0 | R111: 1 | S111: 0 | T111: 0 | U111: 1 | V111: 0 | W111: 0 | X111: 1 | Y111: 0 | Z111: 0 | AA111: 1 | AB111: 0 | AC111: 0 | AD111: 1 | AE111: 0 | AF111: 0 | AG111: 1 | AH111: 0 | AI111: 0 | AK111: =SUM(F111:AI111) -> 8
B112: 8.2.1.4.6 | D112: =D81 -> 265BMG0310 | F112: 0 | G112: 0 | H112: 0 | I112: 0 | J112: 0 | K112: 0 | L112: 1 | M112: 0 | N112: 0 | O112: 1 | P112: 0 | Q112: 0 | R112: 1 | S112: 0 | T112: 0 | U112: 1 | V112: 0 | W112: 0 | X112: 1 | Y112: 0 | Z112: 0 | AA112: 1 | AB112: 0 | AC112: 0 | AD112: 1 | AE112: 0 | AF112: 0 | AG112: 1 | AH112: 0 | AI112: 0 | AK112: =SUM(F112:AI112) -> 8
B113: 8.2.1.4.7 | D113: =D82 -> 265BMG0311 | F113: 0 | G113: 0 | H113: 0 | I113: 0 | J113: 0 | K113: 0 | L113: 1 | M113: 0 | N113: 0 | O113: 1 | P113: 0 | Q113: 0 | R113: 1 | S113: 0 | T113: 0 | U113: 1 | V113: 0 | W113: 0 | X113: 1 | Y113: 0 | Z113: 0 | AA113: 1 | AB113: 0 | AC113: 0 | AD113: 1 | AE113: 0 | AF113: 0 | AG113: 1 | AH113: 0 | AI113: 0 | AK113: =SUM(F113:AI113) -> 8
B114: 8.2.1.4.8 | D114: =D83 -> 146BMG0250 | F114: 0 | G114: 0 | H114: 0 | I114: 0 | J114: 0 | K114: 0 | L114: 1 | M114: 0 | N114: 0 | O114: 1 | P114: 0 | Q114: 0 | R114: 1 | S114: 0 | T114: 0 | U114: 1 | V114: 0 | W114: 0 | X114: 1 | Y114: 0 | Z114: 0 | AA114: 1 | AB114: 0 | AC114: 0 | AD114: 1 | AE114: 0 | AF114: 0 | AG114: 1 | AH114: 0 | AI114: 0 | AK114: =SUM(F114:AI114) -> 8
B115: 8.2.1.4.9 | D115: =D84 -> 146BMG0252 | F115: 0 | G115: 0 | H115: 0 | I115: 0 | J115: 0 | K115: 0 | L115: 1 | M115: 0 | N115: 0 | O115: 1 | P115: 0 | Q115: 0 | R115: 1 | S115: 0 | T115: 0 | U115: 1 | V115: 0 | W115: 0 | X115: 1 | Y115: 0 | Z115: 0 | AA115: 1 | AB115: 0 | AC115: 0 | AD115: 1 | AE115: 0 | AF115: 0 | AG115: 1 | AH115: 0 | AI115: 0 | AK115: =SUM(F115:AI115) -> 8
B116: 8.2.1.4.10 | D116: =D85 -> 167EMG0200 | F116: 0 | G116: 0 | H116: 0 | I116: 0 | J116: 0 | K116: 0 | L116: 1 | M116: 0 | N116: 0 | O116: 1 | P116: 0 | Q116: 0 | R116: 1 | S116: 0 | T116: 0 | U116: 1 | V116: 0 | W116: 0 | X116: 1 | Y116: 0 | Z116: 0 | AA116: 1 | AB116: 0 | AC116: 0 | AD116: 1 | AE116: 0 | AF116: 0 | AG116: 1 | AH116: 0 | AI116: 0 | AK116: =SUM(F116:AI116) -> 8
B117: 8.2.1.4.11 | D117: =D86 -> 167EMG0205 | F117: 0 | G117: 0 | H117: 0 | I117: 0 | J117: 0 | K117: 0 | L117: 1 | M117: 0 | N117: 0 | O117: 1 | P117: 0 | Q117: 0 | R117: 1 | S117: 0 | T117: 0 | U117: 1 | V117: 0 | W117: 0 | X117: 1 | Y117: 0 | Z117: 0 | AA117: 1 | AB117: 0 | AC117: 0 | AD117: 1 | AE117: 0 | AF117: 0 | AG117: 1 | AH117: 0 | AI117: 0 | AK117: =SUM(F117:AI117) -> 8
B118: 8.2.1.4.12 | D118: =D87 -> 167EMG0220 | F118: 0 | G118: 0 | H118: 0 | I118: 0 | J118: 0 | K118: 0 | L118: 1 | M118: 0 | N118: 0 | O118: 1 | P118: 0 | Q118: 0 | R118: 1 | S118: 0 | T118: 0 | U118: 1 | V118: 0 | W118: 0 | X118: 1 | Y118: 0 | Z118: 0 | AA118: 1 | AB118: 0 | AC118: 0 | AD118: 1 | AE118: 0 | AF118: 0 | AG118: 1 | AH118: 0 | AI118: 0 | AK118: =SUM(F118:AI118) -> 8
... B136: 8.2.1.4.30 | D136: =D105 -> 863LMG0010 | F136: 0 | G136: 0 | H136: 0 | I136: 0 | J136: 0 | K136: 0 | L136: 1 | M136: 0 | N136: 0 | O136: 1 | P136: 0 | Q136: 0 | R136: 1 | S136: 0 | T136: 0 | U136: 1 | V136: 0 | W136: 0 | X136: 1 | Y136: 0 | Z136: 0 | AA136: 1 | AB136: 0 | AC136: 0 | AD136: 1 | AE136: 0 | AF136: 0 | AG136: 1 | AH136: 0 | AI136: 0 | AK136: =SUM(F136:AI136) -> 8
A137: x | B137: 8.2.1.5 | D137: TACHA REFLETIVA METÁLICA BIDIRECIONAL | AK137: =SUM(F137:AI137) -> 0
B138: 8.2.1.5.1 | D138: =D107 -> 265BMG0270 | F138: 0 | G138: 0 | H138: 0 | I138: 0 | J138: 0 | K138: 0 | L138: 1 | M138: 0 | N138: 0 | O138: 1 | P138: 0 | Q138: 0 | R138: 1 | S138: 0 | T138: 0 | U138: 1 | V138: 0 | W138: 0 | X138: 1 | Y138: 0 | Z138: 0 | AA138: 1 | AB138: 0 | AC138: 0 | AD138: 1 | AE138: 0 | AF138: 0 | AG138: 1 | AH138: 0 | AI138: 0 | AK138: =SUM(F138:AI138) -> 8
B139: 8.2.1.5.2 | D139: =D108 -> 265BMG0270#U | F139: 0 | G139: 0 | H139: 0 | I139: 0 | J139: 0 | K139: 0 | L139: 1 | M139: 0 | N139: 0 | O139: 1 | P139: 0 | Q139: 0 | R139: 1 | S139: 0 | T139: 0 | U139: 1 | V139: 0 | W139: 0 | X139: 1 | Y139: 0 | Z139: 0 | AA139: 1 | AB139: 0 | AC139: 0 | AD139: 1 | AE139: 0 | AF139: 0 | AG139: 1 | AH139: 0 | AI139: 0 | AK139: =SUM(F139:AI139) -> 8
B140: 8.2.1.5.3 | D140: =D109 -> 265BMG0290#U | F140: 0 | G140: 0 | H140: 0 | I140: 0 | J140: 0 | K140: 0 | L140: 1 | M140: 0 | N140: 0 | O140: 1 | P140: 0 | Q140: 0 | R140: 1 | S140: 0 | T140: 0 | U140: 1 | V140: 0 | W140: 0 | X140: 1 | Y140: 0 | Z140: 0 | AA140: 1 | AB140: 0 | AC140: 0 | AD140: 1 | AE140: 0 | AF140: 0 | AG140: 1 | AH140: 0 | AI140: 0 | AK140: =SUM(F140:AI140) -> 8
B141: 8.2.1.5.4 | D141: =D110 -> 265BMG0290 | F141: 0 | G141: 0 | H141: 0 | I141: 0 | J141: 0 | K141: 0 | L141: 1 | M141: 0 | N141: 0 | O141: 1 | P141: 0 | Q141: 0 | R141: 1 | S141: 0 | T141: 0 | U141: 1 | V141: 0 | W141: 0 | X141: 1 | Y141: 0 | Z141: 0 | AA141: 1 | AB141: 0 | AC141: 0 | AD141: 1 | AE141: 0 | AF141: 0 | AG141: 1 | AH141: 0 | AI141: 0 | AK141: =SUM(F141:AI141) -> 8
B142: 8.2.1.5.5 | D142: =D111 -> 265BMG0305 | F142: 0 | G142: 0 | H142: 0 | I142: 0 | J142: 0 | K142: 0 | L142: 1 | M142: 0 | N142: 0 | O142: 1 | P142: 0 | Q142: 0 | R142: 1 | S142: 0 | T142: 0 | U142: 1 | V142: 0 | W142: 0 | X142: 1 | Y142: 0 | Z142: 0 | AA142: 1 | AB142: 0 | AC142: 0 | AD142: 1 | AE142: 0 | AF142: 0 | AG142: 1 | AH142: 0 | AI142: 0 | AK142: =SUM(F142:AI142) -> 8
B143: 8.2.1.5.6 | D143: =D112 -> 265BMG0310 | F143: 0 | G143: 0 | H143: 0 | I143: 0 | J143: 0 | K143: 0 | L143: 1 | M143: 0 | N143: 0 | O143: 1 | P143: 0 | Q143: 0 | R143: 1 | S143: 0 | T143: 0 | U143: 1 | V143: 0 | W143: 0 | X143: 1 | Y143: 0 | Z143: 0 | AA143: 1 | AB143: 0 | AC143: 0 | AD143: 1 | AE143: 0 | AF143: 0 | AG143: 1 | AH143: 0 | AI143: 0 | AK143: =SUM(F143:AI143) -> 8
B144: 8.2.1.5.7 | D144: =D113 -> 265BMG0311 | F144: 0 | G144: 0 | H144: 0 | I144: 0 | J144: 0 | K144: 0 | L144: 1 | M144: 0 | N144: 0 | O144: 1 | P144: 0 | Q144: 0 | R144: 1 | S144: 0 | T144: 0 | U144: 1 | V144: 0 | W144: 0 | X144: 1 | Y144: 0 | Z144: 0 | AA144: 1 | AB144: 0 | AC144: 0 | AD144: 1 | AE144: 0 | AF144: 0 | AG144: 1 | AH144: 0 | AI144: 0 | AK144: =SUM(F144:AI144) -> 8
B145: 8.2.1.5.8 | D145: =D114 -> 146BMG0250 | F145: 0 | G145: 0 | H145: 0 | I145: 0 | J145: 0 | K145: 0 | L145: 1 | M145: 0 | N145: 0 | O145: 1 | P145: 0 | Q145: 0 | R145: 1 | S145: 0 | T145: 0 | U145: 1 | V145: 0 | W145: 0 | X145: 1 | Y145: 0 | Z145: 0 | AA145: 1 | AB145: 0 | AC145: 0 | AD145: 1 | AE145: 0 | AF145: 0 | AG145: 1 | AH145: 0 | AI145: 0 | AK145: =SUM(F145:AI145) -> 8
B146: 8.2.1.5.9 | D146: =D115 -> 146BMG0252 | F146: 0 | G146: 0 | H146: 0 | I146: 0 | J146: 0 | K146: 0 | L146: 1 | M146: 0 | N146: 0 | O146: 1 | P146: 0 | Q146: 0 | R146: 1 | S146: 0 | T146: 0 | U146: 1 | V146: 0 | W146: 0 | X146: 1 | Y146: 0 | Z146: 0 | AA146: 1 | AB146: 0 | AC146: 0 | AD146: 1 | AE146: 0 | AF146: 0 | AG146: 1 | AH146: 0 | AI146: 0 | AK146: =SUM(F146:AI146) -> 8
B147: 8.2.1.5.10 | D147: =D116 -> 167EMG0200 | F147: 0 | G147: 0 | H147: 0 | I147: 0 | J147: 0 | K147: 0 | L147: 1 | M147: 0 | N147: 0 | O147: 1 | P147: 0 | Q147: 0 | R147: 1 | S147: 0 | T147: 0 | U147: 1 | V147: 0 | W147: 0 | X147: 1 | Y147: 0 | Z147: 0 | AA147: 1 | AB147: 0 | AC147: 0 | AD147: 1 | AE147: 0 | AF147: 0 | AG147: 1 | AH147: 0 | AI147: 0 | AK147: =SUM(F147:AI147) -> 8
B148: 8.2.1.5.11 | D148: =D117 -> 167EMG0205 | F148: 0 | G148: 0 | H148: 0 | I148: 0 | J148: 0 | K148: 0 | L148: 1 | M148: 0 | N148: 0 | O148: 1 | P148: 0 | Q148: 0 | R148: 1 | S148: 0 | T148: 0 | U148: 1 | V148: 0 | W148: 0 | X148: 1 | Y148: 0 | Z148: 0 | AA148: 1 | AB148: 0 | AC148: 0 | AD148: 1 | AE148: 0 | AF148: 0 | AG148: 1 | AH148: 0 | AI148: 0 | AK148: =SUM(F148:AI148) -> 8
B149: 8.2.1.5.12 | D149: =D118 -> 167EMG0220 | F149: 0 | G149: 0 | H149: 0 | I149: 0 | J149: 0 | K149: 0 | L149: 1 | M149: 0 | N149: 0 | O149: 1 | P149: 0 | Q149: 0 | R149: 1 | S149: 0 | T149: 0 | U149: 1 | V149: 0 | W149: 0 | X149: 1 | Y149: 0 | Z149: 0 | AA149: 1 | AB149: 0 | AC149: 0 | AD149: 1 | AE149: 0 | AF149: 0 | AG149: 1 | AH149: 0 | AI149: 0 | AK149: =SUM(F149:AI149) -> 8
... B167: 8.2.1.5.30 | D167: =D136 -> 863LMG0010 | F167: 0 | G167: 0 | H167: 0 | I167: 0 | J167: 0 | K167: 0 | L167: 1 | M167: 0 | N167: 0 | O167: 1 | P167: 0 | Q167: 0 | R167: 1 | S167: 0 | T167: 0 | U167: 1 | V167: 0 | W167: 0 | X167: 1 | Y167: 0 | Z167: 0 | AA167: 1 | AB167: 0 | AC167: 0 | AD167: 1 | AE167: 0 | AF167: 0 | AG167: 1 | AH167: 0 | AI167: 0 | AK167: =SUM(F167:AI167) -> 8
A168: x | B168: 8.2.2 | D168: SINALIZAÇÃO VERTICAL | AK168: =SUM(F168:AI168) -> 0
A169: x | B169: 8.2.2.1 | D169: PLACA EM AÇO GALVANIZADO COM PELÍCULA TIPO I + IV | AK169: =SUM(F169:AI169) -> 0
B170: 8.2.2.1.1 | D170: =D138 -> 265BMG0270 | F170: 0 | G170: 0 | H170: 0 | I170: 0 | J170: 0 | K170: 0 | L170: 0 | M170: 0 | N170: 0 | O170: 0 | P170: 0 | Q170: 0 | R170: 0 | S170: 1 | T170: 0 | U170: 0 | V170: 0 | W170: 0 | X170: 0 | Y170: 0 | Z170: 0 | AA170: 1 | AB170: 0 | AC170: 0 | AD170: 0 | AE170: 0 | AF170: 0 | AG170: 0 | AH170: 0 | AI170: 1 | AK170: =SUM(F170:AI170) -> 3
B171: 8.2.2.1.2 | D171: =D139 -> 265BMG0270#U | F171: 0 | G171: 0 | H171: 0 | I171: 0 | J171: 0 | K171: 0 | L171: 0 | M171: 0 | N171: 0 | O171: 0 | P171: 0 | Q171: 0 | R171: 0 | S171: 1 | T171: 0 | U171: 0 | V171: 0 | W171: 0 | X171: 0 | Y171: 0 | Z171: 0 | AA171: 1 | AB171: 0 | AC171: 0 | AD171: 0 | AE171: 0 | AF171: 0 | AG171: 0 | AH171: 0 | AI171: 1 | AK171: =SUM(F171:AI171) -> 3
B172: 8.2.2.1.3 | D172: =D140 -> 265BMG0290#U | F172: 0 | G172: 0 | H172: 0 | I172: 0 | J172: 0 | K172: 0 | L172: 0 | M172: 0 | N172: 0 | O172: 0 | P172: 0 | Q172: 0 | R172: 0 | S172: 1 | T172: 0 | U172: 0 | V172: 0 | W172: 0 | X172: 0 | Y172: 0 | Z172: 0 | AA172: 1 | AB172: 0 | AC172: 0 | AD172: 0 | AE172: 0 | AF172: 0 | AG172: 0 | AH172: 0 | AI172: 1 | AK172: =SUM(F172:AI172) -> 3
B173: 8.2.2.1.4 | D173: =D141 -> 265BMG0290 | F173: 0 | G173: 0 | H173: 0 | I173: 0 | J173: 0 | K173: 0 | L173: 0 | M173: 0 | N173: 0 | O173: 0 | P173: 0 | Q173: 0 | R173: 0 | S173: 1 | T173: 0 | U173: 0 | V173: 0 | W173: 0 | X173: 0 | Y173: 0 | Z173: 0 | AA173: 1 | AB173: 0 | AC173: 0 | AD173: 0 | AE173: 0 | AF173: 0 | AG173: 0 | AH173: 0 | AI173: 1 | AK173: =SUM(F173:AI173) -> 3
B174: 8.2.2.1.5 | D174: =D142 -> 265BMG0305 | F174: 0 | G174: 0 | H174: 0 | I174: 0 | J174: 0 | K174: 0 | L174: 0 | M174: 0 | N174: 0 | O174: 0 | P174: 0 | Q174: 0 | R174: 0 | S174: 1 | T174: 0 | U174: 0 | V174: 0 | W174: 0 | X174: 0 | Y174: 0 | Z174: 0 | AA174: 1 | AB174: 0 | AC174: 0 | AD174: 0 | AE174: 0 | AF174: 0 | AG174: 0 | AH174: 0 | AI174: 1 | AK174: =SUM(F174:AI174) -> 3
B175: 8.2.2.1.6 | D175: =D143 -> 265BMG0310 | F175: 0 | G175: 0 | H175: 0 | I175: 0 | J175: 0 | K175: 0 | L175: 0 | M175: 0 | N175: 0 | O175: 0 | P175: 0 | Q175: 0 | R175: 0 | S175: 1 | T175: 0 | U175: 0 | V175: 0 | W175: 0 | X175: 0 | Y175: 0 | Z175: 0 | AA175: 1 | AB175: 0 | AC175: 0 | AD175: 0 | AE175: 0 | AF175: 0 | AG175: 0 | AH175: 0 | AI175: 1 | AK175: =SUM(F175:AI175) -> 3
B176: 8.2.2.1.7 | D176: =D144 -> 265BMG0311 | F176: 0 | G176: 0 | H176: 0 | I176: 0 | J176: 0 | K176: 0 | L176: 0 | M176: 0 | N176: 0 | O176: 0 | P176: 0 | Q176: 0 | R176: 0 | S176: 1 | T176: 0 | U176: 0 | V176: 0 | W176: 0 | X176: 0 | Y176: 0 | Z176: 0 | AA176: 1 | AB176: 0 | AC176: 0 | AD176: 0 | AE176: 0 | AF176: 0 | AG176: 0 | AH176: 0 | AI176: 1 | AK176: =SUM(F176:AI176) -> 3
B177: 8.2.2.1.8 | D177: =D145 -> 146BMG0250 | F177: 0 | G177: 0 | H177: 0 | I177: 0 | J177: 0 | K177: 0 | L177: 0 | M177: 0 | N177: 0 | O177: 0 | P177: 0 | Q177: 0 | R177: 0 | S177: 1 | T177: 0 | U177: 0 | V177: 0 | W177: 0 | X177: 0 | Y177: 0 | Z177: 0 | AA177: 1 | AB177: 0 | AC177: 0 | AD177: 0 | AE177: 0 | AF177: 0 | AG177: 0 | AH177: 0 | AI177: 1 | AK177: =SUM(F177:AI177) -> 3
B178: 8.2.2.1.9 | D178: =D146 -> 146BMG0252 | F178: 0 | G178: 0 | H178: 0 | I178: 0 | J178: 0 | K178: 0 | L178: 0 | M178: 0 | N178: 0 | O178: 0 | P178: 0 | Q178: 0 | R178: 0 | S178: 1 | T178: 0 | U178: 0 | V178: 0 | W178: 0 | X178: 0 | Y178: 0 | Z178: 0 | AA178: 1 | AB178: 0 | AC178: 0 | AD178: 0 | AE178: 0 | AF178: 0 | AG178: 0 | AH178: 0 | AI178: 1 | AK178: =SUM(F178:AI178) -> 3
B179: 8.2.2.1.10 | D179: =D147 -> 167EMG0200 | F179: 0 | G179: 0 | H179: 0 | I179: 0 | J179: 0 | K179: 0 | L179: 0 | M179: 0 | N179: 0 | O179: 0 | P179: 0 | Q179: 0 | R179: 0 | S179: 1 | T179: 0 | U179: 0 | V179: 0 | W179: 0 | X179: 0 | Y179: 0 | Z179: 0 | AA179: 1 | AB179: 0 | AC179: 0 | AD179: 0 | AE179: 0 | AF179: 0 | AG179: 0 | AH179: 0 | AI179: 1 | AK179: =SUM(F179:AI179) -> 3
B180: 8.2.2.1.11 | D180: =D148 -> 167EMG0205 | F180: 0 | G180: 0 | H180: 0 | I180: 0 | J180: 0 | K180: 0 | L180: 0 | M180: 0 | N180: 0 | O180: 0 | P180: 0 | Q180: 0 | R180: 0 | S180: 1 | T180: 0 | U180: 0 | V180: 0 | W180: 0 | X180: 0 | Y180: 0 | Z180: 0 | AA180: 1 | AB180: 0 | AC180: 0 | AD180: 0 | AE180: 0 | AF180: 0 | AG180: 0 | AH180: 0 | AI180: 1 | AK180: =SUM(F180:AI180) -> 3
B181: 8.2.2.1.12 | D181: =D149 -> 167EMG0220 | F181: 0 | G181: 0 | H181: 0 | I181: 0 | J181: 0 | K181: 0 | L181: 0 | M181: 0 | N181: 0 | O181: 0 | P181: 0 | Q181: 0 | R181: 0 | S181: 1 | T181: 0 | U181: 0 | V181: 0 | W181: 0 | X181: 0 | Y181: 0 | Z181: 0 | AA181: 1 | AB181: 0 | AC181: 0 | AD181: 0 | AE181: 0 | AF181: 0 | AG181: 0 | AH181: 0 | AI181: 1 | AK181: =SUM(F181:AI181) -> 3
... B199: 8.2.2.1.30 | D199: =D167 -> 863LMG0010 | F199: 0 | G199: 0 | H199: 0 | I199: 0 | J199: 0 | K199: 0 | L199: 0 | M199: 0 | N199: 0 | O199: 0 | P199: 0 | Q199: 0 | R199: 0 | S199: 1 | T199: 0 | U199: 0 | V199: 0 | W199: 0 | X199: 0 | Y199: 0 | Z199: 0 | AA199: 1 | AB199: 0 | AC199: 0 | AD199: 0 | AE199: 0 | AF199: 0 | AG199: 0 | AH199: 0 | AI199: 1 | AK199: =SUM(F199:AI199) -> 3
A200: x | B200: 8.2.2.2 | D200: PLACA EM AÇO GALVANIZADO N16 COM PELÍCULA RETRORREFLETIVA TIPO III + III | AK200: =SUM(F200:AI200) -> 0
B201: 8.2.2.2.1 | D201: =D170 -> 265BMG0270 | F201: 0 | G201: 0 | H201: 0 | I201: 0 | J201: 0 | K201: 0 | L201: 0 | M201: 0 | N201: 0 | O201: 0 | P201: 0 | Q201: 0 | R201: 0 | S201: 0 | T201: 0 | U201: 0 | V201: 0 | W201: 0 | X201: 0 | Y201: 0 | Z201: 0 | AA201: 0 | AB201: 0 | AC201: 0 | AD201: 0 | AE201: 0 | AF201: 0 | AG201: 0 | AH201: 0 | AI201: 0 | AK201: =SUM(F201:AI201) -> 0
B202: 8.2.2.2.2 | D202: =D171 -> 265BMG0270#U | F202: 0 | G202: 0 | H202: 0 | I202: 0 | J202: 0 | K202: 0 | L202: 0 | M202: 0 | N202: 0 | O202: 0 | P202: 0 | Q202: 0 | R202: 0 | S202: 0 | T202: 0 | U202: 0 | V202: 0 | W202: 0 | X202: 0 | Y202: 0 | Z202: 0 | AA202: 0 | AB202: 0 | AC202: 0 | AD202: 0 | AE202: 0 | AF202: 0 | AG202: 0 | AH202: 0 | AI202: 0 | AK202: =SUM(F202:AI202) -> 0
B203: 8.2.2.2.3 | D203: =D172 -> 265BMG0290#U | F203: 0 | G203: 0 | H203: 0 | I203: 0 | J203: 0 | K203: 0 | L203: 0 | M203: 0 | N203: 0 | O203: 0 | P203: 0 | Q203: 0 | R203: 0 | S203: 0 | T203: 0 | U203: 0 | V203: 0 | W203: 0 | X203: 0 | Y203: 0 | Z203: 0 | AA203: 0 | AB203: 0 | AC203: 0 | AD203: 0 | AE203: 0 | AF203: 0 | AG203: 0 | AH203: 0 | AI203: 0 | AK203: =SUM(F203:AI203) -> 0
B204: 8.2.2.2.4 | D204: =D173 -> 265BMG0290 | F204: 0 | G204: 0 | H204: 0 | I204: 0 | J204: 0 | K204: 0 | L204: 0 | M204: 0 | N204: 0 | O204: 0 | P204: 0 | Q204: 0 | R204: 0 | S204: 0 | T204: 0 | U204: 0 | V204: 0 | W204: 0 | X204: 0 | Y204: 0 | Z204: 0 | AA204: 0 | AB204: 0 | AC204: 0 | AD204: 0 | AE204: 0 | AF204: 0 | AG204: 0 | AH204: 0 | AI204: 0 | AK204: =SUM(F204:AI204) -> 0
B205: 8.2.2.2.5 | D205: =D174 -> 265BMG0305 | F205: 0 | G205: 0 | H205: 0 | I205: 0 | J205: 0 | K205: 0 | L205: 0 | M205: 0 | N205: 0 | O205: 0 | P205: 0 | Q205: 0 | R205: 0 | S205: 0 | T205: 0 | U205: 0 | V205: 0 | W205: 0 | X205: 0 | Y205: 0 | Z205: 0 | AA205: 0 | AB205: 0 | AC205: 0 | AD205: 0 | AE205: 0 | AF205: 0 | AG205: 0 | AH205: 0 | AI205: 0 | AK205: =SUM(F205:AI205) -> 0
B206: 8.2.2.2.6 | D206: =D175 -> 265BMG0310 | F206: 0 | G206: 0 | H206: 0 | I206: 0 | J206: 0 | K206: 0 | L206: 0 | M206: 0 | N206: 0 | O206: 0 | P206: 0 | Q206: 0 | R206: 0 | S206: 0 | T206: 0 | U206: 0 | V206: 0 | W206: 0 | X206: 0 | Y206: 0 | Z206: 0 | AA206: 0 | AB206: 0 | AC206: 0 | AD206: 0 | AE206: 0 | AF206: 0 | AG206: 0 | AH206: 0 | AI206: 0 | AK206: =SUM(F206:AI206) -> 0
...

Sheet APOIO
B2: Cliente: | C2: BNDES - Banco Nacional de Desenvolvimento
B3: Trecho: | C3: Centro Norte
B4: Objeto: | C4: Estudos de Viabilidade do Programa de Desestatização do Sistema Rodoviário Federal - 6700km
C6: MEMÓRIA DE CÁLCULO - INTERSEÇÕES
A8: Item | B8: Código | C8: Descrição | E8: Unidade | G8: Quanitdade Total
A10: 7.0 | C10: AMPLIAÇÃO DE CAPACIDADE RODOVIÁRIA
A11: 7.4 | C11: INTERSEÇÕES | E11: UN | G11: =SUM(G12:G67) -> 78
A12: 7.4.1.1 | C12: 060BGO0270% | D12: DIAMANTE - PAV I | E12: UN | G12: 1 | I12: 0
A13: 7.4.1.2 | C13: 364BRO1160 | D13: DIAMANTE - PAV I | E13: UN | G13: 1 | I13: 0 | L13: DIAMANTE - PAV I
A14: 7.4.2.1 | C14: 364BRO1030 | D14: DIAMANTE - PAV II | E14: UN | G14: 1 | I14: 0 | L14: DIAMANTE - PAV II
A15: 7.4.3.1 | C15: 364BGO0490% | D15: DIAMANTE COM ROTATÓRIAS - PAV I | E15: UN | G15: 1 | I15: 0 | L15: DIAMANTE COM ROTATÓRIAS - PAV I
A16: 7.4.4.1 | C16: 060BGO0270 | D16: ROTATÓRIA ALONGADA - PAV I | E16: UN | G16: 1 | I16: 0 | L16: ROTATÓRIA ALONGADA - PAV I
A17: 7.4.4.2 | C17: 070BMT0570 | D17: ROTATÓRIA ALONGADA - PAV I | E17: UN | G17: 4 | I17: 0 | L17: ROTATÓRIA ALONGADA - PAV II
A18: 7.4.4.3 | C18: 174BMT0025 | D18: ROTATÓRIA ALONGADA - PAV I | E18: UN | G18: 1 | I18: 0 | L18: ROTATÓRIA ALONGADA - PAV III
A19: 7.4.4.4 | C19: 174BMT0032 | D19: ROTATÓRIA ALONGADA - PAV I | E19: UN | G19: 1 | I19: 0 | L19: TROMBETA - PAV I
A20: 7.4.4.5 | C20: 174BMT0033 | D20: ROTATÓRIA ALONGADA - PAV I | E20: UN | G20: 1 | I20: 0 | L20: TROMBETA - PAV III
A21: 7.4.4.6 | C21: 174BMT0034 | D21: ROTATÓRIA ALONGADA - PAV I | E21: UN | G21: 1 | I21: 0
A22: 7.4.4.7 | C22: 174BMT0035 | D22: ROTATÓRIA ALONGADA - PAV I | E22: UN | G22: 1 | I22: 0
A23: 7.4.4.8 | C23: 174BMT0090 | D23: ROTATÓRIA ALONGADA - PAV I | E23: UN | G23: 1 | I23: 0
A24: 7.4.4.9 | C24: 364BGO0510 | D24: ROTATÓRIA ALONGADA - PAV I | E24: UN | G24: 1 | I24: 0
A25: 7.4.4.10 | C25: 364BGO0545 | D25: ROTATÓRIA ALONGADA - PAV I | E25: UN | G25: 1 | I25: 0
A26: 7.4.4.11 | C26: 364BGO0580 | D26: ROTATÓRIA ALONGADA - PAV I | E26: UN | G26: 2 | I26: 0
A27: 7.4.4.12 | C27: 364BMT0892 | D27: ROTATÓRIA ALONGADA - PAV I | E27: UN | G27: 1 | I27: 0
A28: 7.4.4.13 | C28: 364BMT0912 | D28: ROTATÓRIA ALONGADA - PAV I | E28: UN | G28: 3 | I28: 0
A29: 7.4.4.14 | C29: 364BMT0930 | D29: ROTATÓRIA ALONGADA - PAV I | E29: UN | G29: 2 | I29: 0
A30: 7.4.4.15 | C30: 364BMT0940 | D30: ROTATÓRIA ALONGADA - PAV I | E30: UN | G30: 1 | I30: 0
A31: 7.4.4.16 | C31: 364BMT0950 | D31: ROTATÓRIA ALONGADA - PAV I | E31: UN | G31: 1 | I31: 0
A32: 7.4.4.17 | C32: 364BMT0952 | D32: ROTATÓRIA ALONGADA - PAV I | E32: UN | G32: 1 | I32: 0
... A43: 7.4.4.28 | C43: 452BGO0036 | D43: ROTATÓRIA ALONGADA - PAV I | E43: UN | G43: 2 | I43: 0
A44: 7.4.4.29 | C44: 452BGO0050 | D44: ROTATÓRIA ALONGADA - PAV I | E44: UN | G44: 3
A45: 7.4.5.1 | C45: 364BRO1060 | D45: ROTATÓRIA ALONGADA - PAV II | E45: UN | G45: 1 | I45: 0
A46: 7.4.5.2 | C46: 364BRO1130 | D46: ROTATÓRIA ALONGADA - PAV II | E46: UN | G46: 1 | I46: 0
A47: 7.4.5.3 | C47: 364BRO1148 | D47: ROTATÓRIA ALONGADA - PAV II | E47: UN | G47: 1 | I47: 0
A48: 7.4.5.4 | C48: 364BRO1149 | D48: ROTATÓRIA ALONGADA - PAV II | E48: UN | G48: 1 | I48: 0
A49: 7.4.5.5 | C49: 364BRO1212 | D49: ROTATÓRIA ALONGADA - PAV II | E49: UN | G49: 1
A50: 7.4.5.6 | C50: 364BRO1215 | D50: ROTATÓRIA ALONGADA - PAV II | E50: UN | G50: 1
A51: 7.4.5.7 | C51: 364BRO1220 | D51: ROTATÓRIA ALONGADA - PAV II | E51: UN | G51: 1
A52: 7.4.5.8 | C52: 364BRO1230 | D52: ROTATÓRIA ALONGADA - PAV II | E52: UN | G52: 1
A53: 7.4.5.9 | C53: 364BRO1245 | D53: ROTATÓRIA ALONGADA - PAV II | E53: UN | G53: 1
A54: 7.4.5.10 | C54: 364BRO1290 | D54: ROTATÓRIA ALONGADA - PAV II | E54: UN | G54: 1
A55: 7.4.5.11 | C55: 364BRO1290#U | D55: ROTATÓRIA ALONGADA - PAV II | E55: UN | G55: 1
A56: 7.4.5.12 | C56: 364BRO1300 | D56: ROTATÓRIA ALONGADA - PAV II | E56: UN | G56: 2
A57: 7.4.5.13 | C57: 364BRO1320 | D57: ROTATÓRIA ALONGADA - PAV II | E57: UN | G57: 2
A58: 7.4.5.14 | C58: 364BRO1360 | D58: ROTATÓRIA ALONGADA - PAV II | E58: UN | G58: 1
A59: 7.4.6.1 | C59: 364BMT0970 | D59: ROTATÓRIA ALONGADA - PAV III | E59: UN | G59: 2
A60: 7.4.6.2 | C60: 364BMT0990 | D60: ROTATÓRIA ALONGADA - PAV III | E60: UN | G60: 1
... A67: 7.4.8.5 | C67: ContRioVerde | D67: TROMBETA - PAV III | E67: UN | G67: 2
