Workbook
Name _050BMG9020E: #REF!
Name _146BMG0070: #REF!
Name _187EMG0240: #REF!
Name _187EMG0260: #REF!
Name _187EMG0280: #REF!
Name _187EMG0300: #REF!
Name _187EMG0320: #REF!
Name _187EMG0340: #REF!
Name _190EMG0340: #REF!
Name _190EMG0360: #REF!
Name _190EMG0370: #REF!
Name _190EMG0375: #REF!
Name _190EMG0420: #REF!
Name _190EMG0440: #REF!
Name _364BMG0250: #REF!
Name _364BMG0270: #REF!
Name _365BMG0230: #REF!
Name _365BMG0240: #REF!
Name _365BMG0243: #REF!
Name _365BMG0250: #REF!
Name _365BMG0255: #REF!
Name _427EMG0200E: #REF!
Name _427EMG0205_02: #REF!
Name _427EMG0205D_01: #REF!
Name _427EMG0220: #REF!
Name _427EMG0240: #REF!
Name _427EMG0260: #REF!
Name _427EMG0280: #REF!
Name _427EMG0300: #REF!
Name _452BMG0230: #REF!
Name _452BMG0235: #REF!
Name _452BMG0237: #REF!
Name _452BMG0240: #REF!
Name _452BMG0250: #REF!
Name _452CMG0210: #REF!
Name _452CMG0220: #REF!
Name _452CMG0225: #REF!
Name _462CMG0010_01: #REF!
Name _462CMG0010_02: #REF!
Name _462CMG0010_03: #REF!
Name _462CMG0010_04: #REF!
Name _462CMG0010_05: #REF!
Name _462CMG0010_06: #REF!
Name _462CMG0011_01: #REF!
Name _462CMG0011_02: #REF!
Name _462CMG0030_01: #REF!
Name _462CMG0030_02: #REF!
Name _462CMG0030_03: #REF!
Name _782LMG0005: #REF!
Name _782LMG0010: #REF!
Name _798LMG0020: #REF!
Name _812LMG0020: #REF!
Name AMG900.2: #REF!
Name AMG900.2f: #REF!
Name AMG900.2i: #REF!
Name AMG900.4: #REF!
Name AMG900.4f: #REF!
Name AMG900.4i: #REF!
Name AMG9001.4: #REF!
Name AMG9001.4f: #REF!

Sheet Resumo Custos
C2: Cliente: | D2: BNDES - Banco Nacional de Desenvolvimento | H2: BDI: | I2: 0.2232
C3: Trecho: | D3: Centro Norte | H3: BDI DIFERENCADO: | I3: 0.149954
C4: Objeto: | D4: Estudos de Viabilidade do Programa de Desestatização do Sistema Rodoviário Federal - 6700km | H4: DATA-BASE | I4: Outubro/2020
E6: PREÇOS POR SEGMENTOS - MANUTENÇÃO RODOVIÁRIA
B8: Item | C8: Estado | D8: Segmento | E8: Diamante - PAV I | F8: Diamante - PAV II | G8: Diamante com Rotatórias - PAV I | H8: Rotatória Alongada - PAV I | I8: Rotatória Alongada - PAV II | J8: Rotatória Alongada - PAV III | K8: Trombeta - PAV I | L8: Trombeta - PAV III
B10: 1 | C10: =RIGHT(LEFT(D10,6),2) -> GO | D10: 060BGO0270% | E10: =IF(E$8=APOIO!$D12,IF($C10="GO",#REF!,IF($C10="MT",#REF!,IF($C10="RO",#REF!,0))),0)*_xlfn.XLOOKUP($D10,APOIO!$C:$C,APOIO!$G:$G) -> #REF! | F10: =IF(F$8=APOIO!$D12,IF($C10="GO",#REF!,IF($C10="MT",#REF!,IF($C10="RO",#REF!,0))),0)*_xlfn.XLOOKUP($D10,APOIO!$C:$C,APOIO!$G:$G) -> 0 | G10: =IF(G$8=APOIO!$D12,IF($C10="GO",#REF!,IF($C10="MT",#REF!,IF($C10="RO",#REF!,0))),0)*_xlfn.XLOOKUP($D10,APOIO!$C:$C,APOIO!$G:$G) -> 0 | H10: =IF(H$8=APOIO!$D12,IF($C10="GO",#REF!,IF($C10="MT",#REF!,IF($C10="RO",#REF!,0))),0)*_xlfn.XLOOKUP($D10,APOIO!$C:$C,APOIO!$G:$G) -> 0 | I10: =IF(I$8=APOIO!$D12,IF($C10="GO",#REF!,IF($C10="MT",#REF!,IF($C10="RO",#REF!,0))),0)*_xlfn.XLOOKUP($D10,APOIO!$C:$C,APOIO!$G:$G) -> 0 | J10: =IF(J$8=APOIO!$D12,IF($C10="GO",#REF!,IF($C10="MT",#REF!,IF($C10="RO",#REF!,0))),0)*_xlfn.XLOOKUP($D10,APOIO!$C:$C,APOIO!$G:$G) -> 0 | K10: =IF(K$8=APOIO!$D12,IF($C10="GO",#REF!,IF($C10="MT",#REF!,IF($C10="RO",#REF!,0))),0)*_xlfn.XLOOKUP($D10,APOIO!$C:$C,APOIO!$G:$G) -> 0 | L10: =IF(L$8=APOIO!$D12,IF($C10="GO",#REF!,IF($C10="MT",#REF!,IF($C10="RO",#REF!,0))),0)*_xlfn.XLOOKUP($D10,APOIO!$C:$C,APOIO!$G:$G) -> 0 | N10: =IF(E$8=APOIO!#REF!,IF($C10="GO",#REF!,IF($C10="MT",#REF!,IF($C10="RO",#REF!,0))),0)*_xlfn.XLOOKUP($D10,APOIO!#REF!,APOIO!#REF!) -> #REF! | O10: =IF(G$8=APOIO!#REF!,IF($C10="GO",#REF!,IF($C10="MT",#REF!,IF($C10="RO",#REF!,0))),0)*_xlfn.XLOOKUP($D10,APOIO!#REF!,APOIO!#REF!) -> #REF! | P10: =IF(H$8=APOIO!#REF!,IF($C10="GO",#REF!,IF($C10="MT",#REF!,IF($C10="RO",#REF!,0))),0)*_xlfn.XLOOKUP($D10,APOIO!#REF!,APOIO!#REF!) -> #REF! | Q10: =IF(L$8=APOIO!#REF!,IF($C10="GO",#REF!,IF($C10="MT",#REF!,IF($C10="RO",#REF!,0))),0)*_xlfn.XLOOKUP($D10,APOIO!#REF!,APOIO!#REF!) -> #REF! | R10: =IF(HLOOKUP(E$8,APOIO!#REF!,1)=E$8,IF($C10="GO",#REF!,IF($C10="MT",#REF!,IF($C10="RO",#REF!,0))),0)*_xlfn.XLOOKUP(D10,APOIO!#REF!,APOIO!#REF!) -> #REF!
B11: 2 | C11: =RIGHT(LEFT(D11,6),2) -> RO | D11: 364BRO1160 | E11: =IF(E$8=APOIO!$D13,IF($C11="GO",#REF!,IF($C11="MT",#REF!,IF($C11="RO",#REF!,0))),0)*_xlfn.XLOOKUP($D11,APOIO!$C:$C,APOIO!$G:$G) -> #REF! | F11: =IF(F$8=APOIO!$D13,IF($C11="GO",#REF!,IF($C11="MT",#REF!,IF($C11="RO",#REF!,0))),0)*_xlfn.XLOOKUP($D11,APOIO!$C:$C,APOIO!$G:$G) -> 0 | G11: 0 | H11: =2*H34 -> #REF! | I11: =IF(I$8=APOIO!$D13,IF($C11="GO",#REF!,IF($C11="MT",#REF!,IF($C11="RO",#REF!,0))),0)*_xlfn.XLOOKUP($D11,APOIO!$C:$C,APOIO!$G:$G) -> 0 | J11: =IF(J$8=APOIO!$D13,IF($C11="GO",#REF!,IF($C11="MT",#REF!,IF($C11="RO",#REF!,0))),0)*_xlfn.XLOOKUP($D11,APOIO!$C:$C,APOIO!$G:$G) -> 0 | K11: =IF(K$8=APOIO!$D13,IF($C11="GO",#REF!,IF($C11="MT",#REF!,IF($C11="RO",#REF!,0))),0)*_xlfn.XLOOKUP($D11,APOIO!$C:$C,APOIO!$G:$G) -> 0 | L11: =IF(L$8=APOIO!$D13,IF($C11="GO",#REF!,IF($C11="MT",#REF!,IF($C11="RO",#REF!,0))),0)*_xlfn.XLOOKUP($D11,APOIO!$C:$C,APOIO!$G:$G) -> 0 | N11: =IF(E$8=APOIO!#REF!,IF($C11="GO",#REF!,IF($C11="MT",#REF!,IF($C11="RO",#REF!,0))),0)*_xlfn.XLOOKUP(D$10,APOIO!#REF!,APOIO!#REF!) -> #REF! | O11: =IF(G$8=APOIO!#REF!,IF($C11="GO",#REF!,IF($C11="MT",#REF!,IF($C11="RO",#REF!,0))),0)*_xlfn.XLOOKUP(D11,APOIO!#REF!,APOIO!#REF!) -> #REF! | P11: =IF(H$8=APOIO!#REF!,IF($C11="GO",#REF!,IF($C11="MT",#REF!,IF($C11="RO",#REF!,0))),0)*_xlfn.XLOOKUP(D11,APOIO!#REF!,APOIO!#REF!) -> #REF! | Q11: =IF(L$8=APOIO!#REF!,IF($C11="GO",#REF!,IF($C11="MT",#REF!,IF($C11="RO",#REF!,0))),0)*_xlfn.XLOOKUP(D11,APOIO!#REF!,APOIO!#REF!) -> #REF!
B12: 3 | C12: =RIGHT(LEFT(D12,6),2) -> RO | D12: 364BRO1030 | E12: =IF(E$8=APOIO!$D14,IF($C12="GO",#REF!,IF($C12="MT",#REF!,IF($C12="RO",#REF!,0))),0)*_xlfn.XLOOKUP($D12,APOIO!$C:$C,APOIO!$G:$G) -> 0 | F12: =IF(F$8=APOIO!$D14,IF($C12="GO",#REF!,IF($C12="MT",#REF!,IF($C12="RO",#REF!,0))),0)*_xlfn.XLOOKUP($D12,APOIO!$C:$C,APOIO!$G:$G) -> #REF! | G12: =IF(G$8=APOIO!$D14,IF($C12="GO",#REF!,IF($C12="MT",#REF!,IF($C12="RO",#REF!,0))),0)*_xlfn.XLOOKUP($D12,APOIO!$C:$C,APOIO!$G:$G) -> 0 | H12: =IF(H$8=APOIO!$D14,IF($C12="GO",#REF!,IF($C12="MT",#REF!,IF($C12="RO",#REF!,0))),0)*_xlfn.XLOOKUP($D12,APOIO!$C:$C,APOIO!$G:$G) -> 0 | I12: =IF(I$8=APOIO!$D14,IF($C12="GO",#REF!,IF($C12="MT",#REF!,IF($C12="RO",#REF!,0))),0)*_xlfn.XLOOKUP($D12,APOIO!$C:$C,APOIO!$G:$G) -> 0 | J12: =IF(J$8=APOIO!$D14,IF($C12="GO",#REF!,IF($C12="MT",#REF!,IF($C12="RO",#REF!,0))),0)*_xlfn.XLOOKUP($D12,APOIO!$C:$C,APOIO!$G:$G) -> 0 | K12: =IF(K$8=APOIO!$D14,IF($C12="GO",#REF!,IF($C12="MT",#REF!,IF($C12="RO",#REF!,0))),0)*_xlfn.XLOOKUP($D12,APOIO!$C:$C,APOIO!$G:$G) -> 0 | L12: =IF(L$8=APOIO!$D14,IF($C12="GO",#REF!,IF($C12="MT",#REF!,IF($C12="RO",#REF!,0))),0)*_xlfn.XLOOKUP($D12,APOIO!$C:$C,APOIO!$G:$G) -> 0 | N12: =IF(E$8=APOIO!#REF!,IF($C12="GO",#REF!,IF($C12="MT",#REF!,IF($C12="RO",#REF!,0))),0)*_xlfn.XLOOKUP(D$10,APOIO!#REF!,APOIO!#REF!) -> #REF! | O12: =IF(G$8=APOIO!#REF!,IF($C12="GO",#REF!,IF($C12="MT",#REF!,IF($C12="RO",#REF!,0))),0)*_xlfn.XLOOKUP(D12,APOIO!#REF!,APOIO!#REF!) -> #REF! | P12: =IF(H$8=APOIO!#REF!,IF($C12="GO",#REF!,IF($C12="MT",#REF!,IF($C12="RO",#REF!,0))),0)*_xlfn.XLOOKUP(D12,APOIO!#REF!,APOIO!#REF!) -> #REF! | Q12: =IF(L$8=APOIO!#REF!,IF($C12="GO",#REF!,IF($C12="MT",#REF!,IF($C12="RO",#REF!,0))),0)*_xlfn.XLOOKUP(D12,APOIO!#REF!,APOIO!#REF!) -> #REF!
B13: 4 | C13: =RIGHT(LEFT(D13,6),2) -> GO | D13: 364BGO0490% | E13: =IF(E$8=APOIO!$D15,IF($C13="GO",#REF!,IF($C13="MT",#REF!,IF($C13="RO",#REF!,0))),0)*_xlfn.XLOOKUP($D13,APOIO!$C:$C,APOIO!$G:$G) -> 0 | F13: =IF(F$8=APOIO!$D15,IF($C13="GO",#REF!,IF($C13="MT",#REF!,IF($C13="RO",#REF!,0))),0)*_xlfn.XLOOKUP($D13,APOIO!$C:$C,APOIO!$G:$G) -> 0 | G13: =IF(G$8=APOIO!$D15,IF($C13="GO",#REF!,IF($C13="MT",#REF!,IF($C13="RO",#REF!,0))),0)*_xlfn.XLOOKUP($D13,APOIO!$C:$C,APOIO!$G:$G) -> #REF! | H13: =IF(H$8=APOIO!$D15,IF($C13="GO",#REF!,IF($C13="MT",#REF!,IF($C13="RO",#REF!,0))),0)*_xlfn.XLOOKUP($D13,APOIO!$C:$C,APOIO!$G:$G) -> 0 | I13: =IF(I$8=APOIO!$D15,IF($C13="GO",#REF!,IF($C13="MT",#REF!,IF($C13="RO",#REF!,0))),0)*_xlfn.XLOOKUP($D13,APOIO!$C:$C,APOIO!$G:$G) -> 0 | J13: =IF(J$8=APOIO!$D15,IF($C13="GO",#REF!,IF($C13="MT",#REF!,IF($C13="RO",#REF!,0))),0)*_xlfn.XLOOKUP($D13,APOIO!$C:$C,APOIO!$G:$G) -> 0 | K13: =IF(K$8=APOIO!$D15,IF($C13="GO",#REF!,IF($C13="MT",#REF!,IF($C13="RO",#REF!,0))),0)*_xlfn.XLOOKUP($D13,APOIO!$C:$C,APOIO!$G:$G) -> 0 | L13: =IF(L$8=APOIO!$D15,IF($C13="GO",#REF!,IF($C13="MT",#REF!,IF($C13="RO",#REF!,0))),0)*_xlfn.XLOOKUP($D13,APOIO!$C:$C,APOIO!$G:$G) -> 0 | N13: =IF(E$8=APOIO!#REF!,IF($C13="GO",#REF!,IF($C13="MT",#REF!,IF($C13="RO",#REF!,0))),0)*_xlfn.XLOOKUP(D$10,APOIO!#REF!,APOIO!#REF!) -> #REF! | O13: =IF(G$8=APOIO!#REF!,IF($C13="GO",#REF!,IF($C13="MT",#REF!,IF($C13="RO",#REF!,0))),0)*_xlfn.XLOOKUP(D13,APOIO!#REF!,APOIO!#REF!) -> #REF! | P13: =IF(H$8=APOIO!#REF!,IF($C13="GO",#REF!,IF($C13="MT",#REF!,IF($C13="RO",#REF!,0))),0)*_xlfn.XLOOKUP(D13,APOIO!#REF!,APOIO!#REF!) -> #REF! | Q13: =IF(L$8=APOIO!#REF!,IF($C13="GO",#REF!,IF($C13="MT",#REF!,IF($C13="RO",#REF!,0))),0)*_xlfn.XLOOKUP(D13,APOIO!#REF!,APOIO!#REF!) -> #REF!
B14: 5 | C14: =RIGHT(LEFT(D14,6),2) -> GO | D14: 060BGO0270 | E14: =IF(E$8=APOIO!$D16,IF($C14="GO",#REF!,IF($C14="MT",#REF!,IF($C14="RO",#REF!,0))),0)*_xlfn.XLOOKUP($D14,APOIO!$C:$C,APOIO!$G:$G) -> 0 | F14: =IF(F$8=APOIO!$D16,IF($C14="GO",#REF!,IF($C14="MT",#REF!,IF($C14="RO",#REF!,0))),0)*_xlfn.XLOOKUP($D14,APOIO!$C:$C,APOIO!$G:$G) -> 0 | G14: =IF(G$8=APOIO!$D16,IF($C14="GO",#REF!,IF($C14="MT",#REF!,IF($C14="RO",#REF!,0))),0)*_xlfn.XLOOKUP($D14,APOIO!$C:$C,APOIO!$G:$G) -> 0 | H14: =IF(H$8=APOIO!$D16,IF($C14="GO",#REF!,IF($C14="MT",#REF!,IF($C14="RO",#REF!,0))),0)*_xlfn.XLOOKUP($D14,APOIO!$C:$C,APOIO!$G:$G) -> #REF! | I14: =IF(I$8=APOIO!$D16,IF($C14="GO",#REF!,IF($C14="MT",#REF!,IF($C14="RO",#REF!,0))),0)*_xlfn.XLOOKUP($D14,APOIO!$C:$C,APOIO!$G:$G) -> 0 | J14: =IF(J$8=APOIO!$D16,IF($C14="GO",#REF!,IF($C14="MT",#REF!,IF($C14="RO",#REF!,0))),0)*_xlfn.XLOOKUP($D14,APOIO!$C:$C,APOIO!$G:$G) -> 0 | K14: =IF(K$8=APOIO!$D16,IF($C14="GO",#REF!,IF($C14="MT",#REF!,IF($C14="RO",#REF!,0))),0)*_xlfn.XLOOKUP($D14,APOIO!$C:$C,APOIO!$G:$G) -> 0 | L14: =IF(L$8=APOIO!$D16,IF($C14="GO",#REF!,IF($C14="MT",#REF!,IF($C14="RO",#REF!,0))),0)*_xlfn.XLOOKUP($D14,APOIO!$C:$C,APOIO!$G:$G) -> 0 | N14: =IF(E$8=APOIO!#REF!,IF($C14="GO",#REF!,IF($C14="MT",#REF!,IF($C14="RO",#REF!,0))),0)*_xlfn.XLOOKUP(D$10,APOIO!#REF!,APOIO!#REF!) -> #REF! | O14: =IF(G$8=APOIO!#REF!,IF($C14="GO",#REF!,IF($C14="MT",#REF!,IF($C14="RO",#REF!,0))),0)*_xlfn.XLOOKUP(D14,APOIO!#REF!,APOIO!#REF!) -> #REF! | P14: =IF(H$8=APOIO!#REF!,IF($C14="GO",#REF!,IF($C14="MT",#REF!,IF($C14="RO",#REF!,0))),0)*_xlfn.XLOOKUP(D14,APOIO!#REF!,APOIO!#REF!) -> #REF! | Q14: =IF(L$8=APOIO!#REF!,IF($C14="GO",#REF!,IF($C14="MT",#REF!,IF($C14="RO",#REF!,0))),0)*_xlfn.XLOOKUP(D14,APOIO!#REF!,APOIO!#REF!) -> #REF!
B15: 6 | C15: =RIGHT(LEFT(D15,6),2) -> MT | D15: 070BMT0570 | E15: =IF(E$8=APOIO!$D17,IF($C15="GO",#REF!,IF($C15="MT",#REF!,IF($C15="RO",#REF!,0))),0)*_xlfn.XLOOKUP($D15,APOIO!$C:$C,APOIO!$G:$G) -> 0 | F15: =IF(F$8=APOIO!$D17,IF($C15="GO",#REF!,IF($C15="MT",#REF!,IF($C15="RO",#REF!,0))),0)*_xlfn.XLOOKUP($D15,APOIO!$C:$C,APOIO!$G:$G) -> 0 | G15: =IF(G$8=APOIO!$D17,IF($C15="GO",#REF!,IF($C15="MT",#REF!,IF($C15="RO",#REF!,0))),0)*_xlfn.XLOOKUP($D15,APOIO!$C:$C,APOIO!$G:$G) -> 0 | H15: =IF(H$8=APOIO!$D17,IF($C15="GO",#REF!,IF($C15="MT",#REF!,IF($C15="RO",#REF!,0))),0)*_xlfn.XLOOKUP($D15,APOIO!$C:$C,APOIO!$G:$G) -> #REF! | I15: =IF(I$8=APOIO!$D17,IF($C15="GO",#REF!,IF($C15="MT",#REF!,IF($C15="RO",#REF!,0))),0)*_xlfn.XLOOKUP($D15,APOIO!$C:$C,APOIO!$G:$G) -> 0 | J15: =IF(J$8=APOIO!$D17,IF($C15="GO",#REF!,IF($C15="MT",#REF!,IF($C15="RO",#REF!,0))),0)*_xlfn.XLOOKUP($D15,APOIO!$C:$C,APOIO!$G:$G) -> 0 | K15: =IF(K$8=APOIO!$D17,IF($C15="GO",#REF!,IF($C15="MT",#REF!,IF($C15="RO",#REF!,0))),0)*_xlfn.XLOOKUP($D15,APOIO!$C:$C,APOIO!$G:$G) -> 0 | L15: =IF(L$8=APOIO!$D17,IF($C15="GO",#REF!,IF($C15="MT",#REF!,IF($C15="RO",#REF!,0))),0)*_xlfn.XLOOKUP($D15,APOIO!$C:$C,APOIO!$G:$G) -> 0 | N15: =IF(E$8=APOIO!#REF!,IF($C15="GO",#REF!,IF($C15="MT",#REF!,IF($C15="RO",#REF!,0))),0)*_xlfn.XLOOKUP(D$10,APOIO!#REF!,APOIO!#REF!) -> #REF! | O15: =IF(G$8=APOIO!#REF!,IF($C15="GO",#REF!,IF($C15="MT",#REF!,IF($C15="RO",#REF!,0))),0)*_xlfn.XLOOKUP(D15,APOIO!#REF!,APOIO!#REF!) -> #REF! | P15: =IF(H$8=APOIO!#REF!,IF($C15="GO",#REF!,IF($C15="MT",#REF!,IF($C15="RO",#REF!,0))),0)*_xlfn.XLOOKUP(D15,APOIO!#REF!,APOIO!#REF!) -> #REF! | Q15: =IF(L$8=APOIO!#REF!,IF($C15="GO",#REF!,IF($C15="MT",#REF!,IF($C15="RO",#REF!,0))),0)*_xlfn.XLOOKUP(D15,APOIO!#REF!,APOIO!#REF!) -> #REF!
B16: 7 | C16: =RIGHT(LEFT(D16,6),2) -> MT | D16: 174BMT0025 | E16: =IF(E$8=APOIO!$D18,IF($C16="GO",#REF!,IF($C16="MT",#REF!,IF($C16="RO",#REF!,0))),0)*_xlfn.XLOOKUP($D16,APOIO!$C:$C,APOIO!$G:$G) -> 0 | F16: =IF(F$8=APOIO!$D18,IF($C16="GO",#REF!,IF($C16="MT",#REF!,IF($C16="RO",#REF!,0))),0)*_xlfn.XLOOKUP($D16,APOIO!$C:$C,APOIO!$G:$G) -> 0 | G16: =IF(G$8=APOIO!$D18,IF($C16="GO",#REF!,IF($C16="MT",#REF!,IF($C16="RO",#REF!,0))),0)*_xlfn.XLOOKUP($D16,APOIO!$C:$C,APOIO!$G:$G) -> 0 | H16: =IF(H$8=APOIO!$D18,IF($C16="GO",#REF!,IF($C16="MT",#REF!,IF($C16="RO",#REF!,0))),0)*_xlfn.XLOOKUP($D16,APOIO!$C:$C,APOIO!$G:$G) -> #REF! | I16: =IF(I$8=APOIO!$D18,IF($C16="GO",#REF!,IF($C16="MT",#REF!,IF($C16="RO",#REF!,0))),0)*_xlfn.XLOOKUP($D16,APOIO!$C:$C,APOIO!$G:$G) -> 0 | J16: =IF(J$8=APOIO!$D18,IF($C16="GO",#REF!,IF($C16="MT",#REF!,IF($C16="RO",#REF!,0))),0)*_xlfn.XLOOKUP($D16,APOIO!$C:$C,APOIO!$G:$G) -> 0 | K16: =IF(K$8=APOIO!$D18,IF($C16="GO",#REF!,IF($C16="MT",#REF!,IF($C16="RO",#REF!,0))),0)*_xlfn.XLOOKUP($D16,APOIO!$C:$C,APOIO!$G:$G) -> 0 | L16: =IF(L$8=APOIO!$D18,IF($C16="GO",#REF!,IF($C16="MT",#REF!,IF($C16="RO",#REF!,0))),0)*_xlfn.XLOOKUP($D16,APOIO!$C:$C,APOIO!$G:$G) -> 0 | N16: =IF(E$8=APOIO!#REF!,IF($C16="GO",#REF!,IF($C16="MT",#REF!,IF($C16="RO",#REF!,0))),0)*_xlfn.XLOOKUP(D$10,APOIO!#REF!,APOIO!#REF!) -> #REF! | O16: =IF(G$8=APOIO!#REF!,IF($C16="GO",#REF!,IF($C16="MT",#REF!,IF($C16="RO",#REF!,0))),0)*_xlfn.XLOOKUP(D16,APOIO!#REF!,APOIO!#REF!) -> #REF! | P16: =IF(H$8=APOIO!#REF!,IF($C16="GO",#REF!,IF($C16="MT",#REF!,IF($C16="RO",#REF!,0))),0)*_xlfn.XLOOKUP(D16,APOIO!#REF!,APOIO!#REF!) -> #REF! | Q16: =IF(L$8=APOIO!#REF!,IF($C16="GO",#REF!,IF($C16="MT",#REF!,IF($C16="RO",#REF!,0))),0)*_xlfn.XLOOKUP(D16,APOIO!#REF!,APOIO!#REF!) -> #REF!
B17: 8 | C17: =RIGHT(LEFT(D17,6),2) -> MT | D17: 174BMT0032 | E17: =IF(E$8=APOIO!$D19,IF($C17="GO",#REF!,IF($C17="MT",#REF!,IF($C17="RO",#REF!,0))),0)*_xlfn.XLOOKUP($D17,APOIO!$C:$C,APOIO!$G:$G) -> 0 | F17: =IF(F$8=APOIO!$D19,IF($C17="GO",#REF!,IF($C17="MT",#REF!,IF($C17="RO",#REF!,0))),0)*_xlfn.XLOOKUP($D17,APOIO!$C:$C,APOIO!$G:$G) -> 0 | G17: =IF(G$8=APOIO!$D19,IF($C17="GO",#REF!,IF($C17="MT",#REF!,IF($C17="RO",#REF!,0))),0)*_xlfn.XLOOKUP($D17,APOIO!$C:$C,APOIO!$G:$G) -> 0 | H17: =IF(H$8=APOIO!$D19,IF($C17="GO",#REF!,IF($C17="MT",#REF!,IF($C17="RO",#REF!,0))),0)*_xlfn.XLOOKUP($D17,APOIO!$C:$C,APOIO!$G:$G) -> #REF! | I17: =IF(I$8=APOIO!$D19,IF($C17="GO",#REF!,IF($C17="MT",#REF!,IF($C17="RO",#REF!,0))),0)*_xlfn.XLOOKUP($D17,APOIO!$C:$C,APOIO!$G:$G) -> 0 | J17: =IF(J$8=APOIO!$D19,IF($C17="GO",#REF!,IF($C17="MT",#REF!,IF($C17="RO",#REF!,0))),0)*_xlfn.XLOOKUP($D17,APOIO!$C:$C,APOIO!$G:$G) -> 0 | K17: =IF(K$8=APOIO!$D19,IF($C17="GO",#REF!,IF($C17="MT",#REF!,IF($C17="RO",#REF!,0))),0)*_xlfn.XLOOKUP($D17,APOIO!$C:$C,APOIO!$G:$G) -> 0 | L17: =IF(L$8=APOIO!$D19,IF($C17="GO",#REF!,IF($C17="MT",#REF!,IF($C17="RO",#REF!,0))),0)*_xlfn.XLOOKUP($D17,APOIO!$C:$C,APOIO!$G:$G) -> 0 | N17: =IF(E$8=APOIO!#REF!,IF($C17="GO",#REF!,IF($C17="MT",#REF!,IF($C17="RO",#REF!,0))),0)*_xlfn.XLOOKUP(D$10,APOIO!#REF!,APOIO!#REF!) -> #REF! | O17: =IF(G$8=APOIO!#REF!,IF($C17="GO",#REF!,IF($C17="MT",#REF!,IF($C17="RO",#REF!,0))),0)*_xlfn.XLOOKUP(D17,APOIO!#REF!,APOIO!#REF!) -> #REF! | P17: =IF(H$8=APOIO!#REF!,IF($C17="GO",#REF!,IF($C17="MT",#REF!,IF($C17="RO",#REF!,0))),0)*_xlfn.XLOOKUP(D17,APOIO!#REF!,APOIO!#REF!) -> #REF! | Q17: =IF(L$8=APOIO!#REF!,IF($C17="GO",#REF!,IF($C17="MT",#REF!,IF($C17="RO",#REF!,0))),0)*_xlfn.XLOOKUP(D17,APOIO!#REF!,APOIO!#REF!) -> #REF!
B18: 9 | C18: =RIGHT(LEFT(D18,6),2) -> MT | D18: 174BMT0033 | E18: =IF(E$8=APOIO!$D20,IF($C18="GO",#REF!,IF($C18="MT",#REF!,IF($C18="RO",#REF!,0))),0)*_xlfn.XLOOKUP($D18,APOIO!$C:$C,APOIO!$G:$G) -> 0 | F18: =IF(F$8=APOIO!$D20,IF($C18="GO",#REF!,IF($C18="MT",#REF!,IF($C18="RO",#REF!,0))),0)*_xlfn.XLOOKUP($D18,APOIO!$C:$C,APOIO!$G:$G) -> 0 | G18: =IF(G$8=APOIO!$D20,IF($C18="GO",#REF!,IF($C18="MT",#REF!,IF($C18="RO",#REF!,0))),0)*_xlfn.XLOOKUP($D18,APOIO!$C:$C,APOIO!$G:$G) -> 0 | H18: =IF(H$8=APOIO!$D20,IF($C18="GO",#REF!,IF($C18="MT",#REF!,IF($C18="RO",#REF!,0))),0)*_xlfn.XLOOKUP($D18,APOIO!$C:$C,APOIO!$G:$G) -> #REF! | I18: =IF(I$8=APOIO!$D20,IF($C18="GO",#REF!,IF($C18="MT",#REF!,IF($C18="RO",#REF!,0))),0)*_xlfn.XLOOKUP($D18,APOIO!$C:$C,APOIO!$G:$G) -> 0 | J18: =IF(J$8=APOIO!$D20,IF($C18="GO",#REF!,IF($C18="MT",#REF!,IF($C18="RO",#REF!,0))),0)*_xlfn.XLOOKUP($D18,APOIO!$C:$C,APOIO!$G:$G) -> 0 | K18: =IF(K$8=APOIO!$D20,IF($C18="GO",#REF!,IF($C18="MT",#REF!,IF($C18="RO",#REF!,0))),0)*_xlfn.XLOOKUP($D18,APOIO!$C:$C,APOIO!$G:$G) -> 0 | L18: =IF(L$8=APOIO!$D20,IF($C18="GO",#REF!,IF($C18="MT",#REF!,IF($C18="RO",#REF!,0))),0)*_xlfn.XLOOKUP($D18,APOIO!$C:$C,APOIO!$G:$G) -> 0 | N18: =IF(E$8=APOIO!#REF!,IF($C18="GO",#REF!,IF($C18="MT",#REF!,IF($C18="RO",#REF!,0))),0)*_xlfn.XLOOKUP(D$10,APOIO!#REF!,APOIO!#REF!) -> #REF! | O18: =IF(G$8=APOIO!#REF!,IF($C18="GO",#REF!,IF($C18="MT",#REF!,IF($C18="RO",#REF!,0))),0)*_xlfn.XLOOKUP(D18,APOIO!#REF!,APOIO!#REF!) -> #REF! | P18: =IF(H$8=APOIO!#REF!,IF($C18="GO",#REF!,IF($C18="MT",#REF!,IF($C18="RO",#REF!,0))),0)*_xlfn.XLOOKUP(D18,APOIO!#REF!,APOIO!#REF!) -> #REF! | Q18: =IF(L$8=APOIO!#REF!,IF($C18="GO",#REF!,IF($C18="MT",#REF!,IF($C18="RO",#REF!,0))),0)*_xlfn.XLOOKUP(D18,APOIO!#REF!,APOIO!#REF!) -> #REF!
B19: 10 | C19: =RIGHT(LEFT(D19,6),2) -> MT | D19: 174BMT0034 | E19: =IF(E$8=APOIO!$D21,IF($C19="GO",#REF!,IF($C19="MT",#REF!,IF($C19="RO",#REF!,0))),0)*_xlfn.XLOOKUP($D19,APOIO!$C:$C,APOIO!$G:$G) -> 0 | F19: =IF(F$8=APOIO!$D21,IF($C19="GO",#REF!,IF($C19="MT",#REF!,IF($C19="RO",#REF!,0))),0)*_xlfn.XLOOKUP($D19,APOIO!$C:$C,APOIO!$G:$G) -> 0 | G19: =IF(G$8=APOIO!$D21,IF($C19="GO",#REF!,IF($C19="MT",#REF!,IF($C19="RO",#REF!,0))),0)*_xlfn.XLOOKUP($D19,APOIO!$C:$C,APOIO!$G:$G) -> 0 | H19: =IF(H$8=APOIO!$D21,IF($C19="GO",#REF!,IF($C19="MT",#REF!,IF($C19="RO",#REF!,0))),0)*_xlfn.XLOOKUP($D19,APOIO!$C:$C,APOIO!$G:$G) -> #REF! | I19: =IF(I$8=APOIO!$D21,IF($C19="GO",#REF!,IF($C19="MT",#REF!,IF($C19="RO",#REF!,0))),0)*_xlfn.XLOOKUP($D19,APOIO!$C:$C,APOIO!$G:$G) -> 0 | J19: =IF(J$8=APOIO!$D21,IF($C19="GO",#REF!,IF($C19="MT",#REF!,IF($C19="RO",#REF!,0))),0)*_xlfn.XLOOKUP($D19,APOIO!$C:$C,APOIO!$G:$G) -> 0 | K19: =IF(K$8=APOIO!$D21,IF($C19="GO",#REF!,IF($C19="MT",#REF!,IF($C19="RO",#REF!,0))),0)*_xlfn.XLOOKUP($D19,APOIO!$C:$C,APOIO!$G:$G) -> 0 | L19: =IF(L$8=APOIO!$D21,IF($C19="GO",#REF!,IF($C19="MT",#REF!,IF($C19="RO",#REF!,0))),0)*_xlfn.XLOOKUP($D19,APOIO!$C:$C,APOIO!$G:$G) -> 0 | N19: =IF(E$8=APOIO!#REF!,IF($C19="GO",#REF!,IF($C19="MT",#REF!,IF($C19="RO",#REF!,0))),0)*_xlfn.XLOOKUP(D$10,APOIO!#REF!,APOIO!#REF!) -> #REF! | O19: =IF(G$8=APOIO!#REF!,IF($C19="GO",#REF!,IF($C19="MT",#REF!,IF($C19="RO",#REF!,0))),0)*_xlfn.XLOOKUP(D19,APOIO!#REF!,APOIO!#REF!) -> #REF! | P19: =IF(H$8=APOIO!#REF!,IF($C19="GO",#REF!,IF($C19="MT",#REF!,IF($C19="RO",#REF!,0))),0)*_xlfn.XLOOKUP(D19,APOIO!#REF!,APOIO!#REF!) -> #REF! | Q19: =IF(L$8=APOIO!#REF!,IF($C19="GO",#REF!,IF($C19="MT",#REF!,IF($C19="RO",#REF!,0))),0)*_xlfn.XLOOKUP(D19,APOIO!#REF!,APOIO!#REF!) -> #REF!
B20: 11 | C20: =RIGHT(LEFT(D20,6),2) -> MT | D20: 174BMT0035 | E20: =IF(E$8=APOIO!$D22,IF($C20="GO",#REF!,IF($C20="MT",#REF!,IF($C20="RO",#REF!,0))),0)*_xlfn.XLOOKUP($D20,APOIO!$C:$C,APOIO!$G:$G) -> 0 | F20: =IF(F$8=APOIO!$D22,IF($C20="GO",#REF!,IF($C20="MT",#REF!,IF($C20="RO",#REF!,0))),0)*_xlfn.XLOOKUP($D20,APOIO!$C:$C,APOIO!$G:$G) -> 0 | G20: =IF(G$8=APOIO!$D22,IF($C20="GO",#REF!,IF($C20="MT",#REF!,IF($C20="RO",#REF!,0))),0)*_xlfn.XLOOKUP($D20,APOIO!$C:$C,APOIO!$G:$G) -> 0 | H20: =IF(H$8=APOIO!$D22,IF($C20="GO",#REF!,IF($C20="MT",#REF!,IF($C20="RO",#REF!,0))),0)*_xlfn.XLOOKUP($D20,APOIO!$C:$C,APOIO!$G:$G) -> #REF! | I20: =IF(I$8=APOIO!$D22,IF($C20="GO",#REF!,IF($C20="MT",#REF!,IF($C20="RO",#REF!,0))),0)*_xlfn.XLOOKUP($D20,APOIO!$C:$C,APOIO!$G:$G) -> 0 | J20: =IF(J$8=APOIO!$D22,IF($C20="GO",#REF!,IF($C20="MT",#REF!,IF($C20="RO",#REF!,0))),0)*_xlfn.XLOOKUP($D20,APOIO!$C:$C,APOIO!$G:$G) -> 0 | K20: =IF(K$8=APOIO!$D22,IF($C20="GO",#REF!,IF($C20="MT",#REF!,IF($C20="RO",#REF!,0))),0)*_xlfn.XLOOKUP($D20,APOIO!$C:$C,APOIO!$G:$G) -> 0 | L20: =IF(L$8=APOIO!$D22,IF($C20="GO",#REF!,IF($C20="MT",#REF!,IF($C20="RO",#REF!,0))),0)*_xlfn.XLOOKUP($D20,APOIO!$C:$C,APOIO!$G:$G) -> 0 | N20: =IF(E$8=APOIO!#REF!,IF($C20="GO",#REF!,IF($C20="MT",#REF!,IF($C20="RO",#REF!,0))),0)*_xlfn.XLOOKUP(D$10,APOIO!#REF!,APOIO!#REF!) -> #REF! | O20: =IF(G$8=APOIO!#REF!,IF($C20="GO",#REF!,IF($C20="MT",#REF!,IF($C20="RO",#REF!,0))),0)*_xlfn.XLOOKUP(D20,APOIO!#REF!,APOIO!#REF!) -> #REF! | P20: =IF(H$8=APOIO!#REF!,IF($C20="GO",#REF!,IF($C20="MT",#REF!,IF($C20="RO",#REF!,0))),0)*_xlfn.XLOOKUP(D20,APOIO!#REF!,APOIO!#REF!) -> #REF! | Q20: =IF(L$8=APOIO!#REF!,IF($C20="GO",#REF!,IF($C20="MT",#REF!,IF($C20="RO",#REF!,0))),0)*_xlfn.XLOOKUP(D20,APOIO!#REF!,APOIO!#REF!) -> #REF!
B21: 12 | C21: =RIGHT(LEFT(D21,6),2) -> MT | D21: 174BMT0090 | E21: =IF(E$8=APOIO!$D23,IF($C21="GO",#REF!,IF($C21="MT",#REF!,IF($C21="RO",#REF!,0))),0)*_xlfn.XLOOKUP($D21,APOIO!$C:$C,APOIO!$G:$G) -> 0 | F21: =IF(F$8=APOIO!$D23,IF($C21="GO",#REF!,IF($C21="MT",#REF!,IF($C21="RO",#REF!,0))),0)*_xlfn.XLOOKUP($D21,APOIO!$C:$C,APOIO!$G:$G) -> 0 | G21: =IF(G$8=APOIO!$D23,IF($C21="GO",#REF!,IF($C21="MT",#REF!,IF($C21="RO",#REF!,0))),0)*_xlfn.XLOOKUP($D21,APOIO!$C:$C,APOIO!$G:$G) -> 0 | H21: =IF(H$8=APOIO!$D23,IF($C21="GO",#REF!,IF($C21="MT",#REF!,IF($C21="RO",#REF!,0))),0)*_xlfn.XLOOKUP($D21,APOIO!$C:$C,APOIO!$G:$G) -> #REF! | I21: =IF(I$8=APOIO!$D23,IF($C21="GO",#REF!,IF($C21="MT",#REF!,IF($C21="RO",#REF!,0))),0)*_xlfn.XLOOKUP($D21,APOIO!$C:$C,APOIO!$G:$G) -> 0 | J21: =IF(J$8=APOIO!$D23,IF($C21="GO",#REF!,IF($C21="MT",#REF!,IF($C21="RO",#REF!,0))),0)*_xlfn.XLOOKUP($D21,APOIO!$C:$C,APOIO!$G:$G) -> 0 | K21: =IF(K$8=APOIO!$D23,IF($C21="GO",#REF!,IF($C21="MT",#REF!,IF($C21="RO",#REF!,0))),0)*_xlfn.XLOOKUP($D21,APOIO!$C:$C,APOIO!$G:$G) -> 0 | L21: =IF(L$8=APOIO!$D23,IF($C21="GO",#REF!,IF($C21="MT",#REF!,IF($C21="RO",#REF!,0))),0)*_xlfn.XLOOKUP($D21,APOIO!$C:$C,APOIO!$G:$G) -> 0 | N21: =IF(E$8=APOIO!#REF!,IF($C21="GO",#REF!,IF($C21="MT",#REF!,IF($C21="RO",#REF!,0))),0)*_xlfn.XLOOKUP(D$10,APOIO!#REF!,APOIO!#REF!) -> #REF! | O21: =IF(G$8=APOIO!#REF!,IF($C21="GO",#REF!,IF($C21="MT",#REF!,IF($C21="RO",#REF!,0))),0)*_xlfn.XLOOKUP(D21,APOIO!#REF!,APOIO!#REF!) -> #REF! | P21: =IF(H$8=APOIO!#REF!,IF($C21="GO",#REF!,IF($C21="MT",#REF!,IF($C21="RO",#REF!,0))),0)*_xlfn.XLOOKUP(D21,APOIO!#REF!,APOIO!#REF!) -> #REF! | Q21: =IF(L$8=APOIO!#REF!,IF($C21="GO",#REF!,IF($C21="MT",#REF!,IF($C21="RO",#REF!,0))),0)*_xlfn.XLOOKUP(D21,APOIO!#REF!,APOIO!#REF!) -> #REF!
B22: 13 | C22: =RIGHT(LEFT(D22,6),2) -> GO | D22: 364BGO0510 | E22: =IF(E$8=APOIO!$D24,IF($C22="GO",#REF!,IF($C22="MT",#REF!,IF($C22="RO",#REF!,0))),0)*_xlfn.XLOOKUP($D22,APOIO!$C:$C,APOIO!$G:$G) -> 0 | F22: =IF(F$8=APOIO!$D24,IF($C22="GO",#REF!,IF($C22="MT",#REF!,IF($C22="RO",#REF!,0))),0)*_xlfn.XLOOKUP($D22,APOIO!$C:$C,APOIO!$G:$G) -> 0 | G22: =IF(G$8=APOIO!$D24,IF($C22="GO",#REF!,IF($C22="MT",#REF!,IF($C22="RO",#REF!,0))),0)*_xlfn.XLOOKUP($D22,APOIO!$C:$C,APOIO!$G:$G) -> 0 | H22: =IF(H$8=APOIO!$D24,IF($C22="GO",#REF!,IF($C22="MT",#REF!,IF($C22="RO",#REF!,0))),0)*_xlfn.XLOOKUP($D22,APOIO!$C:$C,APOIO!$G:$G) -> #REF! | I22: =IF(I$8=APOIO!$D24,IF($C22="GO",#REF!,IF($C22="MT",#REF!,IF($C22="RO",#REF!,0))),0)*_xlfn.XLOOKUP($D22,APOIO!$C:$C,APOIO!$G:$G) -> 0 | J22: =IF(J$8=APOIO!$D24,IF($C22="GO",#REF!,IF($C22="MT",#REF!,IF($C22="RO",#REF!,0))),0)*_xlfn.XLOOKUP($D22,APOIO!$C:$C,APOIO!$G:$G) -> 0 | K22: =IF(K$8=APOIO!$D24,IF($C22="GO",#REF!,IF($C22="MT",#REF!,IF($C22="RO",#REF!,0))),0)*_xlfn.XLOOKUP($D22,APOIO!$C:$C,APOIO!$G:$G) -> 0 | L22: =IF(L$8=APOIO!$D24,IF($C22="GO",#REF!,IF($C22="MT",#REF!,IF($C22="RO",#REF!,0))),0)*_xlfn.XLOOKUP($D22,APOIO!$C:$C,APOIO!$G:$G) -> 0 | N22: =IF(E$8=APOIO!#REF!,IF($C22="GO",#REF!,IF($C22="MT",#REF!,IF($C22="RO",#REF!,0))),0)*_xlfn.XLOOKUP(D$10,APOIO!#REF!,APOIO!#REF!) -> #REF! | O22: =IF(G$8=APOIO!#REF!,IF($C22="GO",#REF!,IF($C22="MT",#REF!,IF($C22="RO",#REF!,0))),0)*_xlfn.XLOOKUP(D22,APOIO!#REF!,APOIO!#REF!) -> #REF! | P22: =IF(H$8=APOIO!#REF!,IF($C22="GO",#REF!,IF($C22="MT",#REF!,IF($C22="RO",#REF!,0))),0)*_xlfn.XLOOKUP(D22,APOIO!#REF!,APOIO!#REF!) -> #REF! | Q22: =IF(L$8=APOIO!#REF!,IF($C22="GO",#REF!,IF($C22="MT",#REF!,IF($C22="RO",#REF!,0))),0)*_xlfn.XLOOKUP(D22,APOIO!#REF!,APOIO!#REF!) -> #REF!
B23: 14 | C23: =RIGHT(LEFT(D23,6),2) -> GO | D23: 364BGO0545 | E23: =IF(E$8=APOIO!$D25,IF($C23="GO",#REF!,IF($C23="MT",#REF!,IF($C23="RO",#REF!,0))),0)*_xlfn.XLOOKUP($D23,APOIO!$C:$C,APOIO!$G:$G) -> 0 | F23: =IF(F$8=APOIO!$D25,IF($C23="GO",#REF!,IF($C23="MT",#REF!,IF($C23="RO",#REF!,0))),0)*_xlfn.XLOOKUP($D23,APOIO!$C:$C,APOIO!$G:$G) -> 0 | G23: =IF(G$8=APOIO!$D25,IF($C23="GO",#REF!,IF($C23="MT",#REF!,IF($C23="RO",#REF!,0))),0)*_xlfn.XLOOKUP($D23,APOIO!$C:$C,APOIO!$G:$G) -> 0 | H23: =IF(H$8=APOIO!$D25,IF($C23="GO",#REF!,IF($C23="MT",#REF!,IF($C23="RO",#REF!,0))),0)*_xlfn.XLOOKUP($D23,APOIO!$C:$C,APOIO!$G:$G) -> #REF! | I23: =IF(I$8=APOIO!$D25,IF($C23="GO",#REF!,IF($C23="MT",#REF!,IF($C23="RO",#REF!,0))),0)*_xlfn.XLOOKUP($D23,APOIO!$C:$C,APOIO!$G:$G) -> 0 | J23: =IF(J$8=APOIO!$D25,IF($C23="GO",#REF!,IF($C23="MT",#REF!,IF($C23="RO",#REF!,0))),0)*_xlfn.XLOOKUP($D23,APOIO!$C:$C,APOIO!$G:$G) -> 0 | K23: =IF(K$8=APOIO!$D25,IF($C23="GO",#REF!,IF($C23="MT",#REF!,IF($C23="RO",#REF!,0))),0)*_xlfn.XLOOKUP($D23,APOIO!$C:$C,APOIO!$G:$G) -> 0 | L23: =IF(L$8=APOIO!$D25,IF($C23="GO",#REF!,IF($C23="MT",#REF!,IF($C23="RO",#REF!,0))),0)*_xlfn.XLOOKUP($D23,APOIO!$C:$C,APOIO!$G:$G) -> 0 | N23: =IF(E$8=APOIO!#REF!,IF($C23="GO",#REF!,IF($C23="MT",#REF!,IF($C23="RO",#REF!,0))),0)*_xlfn.XLOOKUP(D$10,APOIO!#REF!,APOIO!#REF!) -> #REF! | O23: =IF(G$8=APOIO!#REF!,IF($C23="GO",#REF!,IF($C23="MT",#REF!,IF($C23="RO",#REF!,0))),0)*_xlfn.XLOOKUP(D23,APOIO!#REF!,APOIO!#REF!) -> #REF! | P23: =IF(H$8=APOIO!#REF!,IF($C23="GO",#REF!,IF($C23="MT",#REF!,IF($C23="RO",#REF!,0))),0)*_xlfn.XLOOKUP(D23,APOIO!#REF!,APOIO!#REF!) -> #REF! | Q23: =IF(L$8=APOIO!#REF!,IF($C23="GO",#REF!,IF($C23="MT",#REF!,IF($C23="RO",#REF!,0))),0)*_xlfn.XLOOKUP(D23,APOIO!#REF!,APOIO!#REF!) -> #REF!
... B34: 25 | C34: =RIGHT(LEFT(D34,6),2) -> RO | D34: 364BRO1145 | E34: =IF(E$8=APOIO!$D36,IF($C34="GO",#REF!,IF($C34="MT",#REF!,IF($C34="RO",#REF!,0))),0)*_xlfn.XLOOKUP($D34,APOIO!$C:$C,APOIO!$G:$G) -> 0 | F34: =IF(F$8=APOIO!$D36,IF($C34="GO",#REF!,IF($C34="MT",#REF!,IF($C34="RO",#REF!,0))),0)*_xlfn.XLOOKUP($D34,APOIO!$C:$C,APOIO!$G:$G) -> 0 | G34: =IF(G$8=APOIO!$D36,IF($C34="GO",#REF!,IF($C34="MT",#REF!,IF($C34="RO",#REF!,0))),0)*_xlfn.XLOOKUP($D34,APOIO!$C:$C,APOIO!$G:$G) -> 0 | H34: =IF(H$8=APOIO!$D36,IF($C34="GO",#REF!,IF($C34="MT",#REF!,IF($C34="RO",#REF!,0))),0)*_xlfn.XLOOKUP($D34,APOIO!$C:$C,APOIO!$G:$G) -> #REF! | I34: =IF(I$8=APOIO!$D36,IF($C34="GO",#REF!,IF($C34="MT",#REF!,IF($C34="RO",#REF!,0))),0)*_xlfn.XLOOKUP($D34,APOIO!$C:$C,APOIO!$G:$G) -> 0 | J34: =IF(J$8=APOIO!$D36,IF($C34="GO",#REF!,IF($C34="MT",#REF!,IF($C34="RO",#REF!,0))),0)*_xlfn.XLOOKUP($D34,APOIO!$C:$C,APOIO!$G:$G) -> 0 | K34: =IF(K$8=APOIO!$D36,IF($C34="GO",#REF!,IF($C34="MT",#REF!,IF($C34="RO",#REF!,0))),0)*_xlfn.XLOOKUP($D34,APOIO!$C:$C,APOIO!$G:$G) -> 0 | L34: =IF(L$8=APOIO!$D36,IF($C34="GO",#REF!,IF($C34="MT",#REF!,IF($C34="RO",#REF!,0))),0)*_xlfn.XLOOKUP($D34,APOIO!$C:$C,APOIO!$G:$G) -> 0 | N34: =IF(E$8=APOIO!#REF!,IF($C34="GO",#REF!,IF($C34="MT",#REF!,IF($C34="RO",#REF!,0))),0)*_xlfn.XLOOKUP(D$10,APOIO!#REF!,APOIO!#REF!) -> #REF! | O34: =IF(G$8=APOIO!#REF!,IF($C34="GO",#REF!,IF($C34="MT",#REF!,IF($C34="RO",#REF!,0))),0)*_xlfn.XLOOKUP(D34,APOIO!#REF!,APOIO!#REF!) -> #REF! | P34: =IF(H$8=APOIO!#REF!,IF($C34="GO",#REF!,IF($C34="MT",#REF!,IF($C34="RO",#REF!,0))),0)*_xlfn.XLOOKUP(D34,APOIO!#REF!,APOIO!#REF!) -> #REF! | Q34: =IF(L$8=APOIO!#REF!,IF($C34="GO",#REF!,IF($C34="MT",#REF!,IF($C34="RO",#REF!,0))),0)*_xlfn.XLOOKUP(D34,APOIO!#REF!,APOIO!#REF!) -> #REF!
B35: 26 | C35: =RIGHT(LEFT(D35,6),2) -> GO | D35: 452BGO0010 | E35: =IF(E$8=APOIO!$D38,IF($C35="GO",#REF!,IF($C35="MT",#REF!,IF($C35="RO",#REF!,0))),0)*_xlfn.XLOOKUP($D35,APOIO!$C:$C,APOIO!$G:$G) -> 0 | F35: =IF(F$8=APOIO!$D38,IF($C35="GO",#REF!,IF($C35="MT",#REF!,IF($C35="RO",#REF!,0))),0)*_xlfn.XLOOKUP($D35,APOIO!$C:$C,APOIO!$G:$G) -> 0 | G35: =IF(G$8=APOIO!$D38,IF($C35="GO",#REF!,IF($C35="MT",#REF!,IF($C35="RO",#REF!,0))),0)*_xlfn.XLOOKUP($D35,APOIO!$C:$C,APOIO!$G:$G) -> 0 | H35: =IF(H$8=APOIO!$D37,IF($C35="GO",#REF!,IF($C35="MT",#REF!,IF($C35="RO",#REF!,0))),0)*_xlfn.XLOOKUP($D35,APOIO!$C:$C,APOIO!$G:$G) -> #REF! | I35: =IF(I$8=APOIO!$D37,IF($C35="GO",#REF!,IF($C35="MT",#REF!,IF($C35="RO",#REF!,0))),0)*_xlfn.XLOOKUP($D35,APOIO!$C:$C,APOIO!$G:$G) -> 0 | J35: =IF(J$8=APOIO!$D37,IF($C35="GO",#REF!,IF($C35="MT",#REF!,IF($C35="RO",#REF!,0))),0)*_xlfn.XLOOKUP($D35,APOIO!$C:$C,APOIO!$G:$G) -> 0 | K35: =IF(K$8=APOIO!$D37,IF($C35="GO",#REF!,IF($C35="MT",#REF!,IF($C35="RO",#REF!,0))),0)*_xlfn.XLOOKUP($D35,APOIO!$C:$C,APOIO!$G:$G) -> 0 | L35: =IF(L$8=APOIO!$D37,IF($C35="GO",#REF!,IF($C35="MT",#REF!,IF($C35="RO",#REF!,0))),0)*_xlfn.XLOOKUP($D35,APOIO!$C:$C,APOIO!$G:$G) -> 0 | N35: =IF(E$8=APOIO!#REF!,IF($C35="GO",#REF!,IF($C35="MT",#REF!,IF($C35="RO",#REF!,0))),0)*_xlfn.XLOOKUP(D$10,APOIO!#REF!,APOIO!#REF!) -> #REF! | O35: =IF(G$8=APOIO!#REF!,IF($C35="GO",#REF!,IF($C35="MT",#REF!,IF($C35="RO",#REF!,0))),0)*_xlfn.XLOOKUP(D35,APOIO!#REF!,APOIO!#REF!) -> #REF! | P35: =IF(H$8=APOIO!#REF!,IF($C35="GO",#REF!,IF($C35="MT",#REF!,IF($C35="RO",#REF!,0))),0)*_xlfn.XLOOKUP(D35,APOIO!#REF!,APOIO!#REF!) -> #REF! | Q35: =IF(L$8=APOIO!#REF!,IF($C35="GO",#REF!,IF($C35="MT",#REF!,IF($C35="RO",#REF!,0))),0)*_xlfn.XLOOKUP(D35,APOIO!#REF!,APOIO!#REF!) -> #REF!
B36: 27 | C36: =RIGHT(LEFT(D36,6),2) -> GO | D36: 452BGO0011 | E36: =IF(E$8=APOIO!$D39,IF($C36="GO",#REF!,IF($C36="MT",#REF!,IF($C36="RO",#REF!,0))),0)*_xlfn.XLOOKUP($D36,APOIO!$C:$C,APOIO!$G:$G) -> 0 | F36: =IF(F$8=APOIO!$D39,IF($C36="GO",#REF!,IF($C36="MT",#REF!,IF($C36="RO",#REF!,0))),0)*_xlfn.XLOOKUP($D36,APOIO!$C:$C,APOIO!$G:$G) -> 0 | G36: =IF(G$8=APOIO!$D39,IF($C36="GO",#REF!,IF($C36="MT",#REF!,IF($C36="RO",#REF!,0))),0)*_xlfn.XLOOKUP($D36,APOIO!$C:$C,APOIO!$G:$G) -> 0 | H36: =IF(H$8=APOIO!$D38,IF($C36="GO",#REF!,IF($C36="MT",#REF!,IF($C36="RO",#REF!,0))),0)*_xlfn.XLOOKUP($D36,APOIO!$C:$C,APOIO!$G:$G) -> #REF! | I36: =IF(I$8=APOIO!$D38,IF($C36="GO",#REF!,IF($C36="MT",#REF!,IF($C36="RO",#REF!,0))),0)*_xlfn.XLOOKUP($D36,APOIO!$C:$C,APOIO!$G:$G) -> 0 | J36: =IF(J$8=APOIO!$D38,IF($C36="GO",#REF!,IF($C36="MT",#REF!,IF($C36="RO",#REF!,0))),0)*_xlfn.XLOOKUP($D36,APOIO!$C:$C,APOIO!$G:$G) -> 0 | K36: =IF(K$8=APOIO!$D38,IF($C36="GO",#REF!,IF($C36="MT",#REF!,IF($C36="RO",#REF!,0))),0)*_xlfn.XLOOKUP($D36,APOIO!$C:$C,APOIO!$G:$G) -> 0 | L36: =IF(L$8=APOIO!$D38,IF($C36="GO",#REF!,IF($C36="MT",#REF!,IF($C36="RO",#REF!,0))),0)*_xlfn.XLOOKUP($D36,APOIO!$C:$C,APOIO!$G:$G) -> 0 | N36: =IF(E$8=APOIO!#REF!,IF($C36="GO",#REF!,IF($C36="MT",#REF!,IF($C36="RO",#REF!,0))),0)*_xlfn.XLOOKUP(D$10,APOIO!#REF!,APOIO!#REF!) -> #REF! | O36: =IF(G$8=APOIO!#REF!,IF($C36="GO",#REF!,IF($C36="MT",#REF!,IF($C36="RO",#REF!,0))),0)*_xlfn.XLOOKUP(D36,APOIO!#REF!,APOIO!#REF!) -> #REF! | P36: =IF(H$8=APOIO!#REF!,IF($C36="GO",#REF!,IF($C36="MT",#REF!,IF($C36="RO",#REF!,0))),0)*_xlfn.XLOOKUP(D36,APOIO!#REF!,APOIO!#REF!) -> #REF! | Q36: =IF(L$8=APOIO!#REF!,IF($C36="GO",#REF!,IF($C36="MT",#REF!,IF($C36="RO",#REF!,0))),0)*_xlfn.XLOOKUP(D36,APOIO!#REF!,APOIO!#REF!) -> #REF!
B37: 28 | C37: =RIGHT(LEFT(D37,6),2) -> GO | D37: 452BGO0030 | E37: =IF(E$8=APOIO!$D40,IF($C37="GO",#REF!,IF($C37="MT",#REF!,IF($C37="RO",#REF!,0))),0)*_xlfn.XLOOKUP($D37,APOIO!$C:$C,APOIO!$G:$G) -> 0 | F37: =IF(F$8=APOIO!$D40,IF($C37="GO",#REF!,IF($C37="MT",#REF!,IF($C37="RO",#REF!,0))),0)*_xlfn.XLOOKUP($D37,APOIO!$C:$C,APOIO!$G:$G) -> 0 | G37: =IF(G$8=APOIO!$D40,IF($C37="GO",#REF!,IF($C37="MT",#REF!,IF($C37="RO",#REF!,0))),0)*_xlfn.XLOOKUP($D37,APOIO!$C:$C,APOIO!$G:$G) -> 0 | H37: =IF(H$8=APOIO!$D39,IF($C37="GO",#REF!,IF($C37="MT",#REF!,IF($C37="RO",#REF!,0))),0)*_xlfn.XLOOKUP($D37,APOIO!$C:$C,APOIO!$G:$G) -> #REF! | I37: =IF(I$8=APOIO!$D39,IF($C37="GO",#REF!,IF($C37="MT",#REF!,IF($C37="RO",#REF!,0))),0)*_xlfn.XLOOKUP($D37,APOIO!$C:$C,APOIO!$G:$G) -> 0 | J37: =IF(J$8=APOIO!$D39,IF($C37="GO",#REF!,IF($C37="MT",#REF!,IF($C37="RO",#REF!,0))),0)*_xlfn.XLOOKUP($D37,APOIO!$C:$C,APOIO!$G:$G) -> 0 | K37: =IF(K$8=APOIO!$D39,IF($C37="GO",#REF!,IF($C37="MT",#REF!,IF($C37="RO",#REF!,0))),0)*_xlfn.XLOOKUP($D37,APOIO!$C:$C,APOIO!$G:$G) -> 0 | L37: =IF(L$8=APOIO!$D39,IF($C37="GO",#REF!,IF($C37="MT",#REF!,IF($C37="RO",#REF!,0))),0)*_xlfn.XLOOKUP($D37,APOIO!$C:$C,APOIO!$G:$G) -> 0 | N37: =IF(E$8=APOIO!#REF!,IF($C37="GO",#REF!,IF($C37="MT",#REF!,IF($C37="RO",#REF!,0))),0)*_xlfn.XLOOKUP(D$10,APOIO!#REF!,APOIO!#REF!) -> #REF! | O37: =IF(G$8=APOIO!#REF!,IF($C37="GO",#REF!,IF($C37="MT",#REF!,IF($C37="RO",#REF!,0))),0)*_xlfn.XLOOKUP(D37,APOIO!#REF!,APOIO!#REF!) -> #REF! | P37: =IF(H$8=APOIO!#REF!,IF($C37="GO",#REF!,IF($C37="MT",#REF!,IF($C37="RO",#REF!,0))),0)*_xlfn.XLOOKUP(D37,APOIO!#REF!,APOIO!#REF!) -> #REF! | Q37: =IF(L$8=APOIO!#REF!,IF($C37="GO",#REF!,IF($C37="MT",#REF!,IF($C37="RO",#REF!,0))),0)*_xlfn.XLOOKUP(D37,APOIO!#REF!,APOIO!#REF!) -> #REF!
B38: 29 | C38: =RIGHT(LEFT(D38,6),2) -> GO | D38: 452BGO0032 | E38: =IF(E$8=APOIO!$D41,IF($C38="GO",#REF!,IF($C38="MT",#REF!,IF($C38="RO",#REF!,0))),0)*_xlfn.XLOOKUP($D38,APOIO!$C:$C,APOIO!$G:$G) -> 0 | F38: =IF(F$8=APOIO!$D41,IF($C38="GO",#REF!,IF($C38="MT",#REF!,IF($C38="RO",#REF!,0))),0)*_xlfn.XLOOKUP($D38,APOIO!$C:$C,APOIO!$G:$G) -> 0 | G38: =IF(G$8=APOIO!$D41,IF($C38="GO",#REF!,IF($C38="MT",#REF!,IF($C38="RO",#REF!,0))),0)*_xlfn.XLOOKUP($D38,APOIO!$C:$C,APOIO!$G:$G) -> 0 | H38: =IF(H$8=APOIO!$D40,IF($C38="GO",#REF!,IF($C38="MT",#REF!,IF($C38="RO",#REF!,0))),0)*_xlfn.XLOOKUP($D38,APOIO!$C:$C,APOIO!$G:$G) -> #REF! | I38: =IF(I$8=APOIO!$D40,IF($C38="GO",#REF!,IF($C38="MT",#REF!,IF($C38="RO",#REF!,0))),0)*_xlfn.XLOOKUP($D38,APOIO!$C:$C,APOIO!$G:$G) -> 0 | J38: =IF(J$8=APOIO!$D40,IF($C38="GO",#REF!,IF($C38="MT",#REF!,IF($C38="RO",#REF!,0))),0)*_xlfn.XLOOKUP($D38,APOIO!$C:$C,APOIO!$G:$G) -> 0 | K38: =IF(K$8=APOIO!$D40,IF($C38="GO",#REF!,IF($C38="MT",#REF!,IF($C38="RO",#REF!,0))),0)*_xlfn.XLOOKUP($D38,APOIO!$C:$C,APOIO!$G:$G) -> 0 | L38: =IF(L$8=APOIO!$D40,IF($C38="GO",#REF!,IF($C38="MT",#REF!,IF($C38="RO",#REF!,0))),0)*_xlfn.XLOOKUP($D38,APOIO!$C:$C,APOIO!$G:$G) -> 0 | N38: =IF(E$8=APOIO!#REF!,IF($C38="GO",#REF!,IF($C38="MT",#REF!,IF($C38="RO",#REF!,0))),0)*_xlfn.XLOOKUP(D$10,APOIO!#REF!,APOIO!#REF!) -> #REF! | O38: =IF(G$8=APOIO!#REF!,IF($C38="GO",#REF!,IF($C38="MT",#REF!,IF($C38="RO",#REF!,0))),0)*_xlfn.XLOOKUP(D38,APOIO!#REF!,APOIO!#REF!) -> #REF! | P38: =IF(H$8=APOIO!#REF!,IF($C38="GO",#REF!,IF($C38="MT",#REF!,IF($C38="RO",#REF!,0))),0)*_xlfn.XLOOKUP(D38,APOIO!#REF!,APOIO!#REF!) -> #REF! | Q38: =IF(L$8=APOIO!#REF!,IF($C38="GO",#REF!,IF($C38="MT",#REF!,IF($C38="RO",#REF!,0))),0)*_xlfn.XLOOKUP(D38,APOIO!#REF!,APOIO!#REF!) -> #REF!
B39: 30 | C39: =RIGHT(LEFT(D39,6),2) -> GO | D39: 452BGO0033 | E39: =IF(E$8=APOIO!$D42,IF($C39="GO",#REF!,IF($C39="MT",#REF!,IF($C39="RO",#REF!,0))),0)*_xlfn.XLOOKUP($D39,APOIO!$C:$C,APOIO!$G:$G) -> 0 | F39: =IF(F$8=APOIO!$D42,IF($C39="GO",#REF!,IF($C39="MT",#REF!,IF($C39="RO",#REF!,0))),0)*_xlfn.XLOOKUP($D39,APOIO!$C:$C,APOIO!$G:$G) -> 0 | G39: =IF(G$8=APOIO!$D42,IF($C39="GO",#REF!,IF($C39="MT",#REF!,IF($C39="RO",#REF!,0))),0)*_xlfn.XLOOKUP($D39,APOIO!$C:$C,APOIO!$G:$G) -> 0 | H39: =IF(H$8=APOIO!$D41,IF($C39="GO",#REF!,IF($C39="MT",#REF!,IF($C39="RO",#REF!,0))),0)*_xlfn.XLOOKUP($D39,APOIO!$C:$C,APOIO!$G:$G) -> #REF! | I39: =IF(I$8=APOIO!$D41,IF($C39="GO",#REF!,IF($C39="MT",#REF!,IF($C39="RO",#REF!,0))),0)*_xlfn.XLOOKUP($D39,APOIO!$C:$C,APOIO!$G:$G) -> 0 | J39: =IF(J$8=APOIO!$D41,IF($C39="GO",#REF!,IF($C39="MT",#REF!,IF($C39="RO",#REF!,0))),0)*_xlfn.XLOOKUP($D39,APOIO!$C:$C,APOIO!$G:$G) -> 0 | K39: =IF(K$8=APOIO!$D41,IF($C39="GO",#REF!,IF($C39="MT",#REF!,IF($C39="RO",#REF!,0))),0)*_xlfn.XLOOKUP($D39,APOIO!$C:$C,APOIO!$G:$G) -> 0 | L39: =IF(L$8=APOIO!$D41,IF($C39="GO",#REF!,IF($C39="MT",#REF!,IF($C39="RO",#REF!,0))),0)*_xlfn.XLOOKUP($D39,APOIO!$C:$C,APOIO!$G:$G) -> 0 | N39: =IF(E$8=APOIO!#REF!,IF($C39="GO",#REF!,IF($C39="MT",#REF!,IF($C39="RO",#REF!,0))),0)*_xlfn.XLOOKUP(D$10,APOIO!#REF!,APOIO!#REF!) -> #REF! | O39: =IF(G$8=APOIO!#REF!,IF($C39="GO",#REF!,IF($C39="MT",#REF!,IF($C39="RO",#REF!,0))),0)*_xlfn.XLOOKUP(D39,APOIO!#REF!,APOIO!#REF!) -> #REF! | P39: =IF(H$8=APOIO!#REF!,IF($C39="GO",#REF!,IF($C39="MT",#REF!,IF($C39="RO",#REF!,0))),0)*_xlfn.XLOOKUP(D39,APOIO!#REF!,APOIO!#REF!) -> #REF! | Q39: =IF(L$8=APOIO!#REF!,IF($C39="GO",#REF!,IF($C39="MT",#REF!,IF($C39="RO",#REF!,0))),0)*_xlfn.XLOOKUP(D39,APOIO!#REF!,APOIO!#REF!) -> #REF!
B40: 31 | C40: =RIGHT(LEFT(D40,6),2) -> GO | D40: 452BGO0036 | E40: =IF(E$8=APOIO!$D43,IF($C40="GO",#REF!,IF($C40="MT",#REF!,IF($C40="RO",#REF!,0))),0)*_xlfn.XLOOKUP($D40,APOIO!$C:$C,APOIO!$G:$G) -> 0 | F40: =IF(F$8=APOIO!$D43,IF($C40="GO",#REF!,IF($C40="MT",#REF!,IF($C40="RO",#REF!,0))),0)*_xlfn.XLOOKUP($D40,APOIO!$C:$C,APOIO!$G:$G) -> 0 | G40: =IF(G$8=APOIO!$D43,IF($C40="GO",#REF!,IF($C40="MT",#REF!,IF($C40="RO",#REF!,0))),0)*_xlfn.XLOOKUP($D40,APOIO!$C:$C,APOIO!$G:$G) -> 0 | H40: =IF(H$8=APOIO!$D42,IF($C40="GO",#REF!,IF($C40="MT",#REF!,IF($C40="RO",#REF!,0))),0)*_xlfn.XLOOKUP($D40,APOIO!$C:$C,APOIO!$G:$G) -> #REF! | I40: =IF(I$8=APOIO!$D42,IF($C40="GO",#REF!,IF($C40="MT",#REF!,IF($C40="RO",#REF!,0))),0)*_xlfn.XLOOKUP($D40,APOIO!$C:$C,APOIO!$G:$G) -> 0 | J40: =IF(J$8=APOIO!$D42,IF($C40="GO",#REF!,IF($C40="MT",#REF!,IF($C40="RO",#REF!,0))),0)*_xlfn.XLOOKUP($D40,APOIO!$C:$C,APOIO!$G:$G) -> 0 | K40: =IF(K$8=APOIO!$D42,IF($C40="GO",#REF!,IF($C40="MT",#REF!,IF($C40="RO",#REF!,0))),0)*_xlfn.XLOOKUP($D40,APOIO!$C:$C,APOIO!$G:$G) -> 0 | L40: =IF(L$8=APOIO!$D42,IF($C40="GO",#REF!,IF($C40="MT",#REF!,IF($C40="RO",#REF!,0))),0)*_xlfn.XLOOKUP($D40,APOIO!$C:$C,APOIO!$G:$G) -> 0 | N40: =IF(E$8=APOIO!#REF!,IF($C40="GO",#REF!,IF($C40="MT",#REF!,IF($C40="RO",#REF!,0))),0)*_xlfn.XLOOKUP(D$10,APOIO!#REF!,APOIO!#REF!) -> #REF! | O40: =IF(G$8=APOIO!#REF!,IF($C40="GO",#REF!,IF($C40="MT",#REF!,IF($C40="RO",#REF!,0))),0)*_xlfn.XLOOKUP(D40,APOIO!#REF!,APOIO!#REF!) -> #REF! | P40: =IF(H$8=APOIO!#REF!,IF($C40="GO",#REF!,IF($C40="MT",#REF!,IF($C40="RO",#REF!,0))),0)*_xlfn.XLOOKUP(D40,APOIO!#REF!,APOIO!#REF!) -> #REF! | Q40: =IF(L$8=APOIO!#REF!,IF($C40="GO",#REF!,IF($C40="MT",#REF!,IF($C40="RO",#REF!,0))),0)*_xlfn.XLOOKUP(D40,APOIO!#REF!,APOIO!#REF!) -> #REF!
B41: 32 | C41: =RIGHT(LEFT(D41,6),2) -> GO | D41: 452BGO0050 | E41: =IF(E$8=APOIO!$D44,IF($C41="GO",#REF!,IF($C41="MT",#REF!,IF($C41="RO",#REF!,0))),0)*_xlfn.XLOOKUP($D41,APOIO!$C:$C,APOIO!$G:$G) -> 0 | F41: =IF(F$8=APOIO!$D44,IF($C41="GO",#REF!,IF($C41="MT",#REF!,IF($C41="RO",#REF!,0))),0)*_xlfn.XLOOKUP($D41,APOIO!$C:$C,APOIO!$G:$G) -> 0 | G41: =IF(G$8=APOIO!$D44,IF($C41="GO",#REF!,IF($C41="MT",#REF!,IF($C41="RO",#REF!,0))),0)*_xlfn.XLOOKUP($D41,APOIO!$C:$C,APOIO!$G:$G) -> 0 | H41: =IF(H$8=APOIO!$D43,IF($C41="GO",#REF!,IF($C41="MT",#REF!,IF($C41="RO",#REF!,0))),0)*_xlfn.XLOOKUP($D41,APOIO!$C:$C,APOIO!$G:$G) -> #REF! | I41: =IF(I$8=APOIO!$D43,IF($C41="GO",#REF!,IF($C41="MT",#REF!,IF($C41="RO",#REF!,0))),0)*_xlfn.XLOOKUP($D41,APOIO!$C:$C,APOIO!$G:$G) -> 0 | J41: =IF(J$8=APOIO!$D43,IF($C41="GO",#REF!,IF($C41="MT",#REF!,IF($C41="RO",#REF!,0))),0)*_xlfn.XLOOKUP($D41,APOIO!$C:$C,APOIO!$G:$G) -> 0 | K41: =IF(K$8=APOIO!$D43,IF($C41="GO",#REF!,IF($C41="MT",#REF!,IF($C41="RO",#REF!,0))),0)*_xlfn.XLOOKUP($D41,APOIO!$C:$C,APOIO!$G:$G) -> 0 | L41: =IF(L$8=APOIO!$D43,IF($C41="GO",#REF!,IF($C41="MT",#REF!,IF($C41="RO",#REF!,0))),0)*_xlfn.XLOOKUP($D41,APOIO!$C:$C,APOIO!$G:$G) -> 0 | N41: =IF(E$8=APOIO!#REF!,IF($C41="GO",#REF!,IF($C41="MT",#REF!,IF($C41="RO",#REF!,0))),0)*_xlfn.XLOOKUP(D$10,APOIO!#REF!,APOIO!#REF!) -> #REF! | O41: =IF(G$8=APOIO!#REF!,IF($C41="GO",#REF!,IF($C41="MT",#REF!,IF($C41="RO",#REF!,0))),0)*_xlfn.XLOOKUP(D41,APOIO!#REF!,APOIO!#REF!) -> #REF! | P41: =IF(H$8=APOIO!#REF!,IF($C41="GO",#REF!,IF($C41="MT",#REF!,IF($C41="RO",#REF!,0))),0)*_xlfn.XLOOKUP(D41,APOIO!#REF!,APOIO!#REF!) -> #REF! | Q41: =IF(L$8=APOIO!#REF!,IF($C41="GO",#REF!,IF($C41="MT",#REF!,IF($C41="RO",#REF!,0))),0)*_xlfn.XLOOKUP(D41,APOIO!#REF!,APOIO!#REF!) -> #REF!
B42: 33 | C42: =RIGHT(LEFT(D42,6),2) -> RO | D42: 364BRO1060 | E42: =IF(E$8=APOIO!$D45,IF($C42="GO",#REF!,IF($C42="MT",#REF!,IF($C42="RO",#REF!,0))),0)*_xlfn.XLOOKUP($D42,APOIO!$C:$C,APOIO!$G:$G) -> 0 | F42: =IF(F$8=APOIO!$D45,IF($C42="GO",#REF!,IF($C42="MT",#REF!,IF($C42="RO",#REF!,0))),0)*_xlfn.XLOOKUP($D42,APOIO!$C:$C,APOIO!$G:$G) -> 0 | G42: =IF(G$8=APOIO!$D45,IF($C42="GO",#REF!,IF($C42="MT",#REF!,IF($C42="RO",#REF!,0))),0)*_xlfn.XLOOKUP($D42,APOIO!$C:$C,APOIO!$G:$G) -> 0 | H42: 0 | I42: =IF(I$8=APOIO!$D45,IF($C42="GO",#REF!,IF($C42="MT",#REF!,IF($C42="RO",#REF!,0))),0)*_xlfn.XLOOKUP($D42,APOIO!$C:$C,APOIO!$G:$G) -> #REF! | J42: =IF(J$8=APOIO!$D44,IF($C42="GO",#REF!,IF($C42="MT",#REF!,IF($C42="RO",#REF!,0))),0)*_xlfn.XLOOKUP($D42,APOIO!$C:$C,APOIO!$G:$G) -> 0 | K42: =IF(K$8=APOIO!$D44,IF($C42="GO",#REF!,IF($C42="MT",#REF!,IF($C42="RO",#REF!,0))),0)*_xlfn.XLOOKUP($D42,APOIO!$C:$C,APOIO!$G:$G) -> 0 | L42: =IF(L$8=APOIO!$D44,IF($C42="GO",#REF!,IF($C42="MT",#REF!,IF($C42="RO",#REF!,0))),0)*_xlfn.XLOOKUP($D42,APOIO!$C:$C,APOIO!$G:$G) -> 0 | N42: =IF(E$8=APOIO!#REF!,IF($C42="GO",#REF!,IF($C42="MT",#REF!,IF($C42="RO",#REF!,0))),0)*_xlfn.XLOOKUP(D$10,APOIO!#REF!,APOIO!#REF!) -> #REF! | O42: =IF(G$8=APOIO!#REF!,IF($C42="GO",#REF!,IF($C42="MT",#REF!,IF($C42="RO",#REF!,0))),0)*_xlfn.XLOOKUP(D42,APOIO!#REF!,APOIO!#REF!) -> #REF! | P42: =IF(H$8=APOIO!#REF!,IF($C42="GO",#REF!,IF($C42="MT",#REF!,IF($C42="RO",#REF!,0))),0)*_xlfn.XLOOKUP(D42,APOIO!#REF!,APOIO!#REF!) -> #REF! | Q42: =IF(L$8=APOIO!#REF!,IF($C42="GO",#REF!,IF($C42="MT",#REF!,IF($C42="RO",#REF!,0))),0)*_xlfn.XLOOKUP(D42,APOIO!#REF!,APOIO!#REF!) -> #REF!
B43: 34 | C43: =RIGHT(LEFT(D43,6),2) -> RO | D43: 364BRO1130 | E43: =IF(E$8=APOIO!$D46,IF($C43="GO",#REF!,IF($C43="MT",#REF!,IF($C43="RO",#REF!,0))),0)*_xlfn.XLOOKUP($D43,APOIO!$C:$C,APOIO!$G:$G) -> 0 | F43: =IF(F$8=APOIO!$D46,IF($C43="GO",#REF!,IF($C43="MT",#REF!,IF($C43="RO",#REF!,0))),0)*_xlfn.XLOOKUP($D43,APOIO!$C:$C,APOIO!$G:$G) -> 0 | G43: =IF(G$8=APOIO!$D46,IF($C43="GO",#REF!,IF($C43="MT",#REF!,IF($C43="RO",#REF!,0))),0)*_xlfn.XLOOKUP($D43,APOIO!$C:$C,APOIO!$G:$G) -> 0 | H43: =IF(H$8=APOIO!$D45,IF($C43="GO",#REF!,IF($C43="MT",#REF!,IF($C43="RO",#REF!,0))),0)*_xlfn.XLOOKUP($D43,APOIO!$C:$C,APOIO!$G:$G) -> 0 | I43: =IF(I$8=APOIO!$D45,IF($C43="GO",#REF!,IF($C43="MT",#REF!,IF($C43="RO",#REF!,0))),0)*_xlfn.XLOOKUP($D43,APOIO!$C:$C,APOIO!$G:$G) -> #REF! | J43: =IF(J$8=APOIO!$D45,IF($C43="GO",#REF!,IF($C43="MT",#REF!,IF($C43="RO",#REF!,0))),0)*_xlfn.XLOOKUP($D43,APOIO!$C:$C,APOIO!$G:$G) -> 0 | K43: =IF(K$8=APOIO!$D45,IF($C43="GO",#REF!,IF($C43="MT",#REF!,IF($C43="RO",#REF!,0))),0)*_xlfn.XLOOKUP($D43,APOIO!$C:$C,APOIO!$G:$G) -> 0 | L43: =IF(L$8=APOIO!$D45,IF($C43="GO",#REF!,IF($C43="MT",#REF!,IF($C43="RO",#REF!,0))),0)*_xlfn.XLOOKUP($D43,APOIO!$C:$C,APOIO!$G:$G) -> 0 | N43: =IF(E$8=APOIO!#REF!,IF($C43="GO",#REF!,IF($C43="MT",#REF!,IF($C43="RO",#REF!,0))),0)*_xlfn.XLOOKUP(D$10,APOIO!#REF!,APOIO!#REF!) -> #REF! | O43: =IF(G$8=APOIO!#REF!,IF($C43="GO",#REF!,IF($C43="MT",#REF!,IF($C43="RO",#REF!,0))),0)*_xlfn.XLOOKUP(D43,APOIO!#REF!,APOIO!#REF!) -> #REF! | P43: =IF(H$8=APOIO!#REF!,IF($C43="GO",#REF!,IF($C43="MT",#REF!,IF($C43="RO",#REF!,0))),0)*_xlfn.XLOOKUP(D43,APOIO!#REF!,APOIO!#REF!) -> #REF! | Q43: =IF(L$8=APOIO!#REF!,IF($C43="GO",#REF!,IF($C43="MT",#REF!,IF($C43="RO",#REF!,0))),0)*_xlfn.XLOOKUP(D43,APOIO!#REF!,APOIO!#REF!) -> #REF!
B44: 35 | C44: =RIGHT(LEFT(D44,6),2) -> RO | D44: 364BRO1148 | E44: =IF(E$8=APOIO!$D47,IF($C44="GO",#REF!,IF($C44="MT",#REF!,IF($C44="RO",#REF!,0))),0)*_xlfn.XLOOKUP($D44,APOIO!$C:$C,APOIO!$G:$G) -> 0 | F44: =IF(F$8=APOIO!$D47,IF($C44="GO",#REF!,IF($C44="MT",#REF!,IF($C44="RO",#REF!,0))),0)*_xlfn.XLOOKUP($D44,APOIO!$C:$C,APOIO!$G:$G) -> 0 | G44: =IF(G$8=APOIO!$D47,IF($C44="GO",#REF!,IF($C44="MT",#REF!,IF($C44="RO",#REF!,0))),0)*_xlfn.XLOOKUP($D44,APOIO!$C:$C,APOIO!$G:$G) -> 0 | H44: =IF(H$8=APOIO!$D46,IF($C44="GO",#REF!,IF($C44="MT",#REF!,IF($C44="RO",#REF!,0))),0)*_xlfn.XLOOKUP($D44,APOIO!$C:$C,APOIO!$G:$G) -> 0 | I44: =IF(I$8=APOIO!$D46,IF($C44="GO",#REF!,IF($C44="MT",#REF!,IF($C44="RO",#REF!,0))),0)*_xlfn.XLOOKUP($D44,APOIO!$C:$C,APOIO!$G:$G) -> #REF! | J44: =IF(J$8=APOIO!$D46,IF($C44="GO",#REF!,IF($C44="MT",#REF!,IF($C44="RO",#REF!,0))),0)*_xlfn.XLOOKUP($D44,APOIO!$C:$C,APOIO!$G:$G) -> 0 | K44: =IF(K$8=APOIO!$D46,IF($C44="GO",#REF!,IF($C44="MT",#REF!,IF($C44="RO",#REF!,0))),0)*_xlfn.XLOOKUP($D44,APOIO!$C:$C,APOIO!$G:$G) -> 0 | L44: =IF(L$8=APOIO!$D46,IF($C44="GO",#REF!,IF($C44="MT",#REF!,IF($C44="RO",#REF!,0))),0)*_xlfn.XLOOKUP($D44,APOIO!$C:$C,APOIO!$G:$G) -> 0 | N44: =IF(E$8=APOIO!#REF!,IF($C44="GO",#REF!,IF($C44="MT",#REF!,IF($C44="RO",#REF!,0))),0)*_xlfn.XLOOKUP(D$10,APOIO!#REF!,APOIO!#REF!) -> #REF! | O44: =IF(G$8=APOIO!#REF!,IF($C44="GO",#REF!,IF($C44="MT",#REF!,IF($C44="RO",#REF!,0))),0)*_xlfn.XLOOKUP(D44,APOIO!#REF!,APOIO!#REF!) -> #REF! | P44: =IF(H$8=APOIO!#REF!,IF($C44="GO",#REF!,IF($C44="MT",#REF!,IF($C44="RO",#REF!,0))),0)*_xlfn.XLOOKUP(D44,APOIO!#REF!,APOIO!#REF!) -> #REF! | Q44: =IF(L$8=APOIO!#REF!,IF($C44="GO",#REF!,IF($C44="MT",#REF!,IF($C44="RO",#REF!,0))),0)*_xlfn.XLOOKUP(D44,APOIO!#REF!,APOIO!#REF!) -> #REF!
B45: 36 | C45: =RIGHT(LEFT(D45,6),2) -> RO | D45: 364BRO1149 | E45: =IF(E$8=APOIO!$D48,IF($C45="GO",#REF!,IF($C45="MT",#REF!,IF($C45="RO",#REF!,0))),0)*_xlfn.XLOOKUP($D45,APOIO!$C:$C,APOIO!$G:$G) -> 0 | F45: =IF(F$8=APOIO!$D48,IF($C45="GO",#REF!,IF($C45="MT",#REF!,IF($C45="RO",#REF!,0))),0)*_xlfn.XLOOKUP($D45,APOIO!$C:$C,APOIO!$G:$G) -> 0 | G45: =IF(G$8=APOIO!$D48,IF($C45="GO",#REF!,IF($C45="MT",#REF!,IF($C45="RO",#REF!,0))),0)*_xlfn.XLOOKUP($D45,APOIO!$C:$C,APOIO!$G:$G) -> 0 | H45: =IF(H$8=APOIO!$D47,IF($C45="GO",#REF!,IF($C45="MT",#REF!,IF($C45="RO",#REF!,0))),0)*_xlfn.XLOOKUP($D45,APOIO!$C:$C,APOIO!$G:$G) -> 0 | I45: =IF(I$8=APOIO!$D47,IF($C45="GO",#REF!,IF($C45="MT",#REF!,IF($C45="RO",#REF!,0))),0)*_xlfn.XLOOKUP($D45,APOIO!$C:$C,APOIO!$G:$G) -> #REF! | J45: =IF(J$8=APOIO!$D47,IF($C45="GO",#REF!,IF($C45="MT",#REF!,IF($C45="RO",#REF!,0))),0)*_xlfn.XLOOKUP($D45,APOIO!$C:$C,APOIO!$G:$G) -> 0 | K45: =IF(K$8=APOIO!$D47,IF($C45="GO",#REF!,IF($C45="MT",#REF!,IF($C45="RO",#REF!,0))),0)*_xlfn.XLOOKUP($D45,APOIO!$C:$C,APOIO!$G:$G) -> 0 | L45: =IF(L$8=APOIO!$D47,IF($C45="GO",#REF!,IF($C45="MT",#REF!,IF($C45="RO",#REF!,0))),0)*_xlfn.XLOOKUP($D45,APOIO!$C:$C,APOIO!$G:$G) -> 0 | N45: =IF(E$8=APOIO!#REF!,IF($C45="GO",#REF!,IF($C45="MT",#REF!,IF($C45="RO",#REF!,0))),0)*_xlfn.XLOOKUP(D$10,APOIO!#REF!,APOIO!#REF!) -> #REF! | O45: =IF(G$8=APOIO!#REF!,IF($C45="GO",#REF!,IF($C45="MT",#REF!,IF($C45="RO",#REF!,0))),0)*_xlfn.XLOOKUP(D45,APOIO!#REF!,APOIO!#REF!) -> #REF! | P45: =IF(H$8=APOIO!#REF!,IF($C45="GO",#REF!,IF($C45="MT",#REF!,IF($C45="RO",#REF!,0))),0)*_xlfn.XLOOKUP(D45,APOIO!#REF!,APOIO!#REF!) -> #REF! | Q45: =IF(L$8=APOIO!#REF!,IF($C45="GO",#REF!,IF($C45="MT",#REF!,IF($C45="RO",#REF!,0))),0)*_xlfn.XLOOKUP(D45,APOIO!#REF!,APOIO!#REF!) -> #REF!
B46: 37 | C46: =RIGHT(LEFT(D46,6),2) -> RO | D46: 364BRO1212 | E46: =IF(E$8=APOIO!$D49,IF($C46="GO",#REF!,IF($C46="MT",#REF!,IF($C46="RO",#REF!,0))),0)*_xlfn.XLOOKUP($D46,APOIO!$C:$C,APOIO!$G:$G) -> 0 | F46: =IF(F$8=APOIO!$D49,IF($C46="GO",#REF!,IF($C46="MT",#REF!,IF($C46="RO",#REF!,0))),0)*_xlfn.XLOOKUP($D46,APOIO!$C:$C,APOIO!$G:$G) -> 0 | G46: =IF(G$8=APOIO!$D49,IF($C46="GO",#REF!,IF($C46="MT",#REF!,IF($C46="RO",#REF!,0))),0)*_xlfn.XLOOKUP($D46,APOIO!$C:$C,APOIO!$G:$G) -> 0 | H46: =IF(H$8=APOIO!$D48,IF($C46="GO",#REF!,IF($C46="MT",#REF!,IF($C46="RO",#REF!,0))),0)*_xlfn.XLOOKUP($D46,APOIO!$C:$C,APOIO!$G:$G) -> 0 | I46: =IF(I$8=APOIO!$D48,IF($C46="GO",#REF!,IF($C46="MT",#REF!,IF($C46="RO",#REF!,0))),0)*_xlfn.XLOOKUP($D46,APOIO!$C:$C,APOIO!$G:$G) -> #REF! | J46: =IF(J$8=APOIO!$D48,IF($C46="GO",#REF!,IF($C46="MT",#REF!,IF($C46="RO",#REF!,0))),0)*_xlfn.XLOOKUP($D46,APOIO!$C:$C,APOIO!$G:$G) -> 0 | K46: =IF(K$8=APOIO!$D48,IF($C46="GO",#REF!,IF($C46="MT",#REF!,IF($C46="RO",#REF!,0))),0)*_xlfn.XLOOKUP($D46,APOIO!$C:$C,APOIO!$G:$G) -> 0 | L46: =IF(L$8=APOIO!$D48,IF($C46="GO",#REF!,IF($C46="MT",#REF!,IF($C46="RO",#REF!,0))),0)*_xlfn.XLOOKUP($D46,APOIO!$C:$C,APOIO!$G:$G) -> 0 | N46: =IF(E$8=APOIO!#REF!,IF($C46="GO",#REF!,IF($C46="MT",#REF!,IF($C46="RO",#REF!,0))),0)*_xlfn.XLOOKUP(D$10,APOIO!#REF!,APOIO!#REF!) -> #REF! | O46: =IF(G$8=APOIO!#REF!,IF($C46="GO",#REF!,IF($C46="MT",#REF!,IF($C46="RO",#REF!,0))),0)*_xlfn.XLOOKUP(D46,APOIO!#REF!,APOIO!#REF!) -> #REF! | P46: =IF(H$8=APOIO!#REF!,IF($C46="GO",#REF!,IF($C46="MT",#REF!,IF($C46="RO",#REF!,0))),0)*_xlfn.XLOOKUP(D46,APOIO!#REF!,APOIO!#REF!) -> #REF! | Q46: =IF(L$8=APOIO!#REF!,IF($C46="GO",#REF!,IF($C46="MT",#REF!,IF($C46="RO",#REF!,0))),0)*_xlfn.XLOOKUP(D46,APOIO!#REF!,APOIO!#REF!) -> #REF!
B47: 38 | C47: =RIGHT(LEFT(D47,6),2) -> RO | D47: 364BRO1215 | E47: =IF(E$8=APOIO!$D50,IF($C47="GO",#REF!,IF($C47="MT",#REF!,IF($C47="RO",#REF!,0))),0)*_xlfn.XLOOKUP($D47,APOIO!$C:$C,APOIO!$G:$G) -> 0 | F47: =IF(F$8=APOIO!$D50,IF($C47="GO",#REF!,IF($C47="MT",#REF!,IF($C47="RO",#REF!,0))),0)*_xlfn.XLOOKUP($D47,APOIO!$C:$C,APOIO!$G:$G) -> 0 | G47: =IF(G$8=APOIO!$D50,IF($C47="GO",#REF!,IF($C47="MT",#REF!,IF($C47="RO",#REF!,0))),0)*_xlfn.XLOOKUP($D47,APOIO!$C:$C,APOIO!$G:$G) -> 0 | H47: =IF(H$8=APOIO!$D49,IF($C47="GO",#REF!,IF($C47="MT",#REF!,IF($C47="RO",#REF!,0))),0)*_xlfn.XLOOKUP($D47,APOIO!$C:$C,APOIO!$G:$G) -> 0 | I47: =IF(I$8=APOIO!$D49,IF($C47="GO",#REF!,IF($C47="MT",#REF!,IF($C47="RO",#REF!,0))),0)*_xlfn.XLOOKUP($D47,APOIO!$C:$C,APOIO!$G:$G) -> #REF! | J47: =IF(J$8=APOIO!$D49,IF($C47="GO",#REF!,IF($C47="MT",#REF!,IF($C47="RO",#REF!,0))),0)*_xlfn.XLOOKUP($D47,APOIO!$C:$C,APOIO!$G:$G) -> 0 | K47: =IF(K$8=APOIO!$D49,IF($C47="GO",#REF!,IF($C47="MT",#REF!,IF($C47="RO",#REF!,0))),0)*_xlfn.XLOOKUP($D47,APOIO!$C:$C,APOIO!$G:$G) -> 0 | L47: =IF(L$8=APOIO!$D49,IF($C47="GO",#REF!,IF($C47="MT",#REF!,IF($C47="RO",#REF!,0))),0)*_xlfn.XLOOKUP($D47,APOIO!$C:$C,APOIO!$G:$G) -> 0 | N47: =IF(E$8=APOIO!#REF!,IF($C47="GO",#REF!,IF($C47="MT",#REF!,IF($C47="RO",#REF!,0))),0)*_xlfn.XLOOKUP(D$10,APOIO!#REF!,APOIO!#REF!) -> #REF! | O47: =IF(G$8=APOIO!#REF!,IF($C47="GO",#REF!,IF($C47="MT",#REF!,IF($C47="RO",#REF!,0))),0)*_xlfn.XLOOKUP(D47,APOIO!#REF!,APOIO!#REF!) -> #REF! | P47: =IF(H$8=APOIO!#REF!,IF($C47="GO",#REF!,IF($C47="MT",#REF!,IF($C47="RO",#REF!,0))),0)*_xlfn.XLOOKUP(D47,APOIO!#REF!,APOIO!#REF!) -> #REF! | Q47: =IF(L$8=APOIO!#REF!,IF($C47="GO",#REF!,IF($C47="MT",#REF!,IF($C47="RO",#REF!,0))),0)*_xlfn.XLOOKUP(D47,APOIO!#REF!,APOIO!#REF!) -> #REF!
B48: 39 | C48: =RIGHT(LEFT(D48,6),2) -> RO | D48: 364BRO1220 | E48: =IF(E$8=APOIO!$D51,IF($C48="GO",#REF!,IF($C48="MT",#REF!,IF($C48="RO",#REF!,0))),0)*_xlfn.XLOOKUP($D48,APOIO!$C:$C,APOIO!$G:$G) -> 0 | F48: =IF(F$8=APOIO!$D51,IF($C48="GO",#REF!,IF($C48="MT",#REF!,IF($C48="RO",#REF!,0))),0)*_xlfn.XLOOKUP($D48,APOIO!$C:$C,APOIO!$G:$G) -> 0 | G48: =IF(G$8=APOIO!$D51,IF($C48="GO",#REF!,IF($C48="MT",#REF!,IF($C48="RO",#REF!,0))),0)*_xlfn.XLOOKUP($D48,APOIO!$C:$C,APOIO!$G:$G) -> 0 | H48: =IF(H$8=APOIO!$D50,IF($C48="GO",#REF!,IF($C48="MT",#REF!,IF($C48="RO",#REF!,0))),0)*_xlfn.XLOOKUP($D48,APOIO!$C:$C,APOIO!$G:$G) -> 0 | I48: =IF(I$8=APOIO!$D50,IF($C48="GO",#REF!,IF($C48="MT",#REF!,IF($C48="RO",#REF!,0))),0)*_xlfn.XLOOKUP($D48,APOIO!$C:$C,APOIO!$G:$G) -> #REF! | J48: =IF(J$8=APOIO!$D50,IF($C48="GO",#REF!,IF($C48="MT",#REF!,IF($C48="RO",#REF!,0))),0)*_xlfn.XLOOKUP($D48,APOIO!$C:$C,APOIO!$G:$G) -> 0 | K48: =IF(K$8=APOIO!$D50,IF($C48="GO",#REF!,IF($C48="MT",#REF!,IF($C48="RO",#REF!,0))),0)*_xlfn.XLOOKUP($D48,APOIO!$C:$C,APOIO!$G:$G) -> 0 | L48: =IF(L$8=APOIO!$D50,IF($C48="GO",#REF!,IF($C48="MT",#REF!,IF($C48="RO",#REF!,0))),0)*_xlfn.XLOOKUP($D48,APOIO!$C:$C,APOIO!$G:$G) -> 0 | N48: =IF(E$8=APOIO!#REF!,IF($C48="GO",#REF!,IF($C48="MT",#REF!,IF($C48="RO",#REF!,0))),0)*_xlfn.XLOOKUP(D$10,APOIO!#REF!,APOIO!#REF!) -> #REF! | O48: =IF(G$8=APOIO!#REF!,IF($C48="GO",#REF!,IF($C48="MT",#REF!,IF($C48="RO",#REF!,0))),0)*_xlfn.XLOOKUP(D48,APOIO!#REF!,APOIO!#REF!) -> #REF! | P48: =IF(H$8=APOIO!#REF!,IF($C48="GO",#REF!,IF($C48="MT",#REF!,IF($C48="RO",#REF!,0))),0)*_xlfn.XLOOKUP(D48,APOIO!#REF!,APOIO!#REF!) -> #REF! | Q48: =IF(L$8=APOIO!#REF!,IF($C48="GO",#REF!,IF($C48="MT",#REF!,IF($C48="RO",#REF!,0))),0)*_xlfn.XLOOKUP(D48,APOIO!#REF!,APOIO!#REF!) -> #REF!
B49: 40 | C49: =RIGHT(LEFT(D49,6),2) -> RO | D49: 364BRO1230 | E49: =IF(E$8=APOIO!$D52,IF($C49="GO",#REF!,IF($C49="MT",#REF!,IF($C49="RO",#REF!,0))),0)*_xlfn.XLOOKUP($D49,APOIO!$C:$C,APOIO!$G:$G) -> 0 | F49: =IF(F$8=APOIO!$D52,IF($C49="GO",#REF!,IF($C49="MT",#REF!,IF($C49="RO",#REF!,0))),0)*_xlfn.XLOOKUP($D49,APOIO!$C:$C,APOIO!$G:$G) -> 0 | G49: =IF(G$8=APOIO!$D52,IF($C49="GO",#REF!,IF($C49="MT",#REF!,IF($C49="RO",#REF!,0))),0)*_xlfn.XLOOKUP($D49,APOIO!$C:$C,APOIO!$G:$G) -> 0 | H49: =IF(H$8=APOIO!$D51,IF($C49="GO",#REF!,IF($C49="MT",#REF!,IF($C49="RO",#REF!,0))),0)*_xlfn.XLOOKUP($D49,APOIO!$C:$C,APOIO!$G:$G) -> 0 | I49: =IF(I$8=APOIO!$D51,IF($C49="GO",#REF!,IF($C49="MT",#REF!,IF($C49="RO",#REF!,0))),0)*_xlfn.XLOOKUP($D49,APOIO!$C:$C,APOIO!$G:$G) -> #REF! | J49: =IF(J$8=APOIO!$D51,IF($C49="GO",#REF!,IF($C49="MT",#REF!,IF($C49="RO",#REF!,0))),0)*_xlfn.XLOOKUP($D49,APOIO!$C:$C,APOIO!$G:$G) -> 0 | K49: =IF(K$8=APOIO!$D51,IF($C49="GO",#REF!,IF($C49="MT",#REF!,IF($C49="RO",#REF!,0))),0)*_xlfn.XLOOKUP($D49,APOIO!$C:$C,APOIO!$G:$G) -> 0 | L49: =IF(L$8=APOIO!$D51,IF($C49="GO",#REF!,IF($C49="MT",#REF!,IF($C49="RO",#REF!,0))),0)*_xlfn.XLOOKUP($D49,APOIO!$C:$C,APOIO!$G:$G) -> 0 | N49: =IF(E$8=APOIO!#REF!,IF($C49="GO",#REF!,IF($C49="MT",#REF!,IF($C49="RO",#REF!,0))),0)*_xlfn.XLOOKUP(D$10,APOIO!#REF!,APOIO!#REF!) -> #REF! | O49: =IF(G$8=APOIO!#REF!,IF($C49="GO",#REF!,IF($C49="MT",#REF!,IF($C49="RO",#REF!,0))),0)*_xlfn.XLOOKUP(D49,APOIO!#REF!,APOIO!#REF!) -> #REF! | P49: =IF(H$8=APOIO!#REF!,IF($C49="GO",#REF!,IF($C49="MT",#REF!,IF($C49="RO",#REF!,0))),0)*_xlfn.XLOOKUP(D49,APOIO!#REF!,APOIO!#REF!) -> #REF! | Q49: =IF(L$8=APOIO!#REF!,IF($C49="GO",#REF!,IF($C49="MT",#REF!,IF($C49="RO",#REF!,0))),0)*_xlfn.XLOOKUP(D49,APOIO!#REF!,APOIO!#REF!) -> #REF!
B50: 41 | C50: =RIGHT(LEFT(D50,6),2) -> RO | D50: 364BRO1245 | E50: =IF(E$8=APOIO!$D53,IF($C50="GO",#REF!,IF($C50="MT",#REF!,IF($C50="RO",#REF!,0))),0)*_xlfn.XLOOKUP($D50,APOIO!$C:$C,APOIO!$G:$G) -> 0 | F50: =IF(F$8=APOIO!$D53,IF($C50="GO",#REF!,IF($C50="MT",#REF!,IF($C50="RO",#REF!,0))),0)*_xlfn.XLOOKUP($D50,APOIO!$C:$C,APOIO!$G:$G) -> 0 | G50: =IF(G$8=APOIO!$D53,IF($C50="GO",#REF!,IF($C50="MT",#REF!,IF($C50="RO",#REF!,0))),0)*_xlfn.XLOOKUP($D50,APOIO!$C:$C,APOIO!$G:$G) -> 0 | H50: =IF(H$8=APOIO!$D52,IF($C50="GO",#REF!,IF($C50="MT",#REF!,IF($C50="RO",#REF!,0))),0)*_xlfn.XLOOKUP($D50,APOIO!$C:$C,APOIO!$G:$G) -> 0 | I50: =IF(I$8=APOIO!$D52,IF($C50="GO",#REF!,IF($C50="MT",#REF!,IF($C50="RO",#REF!,0))),0)*_xlfn.XLOOKUP($D50,APOIO!$C:$C,APOIO!$G:$G) -> #REF! | J50: =IF(J$8=APOIO!$D52,IF($C50="GO",#REF!,IF($C50="MT",#REF!,IF($C50="RO",#REF!,0))),0)*_xlfn.XLOOKUP($D50,APOIO!$C:$C,APOIO!$G:$G) -> 0 | K50: =IF(K$8=APOIO!$D52,IF($C50="GO",#REF!,IF($C50="MT",#REF!,IF($C50="RO",#REF!,0))),0)*_xlfn.XLOOKUP($D50,APOIO!$C:$C,APOIO!$G:$G) -> 0 | L50: =IF(L$8=APOIO!$D52,IF($C50="GO",#REF!,IF($C50="MT",#REF!,IF($C50="RO",#REF!,0))),0)*_xlfn.XLOOKUP($D50,APOIO!$C:$C,APOIO!$G:$G) -> 0 | N50: =IF(E$8=APOIO!#REF!,IF($C50="GO",#REF!,IF($C50="MT",#REF!,IF($C50="RO",#REF!,0))),0)*_xlfn.XLOOKUP(D$10,APOIO!#REF!,APOIO!#REF!) -> #REF! | O50: =IF(G$8=APOIO!#REF!,IF($C50="GO",#REF!,IF($C50="MT",#REF!,IF($C50="RO",#REF!,0))),0)*_xlfn.XLOOKUP(D50,APOIO!#REF!,APOIO!#REF!) -> #REF! | P50: =IF(H$8=APOIO!#REF!,IF($C50="GO",#REF!,IF($C50="MT",#REF!,IF($C50="RO",#REF!,0))),0)*_xlfn.XLOOKUP(D50,APOIO!#REF!,APOIO!#REF!) -> #REF! | Q50: =IF(L$8=APOIO!#REF!,IF($C50="GO",#REF!,IF($C50="MT",#REF!,IF($C50="RO",#REF!,0))),0)*_xlfn.XLOOKUP(D50,APOIO!#REF!,APOIO!#REF!) -> #REF!
B51: 42 | C51: =RIGHT(LEFT(D51,6),2) -> RO | D51: 364BRO1290 | E51: =IF(E$8=APOIO!$D54,IF($C51="GO",#REF!,IF($C51="MT",#REF!,IF($C51="RO",#REF!,0))),0)*_xlfn.XLOOKUP($D51,APOIO!$C:$C,APOIO!$G:$G) -> 0 | F51: =IF(F$8=APOIO!$D54,IF($C51="GO",#REF!,IF($C51="MT",#REF!,IF($C51="RO",#REF!,0))),0)*_xlfn.XLOOKUP($D51,APOIO!$C:$C,APOIO!$G:$G) -> 0 | G51: =IF(G$8=APOIO!$D54,IF($C51="GO",#REF!,IF($C51="MT",#REF!,IF($C51="RO",#REF!,0))),0)*_xlfn.XLOOKUP($D51,APOIO!$C:$C,APOIO!$G:$G) -> 0 | H51: =IF(H$8=APOIO!$D53,IF($C51="GO",#REF!,IF($C51="MT",#REF!,IF($C51="RO",#REF!,0))),0)*_xlfn.XLOOKUP($D51,APOIO!$C:$C,APOIO!$G:$G) -> 0 | I51: =IF(I$8=APOIO!$D53,IF($C51="GO",#REF!,IF($C51="MT",#REF!,IF($C51="RO",#REF!,0))),0)*_xlfn.XLOOKUP($D51,APOIO!$C:$C,APOIO!$G:$G) -> #REF! | J51: =IF(J$8=APOIO!$D53,IF($C51="GO",#REF!,IF($C51="MT",#REF!,IF($C51="RO",#REF!,0))),0)*_xlfn.XLOOKUP($D51,APOIO!$C:$C,APOIO!$G:$G) -> 0 | K51: =IF(K$8=APOIO!$D53,IF($C51="GO",#REF!,IF($C51="MT",#REF!,IF($C51="RO",#REF!,0))),0)*_xlfn.XLOOKUP($D51,APOIO!$C:$C,APOIO!$G:$G) -> 0 | L51: =IF(L$8=APOIO!$D53,IF($C51="GO",#REF!,IF($C51="MT",#REF!,IF($C51="RO",#REF!,0))),0)*_xlfn.XLOOKUP($D51,APOIO!$C:$C,APOIO!$G:$G) -> 0 | N51: =IF(E$8=APOIO!#REF!,IF($C51="GO",#REF!,IF($C51="MT",#REF!,IF($C51="RO",#REF!,0))),0)*_xlfn.XLOOKUP(D$10,APOIO!#REF!,APOIO!#REF!) -> #REF! | O51: =IF(G$8=APOIO!#REF!,IF($C51="GO",#REF!,IF($C51="MT",#REF!,IF($C51="RO",#REF!,0))),0)*_xlfn.XLOOKUP(D51,APOIO!#REF!,APOIO!#REF!) -> #REF! | P51: =IF(H$8=APOIO!#REF!,IF($C51="GO",#REF!,IF($C51="MT",#REF!,IF($C51="RO",#REF!,0))),0)*_xlfn.XLOOKUP(D51,APOIO!#REF!,APOIO!#REF!) -> #REF! | Q51: =IF(L$8=APOIO!#REF!,IF($C51="GO",#REF!,IF($C51="MT",#REF!,IF($C51="RO",#REF!,0))),0)*_xlfn.XLOOKUP(D51,APOIO!#REF!,APOIO!#REF!) -> #REF!
