Workbook
Name AMG900.2: #REF!
Name AMG900.2f: #REF!
Name AMG900.2i: #REF!
Name AMG900.4: #REF!
Name AMG900.4f: #REF!
Name AMG900.4i: #REF!
Name AMG9001.4: #REF!
Name AMG9001.4f: #REF!
Name AMG9001.4i: #REF!
Name AMG9002.4: #REF!
Name AMG9002.4f: #REF!
Name AMG9002.4i: #REF!
Name BDI_LIST: #REF!
Name BENEFÍCIOS: #REF!
Name BR050.1: #REF!
Name BR050.1f: #REF!
Name BR050.1i: #REF!
Name BR146.1: #REF!
Name BR146.1f: #REF!
Name BR146.1i: #REF!
Name BR146.3: #REF!
Name BR146.3f: #REF!
Name BR146.3i: #REF!
Name BR265.3: #REF!
Name BR265.3f: #REF!
Name BR265.3i: #REF!
Name BR265.4: #REF!
Name BR265.4f: #REF!
Name BR265.4i: #REF!
Name BR364.1: #REF!
Name BR364.1f: #REF!
Name BR364.1i: #REF!
Name BR365.1: #REF!
Name BR365.1f: #REF!
Name BR365.1i: #REF!
Name BR383.2: #REF!
Name BR383.2f: #REF!
Name BR383.2i: #REF!
Name BR459.2: #REF!
Name BR459.2f: #REF!
Name BR459.2i: #REF!
Name BR494.4: #REF!
Name BR494.4f: #REF!
Name BR494.4i: #REF!
Name cenarios.tarifa2: #REF!
Name CMG146.2: #REF!
Name CMG146.2f: #REF!
Name CMG146.2i: #REF!
Name CMG369.3: #REF!
Name CMG369.3f: #REF!
Name CMG369.3i: #REF!
Name CMG383.4: #REF!
Name CMG383.4f: #REF!
Name CMG383.4i: #REF!
Name CMG452.1: #REF!
Name CMG452.1f: #REF!
Name CMG452.1i: #REF!
Name CMG455.2: #REF!
Name CMG455.2f: #REF!
Name CMG455.2i: #REF!

Sheet PSP-CN
F4: Consórcio Future ATP / Logit / JGP / Queiroz Maluf
D7: Cliente: | E7: BNDES - Banco Nacional de Desenvolvimento | I7: BDI: | J7: 0.1767 | L7: TRECHO: | M7: =VLOOKUP(M8,'[21]Segmentos 2'!$B$3:$F$63,2,FALSE) -> BR265 | P7: TRECHO: | Q7: =VLOOKUP(Q8,'[21]Segmentos 2'!$B$3:$F$63,2,FALSE) -> BR265 | T7: TRECHO: | U7: =VLOOKUP(U8,'[21]Segmentos 2'!$B$3:$F$63,2,FALSE) -> BR265 | X7: TRECHO: | Y7: =VLOOKUP(Y8,'[21]Segmentos 2'!$B$3:$F$63,2,FALSE) -> BR265 | AB7: TRECHO: | AC7: =VLOOKUP(AC8,'[21]Segmentos 2'!$B$3:$F$63,2,FALSE) -> BR265 | AF7: TRECHO: | AG7: =VLOOKUP(AG8,'[21]Segmentos 2'!$B$3:$F$63,2,FALSE) -> BR265 | AJ7: TRECHO: | AK7: =VLOOKUP(AK8,'[21]Segmentos 2'!$B$3:$F$63,2,FALSE) -> BR265 | AN7: TRECHO: | AO7: =VLOOKUP(AO8,'[21]Segmentos 2'!$B$3:$F$63,2,FALSE) -> BR146 | AR7: TRECHO: | AS7: =VLOOKUP(AS8,'[21]Segmentos 2'!$B$3:$F$63,2,FALSE) -> BR146 | AV7: TRECHO: | AW7: =VLOOKUP(AW8,'[21]Segmentos 2'!$B$3:$F$63,2,FALSE) -> MG167 | AZ7: TRECHO: | BA7: =VLOOKUP(BA8,'[21]Segmentos 2'!$B$3:$F$63,2,FALSE) -> MG167 | BD7: TRECHO: | BE7: =VLOOKUP(BE8,'[21]Segmentos 2'!$B$3:$F$63,2,FALSE) -> MG167 | BH7: TRECHO: | BI7: =VLOOKUP(BI8,'[21]Segmentos 2'!$B$3:$F$63,2,FALSE) -> CMG369 | BL7: TRECHO: | BM7: =VLOOKUP(BM8,'[21]Segmentos 2'!$B$3:$F$63,2,FALSE) -> CMG369 | BP7: TRECHO: | BQ7: =VLOOKUP(BQ8,'[21]Segmentos 2'!$B$3:$F$63,2,FALSE) -> CMG369 | BT7: TRECHO: | BU7: =VLOOKUP(BU8,'[21]Segmentos 2'!$B$3:$F$63,2,FALSE) -> CMG491 | BX7: TRECHO: | BY7: =VLOOKUP(BY8,'[21]Segmentos 2'!$B$3:$F$63,2,FALSE) -> CMG491 | CB7: TRECHO: | CC7: =VLOOKUP(CC8,'[21]Segmentos 2'!$B$3:$F$63,2,FALSE) -> CMG491 | CF7: TRECHO: | CG7: =VLOOKUP(CG8,'[21]Segmentos 2'!$B$3:$F$63,2,FALSE) -> CMG491 | CJ7: TRECHO: | CK7: =VLOOKUP(CK8,'[21]Segmentos 2'!$B$3:$F$63,2,FALSE) -> CMG491 | CN7: TRECHO: | CO7: =VLOOKUP(CO8,'[21]Segmentos 2'!$B$3:$F$63,2,FALSE) -> CMG491 | CR7: TRECHO: | CS7: =VLOOKUP(CS8,'[21]Segmentos 2'!$B$3:$F$63,2,FALSE) -> CMG491 | CV7: TRECHO: | CW7: =VLOOKUP(CW8,'[21]Segmentos 2'!$B$3:$F$63,2,FALSE) -> CMG491 | CZ7: TRECHO: | DA7: =VLOOKUP(DA8,'[21]Segmentos 2'!$B$3:$F$63,2,FALSE) -> CMG491 | DD7: TRECHO: | DE7: =VLOOKUP(DE8,'[21]Segmentos 2'!$B$3:$F$63,2,FALSE) -> CMG491 | DH7: TRECHO: | DI7: =VLOOKUP(DI8,'[21]Segmentos 2'!$B$3:$F$63,2,FALSE) -> CMG491 | DL7: TRECHO: | DM7: =VLOOKUP(DM8,'[21]Segmentos 2'!$B$3:$F$63,2,FALSE) -> CMG491 | DP7: TRECHO: | DQ7: =VLOOKUP(DQ8,'[21]Segmentos 2'!$B$3:$F$63,2,FALSE) -> CMG491 | DT7: TRECHO: | DU7: =VLOOKUP(DU8,'[21]Segmentos 2'!$B$3:$F$63,2,FALSE) -> CMG491 | DX7: TRECHO: | DY7: =VLOOKUP(DY8,'[21]Segmentos 2'!$B$3:$F$63,2,FALSE) -> LMG863 | EB7: TRECHO: | EC7: =VLOOKUP(EC8,'[21]Segmentos 2'!$B$3:$F$63,2,FALSE) -> 491CMG0170 | EF7: TRECHO: | EG7: =VLOOKUP(EG8,'[21]Segmentos 2'!$B$3:$F$63,2,FALSE) -> 369CMG0070 | EJ7: TRECHO: | EK7: =VLOOKUP(EK8,'[21]Segmentos 2'!$B$3:$F$63,2,FALSE) -> 369CMG0090#U
D8: Trecho: | E8: Minas Gerais | I8: BDI DIFERENCADO: | J8: =#REF! -> #REF! | L8: SEGMENTO: | M8: 265BMG0270 | P8: SEGMENTO: | Q8: 265BMG0270#U | T8: SEGMENTO: | U8: 265BMG0290#U | X8: SEGMENTO: | Y8: 265BMG0290 | AB8: SEGMENTO: | AC8: 265BMG0305 | AF8: SEGMENTO: | AG8: 265BMG0310 | AJ8: SEGMENTO: | AK8: 265BMG0311 | AN8: SEGMENTO: | AO8: 146BMG0250 | AR8: SEGMENTO: | AS8: 146BMG0252 | AV8: SEGMENTO: | AW8: 167EMG0200 | AZ8: SEGMENTO: | BA8: 167EMG0205 | BD8: SEGMENTO: | BE8: 167EMG0220 | BH8: SEGMENTO: | BI8: 369CMG0070 | BL8: SEGMENTO: | BM8: 369CMG0090 | BP8: SEGMENTO: | BQ8: 369CMG0090#U | BT8: SEGMENTO: | BU8: 491CMG0010 | BX8: SEGMENTO: | BY8: 491CMG0023 | CB8: SEGMENTO: | CC8: 491CMG0030 | CF8: SEGMENTO: | CG8: 491CMG0050 | CJ8: SEGMENTO: | CK8: 491CMG0090 | CN8: SEGMENTO: | CO8: 491CMG0100 | CR8: SEGMENTO: | CS8: 491CMG0110 | CV8: SEGMENTO: | CW8: 491CMG0130 | CZ8: SEGMENTO: | DA8: 491CMG0150 | DD8: SEGMENTO: | DE8: 491CMG0170 | DH8: SEGMENTO: | DI8: 491CMG0190 | DL8: SEGMENTO: | DM8: 491CMG0210D | DP8: SEGMENTO: | DQ8: 491CMG0230 | DT8: SEGMENTO: | DU8: 491CMG0230#D | DX8: SEGMENTO: | DY8: 863LMG0010 | EB8: SEGMENTO: | EC8: VARGINHA | EF8: SEGMENTO: | EG8: CAMPOS GERAIS | EJ8: SEGMENTO: | EK8: ALFENAS
D9: Objeto: | E9: Contratação de serviços técnicos especializados necessários à desestatização do sistema rodoviário no Estado de Minas Gerais, de até 2.798,6 km de extensão - Lote 3 | L9: ESTADO: | M9: =VLOOKUP(M8,'[21]Segmentos 2'!$B$3:$F$63,3,FALSE) -> MG | P9: ESTADO: | Q9: =VLOOKUP(Q8,'[21]Segmentos 2'!$B$3:$F$63,3,FALSE) -> MG | T9: ESTADO: | U9: =VLOOKUP(U8,'[21]Segmentos 2'!$B$3:$F$63,3,FALSE) -> MG | X9: ESTADO: | Y9: =VLOOKUP(Y8,'[21]Segmentos 2'!$B$3:$F$63,3,FALSE) -> MG | AB9: ESTADO: | AC9: =VLOOKUP(AC8,'[21]Segmentos 2'!$B$3:$F$63,3,FALSE) -> MG | AF9: ESTADO: | AG9: =VLOOKUP(AG8,'[21]Segmentos 2'!$B$3:$F$63,3,FALSE) -> MG | AJ9: ESTADO: | AK9: =VLOOKUP(AK8,'[21]Segmentos 2'!$B$3:$F$63,3,FALSE) -> MG | AN9: ESTADO: | AO9: =VLOOKUP(AO8,'[21]Segmentos 2'!$B$3:$F$63,3,FALSE) -> MG | AR9: ESTADO: | AS9: =VLOOKUP(AS8,'[21]Segmentos 2'!$B$3:$F$63,3,FALSE) -> MG | AV9: ESTADO: | AW9: =VLOOKUP(AW8,'[21]Segmentos 2'!$B$3:$F$63,3,FALSE) -> MG | AZ9: ESTADO: | BA9: =VLOOKUP(BA8,'[21]Segmentos 2'!$B$3:$F$63,3,FALSE) -> MG | BD9: ESTADO: | BE9: =VLOOKUP(BE8,'[21]Segmentos 2'!$B$3:$F$63,3,FALSE) -> MG | BH9: ESTADO: | BI9: =VLOOKUP(BI8,'[21]Segmentos 2'!$B$3:$F$63,3,FALSE) -> MG | BL9: ESTADO: | BM9: =VLOOKUP(BM8,'[21]Segmentos 2'!$B$3:$F$63,3,FALSE) -> MG | BP9: ESTADO: | BQ9: =VLOOKUP(BQ8,'[21]Segmentos 2'!$B$3:$F$63,3,FALSE) -> MG | BT9: ESTADO: | BU9: =VLOOKUP(BU8,'[21]Segmentos 2'!$B$3:$F$63,3,FALSE) -> MG | BX9: ESTADO: | BY9: =VLOOKUP(BY8,'[21]Segmentos 2'!$B$3:$F$63,3,FALSE) -> MG | CB9: ESTADO: | CC9: =VLOOKUP(CC8,'[21]Segmentos 2'!$B$3:$F$63,3,FALSE) -> MG | CF9: ESTADO: | CG9: =VLOOKUP(CG8,'[21]Segmentos 2'!$B$3:$F$63,3,FALSE) -> MG | CJ9: ESTADO: | CK9: =VLOOKUP(CK8,'[21]Segmentos 2'!$B$3:$F$63,3,FALSE) -> MG | CN9: ESTADO: | CO9: =VLOOKUP(CO8,'[21]Segmentos 2'!$B$3:$F$63,3,FALSE) -> MG | CR9: ESTADO: | CS9: =VLOOKUP(CS8,'[21]Segmentos 2'!$B$3:$F$63,3,FALSE) -> MG | CV9: ESTADO: | CW9: =VLOOKUP(CW8,'[21]Segmentos 2'!$B$3:$F$63,3,FALSE) -> MG | CZ9: ESTADO: | DA9: =VLOOKUP(DA8,'[21]Segmentos 2'!$B$3:$F$63,3,FALSE) -> MG | DD9: ESTADO: | DE9: =VLOOKUP(DE8,'[21]Segmentos 2'!$B$3:$F$63,3,FALSE) -> MG | DH9: ESTADO: | DI9: =VLOOKUP(DI8,'[21]Segmentos 2'!$B$3:$F$63,3,FALSE) -> MG | DL9: ESTADO: | DM9: =VLOOKUP(DM8,'[21]Segmentos 2'!$B$3:$F$63,3,FALSE) -> MG | DP9: ESTADO: | DQ9: =VLOOKUP(DQ8,'[21]Segmentos 2'!$B$3:$F$63,3,FALSE) -> MG | DT9: ESTADO: | DU9: =VLOOKUP(DU8,'[21]Segmentos 2'!$B$3:$F$63,3,FALSE) -> MG | DX9: ESTADO: | DY9: =VLOOKUP(DY8,'[21]Segmentos 2'!$B$3:$F$63,3,FALSE) -> MG | EB9: ESTADO: | EC9: =VLOOKUP(EC8,'[21]Segmentos 2'!$B$3:$F$63,3,FALSE) -> MG | EF9: ESTADO: | EG9: =VLOOKUP(EG8,'[21]Segmentos 2'!$B$3:$F$63,3,FALSE) -> MG | EJ9: ESTADO: | EK9: =VLOOKUP(EK8,'[21]Segmentos 2'!$B$3:$F$63,3,FALSE) -> MG
D10: Valores: | J10: 44075 | L10: PREÇO TOTAL: | M10: =SUM(N16:N1151) -> 56584093 | P10: PREÇO TOTAL: | Q10: =SUM(R16:R1151) -> 2715745.1 | T10: PREÇO TOTAL: | U10: =SUM(V16:V1151) -> 17424094 | X10: PREÇO TOTAL: | Y10: =SUM(Z16:Z1151) -> 68198063 | AB10: PREÇO TOTAL: | AC10: =SUM(AD16:AD1151) -> 19764463 | AF10: PREÇO TOTAL: | AG10: =SUM(AH16:AH1151) -> 40432540 | AJ10: PREÇO TOTAL: | AK10: =SUM(AL16:AL1151) -> 66979413 | AN10: PREÇO TOTAL: | AO10: =SUM(AP16:AP1151) -> 38468009 | AR10: PREÇO TOTAL: | AS10: =SUM(AT16:AT1151) -> 1.0391312e+08 | AV10: PREÇO TOTAL: | AW10: =SUM(AX16:AX1151) -> 58204819 | AZ10: PREÇO TOTAL: | BA10: =SUM(BB16:BB1151) -> 33169947 | BD10: PREÇO TOTAL: | BE10: =SUM(BF16:BF1151) -> 1.5082164e+08 | BH10: PREÇO TOTAL: | BI10: =SUM(BJ16:BJ1151) -> 1.5681591e+08 | BL10: PREÇO TOTAL: | BM10: =SUM(BN16:BN1151) -> 1.0155593e+08 | BP10: PREÇO TOTAL: | BQ10: =SUM(BR16:BR1151) -> 1.1330682e+08 | BT10: PREÇO TOTAL: | BU10: =SUM(BV16:BV1151) -> 33708787 | BX10: PREÇO TOTAL: | BY10: =SUM(BZ16:BZ1151) -> 38298485 | CB10: PREÇO TOTAL: | CC10: =SUM(CD16:CD1151) -> 1.5026773e+08 | CF10: PREÇO TOTAL: | CG10: =SUM(CH16:CH1151) -> 86756593 | CJ10: PREÇO TOTAL: | CK10: =SUM(CL16:CL1151) -> 50257037 | CN10: PREÇO TOTAL: | CO10: =SUM(CP16:CP1151) -> 77421079 | CR10: PREÇO TOTAL: | CS10: =SUM(CT16:CT1151) -> 50837348 | CV10: PREÇO TOTAL: | CW10: =SUM(CX16:CX1151) -> 94306341 | CZ10: PREÇO TOTAL: | DA10: =SUM(DB16:DB1151) -> 1.2468958e+08 | DD10: PREÇO TOTAL: | DE10: =SUM(DF16:DF1151) -> 28134676 | DH10: PREÇO TOTAL: | DI10: =SUM(DJ16:DJ1151) -> 6156862.1 | DL10: PREÇO TOTAL: | DM10: =SUM(DN16:DN1151) -> 27579269 | DP10: PREÇO TOTAL: | DQ10: =SUM(DR16:DR1151) -> 22244936 | DT10: PREÇO TOTAL: | DU10: =SUM(DV16:DV1151) -> 22597392 | DX10: PREÇO TOTAL: | DY10: =SUM(DZ16:DZ1151) -> 98213858 | EB10: PREÇO TOTAL: | EC10: =SUM(ED16:ED1151) -> 2.0763484e+08 | EF10: PREÇO TOTAL: | EG10: =SUM(EH16:EH1151) -> 98247855 | EJ10: PREÇO TOTAL: | EK10: =SUM(EL16:EL1151) -> #REF!
F12: Planilha de Serviços e Preços
C14: ITEM | D14: CÓDIGO | E14: ORIGEM | F14: DESCRIÇÃO DO SERVIÇO | G14: UNIDADE | H14: QUANTIDADE TOTAL | I14: CUSTO TOTAL | J14: PREÇO TOTAL | L14: QTD. | M14: CUSTO UNITÁRIO | N14: PREÇO | P14: QTD. | Q14: CUSTO UNITÁRIO | R14: PREÇO | T14: QTD. | U14: CUSTO UNITÁRIO | V14: PREÇO | X14: QTD. | Y14: CUSTO UNITÁRIO | Z14: PREÇO | AB14: QTD. | AC14: CUSTO UNITÁRIO | AD14: PREÇO | AF14: QTD. | AG14: CUSTO UNITÁRIO | AH14: PREÇO | AJ14: QTD. | AK14: CUSTO UNITÁRIO | AL14: PREÇO | AN14: QTD. | AO14: CUSTO UNITÁRIO | AP14: PREÇO | AR14: QTD. | AS14: CUSTO UNITÁRIO | AT14: PREÇO | AV14: QTD. | AW14: CUSTO UNITÁRIO | AX14: PREÇO | AZ14: QTD. | BA14: CUSTO UNITÁRIO | BB14: PREÇO | BD14: QTD. | BE14: CUSTO UNITÁRIO | BF14: PREÇO | BH14: QTD. | BI14: CUSTO UNITÁRIO | BJ14: PREÇO | BL14: QTD. | BM14: CUSTO UNITÁRIO | BN14: PREÇO | BP14: QTD. | BQ14: CUSTO UNITÁRIO | BR14: PREÇO | BT14: QTD. | BU14: CUSTO UNITÁRIO | BV14: PREÇO | BX14: QTD. | BY14: CUSTO UNITÁRIO | BZ14: PREÇO | CB14: QTD. | CC14: CUSTO UNITÁRIO | CD14: PREÇO | CF14: QTD. | CG14: CUSTO UNITÁRIO | CH14: PREÇO | CJ14: QTD. | CK14: CUSTO UNITÁRIO | CL14: PREÇO | CN14: QTD. | CO14: CUSTO UNITÁRIO | CP14: PREÇO | CR14: QTD. | CS14: CUSTO UNITÁRIO | CT14: PREÇO | CV14: QTD. | CW14: CUSTO UNITÁRIO | CX14: PREÇO | CZ14: QTD. | DA14: CUSTO UNITÁRIO | DB14: PREÇO | DD14: QTD. | DE14: CUSTO UNITÁRIO | DF14: PREÇO | DH14: QTD. | DI14: CUSTO UNITÁRIO | DJ14: PREÇO | DL14: QTD. | DM14: CUSTO UNITÁRIO | DN14: PREÇO | DP14: QTD. | DQ14: CUSTO UNITÁRIO | DR14: PREÇO | DT14: QTD. | DU14: CUSTO UNITÁRIO | DV14: PREÇO | DX14: QTD. | DY14: CUSTO UNITÁRIO | DZ14: PREÇO | EB14: QTD. | EC14: CUSTO UNITÁRIO | ED14: PREÇO | EF14: QTD. | EG14: CUSTO UNITÁRIO | EH14: PREÇO | EJ14: QTD. | EK14: CUSTO UNITÁRIO | EL14: PREÇO | ES14: BDI
C16: 1.0 | F16: ADMINISTRAÇÃO DE OBRAS | G16: =UPPER(IF($E16="SICRO SERVIÇO",_xlfn.XLOOKUP('PSP-CN'!D16,#REF!,#REF!),IF($E16="SICRO INSUMO",_xlfn.XLOOKUP('PSP-CN'!D16,#REF!,#REF!),IF($E16="SINAPI INSUMO",_xlfn.XLOOKUP('PSP-CN'!D16,#REF!,#REF!),IF($E16="SINAPI SERVIÇO",_xlfn.XLOOKUP('PSP-CN'!D16,#REF!,#REF!),IF($E16="COTAÇÃO",_xlfn.XLOOKUP('PSP-CN'!D16,#REF!,#REF!),IF(E16="COMPOSIÇÃO",VLOOKUP($D16,#REF!,7),""))))))) | I16: =I17 -> 19159429 | J16: =J17 -> 23587173
C17: 1.1 | F17: ADMINISTRAÇÃO LOCAL DE OBRAS | I17: =I18 -> 19159429 | J17: =J18 -> 23587173
C18: 1.1.1 | D18: =_xlfn.XLOOKUP($C18,[22]PSP!$C:$C,[22]PSP!D:D) -> COMP_00001 | E18: =_xlfn.XLOOKUP($C18,[22]PSP!$C:$C,[22]PSP!E:E) -> COMPOSIÇÃO | F18: =_xlfn.XLOOKUP($C18,[22]PSP!$C:$C,[22]PSP!F:F) -> ADMINISTRAÇÃO LOCAL DE OBRAS | G18: =_xlfn.XLOOKUP($C18,[22]PSP!$C:$C,[22]PSP!G:G) -> UN | H18: =_xlfn.XLOOKUP($C18,[22]PSP!$C:$C,[22]PSP!H:H) -> 1 | I18: =_xlfn.XLOOKUP($C18,[22]PSP!$C:$C,[22]PSP!I:I) -> 19159429 | J18: =_xlfn.XLOOKUP($C18,[22]PSP!$C:$C,[22]PSP!J:J) -> 23587173 | L18: =_xlfn.XLOOKUP($C18,[22]PSP!$C:$C,[22]PSP!L:L) -> 0.020930515 | M18: =_xlfn.XLOOKUP($C18,[22]PSP!$C:$C,[22]PSP!M:M) -> 19159429 | N18: =TRUNC(M18*L18,2) -> 401016.7 | P18: =_xlfn.XLOOKUP($C18,[22]PSP!$C:$C,[22]PSP!P:P) -> 0.0036832413 | Q18: =_xlfn.XLOOKUP($C18,[22]PSP!$C:$C,[22]PSP!Q:Q) -> 19159429 | R18: =TRUNC(Q18*P18,2) -> 70568.79 | T18: =_xlfn.XLOOKUP($C18,[22]PSP!$C:$C,[22]PSP!T:T) -> 0.0048080634 | U18: =_xlfn.XLOOKUP($C18,[22]PSP!$C:$C,[22]PSP!U:U) -> 19159429 | V18: =TRUNC(U18*T18,2) -> 92119.74 | X18: =_xlfn.XLOOKUP($C18,[22]PSP!$C:$C,[22]PSP!X:X) -> 0.043471069 | Y18: =_xlfn.XLOOKUP($C18,[22]PSP!$C:$C,[22]PSP!Y:Y) -> 19159429 | Z18: =TRUNC(Y18*X18,2) -> 832880.85 | AB18: =_xlfn.XLOOKUP($C18,[22]PSP!$C:$C,[22]PSP!AB:AB) -> 0.024371147 | AC18: =_xlfn.XLOOKUP($C18,[22]PSP!$C:$C,[22]PSP!AC:AC) -> 19159429 | AD18: =TRUNC(AC18*AB18,2) -> 466937.26 | AF18: =_xlfn.XLOOKUP($C18,[22]PSP!$C:$C,[22]PSP!AF:AF) -> 0.027414784 | AG18: =_xlfn.XLOOKUP($C18,[22]PSP!$C:$C,[22]PSP!AG:AG) -> 19159429 | AH18: =TRUNC(AG18*AF18,2) -> 525251.6 | AJ18: =_xlfn.XLOOKUP($C18,[22]PSP!$C:$C,[22]PSP!AJ:AJ) -> 0.016872333 | AK18: =_xlfn.XLOOKUP($C18,[22]PSP!$C:$C,[22]PSP!AK:AK) -> 19159429 | AL18: =TRUNC(AK18*AJ18,2) -> 323264.25 | AN18: =_xlfn.XLOOKUP($C18,[22]PSP!$C:$C,[22]PSP!AN:AN) -> 0.047838026 | AO18: =_xlfn.XLOOKUP($C18,[22]PSP!$C:$C,[22]PSP!AO:AO) -> 19159429 | AP18: =TRUNC(AO18*AN18,2) -> 916549.25 | AR18: =_xlfn.XLOOKUP($C18,[22]PSP!$C:$C,[22]PSP!AR:AR) -> 0.011579052 | AS18: =_xlfn.XLOOKUP($C18,[22]PSP!$C:$C,[22]PSP!AS:AS) -> 19159429 | AT18: =TRUNC(AS18*AR18,2) -> 221848.02 | AV18: =_xlfn.XLOOKUP($C18,[22]PSP!$C:$C,[22]PSP!AV:AV) -> 0.031583242 | AW18: =_xlfn.XLOOKUP($C18,[22]PSP!$C:$C,[22]PSP!AW:AW) -> 19159429 | AX18: =TRUNC(AW18*AV18,2) -> 605116.88 | AZ18: =_xlfn.XLOOKUP($C18,[22]PSP!$C:$C,[22]PSP!AZ:AZ) -> 0.0062416603 | BA18: =_xlfn.XLOOKUP($C18,[22]PSP!$C:$C,[22]PSP!BA:BA) -> 19159429 | BB18: =TRUNC(BA18*AZ18,2) -> 119586.64 | BD18: =_xlfn.XLOOKUP($C18,[22]PSP!$C:$C,[22]PSP!BD:BD) -> 0.058424587 | BE18: =_xlfn.XLOOKUP($C18,[22]PSP!$C:$C,[22]PSP!BE:BE) -> 19159429 | BF18: =TRUNC(BE18*BD18,2) -> 1119381.7 | BH18: =_xlfn.XLOOKUP($C18,[22]PSP!$C:$C,[22]PSP!BH:BH) -> 0.05566767 | BI18: =_xlfn.XLOOKUP($C18,[22]PSP!$C:$C,[22]PSP!BI:BI) -> 19159429 | BJ18: =TRUNC(BI18*BH18,2) -> 1066560.8 | BL18: =_xlfn.XLOOKUP($C18,[22]PSP!$C:$C,[22]PSP!BL:BL) -> 0.071349015 | BM18: =_xlfn.XLOOKUP($C18,[22]PSP!$C:$C,[22]PSP!BM:BM) -> 19159429 | BN18: =TRUNC(BM18*BL18,2) -> 1367006.4 | BP18: =_xlfn.XLOOKUP($C18,[22]PSP!$C:$C,[22]PSP!BP:BP) -> 0.013409645 | BQ18: =_xlfn.XLOOKUP($C18,[22]PSP!$C:$C,[22]PSP!BQ:BQ) -> 19159429 | BR18: =TRUNC(BQ18*BP18,2) -> 256921.13 | BT18: =_xlfn.XLOOKUP($C18,[22]PSP!$C:$C,[22]PSP!BT:BT) -> 0.038508618 | BU18: =_xlfn.XLOOKUP($C18,[22]PSP!$C:$C,[22]PSP!BU:BU) -> 19159429 | BV18: =TRUNC(BU18*BT18,2) -> 737803.13 | BX18: =_xlfn.XLOOKUP($C18,[22]PSP!$C:$C,[22]PSP!BX:BX) -> 0.031715574 | BY18: =_xlfn.XLOOKUP($C18,[22]PSP!$C:$C,[22]PSP!BY:BY) -> 19159429 | BZ18: =TRUNC(BY18*BX18,2) -> 607652.29 | CB18: =_xlfn.XLOOKUP($C18,[22]PSP!$C:$C,[22]PSP!CB:CB) -> 0.035178262 | CC18: =_xlfn.XLOOKUP($C18,[22]PSP!$C:$C,[22]PSP!CC:CC) -> 19159429 | CD18: =TRUNC(CC18*CB18,2) -> 673995.41 | CF18: =_xlfn.XLOOKUP($C18,[22]PSP!$C:$C,[22]PSP!CF:CF) -> 0.062284271 | CG18: =_xlfn.XLOOKUP($C18,[22]PSP!$C:$C,[22]PSP!CG:CG) -> 19159429 | CH18: =TRUNC(CG18*CF18,2) -> 1193331.1 | CJ18: =_xlfn.XLOOKUP($C18,[22]PSP!$C:$C,[22]PSP!CJ:CJ) -> 0.031583242 | CK18: =_xlfn.XLOOKUP($C18,[22]PSP!$C:$C,[22]PSP!CK:CK) -> 19159429 | CL18: =TRUNC(CK18*CJ18,2) -> 605116.88 | CN18: =_xlfn.XLOOKUP($C18,[22]PSP!$C:$C,[22]PSP!CN:CN) -> 0.055866168 | CO18: =_xlfn.XLOOKUP($C18,[22]PSP!$C:$C,[22]PSP!CO:CO) -> 19159429 | CP18: =TRUNC(CO18*CN18,2) -> 1070363.9 | CR18: =_xlfn.XLOOKUP($C18,[22]PSP!$C:$C,[22]PSP!CR:CR) -> 0.060674232 | CS18: =_xlfn.XLOOKUP($C18,[22]PSP!$C:$C,[22]PSP!CS:CS) -> 19159429 | CT18: =TRUNC(CS18*CR18,2) -> 1162483.6 | CV18: =_xlfn.XLOOKUP($C18,[22]PSP!$C:$C,[22]PSP!CV:CV) -> 0.05632933 | CW18: =_xlfn.XLOOKUP($C18,[22]PSP!$C:$C,[22]PSP!CW:CW) -> 19159429 | CX18: =TRUNC(CW18*CV18,2) -> 1079237.8 | CZ18: =_xlfn.XLOOKUP($C18,[22]PSP!$C:$C,[22]PSP!CZ:CZ) -> 0.050396445 | DA18: =_xlfn.XLOOKUP($C18,[22]PSP!$C:$C,[22]PSP!DA:DA) -> 19159429 | DB18: =TRUNC(DA18*CZ18,2) -> 965567.1 | DD18: =_xlfn.XLOOKUP($C18,[22]PSP!$C:$C,[22]PSP!DD:DD) -> 0.033369725 | DE18: =_xlfn.XLOOKUP($C18,[22]PSP!$C:$C,[22]PSP!DE:DE) -> 19159429 | DF18: =TRUNC(DE18*DD18,2) -> 639344.86 | DH18: =_xlfn.XLOOKUP($C18,[22]PSP!$C:$C,[22]PSP!DH:DH) -> 0.0058667196 | DI18: =_xlfn.XLOOKUP($C18,[22]PSP!$C:$C,[22]PSP!DI:DI) -> 19159429 | DJ18: =TRUNC(DI18*DH18,2) -> 112402.99 | DL18: =_xlfn.XLOOKUP($C18,[22]PSP!$C:$C,[22]PSP!DL:DL) -> 0.0033744665 | DM18: =_xlfn.XLOOKUP($C18,[22]PSP!$C:$C,[22]PSP!DM:DM) -> 19159429 | DN18: =TRUNC(DM18*DL18,2) -> 64652.85 | DP18: =_xlfn.XLOOKUP($C18,[22]PSP!$C:$C,[22]PSP!DP:DP) -> 0.018195653 | DQ18: =_xlfn.XLOOKUP($C18,[22]PSP!$C:$C,[22]PSP!DQ:DQ) -> 19159429 | DR18: =TRUNC(DQ18*DP18,2) -> 348618.31 | DT18: =_xlfn.XLOOKUP($C18,[22]PSP!$C:$C,[22]PSP!DT:DT) -> 0.017953044 | DU18: =_xlfn.XLOOKUP($C18,[22]PSP!$C:$C,[22]PSP!DU:DU) -> 19159429 | DV18: =TRUNC(DU18*DT18,2) -> 343970.07 | DX18: =_xlfn.XLOOKUP($C18,[22]PSP!$C:$C,[22]PSP!DX:DX) -> 0.010674783 | DY18: =_xlfn.XLOOKUP($C18,[22]PSP!$C:$C,[22]PSP!DY:DY) -> 19159429 | DZ18: =TRUNC(DY18*DX18,2) -> 204522.74 | EB18: =_xlfn.XLOOKUP($C18,[22]PSP!$C:$C,[22]PSP!EB:EB) -> 0.022739052 | EC18: =_xlfn.XLOOKUP($C18,[22]PSP!$C:$C,[22]PSP!EC:EC) -> 19159429 | ED18: =TRUNC(EC18*EB18,2) -> 435667.25 | EF18: =_xlfn.XLOOKUP($C18,[22]PSP!$C:$C,[22]PSP!EF:EF) -> 0.004488261 | EG18: =_xlfn.XLOOKUP($C18,[22]PSP!$C:$C,[22]PSP!EG:EG) -> 19159429 | EH18: =TRUNC(EG18*EF18,2) -> 85992.51 | EJ18: =_xlfn.XLOOKUP($C18,[22]PSP!$C:$C,[22]PSP!EJ:EJ) -> 0.023158104 | EK18: =_xlfn.XLOOKUP($C18,[22]PSP!$C:$C,[22]PSP!EK:EK) -> 19159429 | EL18: =TRUNC(EK18*EJ18,2) -> 443696.04 | EO18: =EL18+EH18+ED18+DZ18+DV18+DR18+DN18+DJ18+DF18+DB18+CX18+CT18+CP18+CL18+CH18+CD18+BZ18+BV18+BR18+BN18+BJ18+BF18+BB18+AX18+AT18+AP18+AL18+AH18+AD18+Z18+V18+R18+N18 -> 19159429 | EP18: =I18 -> 19159429 | EQ18: =EP18=EO18 -> TRUE
C19: 2.0 | F19: CANTEIRO DE OBRAS E ACAMPAMENTO | I19: =SUM(I20:I21) -> 22739917 | J19: =SUM(J20:J21) -> 27995111 | EO19: =EL19+EH19+ED19+DZ19+DV19+DR19+DN19+DJ19+DF19+DB19+CX19+CT19+CP19+CL19+CH19+CD19+BZ19+BV19+BR19+BN19+BJ19+BF19+BB19+AX19+AT19+AP19+AL19+AH19+AD19+Z19+V19+R19+N19 -> 0 | EP19: =I19 -> 22739917 | EQ19: =EP19=EO19 -> FALSE
C20: 2.1 | D20: =_xlfn.XLOOKUP($C20,[22]PSP!$C:$C,[22]PSP!D:D) -> COMP_02001 | E20: =_xlfn.XLOOKUP($C20,[22]PSP!$C:$C,[22]PSP!E:E) -> COMPOSIÇÃO | F20: =_xlfn.XLOOKUP($C20,[22]PSP!$C:$C,[22]PSP!F:F) -> INSTALAÇÕES DO CANTEIRO DE OBRAS | G20: =_xlfn.XLOOKUP($C20,[22]PSP!$C:$C,[22]PSP!G:G) -> UN | H20: =_xlfn.XLOOKUP($C20,[22]PSP!$C:$C,[22]PSP!H:H) -> 1 | I20: =_xlfn.XLOOKUP($C20,[22]PSP!$C:$C,[22]PSP!I:I) -> 18191933 | J20: =_xlfn.XLOOKUP($C20,[22]PSP!$C:$C,[22]PSP!J:J) -> 22396089 | L20: =_xlfn.XLOOKUP($C20,[22]PSP!$C:$C,[22]PSP!L:L) -> 0.020930515 | M20: =_xlfn.XLOOKUP($C20,[22]PSP!$C:$C,[22]PSP!M:M) -> 18191934 | N20: =TRUNC(M20*L20,2) -> 380766.53 | P20: =_xlfn.XLOOKUP($C20,[22]PSP!$C:$C,[22]PSP!P:P) -> 0.0036832413 | Q20: =_xlfn.XLOOKUP($C20,[22]PSP!$C:$C,[22]PSP!Q:Q) -> 18191934 | R20: =TRUNC(Q20*P20,2) -> 67005.28 | T20: =_xlfn.XLOOKUP($C20,[22]PSP!$C:$C,[22]PSP!T:T) -> 0.0048080634 | U20: =_xlfn.XLOOKUP($C20,[22]PSP!$C:$C,[22]PSP!U:U) -> 18191934 | V20: =TRUNC(U20*T20,2) -> 87467.97 | X20: =_xlfn.XLOOKUP($C20,[22]PSP!$C:$C,[22]PSP!X:X) -> 0.043471069 | Y20: =_xlfn.XLOOKUP($C20,[22]PSP!$C:$C,[22]PSP!Y:Y) -> 18191934 | Z20: =TRUNC(Y20*X20,2) -> 790822.79 | AB20: =_xlfn.XLOOKUP($C20,[22]PSP!$C:$C,[22]PSP!AB:AB) -> 0.024371147 | AC20: =_xlfn.XLOOKUP($C20,[22]PSP!$C:$C,[22]PSP!AC:AC) -> 18191934 | AD20: =TRUNC(AC20*AB20,2) -> 443358.29 | AF20: =_xlfn.XLOOKUP($C20,[22]PSP!$C:$C,[22]PSP!AF:AF) -> 0.027414784 | AG20: =_xlfn.XLOOKUP($C20,[22]PSP!$C:$C,[22]PSP!AG:AG) -> 18191934 | AH20: =TRUNC(AG20*AF20,2) -> 498727.92 | AJ20: =_xlfn.XLOOKUP($C20,[22]PSP!$C:$C,[22]PSP!AJ:AJ) -> 0.016872333 | AK20: =_xlfn.XLOOKUP($C20,[22]PSP!$C:$C,[22]PSP!AK:AK) -> 18191934 | AL20: =TRUNC(AK20*AJ20,2) -> 306940.35 | AN20: =_xlfn.XLOOKUP($C20,[22]PSP!$C:$C,[22]PSP!AN:AN) -> 0.047838026 | AO20: =_xlfn.XLOOKUP($C20,[22]PSP!$C:$C,[22]PSP!AO:AO) -> 18191934 | AP20: =TRUNC(AO20*AN20,2) -> 870266.18 | AR20: =_xlfn.XLOOKUP($C20,[22]PSP!$C:$C,[22]PSP!AR:AR) -> 0.011579052 | AS20: =_xlfn.XLOOKUP($C20,[22]PSP!$C:$C,[22]PSP!AS:AS) -> 18191934 | AT20: =TRUNC(AS20*AR20,2) -> 210645.34 | AV20: =_xlfn.XLOOKUP($C20,[22]PSP!$C:$C,[22]PSP!AV:AV) -> 0.031583242 | AW20: =_xlfn.XLOOKUP($C20,[22]PSP!$C:$C,[22]PSP!AW:AW) -> 18191934 | AX20: =TRUNC(AW20*AV20,2) -> 574560.24 | AZ20: =_xlfn.XLOOKUP($C20,[22]PSP!$C:$C,[22]PSP!AZ:AZ) -> 0.0062416603 | BA20: =_xlfn.XLOOKUP($C20,[22]PSP!$C:$C,[22]PSP!BA:BA) -> 18191934 | BB20: =TRUNC(BA20*AZ20,2) -> 113547.87 | BD20: =_xlfn.XLOOKUP($C20,[22]PSP!$C:$C,[22]PSP!BD:BD) -> 0.058424587 | BE20: =_xlfn.XLOOKUP($C20,[22]PSP!$C:$C,[22]PSP!BE:BE) -> 18191934 | BF20: =TRUNC(BE20*BD20,2) -> 1062856.2 | BH20: =_xlfn.XLOOKUP($C20,[22]PSP!$C:$C,[22]PSP!BH:BH) -> 0.05566767 | BI20: =_xlfn.XLOOKUP($C20,[22]PSP!$C:$C,[22]PSP!BI:BI) -> 18191934 | BJ20: =TRUNC(BI20*BH20,2) -> 1012702.6 | BL20: =_xlfn.XLOOKUP($C20,[22]PSP!$C:$C,[22]PSP!BL:BL) -> 0.071349015 | BM20: =_xlfn.XLOOKUP($C20,[22]PSP!$C:$C,[22]PSP!BM:BM) -> 18191934 | BN20: =TRUNC(BM20*BL20,2) -> 1297976.5 | BP20: =_xlfn.XLOOKUP($C20,[22]PSP!$C:$C,[22]PSP!BP:BP) -> 0.013409645 | BQ20: =_xlfn.XLOOKUP($C20,[22]PSP!$C:$C,[22]PSP!BQ:BQ) -> 18191934 | BR20: =TRUNC(BQ20*BP20,2) -> 243947.36 | BT20: =_xlfn.XLOOKUP($C20,[22]PSP!$C:$C,[22]PSP!BT:BT) -> 0.038508618 | BU20: =_xlfn.XLOOKUP($C20,[22]PSP!$C:$C,[22]PSP!BU:BU) -> 18191934 | BV20: =TRUNC(BU20*BT20,2) -> 700546.22 | BX20: =_xlfn.XLOOKUP($C20,[22]PSP!$C:$C,[22]PSP!BX:BX) -> 0.031715574 | BY20: =_xlfn.XLOOKUP($C20,[22]PSP!$C:$C,[22]PSP!BY:BY) -> 18191934 | BZ20: =TRUNC(BY20*BX20,2) -> 576967.62 | CB20: =_xlfn.XLOOKUP($C20,[22]PSP!$C:$C,[22]PSP!CB:CB) -> 0.035178262 | CC20: =_xlfn.XLOOKUP($C20,[22]PSP!$C:$C,[22]PSP!CC:CC) -> 18191934 | CD20: =TRUNC(CC20*CB20,2) -> 639960.61 | CF20: =_xlfn.XLOOKUP($C20,[22]PSP!$C:$C,[22]PSP!CF:CF) -> 0.062284271 | CG20: =_xlfn.XLOOKUP($C20,[22]PSP!$C:$C,[22]PSP!CG:CG) -> 18191934 | CH20: =TRUNC(CG20*CF20,2) -> 1133071.3 | CJ20: =_xlfn.XLOOKUP($C20,[22]PSP!$C:$C,[22]PSP!CJ:CJ) -> 0.031583242 | CK20: =_xlfn.XLOOKUP($C20,[22]PSP!$C:$C,[22]PSP!CK:CK) -> 18191934 | CL20: =TRUNC(CK20*CJ20,2) -> 574560.24 | CN20: =_xlfn.XLOOKUP($C20,[22]PSP!$C:$C,[22]PSP!CN:CN) -> 0.055866168 | CO20: =_xlfn.XLOOKUP($C20,[22]PSP!$C:$C,[22]PSP!CO:CO) -> 18191934 | CP20: =TRUNC(CO20*CN20,2) -> 1016313.6 | CR20: =_xlfn.XLOOKUP($C20,[22]PSP!$C:$C,[22]PSP!CR:CR) -> 0.060674232 | CS20: =_xlfn.XLOOKUP($C20,[22]PSP!$C:$C,[22]PSP!CS:CS) -> 18191934 | CT20: =TRUNC(CS20*CR20,2) -> 1103781.6 | CV20: =_xlfn.XLOOKUP($C20,[22]PSP!$C:$C,[22]PSP!CV:CV) -> 0.05632933 | CW20: =_xlfn.XLOOKUP($C20,[22]PSP!$C:$C,[22]PSP!CW:CW) -> 18191934 | CX20: =TRUNC(CW20*CV20,2) -> 1024739.4 | CZ20: =_xlfn.XLOOKUP($C20,[22]PSP!$C:$C,[22]PSP!CZ:CZ) -> 0.050396445 | DA20: =_xlfn.XLOOKUP($C20,[22]PSP!$C:$C,[22]PSP!DA:DA) -> 18191934 | DB20: =TRUNC(DA20*CZ20,2) -> 916808.77 | DD20: =_xlfn.XLOOKUP($C20,[22]PSP!$C:$C,[22]PSP!DD:DD) -> 0.033369725 | DE20: =_xlfn.XLOOKUP($C20,[22]PSP!$C:$C,[22]PSP!DE:DE) -> 18191934 | DF20: =TRUNC(DE20*DD20,2) -> 607059.81 | DH20: =_xlfn.XLOOKUP($C20,[22]PSP!$C:$C,[22]PSP!DH:DH) -> 0.0058667196 | DI20: =_xlfn.XLOOKUP($C20,[22]PSP!$C:$C,[22]PSP!DI:DI) -> 18191934 | DJ20: =TRUNC(DI20*DH20,2) -> 106726.97 | DL20: =_xlfn.XLOOKUP($C20,[22]PSP!$C:$C,[22]PSP!DL:DL) -> 0.0033744665 | DM20: =_xlfn.XLOOKUP($C20,[22]PSP!$C:$C,[22]PSP!DM:DM) -> 18191934 | DN20: =TRUNC(DM20*DL20,2) -> 61388.07 | DP20: =_xlfn.XLOOKUP($C20,[22]PSP!$C:$C,[22]PSP!DP:DP) -> 0.018195653 | DQ20: =_xlfn.XLOOKUP($C20,[22]PSP!$C:$C,[22]PSP!DQ:DQ) -> 18191934 | DR20: =TRUNC(DQ20*DP20,2) -> 331014.1 | DT20: =_xlfn.XLOOKUP($C20,[22]PSP!$C:$C,[22]PSP!DT:DT) -> 0.017953044 | DU20: =_xlfn.XLOOKUP($C20,[22]PSP!$C:$C,[22]PSP!DU:DU) -> 18191934 | DV20: =TRUNC(DU20*DT20,2) -> 326600.58 | DX20: =_xlfn.XLOOKUP($C20,[22]PSP!$C:$C,[22]PSP!DX:DX) -> 0.010674783 | DY20: =_xlfn.XLOOKUP($C20,[22]PSP!$C:$C,[22]PSP!DY:DY) -> 18191934 | DZ20: =TRUNC(DY20*DX20,2) -> 194194.94 | EB20: =_xlfn.XLOOKUP($C20,[22]PSP!$C:$C,[22]PSP!EB:EB) -> 0.022739052 | EC20: =_xlfn.XLOOKUP($C20,[22]PSP!$C:$C,[22]PSP!EC:EC) -> 18191934 | ED20: =TRUNC(EC20*EB20,2) -> 413667.32 | EF20: =_xlfn.XLOOKUP($C20,[22]PSP!$C:$C,[22]PSP!EF:EF) -> 0.004488261 | EG20: =_xlfn.XLOOKUP($C20,[22]PSP!$C:$C,[22]PSP!EG:EG) -> 18191934 | EH20: =TRUNC(EG20*EF20,2) -> 81650.14 | EJ20: =_xlfn.XLOOKUP($C20,[22]PSP!$C:$C,[22]PSP!EJ:EJ) -> 0.023158104 | EK20: =_xlfn.XLOOKUP($C20,[22]PSP!$C:$C,[22]PSP!EK:EK) -> 18191934 | EL20: =TRUNC(EK20*EJ20,2) -> 421290.68 | EO20: =EL20+EH20+ED20+DZ20+DV20+DR20+DN20+DJ20+DF20+DB20+CX20+CT20+CP20+CL20+CH20+CD20+BZ20+BV20+BR20+BN20+BJ20+BF20+BB20+AX20+AT20+AP20+AL20+AH20+AD20+Z20+V20+R20+N20 -> 18191933 | EP20: =I20 -> 18191933 | EQ20: =EP20=EO20 -> TRUE
C21: 2.2 | D21: =_xlfn.XLOOKUP($C21,[22]PSP!$C:$C,[22]PSP!D:D) -> COMP_00002 | E21: =_xlfn.XLOOKUP($C21,[22]PSP!$C:$C,[22]PSP!E:E) -> COMPOSIÇÃO | F21: =_xlfn.XLOOKUP($C21,[22]PSP!$C:$C,[22]PSP!F:F) -> SINALIZAÇÃO PRÓVISÓRIA DE OBRAS | G21: =_xlfn.XLOOKUP($C21,[22]PSP!$C:$C,[22]PSP!G:G) -> CJ | H21: =_xlfn.XLOOKUP($C21,[22]PSP!$C:$C,[22]PSP!H:H) -> 1 | I21: =_xlfn.XLOOKUP($C21,[22]PSP!$C:$C,[22]PSP!I:I) -> 4547983.2 | J21: =_xlfn.XLOOKUP($C21,[22]PSP!$C:$C,[22]PSP!J:J) -> 5599022.2 | L21: =_xlfn.XLOOKUP($C21,[22]PSP!$C:$C,[22]PSP!L:L) -> 0.020930515 | M21: =_xlfn.XLOOKUP($C21,[22]PSP!$C:$C,[22]PSP!M:M) -> 4547983.4 | N21: =TRUNC(M21*L21,2) -> 95191.63 | P21: =_xlfn.XLOOKUP($C21,[22]PSP!$C:$C,[22]PSP!P:P) -> 0.0036832413 | Q21: =_xlfn.XLOOKUP($C21,[22]PSP!$C:$C,[22]PSP!Q:Q) -> 4547983.4 | R21: =TRUNC(Q21*P21,2) -> 16751.32 | T21: =_xlfn.XLOOKUP($C21,[22]PSP!$C:$C,[22]PSP!T:T) -> 0.0048080634 | U21: =_xlfn.XLOOKUP($C21,[22]PSP!$C:$C,[22]PSP!U:U) -> 4547983.4 | V21: =TRUNC(U21*T21,2) -> 21866.99 | X21: =_xlfn.XLOOKUP($C21,[22]PSP!$C:$C,[22]PSP!X:X) -> 0.043471069 | Y21: =_xlfn.XLOOKUP($C21,[22]PSP!$C:$C,[22]PSP!Y:Y) -> 4547983.4 | Z21: =TRUNC(Y21*X21,2) -> 197705.69 | AB21: =_xlfn.XLOOKUP($C21,[22]PSP!$C:$C,[22]PSP!AB:AB) -> 0.024371147 | AC21: =_xlfn.XLOOKUP($C21,[22]PSP!$C:$C,[22]PSP!AC:AC) -> 4547983.4 | AD21: =TRUNC(AC21*AB21,2) -> 110839.57 | AF21: =_xlfn.XLOOKUP($C21,[22]PSP!$C:$C,[22]PSP!AF:AF) -> 0.027414784 | AG21: =_xlfn.XLOOKUP($C21,[22]PSP!$C:$C,[22]PSP!AG:AG) -> 4547983.4 | AH21: =TRUNC(AG21*AF21,2) -> 124681.98 | AJ21: =_xlfn.XLOOKUP($C21,[22]PSP!$C:$C,[22]PSP!AJ:AJ) -> 0.016872333 | AK21: =_xlfn.XLOOKUP($C21,[22]PSP!$C:$C,[22]PSP!AK:AK) -> 4547983.4 | AL21: =TRUNC(AK21*AJ21,2) -> 76735.08 | AN21: =_xlfn.XLOOKUP($C21,[22]PSP!$C:$C,[22]PSP!AN:AN) -> 0.047838026 | AO21: =_xlfn.XLOOKUP($C21,[22]PSP!$C:$C,[22]PSP!AO:AO) -> 4547983.4 | AP21: =TRUNC(AO21*AN21,2) -> 217566.54 | AR21: =_xlfn.XLOOKUP($C21,[22]PSP!$C:$C,[22]PSP!AR:AR) -> 0.011579052 | AS21: =_xlfn.XLOOKUP($C21,[22]PSP!$C:$C,[22]PSP!AS:AS) -> 4547983.4 | AT21: =TRUNC(AS21*AR21,2) -> 52661.33 | AV21: =_xlfn.XLOOKUP($C21,[22]PSP!$C:$C,[22]PSP!AV:AV) -> 0.031583242 | AW21: =_xlfn.XLOOKUP($C21,[22]PSP!$C:$C,[22]PSP!AW:AW) -> 4547983.4 | AX21: =TRUNC(AW21*AV21,2) -> 143640.06 | AZ21: =_xlfn.XLOOKUP($C21,[22]PSP!$C:$C,[22]PSP!AZ:AZ) -> 0.0062416603 | BA21: =_xlfn.XLOOKUP($C21,[22]PSP!$C:$C,[22]PSP!BA:BA) -> 4547983.4 | BB21: =TRUNC(BA21*AZ21,2) -> 28386.96 | BD21: =_xlfn.XLOOKUP($C21,[22]PSP!$C:$C,[22]PSP!BD:BD) -> 0.058424587 | BE21: =_xlfn.XLOOKUP($C21,[22]PSP!$C:$C,[22]PSP!BE:BE) -> 4547983.4 | BF21: =TRUNC(BE21*BD21,2) -> 265714.05 | BH21: =_xlfn.XLOOKUP($C21,[22]PSP!$C:$C,[22]PSP!BH:BH) -> 0.05566767 | BI21: =_xlfn.XLOOKUP($C21,[22]PSP!$C:$C,[22]PSP!BI:BI) -> 4547983.4 | BJ21: =TRUNC(BI21*BH21,2) -> 253175.63 | BL21: =_xlfn.XLOOKUP($C21,[22]PSP!$C:$C,[22]PSP!BL:BL) -> 0.071349015 | BM21: =_xlfn.XLOOKUP($C21,[22]PSP!$C:$C,[22]PSP!BM:BM) -> 4547983.4 | BN21: =TRUNC(BM21*BL21,2) -> 324494.13 | BP21: =_xlfn.XLOOKUP($C21,[22]PSP!$C:$C,[22]PSP!BP:BP) -> 0.013409645 | BQ21: =_xlfn.XLOOKUP($C21,[22]PSP!$C:$C,[22]PSP!BQ:BQ) -> 4547983.4 | BR21: =TRUNC(BQ21*BP21,2) -> 60986.84 | BT21: =_xlfn.XLOOKUP($C21,[22]PSP!$C:$C,[22]PSP!BT:BT) -> 0.038508618 | BU21: =_xlfn.XLOOKUP($C21,[22]PSP!$C:$C,[22]PSP!BU:BU) -> 4547983.4 | BV21: =TRUNC(BU21*BT21,2) -> 175136.55 | BX21: =_xlfn.XLOOKUP($C21,[22]PSP!$C:$C,[22]PSP!BX:BX) -> 0.031715574 | BY21: =_xlfn.XLOOKUP($C21,[22]PSP!$C:$C,[22]PSP!BY:BY) -> 4547983.4 | BZ21: =TRUNC(BY21*BX21,2) -> 144241.9 | CB21: =_xlfn.XLOOKUP($C21,[22]PSP!$C:$C,[22]PSP!CB:CB) -> 0.035178262 | CC21: =_xlfn.XLOOKUP($C21,[22]PSP!$C:$C,[22]PSP!CC:CC) -> 4547983.4 | CD21: =TRUNC(CC21*CB21,2) -> 159990.15 | CF21: =_xlfn.XLOOKUP($C21,[22]PSP!$C:$C,[22]PSP!CF:CF) -> 0.062284271 | CG21: =_xlfn.XLOOKUP($C21,[22]PSP!$C:$C,[22]PSP!CG:CG) -> 4547983.4 | CH21: =TRUNC(CG21*CF21,2) -> 283267.83 | CJ21: =_xlfn.XLOOKUP($C21,[22]PSP!$C:$C,[22]PSP!CJ:CJ) -> 0.031583242 | CK21: =_xlfn.XLOOKUP($C21,[22]PSP!$C:$C,[22]PSP!CK:CK) -> 4547983.4 | CL21: =TRUNC(CK21*CJ21,2) -> 143640.06 | CN21: =_xlfn.XLOOKUP($C21,[22]PSP!$C:$C,[22]PSP!CN:CN) -> 0.055866168 | CO21: =_xlfn.XLOOKUP($C21,[22]PSP!$C:$C,[22]PSP!CO:CO) -> 4547983.4 | CP21: =TRUNC(CO21*CN21,2) -> 254078.4 | CR21: =_xlfn.XLOOKUP($C21,[22]PSP!$C:$C,[22]PSP!CR:CR) -> 0.060674232 | CS21: =_xlfn.XLOOKUP($C21,[22]PSP!$C:$C,[22]PSP!CS:CS) -> 4547983.4 | CT21: =TRUNC(CS21*CR21,2) -> 275945.39 | CV21: =_xlfn.XLOOKUP($C21,[22]PSP!$C:$C,[22]PSP!CV:CV) -> 0.05632933 | CW21: =_xlfn.XLOOKUP($C21,[22]PSP!$C:$C,[22]PSP!CW:CW) -> 4547983.4 | CX21: =TRUNC(CW21*CV21,2) -> 256184.85 | CZ21: =_xlfn.XLOOKUP($C21,[22]PSP!$C:$C,[22]PSP!CZ:CZ) -> 0.050396445 | DA21: =_xlfn.XLOOKUP($C21,[22]PSP!$C:$C,[22]PSP!DA:DA) -> 4547983.4 | DB21: =TRUNC(DA21*CZ21,2) -> 229202.19 | DD21: =_xlfn.XLOOKUP($C21,[22]PSP!$C:$C,[22]PSP!DD:DD) -> 0.033369725 | DE21: =_xlfn.XLOOKUP($C21,[22]PSP!$C:$C,[22]PSP!DE:DE) -> 4547983.4 | DF21: =TRUNC(DE21*DD21,2) -> 151764.95 | DH21: =_xlfn.XLOOKUP($C21,[22]PSP!$C:$C,[22]PSP!DH:DH) -> 0.0058667196 | DI21: =_xlfn.XLOOKUP($C21,[22]PSP!$C:$C,[22]PSP!DI:DI) -> 4547983.4 | DJ21: =TRUNC(DI21*DH21,2) -> 26681.74 | DL21: =_xlfn.XLOOKUP($C21,[22]PSP!$C:$C,[22]PSP!DL:DL) -> 0.0033744665 | DM21: =_xlfn.XLOOKUP($C21,[22]PSP!$C:$C,[22]PSP!DM:DM) -> 4547983.4 | DN21: =TRUNC(DM21*DL21,2) -> 15347.01 | DP21: =_xlfn.XLOOKUP($C21,[22]PSP!$C:$C,[22]PSP!DP:DP) -> 0.018195653 | DQ21: =_xlfn.XLOOKUP($C21,[22]PSP!$C:$C,[22]PSP!DQ:DQ) -> 4547983.4 | DR21: =TRUNC(DQ21*DP21,2) -> 82753.52 | DT21: =_xlfn.XLOOKUP($C21,[22]PSP!$C:$C,[22]PSP!DT:DT) -> 0.017953044 | DU21: =_xlfn.XLOOKUP($C21,[22]PSP!$C:$C,[22]PSP!DU:DU) -> 4547983.4 | DV21: =TRUNC(DU21*DT21,2) -> 81650.14 | DX21: =_xlfn.XLOOKUP($C21,[22]PSP!$C:$C,[22]PSP!DX:DX) -> 0.010674783 | DY21: =_xlfn.XLOOKUP($C21,[22]PSP!$C:$C,[22]PSP!DY:DY) -> 4547983.4 | DZ21: =TRUNC(DY21*DX21,2) -> 48548.73 | EB21: =_xlfn.XLOOKUP($C21,[22]PSP!$C:$C,[22]PSP!EB:EB) -> 0.022739052 | EC21: =_xlfn.XLOOKUP($C21,[22]PSP!$C:$C,[22]PSP!EC:EC) -> 4547983.4 | ED21: =TRUNC(EC21*EB21,2) -> 103416.83 | EF21: =_xlfn.XLOOKUP($C21,[22]PSP!$C:$C,[22]PSP!EF:EF) -> 0.004488261 | EG21: =_xlfn.XLOOKUP($C21,[22]PSP!$C:$C,[22]PSP!EG:EG) -> 4547983.4 | EH21: =TRUNC(EG21*EF21,2) -> 20412.53 | EJ21: =_xlfn.XLOOKUP($C21,[22]PSP!$C:$C,[22]PSP!EJ:EJ) -> 0.023158104 | EK21: =_xlfn.XLOOKUP($C21,[22]PSP!$C:$C,[22]PSP!EK:EK) -> 4547983.4 | EL21: =TRUNC(EK21*EJ21,2) -> 105322.67 | EO21: =EL21+EH21+ED21+DZ21+DV21+DR21+DN21+DJ21+DF21+DB21+CX21+CT21+CP21+CL21+CH21+CD21+BZ21+BV21+BR21+BN21+BJ21+BF21+BB21+AX21+AT21+AP21+AL21+AH21+AD21+Z21+V21+R21+N21 -> 4547983.2 | EP21: =I21 -> 4547983.2 | EQ21: =EP21=EO21 -> TRUE
C22: 3.0 | F22: MOBILIZAÇÃO E DESMOBILIZAÇÃO | I22: =SUM(I23:I24) -> 4547983 | J22: =SUM(J23:J24) -> 5599021.9 | EO22: =EL22+EH22+ED22+DZ22+DV22+DR22+DN22+DJ22+DF22+DB22+CX22+CT22+CP22+CL22+CH22+CD22+BZ22+BV22+BR22+BN22+BJ22+BF22+BB22+AX22+AT22+AP22+AL22+AH22+AD22+Z22+V22+R22+N22 -> 0 | EP22: =I22 -> 4547983 | EQ22: =EP22=EO22 -> FALSE
C23: 3.1 | D23: =_xlfn.XLOOKUP($C23,[22]PSP!$C:$C,[22]PSP!D:D) -> COMP_02002 | E23: =_xlfn.XLOOKUP($C23,[22]PSP!$C:$C,[22]PSP!E:E) -> COMPOSIÇÃO | F23: =_xlfn.XLOOKUP($C23,[22]PSP!$C:$C,[22]PSP!F:F) -> MOBILIZAÇÃO DE MÃO DE OBRA E EQUIPAMENTOS | G23: =_xlfn.XLOOKUP($C23,[22]PSP!$C:$C,[22]PSP!G:G) -> UN | H23: =_xlfn.XLOOKUP($C23,[22]PSP!$C:$C,[22]PSP!H:H) -> 1 | I23: =_xlfn.XLOOKUP($C23,[22]PSP!$C:$C,[22]PSP!I:I) -> 2273991.5 | J23: =_xlfn.XLOOKUP($C23,[22]PSP!$C:$C,[22]PSP!J:J) -> 2799511 | L23: =_xlfn.XLOOKUP($C23,[22]PSP!$C:$C,[22]PSP!L:L) -> 0.020930515 | M23: =_xlfn.XLOOKUP($C23,[22]PSP!$C:$C,[22]PSP!M:M) -> 2273991.7 | N23: =TRUNC(M23*L23,2) -> 47595.81 | P23: =_xlfn.XLOOKUP($C23,[22]PSP!$C:$C,[22]PSP!P:P) -> 0.0036832413 | Q23: =_xlfn.XLOOKUP($C23,[22]PSP!$C:$C,[22]PSP!Q:Q) -> 2273991.7 | R23: =TRUNC(Q23*P23,2) -> 8375.66 | T23: =_xlfn.XLOOKUP($C23,[22]PSP!$C:$C,[22]PSP!T:T) -> 0.0048080634 | U23: =_xlfn.XLOOKUP($C23,[22]PSP!$C:$C,[22]PSP!U:U) -> 2273991.7 | V23: =TRUNC(U23*T23,2) -> 10933.49 | X23: =_xlfn.XLOOKUP($C23,[22]PSP!$C:$C,[22]PSP!X:X) -> 0.043471069 | Y23: =_xlfn.XLOOKUP($C23,[22]PSP!$C:$C,[22]PSP!Y:Y) -> 2273991.7 | Z23: =TRUNC(Y23*X23,2) -> 98852.84 | AB23: =_xlfn.XLOOKUP($C23,[22]PSP!$C:$C,[22]PSP!AB:AB) -> 0.024371147 | AC23: =_xlfn.XLOOKUP($C23,[22]PSP!$C:$C,[22]PSP!AC:AC) -> 2273991.7 | AD23: =TRUNC(AC23*AB23,2) -> 55419.78 | AF23: =_xlfn.XLOOKUP($C23,[22]PSP!$C:$C,[22]PSP!AF:AF) -> 0.027414784 | AG23: =_xlfn.XLOOKUP($C23,[22]PSP!$C:$C,[22]PSP!AG:AG) -> 2273991.7 | AH23: =TRUNC(AG23*AF23,2) -> 62340.99 | AJ23: =_xlfn.XLOOKUP($C23,[22]PSP!$C:$C,[22]PSP!AJ:AJ) -> 0.016872333 | AK23: =_xlfn.XLOOKUP($C23,[22]PSP!$C:$C,[22]PSP!AK:AK) -> 2273991.7 | AL23: =TRUNC(AK23*AJ23,2) -> 38367.54 | AN23: =_xlfn.XLOOKUP($C23,[22]PSP!$C:$C,[22]PSP!AN:AN) -> 0.047838026 | AO23: =_xlfn.XLOOKUP($C23,[22]PSP!$C:$C,[22]PSP!AO:AO) -> 2273991.7 | AP23: =TRUNC(AO23*AN23,2) -> 108783.27 | AR23: =_xlfn.XLOOKUP($C23,[22]PSP!$C:$C,[22]PSP!AR:AR) -> 0.011579052 | AS23: =_xlfn.XLOOKUP($C23,[22]PSP!$C:$C,[22]PSP!AS:AS) -> 2273991.7 | AT23: =TRUNC(AS23*AR23,2) -> 26330.66 | AV23: =_xlfn.XLOOKUP($C23,[22]PSP!$C:$C,[22]PSP!AV:AV) -> 0.031583242 | AW23: =_xlfn.XLOOKUP($C23,[22]PSP!$C:$C,[22]PSP!AW:AW) -> 2273991.7 | AX23: =TRUNC(AW23*AV23,2) -> 71820.03 | AZ23: =_xlfn.XLOOKUP($C23,[22]PSP!$C:$C,[22]PSP!AZ:AZ) -> 0.0062416603 | BA23: =_xlfn.XLOOKUP($C23,[22]PSP!$C:$C,[22]PSP!BA:BA) -> 2273991.7 | BB23: =TRUNC(BA23*AZ23,2) -> 14193.48 | BD23: =_xlfn.XLOOKUP($C23,[22]PSP!$C:$C,[22]PSP!BD:BD) -> 0.058424587 | BE23: =_xlfn.XLOOKUP($C23,[22]PSP!$C:$C,[22]PSP!BE:BE) -> 2273991.7 | BF23: =TRUNC(BE23*BD23,2) -> 132857.02 | BH23: =_xlfn.XLOOKUP($C23,[22]PSP!$C:$C,[22]PSP!BH:BH) -> 0.05566767 | BI23: =_xlfn.XLOOKUP($C23,[22]PSP!$C:$C,[22]PSP!BI:BI) -> 2273991.7 | BJ23: =TRUNC(BI23*BH23,2) -> 126587.81 | BL23: =_xlfn.XLOOKUP($C23,[22]PSP!$C:$C,[22]PSP!BL:BL) -> 0.071349015 | BM23: =_xlfn.XLOOKUP($C23,[22]PSP!$C:$C,[22]PSP!BM:BM) -> 2273991.7 | BN23: =TRUNC(BM23*BL23,2) -> 162247.06 | BP23: =_xlfn.XLOOKUP($C23,[22]PSP!$C:$C,[22]PSP!BP:BP) -> 0.013409645 | BQ23: =_xlfn.XLOOKUP($C23,[22]PSP!$C:$C,[22]PSP!BQ:BQ) -> 2273991.7 | BR23: =TRUNC(BQ23*BP23,2) -> 30493.42 | BT23: =_xlfn.XLOOKUP($C23,[22]PSP!$C:$C,[22]PSP!BT:BT) -> 0.038508618 | BU23: =_xlfn.XLOOKUP($C23,[22]PSP!$C:$C,[22]PSP!BU:BU) -> 2273991.7 | BV23: =TRUNC(BU23*BT23,2) -> 87568.27 | BX23: =_xlfn.XLOOKUP($C23,[22]PSP!$C:$C,[22]PSP!BX:BX) -> 0.031715574 | BY23: =_xlfn.XLOOKUP($C23,[22]PSP!$C:$C,[22]PSP!BY:BY) -> 2273991.7 | BZ23: =TRUNC(BY23*BX23,2) -> 72120.95 | CB23: =_xlfn.XLOOKUP($C23,[22]PSP!$C:$C,[22]PSP!CB:CB) -> 0.035178262 | CC23: =_xlfn.XLOOKUP($C23,[22]PSP!$C:$C,[22]PSP!CC:CC) -> 2273991.7 | CD23: =TRUNC(CC23*CB23,2) -> 79995.07 | CF23: =_xlfn.XLOOKUP($C23,[22]PSP!$C:$C,[22]PSP!CF:CF) -> 0.062284271 | CG23: =_xlfn.XLOOKUP($C23,[22]PSP!$C:$C,[22]PSP!CG:CG) -> 2273991.7 | CH23: =TRUNC(CG23*CF23,2) -> 141633.91 | CJ23: =_xlfn.XLOOKUP($C23,[22]PSP!$C:$C,[22]PSP!CJ:CJ) -> 0.031583242 | CK23: =_xlfn.XLOOKUP($C23,[22]PSP!$C:$C,[22]PSP!CK:CK) -> 2273991.7 | CL23: =TRUNC(CK23*CJ23,2) -> 71820.03 | CN23: =_xlfn.XLOOKUP($C23,[22]PSP!$C:$C,[22]PSP!CN:CN) -> 0.055866168 | CO23: =_xlfn.XLOOKUP($C23,[22]PSP!$C:$C,[22]PSP!CO:CO) -> 2273991.7 | CP23: =TRUNC(CO23*CN23,2) -> 127039.2 | CR23: =_xlfn.XLOOKUP($C23,[22]PSP!$C:$C,[22]PSP!CR:CR) -> 0.060674232 | CS23: =_xlfn.XLOOKUP($C23,[22]PSP!$C:$C,[22]PSP!CS:CS) -> 2273991.7 | CT23: =TRUNC(CS23*CR23,2) -> 137972.69 | CV23: =_xlfn.XLOOKUP($C23,[22]PSP!$C:$C,[22]PSP!CV:CV) -> 0.05632933 | CW23: =_xlfn.XLOOKUP($C23,[22]PSP!$C:$C,[22]PSP!CW:CW) -> 2273991.7 | CX23: =TRUNC(CW23*CV23,2) -> 128092.42 | CZ23: =_xlfn.XLOOKUP($C23,[22]PSP!$C:$C,[22]PSP!CZ:CZ) -> 0.050396445 | DA23: =_xlfn.XLOOKUP($C23,[22]PSP!$C:$C,[22]PSP!DA:DA) -> 2273991.7 | DB23: =TRUNC(DA23*CZ23,2) -> 114601.09 | DD23: =_xlfn.XLOOKUP($C23,[22]PSP!$C:$C,[22]PSP!DD:DD) -> 0.033369725 | DE23: =_xlfn.XLOOKUP($C23,[22]PSP!$C:$C,[22]PSP!DE:DE) -> 2273991.7 | DF23: =TRUNC(DE23*DD23,2) -> 75882.47 | DH23: =_xlfn.XLOOKUP($C23,[22]PSP!$C:$C,[22]PSP!DH:DH) -> 0.0058667196 | DI23: =_xlfn.XLOOKUP($C23,[22]PSP!$C:$C,[22]PSP!DI:DI) -> 2273991.7 | DJ23: =TRUNC(DI23*DH23,2) -> 13340.87 | DL23: =_xlfn.XLOOKUP($C23,[22]PSP!$C:$C,[22]PSP!DL:DL) -> 0.0033744665 | DM23: =_xlfn.XLOOKUP($C23,[22]PSP!$C:$C,[22]PSP!DM:DM) -> 2273991.7 | DN23: =TRUNC(DM23*DL23,2) -> 7673.5 | DP23: =_xlfn.XLOOKUP($C23,[22]PSP!$C:$C,[22]PSP!DP:DP) -> 0.018195653 | DQ23: =_xlfn.XLOOKUP($C23,[22]PSP!$C:$C,[22]PSP!DQ:DQ) -> 2273991.7 | DR23: =TRUNC(DQ23*DP23,2) -> 41376.76 | DT23: =_xlfn.XLOOKUP($C23,[22]PSP!$C:$C,[22]PSP!DT:DT) -> 0.017953044 | DU23: =_xlfn.XLOOKUP($C23,[22]PSP!$C:$C,[22]PSP!DU:DU) -> 2273991.7 | DV23: =TRUNC(DU23*DT23,2) -> 40825.07 | DX23: =_xlfn.XLOOKUP($C23,[22]PSP!$C:$C,[22]PSP!DX:DX) -> 0.010674783 | DY23: =_xlfn.XLOOKUP($C23,[22]PSP!$C:$C,[22]PSP!DY:DY) -> 2273991.7 | DZ23: =TRUNC(DY23*DX23,2) -> 24274.36 | EB23: =_xlfn.XLOOKUP($C23,[22]PSP!$C:$C,[22]PSP!EB:EB) -> 0.022739052 | EC23: =_xlfn.XLOOKUP($C23,[22]PSP!$C:$C,[22]PSP!EC:EC) -> 2273991.7 | ED23: =TRUNC(EC23*EB23,2) -> 51708.41 | EF23: =_xlfn.XLOOKUP($C23,[22]PSP!$C:$C,[22]PSP!EF:EF) -> 0.004488261 | EG23: =_xlfn.XLOOKUP($C23,[22]PSP!$C:$C,[22]PSP!EG:EG) -> 2273991.7 | EH23: =TRUNC(EG23*EF23,2) -> 10206.26 | EJ23: =_xlfn.XLOOKUP($C23,[22]PSP!$C:$C,[22]PSP!EJ:EJ) -> 0.023158104 | EK23: =_xlfn.XLOOKUP($C23,[22]PSP!$C:$C,[22]PSP!EK:EK) -> 2273991.7 | EL23: =TRUNC(EK23*EJ23,2) -> 52661.33 | EO23: =EL23+EH23+ED23+DZ23+DV23+DR23+DN23+DJ23+DF23+DB23+CX23+CT23+CP23+CL23+CH23+CD23+BZ23+BV23+BR23+BN23+BJ23+BF23+BB23+AX23+AT23+AP23+AL23+AH23+AD23+Z23+V23+R23+N23 -> 2273991.5 | EP23: =I23 -> 2273991.5 | EQ23: =EP23=EO23 -> TRUE
C24: 3.2 | D24: =_xlfn.XLOOKUP($C24,[22]PSP!$C:$C,[22]PSP!D:D) -> COMP_02003 | E24: =_xlfn.XLOOKUP($C24,[22]PSP!$C:$C,[22]PSP!E:E) -> COMPOSIÇÃO | F24: =_xlfn.XLOOKUP($C24,[22]PSP!$C:$C,[22]PSP!F:F) -> DESMOBILIZAÇÃO DE MÃO DE OBRA E EQUIPAMENTOS | G24: =_xlfn.XLOOKUP($C24,[22]PSP!$C:$C,[22]PSP!G:G) -> UN | H24: =_xlfn.XLOOKUP($C24,[22]PSP!$C:$C,[22]PSP!H:H) -> 1 | I24: =_xlfn.XLOOKUP($C24,[22]PSP!$C:$C,[22]PSP!I:I) -> 2273991.5 | J24: =_xlfn.XLOOKUP($C24,[22]PSP!$C:$C,[22]PSP!J:J) -> 2799511 | L24: =_xlfn.XLOOKUP($C24,[22]PSP!$C:$C,[22]PSP!L:L) -> 0.020930515 | M24: =_xlfn.XLOOKUP($C24,[22]PSP!$C:$C,[22]PSP!M:M) -> 2273991.7 | N24: =TRUNC(M24*L24,2) -> 47595.81 | P24: =_xlfn.XLOOKUP($C24,[22]PSP!$C:$C,[22]PSP!P:P) -> 0.0036832413 | Q24: =_xlfn.XLOOKUP($C24,[22]PSP!$C:$C,[22]PSP!Q:Q) -> 2273991.7 | R24: =TRUNC(Q24*P24,2) -> 8375.66 | T24: =_xlfn.XLOOKUP($C24,[22]PSP!$C:$C,[22]PSP!T:T) -> 0.0048080634 | U24: =_xlfn.XLOOKUP($C24,[22]PSP!$C:$C,[22]PSP!U:U) -> 2273991.7 | V24: =TRUNC(U24*T24,2) -> 10933.49 | X24: =_xlfn.XLOOKUP($C24,[22]PSP!$C:$C,[22]PSP!X:X) -> 0.043471069 | Y24: =_xlfn.XLOOKUP($C24,[22]PSP!$C:$C,[22]PSP!Y:Y) -> 2273991.7 | Z24: =TRUNC(Y24*X24,2) -> 98852.84 | AB24: =_xlfn.XLOOKUP($C24,[22]PSP!$C:$C,[22]PSP!AB:AB) -> 0.024371147 | AC24: =_xlfn.XLOOKUP($C24,[22]PSP!$C:$C,[22]PSP!AC:AC) -> 2273991.7 | AD24: =TRUNC(AC24*AB24,2) -> 55419.78 | AF24: =_xlfn.XLOOKUP($C24,[22]PSP!$C:$C,[22]PSP!AF:AF) -> 0.027414784 | AG24: =_xlfn.XLOOKUP($C24,[22]PSP!$C:$C,[22]PSP!AG:AG) -> 2273991.7 | AH24: =TRUNC(AG24*AF24,2) -> 62340.99 | AJ24: =_xlfn.XLOOKUP($C24,[22]PSP!$C:$C,[22]PSP!AJ:AJ) -> 0.016872333 | AK24: =_xlfn.XLOOKUP($C24,[22]PSP!$C:$C,[22]PSP!AK:AK) -> 2273991.7 | AL24: =TRUNC(AK24*AJ24,2) -> 38367.54 | AN24: =_xlfn.XLOOKUP($C24,[22]PSP!$C:$C,[22]PSP!AN:AN) -> 0.047838026 | AO24: =_xlfn.XLOOKUP($C24,[22]PSP!$C:$C,[22]PSP!AO:AO) -> 2273991.7 | AP24: =TRUNC(AO24*AN24,2) -> 108783.27 | AR24: =_xlfn.XLOOKUP($C24,[22]PSP!$C:$C,[22]PSP!AR:AR) -> 0.011579052 | AS24: =_xlfn.XLOOKUP($C24,[22]PSP!$C:$C,[22]PSP!AS:AS) -> 2273991.7 | AT24: =TRUNC(AS24*AR24,2) -> 26330.66 | AV24: =_xlfn.XLOOKUP($C24,[22]PSP!$C:$C,[22]PSP!AV:AV) -> 0.031583242 | AW24: =_xlfn.XLOOKUP($C24,[22]PSP!$C:$C,[22]PSP!AW:AW) -> 2273991.7 | AX24: =TRUNC(AW24*AV24,2) -> 71820.03 | AZ24: =_xlfn.XLOOKUP($C24,[22]PSP!$C:$C,[22]PSP!AZ:AZ) -> 0.0062416603 | BA24: =_xlfn.XLOOKUP($C24,[22]PSP!$C:$C,[22]PSP!BA:BA) -> 2273991.7 | BB24: =TRUNC(BA24*AZ24,2) -> 14193.48 | BD24: =_xlfn.XLOOKUP($C24,[22]PSP!$C:$C,[22]PSP!BD:BD) -> 0.058424587 | BE24: =_xlfn.XLOOKUP($C24,[22]PSP!$C:$C,[22]PSP!BE:BE) -> 2273991.7 | BF24: =TRUNC(BE24*BD24,2) -> 132857.02 | BH24: =_xlfn.XLOOKUP($C24,[22]PSP!$C:$C,[22]PSP!BH:BH) -> 0.05566767 | BI24: =_xlfn.XLOOKUP($C24,[22]PSP!$C:$C,[22]PSP!BI:BI) -> 2273991.7 | BJ24: =TRUNC(BI24*BH24,2) -> 126587.81 | BL24: =_xlfn.XLOOKUP($C24,[22]PSP!$C:$C,[22]PSP!BL:BL) -> 0.071349015 | BM24: =_xlfn.XLOOKUP($C24,[22]PSP!$C:$C,[22]PSP!BM:BM) -> 2273991.7 | BN24: =TRUNC(BM24*BL24,2) -> 162247.06 | BP24: =_xlfn.XLOOKUP($C24,[22]PSP!$C:$C,[22]PSP!BP:BP) -> 0.013409645 | BQ24: =_xlfn.XLOOKUP($C24,[22]PSP!$C:$C,[22]PSP!BQ:BQ) -> 2273991.7 | BR24: =TRUNC(BQ24*BP24,2) -> 30493.42 | BT24: =_xlfn.XLOOKUP($C24,[22]PSP!$C:$C,[22]PSP!BT:BT) -> 0.038508618 | BU24: =_xlfn.XLOOKUP($C24,[22]PSP!$C:$C,[22]PSP!BU:BU) -> 2273991.7 | BV24: =TRUNC(BU24*BT24,2) -> 87568.27 | BX24: =_xlfn.XLOOKUP($C24,[22]PSP!$C:$C,[22]PSP!BX:BX) -> 0.031715574 | BY24: =_xlfn.XLOOKUP($C24,[22]PSP!$C:$C,[22]PSP!BY:BY) -> 2273991.7 | BZ24: =TRUNC(BY24*BX24,2) -> 72120.95 | CB24: =_xlfn.XLOOKUP($C24,[22]PSP!$C:$C,[22]PSP!CB:CB) -> 0.035178262 | CC24: =_xlfn.XLOOKUP($C24,[22]PSP!$C:$C,[22]PSP!CC:CC) -> 2273991.7 | CD24: =TRUNC(CC24*CB24,2) -> 79995.07 | CF24: =_xlfn.XLOOKUP($C24,[22]PSP!$C:$C,[22]PSP!CF:CF) -> 0.062284271 | CG24: =_xlfn.XLOOKUP($C24,[22]PSP!$C:$C,[22]PSP!CG:CG) -> 2273991.7 | CH24: =TRUNC(CG24*CF24,2) -> 141633.91 | CJ24: =_xlfn.XLOOKUP($C24,[22]PSP!$C:$C,[22]PSP!CJ:CJ) -> 0.031583242 | CK24: =_xlfn.XLOOKUP($C24,[22]PSP!$C:$C,[22]PSP!CK:CK) -> 2273991.7 | CL24: =TRUNC(CK24*CJ24,2) -> 71820.03 | CN24: =_xlfn.XLOOKUP($C24,[22]PSP!$C:$C,[22]PSP!CN:CN) -> 0.055866168 | CO24: =_xlfn.XLOOKUP($C24,[22]PSP!$C:$C,[22]PSP!CO:CO) -> 2273991.7 | CP24: =TRUNC(CO24*CN24,2) -> 127039.2 | CR24: =_xlfn.XLOOKUP($C24,[22]PSP!$C:$C,[22]PSP!CR:CR) -> 0.060674232 | CS24: =_xlfn.XLOOKUP($C24,[22]PSP!$C:$C,[22]PSP!CS:CS) -> 2273991.7 | CT24: =TRUNC(CS24*CR24,2) -> 137972.69 | CV24: =_xlfn.XLOOKUP($C24,[22]PSP!$C:$C,[22]PSP!CV:CV) -> 0.05632933 | CW24: =_xlfn.XLOOKUP($C24,[22]PSP!$C:$C,[22]PSP!CW:CW) -> 2273991.7 | CX24: =TRUNC(CW24*CV24,2) -> 128092.42 | CZ24: =_xlfn.XLOOKUP($C24,[22]PSP!$C:$C,[22]PSP!CZ:CZ) -> 0.050396445 | DA24: =_xlfn.XLOOKUP($C24,[22]PSP!$C:$C,[22]PSP!DA:DA) -> 2273991.7 | DB24: =TRUNC(DA24*CZ24,2) -> 114601.09 | DD24: =_xlfn.XLOOKUP($C24,[22]PSP!$C:$C,[22]PSP!DD:DD) -> 0.033369725 | DE24: =_xlfn.XLOOKUP($C24,[22]PSP!$C:$C,[22]PSP!DE:DE) -> 2273991.7 | DF24: =TRUNC(DE24*DD24,2) -> 75882.47 | DH24: =_xlfn.XLOOKUP($C24,[22]PSP!$C:$C,[22]PSP!DH:DH) -> 0.0058667196 | DI24: =_xlfn.XLOOKUP($C24,[22]PSP!$C:$C,[22]PSP!DI:DI) -> 2273991.7 | DJ24: =TRUNC(DI24*DH24,2) -> 13340.87 | DL24: =_xlfn.XLOOKUP($C24,[22]PSP!$C:$C,[22]PSP!DL:DL) -> 0.0033744665 | DM24: =_xlfn.XLOOKUP($C24,[22]PSP!$C:$C,[22]PSP!DM:DM) -> 2273991.7 | DN24: =TRUNC(DM24*DL24,2) -> 7673.5 | DP24: =_xlfn.XLOOKUP($C24,[22]PSP!$C:$C,[22]PSP!DP:DP) -> 0.018195653 | DQ24: =_xlfn.XLOOKUP($C24,[22]PSP!$C:$C,[22]PSP!DQ:DQ) -> 2273991.7 | DR24: =TRUNC(DQ24*DP24,2) -> 41376.76 | DT24: =_xlfn.XLOOKUP($C24,[22]PSP!$C:$C,[22]PSP!DT:DT) -> 0.017953044 | DU24: =_xlfn.XLOOKUP($C24,[22]PSP!$C:$C,[22]PSP!DU:DU) -> 2273991.7 | DV24: =TRUNC(DU24*DT24,2) -> 40825.07 | DX24: =_xlfn.XLOOKUP($C24,[22]PSP!$C:$C,[22]PSP!DX:DX) -> 0.010674783 | DY24: =_xlfn.XLOOKUP($C24,[22]PSP!$C:$C,[22]PSP!DY:DY) -> 2273991.7 | DZ24: =TRUNC(DY24*DX24,2) -> 24274.36 | EB24: =_xlfn.XLOOKUP($C24,[22]PSP!$C:$C,[22]PSP!EB:EB) -> 0.022739052 | EC24: =_xlfn.XLOOKUP($C24,[22]PSP!$C:$C,[22]PSP!EC:EC) -> 2273991.7 | ED24: =TRUNC(EC24*EB24,2) -> 51708.41 | EF24: =_xlfn.XLOOKUP($C24,[22]PSP!$C:$C,[22]PSP!EF:EF) -> 0.004488261 | EG24: =_xlfn.XLOOKUP($C24,[22]PSP!$C:$C,[22]PSP!EG:EG) -> 2273991.7 | EH24: =TRUNC(EG24*EF24,2) -> 10206.26 | EJ24: =_xlfn.XLOOKUP($C24,[22]PSP!$C:$C,[22]PSP!EJ:EJ) -> 0.023158104 | EK24: =_xlfn.XLOOKUP($C24,[22]PSP!$C:$C,[22]PSP!EK:EK) -> 2273991.7 | EL24: =TRUNC(EK24*EJ24,2) -> 52661.33 | EO24: =EL24+EH24+ED24+DZ24+DV24+DR24+DN24+DJ24+DF24+DB24+CX24+CT24+CP24+CL24+CH24+CD24+BZ24+BV24+BR24+BN24+BJ24+BF24+BB24+AX24+AT24+AP24+AL24+AH24+AD24+Z24+V24+R24+N24 -> 2273991.5 | EP24: =I24 -> 2273991.5 | EQ24: =EP24=EO24 -> TRUE
C25: 4.0 | F25: PROJETO EXECUTIVO | I25: =SUM(I26:I36) -> 30763349 | J25: =SUM(J26:J36) -> 37872759 | EO25: =EL25+EH25+ED25+DZ25+DV25+DR25+DN25+DJ25+DF25+DB25+CX25+CT25+CP25+CL25+CH25+CD25+BZ25+BV25+BR25+BN25+BJ25+BF25+BB25+AX25+AT25+AP25+AL25+AH25+AD25+Z25+V25+R25+N25 -> 0 | EP25: =I25 -> 30763349 | EQ25: =EP25=EO25 -> FALSE
C26: 4.1 | D26: =_xlfn.XLOOKUP($C26,[22]PSP!$C:$C,[22]PSP!D:D) -> COMP_00003 | E26: =_xlfn.XLOOKUP($C26,[22]PSP!$C:$C,[22]PSP!E:E) -> COMPOSIÇÃO | F26: =_xlfn.XLOOKUP($C26,[22]PSP!$C:$C,[22]PSP!F:F) -> PROJETO EXECUTIVO: TRABALHOS INICIAIS | G26: =_xlfn.XLOOKUP($C26,[22]PSP!$C:$C,[22]PSP!G:G) -> CJ | H26: =_xlfn.XLOOKUP($C26,[22]PSP!$C:$C,[22]PSP!H:H) -> 1 | I26: =_xlfn.XLOOKUP($C26,[22]PSP!$C:$C,[22]PSP!I:I) -> 2405705.4 | J26: =_xlfn.XLOOKUP($C26,[22]PSP!$C:$C,[22]PSP!J:J) -> 2961663.9 | L26: =_xlfn.XLOOKUP($C26,[22]PSP!$C:$C,[22]PSP!L:L) -> 0.020930515 | M26: =_xlfn.XLOOKUP($C26,[22]PSP!$C:$C,[22]PSP!M:M) -> 2405705.5 | N26: =TRUNC(M26*L26,2) -> 50352.65 | P26: =_xlfn.XLOOKUP($C26,[22]PSP!$C:$C,[22]PSP!P:P) -> 0.0036832413 | Q26: =_xlfn.XLOOKUP($C26,[22]PSP!$C:$C,[22]PSP!Q:Q) -> 2405705.5 | R26: =TRUNC(Q26*P26,2) -> 8860.79 | T26: =_xlfn.XLOOKUP($C26,[22]PSP!$C:$C,[22]PSP!T:T) -> 0.0048080634 | U26: =_xlfn.XLOOKUP($C26,[22]PSP!$C:$C,[22]PSP!U:U) -> 2405705.5 | V26: =TRUNC(U26*T26,2) -> 11566.78 | X26: =_xlfn.XLOOKUP($C26,[22]PSP!$C:$C,[22]PSP!X:X) -> 0.043471069 | Y26: =_xlfn.XLOOKUP($C26,[22]PSP!$C:$C,[22]PSP!Y:Y) -> 2405705.5 | Z26: =TRUNC(Y26*X26,2) -> 104578.59 | AB26: =_xlfn.XLOOKUP($C26,[22]PSP!$C:$C,[22]PSP!AB:AB) -> 0.024371147 | AC26: =_xlfn.XLOOKUP($C26,[22]PSP!$C:$C,[22]PSP!AC:AC) -> 2405705.5 | AD26: =TRUNC(AC26*AB26,2) -> 58629.8 | AF26: =_xlfn.XLOOKUP($C26,[22]PSP!$C:$C,[22]PSP!AF:AF) -> 0.027414784 | AG26: =_xlfn.XLOOKUP($C26,[22]PSP!$C:$C,[22]PSP!AG:AG) -> 2405705.5 | AH26: =TRUNC(AG26*AF26,2) -> 65951.89 | AJ26: =_xlfn.XLOOKUP($C26,[22]PSP!$C:$C,[22]PSP!AJ:AJ) -> 0.016872333 | AK26: =_xlfn.XLOOKUP($C26,[22]PSP!$C:$C,[22]PSP!AK:AK) -> 2405705.5 | AL26: =TRUNC(AK26*AJ26,2) -> 40589.86 | AN26: =_xlfn.XLOOKUP($C26,[22]PSP!$C:$C,[22]PSP!AN:AN) -> 0.047838026 | AO26: =_xlfn.XLOOKUP($C26,[22]PSP!$C:$C,[22]PSP!AO:AO) -> 2405705.5 | AP26: =TRUNC(AO26*AN26,2) -> 115084.2 | AR26: =_xlfn.XLOOKUP($C26,[22]PSP!$C:$C,[22]PSP!AR:AR) -> 0.011579052 | AS26: =_xlfn.XLOOKUP($C26,[22]PSP!$C:$C,[22]PSP!AS:AS) -> 2405705.5 | AT26: =TRUNC(AS26*AR26,2) -> 27855.78 | AV26: =_xlfn.XLOOKUP($C26,[22]PSP!$C:$C,[22]PSP!AV:AV) -> 0.031583242 | AW26: =_xlfn.XLOOKUP($C26,[22]PSP!$C:$C,[22]PSP!AW:AW) -> 2405705.5 | AX26: =TRUNC(AW26*AV26,2) -> 75979.98 | AZ26: =_xlfn.XLOOKUP($C26,[22]PSP!$C:$C,[22]PSP!AZ:AZ) -> 0.0062416603 | BA26: =_xlfn.XLOOKUP($C26,[22]PSP!$C:$C,[22]PSP!BA:BA) -> 2405705.5 | BB26: =TRUNC(BA26*AZ26,2) -> 15015.59 | BD26: =_xlfn.XLOOKUP($C26,[22]PSP!$C:$C,[22]PSP!BD:BD) -> 0.058424587 | BE26: =_xlfn.XLOOKUP($C26,[22]PSP!$C:$C,[22]PSP!BE:BE) -> 2405705.5 | BF26: =TRUNC(BE26*BD26,2) -> 140552.35 | BH26: =_xlfn.XLOOKUP($C26,[22]PSP!$C:$C,[22]PSP!BH:BH) -> 0.05566767 | BI26: =_xlfn.XLOOKUP($C26,[22]PSP!$C:$C,[22]PSP!BI:BI) -> 2405705.5 | BJ26: =TRUNC(BI26*BH26,2) -> 133920.02 | BL26: =_xlfn.XLOOKUP($C26,[22]PSP!$C:$C,[22]PSP!BL:BL) -> 0.071349015 | BM26: =_xlfn.XLOOKUP($C26,[22]PSP!$C:$C,[22]PSP!BM:BM) -> 2405705.5 | BN26: =TRUNC(BM26*BL26,2) -> 171644.71 | BP26: =_xlfn.XLOOKUP($C26,[22]PSP!$C:$C,[22]PSP!BP:BP) -> 0.013409645 | BQ26: =_xlfn.XLOOKUP($C26,[22]PSP!$C:$C,[22]PSP!BQ:BQ) -> 2405705.5 | BR26: =TRUNC(BQ26*BP26,2) -> 32259.65 | BT26: =_xlfn.XLOOKUP($C26,[22]PSP!$C:$C,[22]PSP!BT:BT) -> 0.038508618 | BU26: =_xlfn.XLOOKUP($C26,[22]PSP!$C:$C,[22]PSP!BU:BU) -> 2405705.5 | BV26: =TRUNC(BU26*BT26,2) -> 92640.39 | BX26: =_xlfn.XLOOKUP($C26,[22]PSP!$C:$C,[22]PSP!BX:BX) -> 0.031715574 | BY26: =_xlfn.XLOOKUP($C26,[22]PSP!$C:$C,[22]PSP!BY:BY) -> 2405705.5 | BZ26: =TRUNC(BY26*BX26,2) -> 76298.33 | CB26: =_xlfn.XLOOKUP($C26,[22]PSP!$C:$C,[22]PSP!CB:CB) -> 0.035178262 | CC26: =_xlfn.XLOOKUP($C26,[22]PSP!$C:$C,[22]PSP!CC:CC) -> 2405705.5 | CD26: =TRUNC(CC26*CB26,2) -> 84628.54 | CF26: =_xlfn.XLOOKUP($C26,[22]PSP!$C:$C,[22]PSP!CF:CF) -> 0.062284271 | CG26: =_xlfn.XLOOKUP($C26,[22]PSP!$C:$C,[22]PSP!CG:CG) -> 2405705.5 | CH26: =TRUNC(CG26*CF26,2) -> 149837.61 | CJ26: =_xlfn.XLOOKUP($C26,[22]PSP!$C:$C,[22]PSP!CJ:CJ) -> 0.031583242 | CK26: =_xlfn.XLOOKUP($C26,[22]PSP!$C:$C,[22]PSP!CK:CK) -> 2405705.5 | CL26: =TRUNC(CK26*CJ26,2) -> 75979.98 | CN26: =_xlfn.XLOOKUP($C26,[22]PSP!$C:$C,[22]PSP!CN:CN) -> 0.055866168 | CO26: =_xlfn.XLOOKUP($C26,[22]PSP!$C:$C,[22]PSP!CO:CO) -> 2405705.5 | CP26: =TRUNC(CO26*CN26,2) -> 134397.54 | CR26: =_xlfn.XLOOKUP($C26,[22]PSP!$C:$C,[22]PSP!CR:CR) -> 0.060674232 | CS26: =_xlfn.XLOOKUP($C26,[22]PSP!$C:$C,[22]PSP!CS:CS) -> 2405705.5 | CT26: =TRUNC(CS26*CR26,2) -> 145964.33 | CV26: =_xlfn.XLOOKUP($C26,[22]PSP!$C:$C,[22]PSP!CV:CV) -> 0.05632933 | CW26: =_xlfn.XLOOKUP($C26,[22]PSP!$C:$C,[22]PSP!CW:CW) -> 2405705.5 | CX26: =TRUNC(CW26*CV26,2) -> 135511.78 | CZ26: =_xlfn.XLOOKUP($C26,[22]PSP!$C:$C,[22]PSP!CZ:CZ) -> 0.050396445 | DA26: =_xlfn.XLOOKUP($C26,[22]PSP!$C:$C,[22]PSP!DA:DA) -> 2405705.5 | DB26: =TRUNC(DA26*CZ26,2) -> 121239 | DD26: =_xlfn.XLOOKUP($C26,[22]PSP!$C:$C,[22]PSP!DD:DD) -> 0.033369725 | DE26: =_xlfn.XLOOKUP($C26,[22]PSP!$C:$C,[22]PSP!DE:DE) -> 2405705.5 | DF26: =TRUNC(DE26*DD26,2) -> 80277.73 | DH26: =_xlfn.XLOOKUP($C26,[22]PSP!$C:$C,[22]PSP!DH:DH) -> 0.0058667196 | DI26: =_xlfn.XLOOKUP($C26,[22]PSP!$C:$C,[22]PSP!DI:DI) -> 2405705.5 | DJ26: =TRUNC(DI26*DH26,2) -> 14113.59 | DL26: =_xlfn.XLOOKUP($C26,[22]PSP!$C:$C,[22]PSP!DL:DL) -> 0.0033744665 | DM26: =_xlfn.XLOOKUP($C26,[22]PSP!$C:$C,[22]PSP!DM:DM) -> 2405705.5 | DN26: =TRUNC(DM26*DL26,2) -> 8117.97 | DP26: =_xlfn.XLOOKUP($C26,[22]PSP!$C:$C,[22]PSP!DP:DP) -> 0.018195653 | DQ26: =_xlfn.XLOOKUP($C26,[22]PSP!$C:$C,[22]PSP!DQ:DQ) -> 2405705.5 | DR26: =TRUNC(DQ26*DP26,2) -> 43773.38 | DT26: =_xlfn.XLOOKUP($C26,[22]PSP!$C:$C,[22]PSP!DT:DT) -> 0.017953044 | DU26: =_xlfn.XLOOKUP($C26,[22]PSP!$C:$C,[22]PSP!DU:DU) -> 2405705.5 | DV26: =TRUNC(DU26*DT26,2) -> 43189.73 | DX26: =_xlfn.XLOOKUP($C26,[22]PSP!$C:$C,[22]PSP!DX:DX) -> 0.010674783 | DY26: =_xlfn.XLOOKUP($C26,[22]PSP!$C:$C,[22]PSP!DY:DY) -> 2405705.5 | DZ26: =TRUNC(DY26*DX26,2) -> 25680.38 | EB26: =_xlfn.XLOOKUP($C26,[22]PSP!$C:$C,[22]PSP!EB:EB) -> 0.022739052 | EC26: =_xlfn.XLOOKUP($C26,[22]PSP!$C:$C,[22]PSP!EC:EC) -> 2405705.5 | ED26: =TRUNC(EC26*EB26,2) -> 54703.46 | EF26: =_xlfn.XLOOKUP($C26,[22]PSP!$C:$C,[22]PSP!EF:EF) -> 0.004488261 | EG26: =_xlfn.XLOOKUP($C26,[22]PSP!$C:$C,[22]PSP!EG:EG) -> 2405705.5 | EH26: =TRUNC(EG26*EF26,2) -> 10797.43 | EJ26: =_xlfn.XLOOKUP($C26,[22]PSP!$C:$C,[22]PSP!EJ:EJ) -> 0.023158104 | EK26: =_xlfn.XLOOKUP($C26,[22]PSP!$C:$C,[22]PSP!EK:EK) -> 2405705.5 | EL26: =TRUNC(EK26*EJ26,2) -> 55711.57 | EO26: =EL26+EH26+ED26+DZ26+DV26+DR26+DN26+DJ26+DF26+DB26+CX26+CT26+CP26+CL26+CH26+CD26+BZ26+BV26+BR26+BN26+BJ26+BF26+BB26+AX26+AT26+AP26+AL26+AH26+AD26+Z26+V26+R26+N26 -> 2405705.4 | EP26: =I26 -> 2405705.4 | EQ26: =EP26=EO26 -> TRUE
