Workbook
Name _RC: #REF!
Name a: #REF!
Name A: 'Sistemas-Manutenção'!$F$122
Name BDI: #REF!
Name BDI: #REF!
Name BDI: #REF!
Name BDI_M: BDI!$L$34
Name BDI_S: BDI!$L$33
Name BDIM: #REF!
Name BDIM: #REF!
Name CNT: #REF!
Name D: 'Sistemas-Manutenção'!$F$123
Name DMT_BG: #REF!
Name DMT_BG: #REF!
Name DMT_MB: #REF!
Name DMT_MB: #REF!
Name DMT_MB: #REF!
Name DMT_MD: #REF!
Name DMT_MD: #REF!
Name DMT_MD: #REF!
Name DMT_MJ: #REF!
Name DMT_MJ: #REF!
Name EEq_trecho: OFFSET(#REF!,0,0,COUNTA(#REF!),1)
Name ENC: #REF!
Name Enc: #REF!
Name Enc: #REF!
Name Func: #REF!
Name Func: #REF!
Name Func: Funções!$D$8:$K$156
Name G: 'Sistemas-Manutenção'!$F$124
Name IND: 'Sistemas-Manutenção'!$O$16
Name INDIRETO: 'Sistemas-Manutenção'!$O$16
Name Par: #REF!
Name Par: #REF!
Name PAR: #REF!
Name Par: 'Sistemas - Cotações'!$E$7:$L$98
Name RiskAutoStopPercChange: 1.5
Name RiskCollectDistributionSamples: 2
Name RiskExcelReportsGoInNewWorkbook: TRUE
Name RiskExcelReportsToGenerate: 0
Name RiskFixedSeed: 1
Name RiskGenerateExcelReportsAtEndOfSimulation: FALSE
Name RiskHasSettings: TRUE
Name RiskMinimizeOnStart: FALSE
Name RiskMonitorConvergence: FALSE
Name RiskNumIterations: 1000
Name RiskNumSimulations: 1
Name RiskPauseOnError: FALSE
Name RiskRealTimeResults: FALSE
Name RiskReportGraphFormat: 0
Name RiskResultsUpdateFreq: 100
Name RiskRunAfterRecalcMacro: FALSE
Name RiskRunAfterSimMacro: FALSE
Name RiskRunBeforeRecalcMacro: FALSE
Name RiskRunBeforeSimMacro: FALSE
Name RiskSamplingType: 3
Name RiskShowRiskWindowAtEndOfSimulation: TRUE
Name RiskStandardRecalc: 1
Name RiskTemplateSheetName: "myTemplate"
Name RiskUpdateDisplay: FALSE

Sheet Quadro 5 Cronograma PER
B5: QUADRO 5 - CRONOGRAMA DO PROGRAMA DE EXPLORAÇÃO DA RODOVIA
F9: CRONOGRAMA FINANCEIRO | N9: CRONOGRAMA FINANCEIRO | W9: CRONOGRAMA FINANCEIRO | AL9: CRONOGRAMA FÍSICO | AY9: CRONOGRAMA FÍSICO
C10: ITEM | D10: DESCRIÇÃO | E10: VALOR (R$) | F10: VALORES EM R$ | P10: VALORES EM R$ | Z10: VALORES EM R$ | AL10: VALORES PERCENTUAIS | BA10: VALORES PERCENTUAIS
F11: 1º ANO | G11: 2º ANO | H11: 3º ANO | I11: 4º ANO | J11: 5º ANO | K11: 6º ANO | L11: 7º ANO | M11: 8º ANO | N11: 9º ANO | O11: 10º ANO | P11: 11º ANO | Q11: 12º ANO | R11: 13º ANO | S11: 14º ANO | T11: 15º ANO | U11: 16º ANO | V11: 17º ANO | W11: 18º ANO | X11: 19º ANO | Y11: 20º ANO | Z11: 21º ANO | AA11: 22º ANO | AB11: 23º ANO | AC11: 24º ANO | AD11: 25º ANO | AE11: 26º ANO | AF11: 27º ANO | AG11: 28º ANO | AH11: 29º ANO | AI11: 30º ANO | AJ11: TOTAL | AL11: 1º ANO | AM11: 2º ANO | AN11: 3º ANO | AO11: 4º ANO | AP11: 5º ANO | AQ11: 6º ANO | AR11: 7º ANO | AS11: 8º ANO | AT11: 9º ANO | AU11: 10º ANO | AV11: 11º ANO | AW11: 12º ANO | AX11: 13º ANO | AY11: 14º ANO | AZ11: 15º ANO | BA11: 16º ANO | BB11: 17º ANO | BC11: 18º ANO | BD11: 19º ANO | BE11: 20º ANO | BF11: 21º ANO | BG11: 22º ANO | BH11: 23º ANO | BI11: 24º ANO | BJ11: 25º ANO | BK11: 26º ANO | BL11: 27º ANO | BM11: 28º ANO | BN11: 29º ANO | BO11: 30º ANO | BP11: TOTAL
C13: A | D13: CAPEX | E13: =E14+E26+E38+E46+E67+E70 -> #N/A | F13: =F14+F26+F38+F46+F67+F70 -> #N/A | G13: =G14+G26+G38+G46+G67+G70 -> #N/A | H13: =H14+H26+H38+H46+H67+H70 -> #N/A | I13: =I14+I26+I38+I46+I67+I70 -> #N/A | J13: =J14+J26+J38+J46+J67+J70 -> #N/A | K13: =K14+K26+K38+K46+K67+K70 -> #N/A | L13: =L14+L26+L38+L46+L67+L70 -> #N/A | ... AI13: =AI14+AI26+AI38+AI46+AI67+AI70 -> #N/A | AJ13: =SUM(F13:AI13) -> #N/A | AL13: =F13/$E13 -> #N/A | AM13: =G13/$E13 -> #N/A | AN13: =H13/$E13 -> #N/A | AO13: =I13/$E13 -> #N/A | AP13: =J13/$E13 -> #N/A | AQ13: =K13/$E13 -> #N/A | AR13: =L13/$E13 -> #N/A | AS13: =M13/$E13 -> #N/A | ... BO13: =AI13/$E13 -> #N/A | BP13: =SUM(AL13:BO13) -> #N/A | BT13: 1.66
C14: 1 | D14: TRABALHOS INICIAIS | E14: =SUM(E15:E25) -> 17933283 | F14: =SUM(F15:F25) -> 17933283 | G14: =SUM(G15:G25) -> 0 | H14: =SUM(H15:H25) -> 0 | I14: =SUM(I15:I25) -> 0 | J14: =SUM(J15:J25) -> 0 | K14: =SUM(K15:K25) -> 0 | L14: =SUM(L15:L25) -> 0 | ... AI14: =SUM(AI15:AI25) -> 0 | AJ14: =SUM(F14:AI14) -> 17933283 | AL14: =F14/$E14 -> 1 | BP14: =SUM(AL14:BO14) -> 1
B15: INV | C15: 1.1 | D15: PAVIMENTO | E15: =BS15 -> 14526265 | F15: =$E15*AL15 -> 14526265 | AJ15: =SUM(F15:AI15) -> 14526265 | AL15: 1 | BP15: =SUM(AL15:BO15) -> 1 | BR15: 14806322 | BS15: =(BR15/$BT$16*$BT$15*3)*BT13 -> 14526265 | BT15: 71.7 | BU15: km eq mg424
B16: INV | C16: 1.2 | D16: OBRAS-DE-ARTE ESPECIAIS | E16: =BS16 -> 617169.6 | F16: =$E16*AL16 -> 617169.6 | AJ16: =SUM(F16:AI16) -> 617169.6 | AL16: 1 | BP16: =SUM(AL16:BO16) -> 1 | BR16: 629068.22 | BS16: =(BR16/$BT$16*$BT$15*3)*BT13 -> 617169.6 | BT16: 363.95 | BU16: km eq br135
B17: INV | C17: 1.3 | D17: DRENAGEM E OBRAS-DE-ARTE CORRENTES | E17: =BS17 -> 264743.15 | F17: =$E17*AL17 -> 264743.15 | AJ17: =SUM(F17:AI17) -> 264743.15 | AL17: 1 | BP17: =SUM(AL17:BO17) -> 1 | BR17: 269847.23 | BS17: =(BR17/$BT$16*$BT$15*3)*BT13 -> 264743.15
B18: INV | C18: 1.4 | D18: SINALIZAÇÃO E DISPOSITIVOS DE SEGURANÇA | E18: =BS18 -> 852410.56 | F18: =$E18*AL18 -> 852410.56 | AJ18: =SUM(F18:AI18) -> 852410.56 | AL18: 1 | BP18: =SUM(AL18:BO18) -> 1 | BR18: 868844.48 | BS18: =(BR18/$BT$16*$BT$15*3)*BT13 -> 852410.56
B19: INV | C19: 1.5 | D19: CONSERVAÇÃO | E19: =BS19 -> 1008514.2 | F19: =$E19*AL19 -> 1008514.2 | AJ19: =SUM(F19:AI19) -> 1008514.2 | AL19: 1 | BP19: =SUM(AL19:BO19) -> 1 | BR19: 1027957.7 | BS19: =(BR19/$BT$16*$BT$15*3)*BT13 -> 1008514.2
B20: INV | C20: 1.6 | D20: TERRAPLENOS E ESTRUTURAS DE CONTENÇÃO | E20: =BS20 -> 367870.78 | F20: =$E20*AL20 -> 367870.78 | AJ20: =SUM(F20:AI20) -> 367870.78 | AL20: 1 | BP20: =SUM(AL20:BO20) -> 1 | BR20: 374963.09 | BS20: =(BR20/$BT$16*$BT$15*3)*BT13 -> 367870.78
B21: INV | C21: 1.7 | D21: SISTEMAS ELÉTRICOS E DE ILUMINAÇÃO | E21: =BS21 -> 91488.732 | F21: =$E21*AL21 -> 91488.732 | AJ21: =SUM(F21:AI21) -> 91488.732 | AL21: 1 | BP21: =SUM(AL21:BO21) -> 1 | BR21: 93252.576 | BS21: =(BR21/$BT$16*$BT$15*3)*BT13 -> 91488.732
B22: INV | C22: 1.8 | D22: NIVELAMENTO DE DEGRAU EM ACOSTAMENTO | E22: =BS22 -> 204820.34 | F22: =$E22*AL22 -> 204820.34 | AJ22: =SUM(F22:AI22) -> 204820.34 | AL22: 1 | BP22: =SUM(AL22:BO22) -> 1 | BR22: 0 | BS22: =BS15*1.41% -> 204820.34
B23: INV | C23: 1.9 | D23: ..... | F23: =$E23*AL23 -> 0 | AJ23: =SUM(F23:AI23) -> 0 | BP23: =SUM(AL23:BO23) -> 0 | BR23: 0
B24: INV | C24: 1.10 | D24: ..... | F24: =$E24*AL24 -> 0 | AJ24: =SUM(F24:AI24) -> 0 | BP24: =SUM(AL24:BO24) -> 0 | BR24: 0
B25: INV | C25: 1.11 | D25: ..... | F25: =$E25*AL25 -> 0 | AJ25: =SUM(F25:AI25) -> 0 | BP25: =SUM(AL25:BO25) -> 0 | BR25: 0
C26: 2 | D26: RECUPERAÇÃO DO SISTEMA RODOVIÁRIO | E26: =SUM(E27:E37) -> 59943046 | F26: =SUM(F27:F37) -> 0 | G26: =SUM(G27:G37) -> 15265994 | H26: =SUM(H27:H37) -> 12202631 | I26: =SUM(I27:I37) -> 15717353 | J26: =SUM(J27:J37) -> 16757067 | K26: =SUM(K27:K37) -> 0 | L26: =SUM(L27:L37) -> 0 | ... AI26: =SUM(AI27:AI37) -> 0 | AJ26: =SUM(F26:AI26) -> 59943046 | AM26: =G26/$E26 -> 0.25467499 | AN26: =H26/$E26 -> 0.20357042 | AO26: =I26/$E26 -> 0.26220478 | AP26: =J26/$E26 -> 0.27954981 | AQ26: =K26/$E26 -> 0 | AR26: =L26/$E26 -> 0 | AS26: =M26/$E26 -> 0 | BP26: =SUM(AL26:BO26) -> 1 | BT26: 1.52
B27: INV | C27: 2.1 | D27: PAVIMENTO | E27: =BS27 -> 42316525 | G27: =$E27*AM27 -> 10190978 | H27: =$E27*AN27 -> 8774442.1 | I27: =$E27*AO27 -> 11301743 | J27: =$E27*AP27 -> 12049362 | AJ27: =SUM(F27:AI27) -> 42316525 | AM27: 0.24082738 | AN27: 0.20735262 | AO27: 0.26707635 | AP27: 0.28474365 | BP27: =SUM(AL27:BO27) -> 1 | BR27: =BW27/1.25*1.2 -> 1.7680271e+08 | BS27: =(BR27/$BT$28*$BT$27)*$BT$26 -> 42316525 | BT27: 74.99 | BU27: km eq mg424 | BW27: 1.8416949e+08
B28: INV | C28: 2.2 | D28: OBRAS-DE-ARTE ESPECIAIS | E28: =BS28 -> 1814049 | G28: =$E28*AM28 -> 436872.66 | H28: =$E28*AN28 -> 376147.8 | I28: =$E28*AO28 -> 484489.58 | J28: =$E28*AP28 -> 516538.92 | K28: =$E28*AQ28 -> 0 | L28: =$E28*AR28 -> 0 | AJ28: =SUM(F28:AI28) -> 1814049 | AM28: 0.24082738 | AN28: 0.20735262 | AO28: 0.26707635 | AP28: 0.28474365 | BP28: =SUM(AL28:BO28) -> 1 | BR28: =BW28/1.25*1.2 -> 7579279.6 | BS28: =(BR28/$BT$28*$BT$27)*$BT$26 -> 1814049 | BT28: 476.24 | BU28: km eq br135 | BW28: 7895082.9
B29: INV | C29: 2.3 | D29: DRENAGEM E OBRAS-DE-ARTE CORRENTES | E29: =BS29 -> 758608.79 | G29: =$E29*AM29 -> 182693.77 | H29: =$E29*AN29 -> 157299.52 | I29: =$E29*AO29 -> 202606.47 | J29: =$E29*AP29 -> 216009.04 | AJ29: =SUM(F29:AI29) -> 758608.79 | AM29: 0.24082738 | AN29: 0.20735262 | AO29: 0.26707635 | AP29: 0.28474365 | BP29: =SUM(AL29:BO29) -> 1 | BR29: =BW29/1.25*1.2 -> 3169544.1 | BS29: =(BR29/$BT$28*$BT$27)*$BT$26 -> 758608.79 | BW29: 3301608.4
B30: INV | C30: 2.4 | D30: SINALIZAÇÃO E DISPOSITIVOS DE SEGURANÇA | E30: =BS30 -> 2442541.5 | G30: =$E30*AM30 -> 588230.88 | H30: =$E30*AN30 -> 506467.38 | I30: =$E30*AO30 -> 652345.08 | J30: =$E30*AP30 -> 695498.19 | AJ30: =SUM(F30:AI30) -> 2442541.5 | AM30: 0.24082738 | AN30: 0.20735262 | AO30: 0.26707635 | AP30: 0.28474365 | BP30: =SUM(AL30:BO30) -> 1 | BR30: =BW30/1.25*1.2 -> 10205185 | BS30: =(BR30/$BT$28*$BT$27)*$BT$26 -> 2442541.5 | BW30: 10630401
B31: INV | C31: 2.5 | D31: CONSERVAÇÃO | E31: =BS31 -> 2889849 | G31: =$E31*AM31 -> 695954.76 | H31: =$E31*AN31 -> 599217.74 | I31: =$E31*AO31 -> 771810.32 | J31: =$E31*AP31 -> 822866.14 | AJ31: =SUM(F31:AI31) -> 2889849 | AM31: 0.24082738 | AN31: 0.20735262 | AO31: 0.26707635 | AP31: 0.28474365 | BP31: =SUM(AL31:BO31) -> 1 | BR31: =BW31/1.25*1.2 -> 12074081 | BS31: =(BR31/$BT$28*$BT$27)*$BT$26 -> 2889849 | BW31: 12577167
B32: INV | C32: 2.6 | D32: TERRAPLENOS E ESTRUTURAS DE CONTENÇÃO | E32: =BS32 -> 4396435.3 | G32: =$E32*AM32 -> 1058782 | H32: =$E32*AN32 -> 911612.36 | I32: =$E32*AO32 -> 1174183.9 | J32: =$E32*AP32 -> 1251857 | AJ32: =SUM(F32:AI32) -> 4396435.3 | AM32: 0.24082738 | AN32: 0.20735262 | AO32: 0.26707635 | AP32: 0.28474365 | BP32: =SUM(AL32:BO32) -> 1 | BR32: =BW32/1.25*1.2 -> 18368750 | BS32: =(BR32/$BT$28*$BT$27)*$BT$26 -> 4396435.3 | BW32: 19134115
B33: INV | C33: 2.7 | D33: SISTEMAS ELÉTRICOS E DE ILUMINAÇÃO | E33: =BS33 -> 1093384.7 | G33: =$E33*AM33 -> 1093384.7 | H33: =$E33*AN33 -> 0 | I33: =$E33*AO33 -> 0 | J33: =$E33*AP33 -> 0 | AJ33: =SUM(F33:AI33) -> 1093384.7 | AM33: 1 | BP33: =SUM(AL33:BO33) -> 1 | BR33: =BW33/1.25*1.2 -> 4568271.7 | BS33: =(BR33/$BT$28*$BT$27)*$BT$26 -> 1093384.7 | BW33: 4758616.4
B34: INV | C34: 2.8 | D34: NIVELAMENTO DE DEGRAU EM ACOSTAMENTO | E34: =BS34 -> 4231652.5 | G34: =$E34*AM34 -> 1019097.8 | H34: =$E34*AN34 -> 877444.21 | I34: =$E34*AO34 -> 1130174.3 | J34: =$E34*AP34 -> 1204936.2 | AJ34: =SUM(F34:AI34) -> 4231652.5 | AM34: 0.24082738 | AN34: 0.20735262 | AO34: 0.26707635 | AP34: 0.28474365 | BP34: =SUM(AL34:BO34) -> 1 | BR34: 0 | BS34: =BS27*10% -> 4231652.5
B35: INV | C35: 2.9 | D35: ..... | G35: =$E35*AM35 -> 0 | H35: =$E35*AN35 -> 0 | I35: =$E35*AO35 -> 0 | J35: =$E35*AP35 -> 0 | AJ35: =SUM(F35:AI35) -> 0 | BP35: =SUM(AL35:BO35) -> 0 | BR35: 0
B36: INV | C36: 2.10 | D36: ..... | G36: =$E36*AM36 -> 0 | H36: =$E36*AN36 -> 0 | I36: =$E36*AO36 -> 0 | J36: =$E36*AP36 -> 0 | AJ36: =SUM(F36:AI36) -> 0 | BP36: =SUM(AL36:BO36) -> 0 | BR36: 0
B37: INV | C37: 2.11 | D37: ..... | G37: =$E37*AM37 -> 0 | H37: =$E37*AN37 -> 0 | I37: =$E37*AO37 -> 0 | J37: =$E37*AP37 -> 0 | AJ37: =SUM(F37:AI37) -> 0 | BP37: =SUM(AL37:BO37) -> 0 | BR37: 0
C38: 3 | D38: MANUTENÇÃO DO SISTEMA RODOVIÁRIO | E38: =SUM(E39:E45) -> 1.2063541e+08 | F38: =SUM(F39:F45) -> 0 | G38: =SUM(G39:G45) -> 0 | H38: =SUM(H39:H45) -> 0 | I38: =SUM(I39:I45) -> 229238.14 | J38: =SUM(J39:J45) -> 327483.06 | K38: =SUM(K39:K45) -> 1879975.6 | L38: =SUM(L39:L45) -> 1103619.8 | ... AI38: =SUM(AI39:AI45) -> 8779785.5 | AJ38: =SUM(F38:AI38) -> 1.2063541e+08 | AL38: =F38/$E38 -> 0 | AM38: =G38/$E38 -> 0 | AN38: =H38/$E38 -> 0 | AO38: =I38/$E38 -> 0.0019002558 | AP38: =J38/$E38 -> 0.0027146511 | AQ38: =K38/$E38 -> 0.015583945 | AR38: =L38/$E38 -> 0.0091483899 | AS38: =M38/$E38 -> 0.015583945 | ... BN38: =AH38/$E38 -> 0.041543227 | BO38: =(AI38/$E38) -> 0.072779505 | BP38: =SUM(AL38:BO38) -> 1
B39: INV | C39: 3.1 | D39: PAVIMENTO | E39: =BS39 -> 1.0916102e+08 | F39: =$E39*AL39 -> 0 | G39: =$E39*AM39 -> 0 | H39: =$E39*AN39 -> 0 | I39: =$E39*AO39 -> 229238.14 | J39: =$E39*AP39 -> 327483.06 | K39: =$E39*AQ39 -> 1047945.8 | L39: =$E39*AR39 -> 1047945.8 | M39: =$E39*AS39 -> 1047945.8 | ... AI39: =$E39*BO39 -> 7957838.3 | AJ39: =SUM(F39:AI39) -> 1.0916102e+08 | AL39: 0 | AM39: 0 | AN39: 0 | AO39: 0.0021 | AP39: 0.003 | AQ39: 0.0096 | AR39: 0.0096 | AS39: 0.0096 | AT39: 0.0426 | AU39: 0.0098 | AV39: 0.0102 | AW39: 0.0311 | AX39: 0.0293 | AY39: 0.0424 | AZ39: 0.0277 | BA39: 0.0102 | BB39: 0.0182 | BC39: 0.0999 | BD39: 0.1041 | BE39: 0.1126 | BF39: 0.0601 | BG39: 0.0847 | BH39: 0.0628 | BI39: 0.0103 | BJ39: 0.0103 | BK39: 0.0111 | BL39: 0.0237 | BM39: 0.0467 | BN39: 0.0454 | BO39: 0.0729 | BP39: =SUM(AL39:BO39) -> 1 | BR39: =BW39/1.25*1.2 -> 5.463197e+08 | BS39: =BR39/$BT$40*$BT$39 -> 1.0916102e+08 | BT39: 116.67 | BU39: km eq mg424 | BW39: 5.6908302e+08
B40: INV | C40: 3.2 | D40: OBRAS-DE-ARTE ESPECIAIS | E40: =BS40 -> 1060629.8 | F40: =$E40*AL40 -> 0 | G40: =$E40*AM40 -> 0 | H40: =$E40*AN40 -> 0 | I40: =$E40*AO40 -> 0 | J40: =$E40*AP40 -> 0 | K40: =$E40*AQ40 -> 42425.191 | L40: =$E40*AR40 -> 42425.191 | M40: =$E40*AS40 -> 42425.191 | ... AI40: =$E40*BO40 -> 42425.191 | AJ40: =SUM(F40:AI40) -> 1060629.8 | AL40: 0 | AM40: 0 | AN40: 0 | AO40: 0 | AP40: 0 | AQ40: 0.04 | AR40: 0.04 | AS40: 0.04 | AT40: 0.04 | AU40: 0.04 | AV40: 0.04 | AW40: 0.04 | AX40: 0.04 | AY40: 0.04 | AZ40: 0.04 | BA40: 0.04 | BB40: 0.04 | BC40: 0.04 | BD40: 0.04 | BE40: 0.04 | BF40: 0.04 | BG40: 0.04 | BH40: 0.04 | BI40: 0.04 | BJ40: 0.04 | BK40: 0.04 | BL40: 0.04 | BM40: 0.04 | BN40: 0.04 | BO40: 0.04 | BP40: =SUM(AL40:BO40) -> 1 | BR40: =BW40/1.25*1.2 -> 5308148.8 | BS40: =BR40/$BT$40*$BT$39 -> 1060629.8 | BT40: 583.9 | BU40: km eq br135 | BW40: 5529321.7
B41: INV | C41: 3.3 | D41: DRENAGEM E OBRAS-DE-ARTE CORRENTES | E41: =BS41 -> 331220.44 | F41: =$E41*AL41 -> 0 | G41: =$E41*AM41 -> 0 | H41: =$E41*AN41 -> 0 | I41: =$E41*AO41 -> 0 | J41: =$E41*AP41 -> 0 | K41: =$E41*AQ41 -> 13248.818 | L41: =$E41*AR41 -> 13248.818 | M41: =$E41*AS41 -> 13248.818 | ... AI41: =$E41*BO41 -> 13248.818 | AJ41: =SUM(F41:AI41) -> 331220.44 | AL41: 0 | AM41: 0 | AN41: 0 | AO41: 0 | AP41: 0 | AQ41: 0.04 | AR41: 0.04 | AS41: 0.04 | AT41: 0.04 | AU41: 0.04 | AV41: 0.04 | AW41: 0.04 | AX41: 0.04 | AY41: 0.04 | AZ41: 0.04 | BA41: 0.04 | BB41: 0.04 | BC41: 0.04 | BD41: 0.04 | BE41: 0.04 | BF41: 0.04 | BG41: 0.04 | BH41: 0.04 | BI41: 0.04 | BJ41: 0.04 | BK41: 0.04 | BL41: 0.04 | BM41: 0.04 | BN41: 0.04 | BO41: 0.04 | BP41: =SUM(AL41:BO41) -> 1 | BR41: =BW41/1.25*1.2 -> 1657663.6 | BS41: =BR41/$BT$40*$BT$39 -> 331220.44 | BW41: 1726733
B42: INV | C42: 3.4 | D42: SINALIZAÇÃO E DISPOSITIVOS DE SEGURANÇA | E42: =BS42 -> 10082543 | F42: =$E42*AL42 -> 0 | G42: =$E42*AM42 -> 0 | H42: =$E42*AN42 -> 0 | I42: =$E42*AO42 -> 0 | J42: =$E42*AP42 -> 0 | K42: =$E42*AQ42 -> 776355.81 | L42: =$E42*AR42 -> 0 | M42: =$E42*AS42 -> 776355.81 | ... AI42: =$E42*BO42 -> 766273.26 | AJ42: =SUM(F42:AI42) -> 10082543 | AL42: 0 | AM42: 0 | AN42: 0 | AO42: 0 | AP42: 0 | AQ42: 0.077 | AR42: 0 | AS42: 0.077 | AT42: 0 | AU42: 0.077 | AV42: 0 | AW42: 0.077 | AX42: 0 | AY42: 0.077 | AZ42: 0 | BA42: 0.077 | BB42: 0 | BC42: 0.077 | BD42: 0 | BE42: 0.077 | BF42: 0 | BG42: 0.077 | BH42: 0 | BI42: 0.077 | BJ42: 0 | BK42: 0.077 | BL42: 0 | BM42: 0.077 | BN42: 0 | BO42: 0.076 | BP42: =SUM(AL42:BO42) -> 1 | BR42: =BW42/1.25*1.2 -> 50460245 | BS42: =BR42/$BT$40*$BT$39 -> 10082543 | BW42: 52562756
B43: INV | C43: 3.5 | D43: ..... | I43: =$E43*AO43 -> 0 | J43: =$E43*AP43 -> 0 | K43: =$E43*AQ43 -> 0 | L43: =$E43*AR43 -> 0 | M43: =$E43*AS43 -> 0 | N43: =$E43*AT43 -> 0 | O43: =$E43*AU43 -> 0 | P43: =$E43*AV43 -> 0 | ... AI43: =$E43*BO43 -> 0 | AJ43: =SUM(F43:AI43) -> 0 | BP43: =SUM(AL43:BO43) -> 0 | BR43: 0
B44: INV | C44: 3.6 | D44: ..... | I44: =$E44*AO44 -> 0 | J44: =$E44*AP44 -> 0 | K44: =$E44*AQ44 -> 0 | L44: =$E44*AR44 -> 0 | M44: =$E44*AS44 -> 0 | N44: =$E44*AT44 -> 0 | O44: =$E44*AU44 -> 0 | P44: =$E44*AV44 -> 0 | ... AI44: =$E44*BO44 -> 0 | AJ44: =SUM(F44:AI44) -> 0 | BP44: =SUM(AL44:BO44) -> 0 | BR44: 0
B45: INV | C45: 3.7 | D45: ..... | I45: =$E45*AO45 -> 0 | J45: =$E45*AP45 -> 0 | K45: =$E45*AQ45 -> 0 | L45: =$E45*AR45 -> 0 | M45: =$E45*AS45 -> 0 | N45: =$E45*AT45 -> 0 | O45: =$E45*AU45 -> 0 | P45: =$E45*AV45 -> 0 | ... AI45: =$E45*BO45 -> 0 | AJ45: =SUM(F45:AI45) -> 0 | BP45: =SUM(AL45:BO45) -> 0 | BR45: 0
C46: 4 | D46: OBRAS DE AMPLIAÇÃO DA CAPACIDADE E OUTRAS MELHORIAS | E46: =SUM(E47:E66) -> #N/A | F46: =SUM(F47:F61) -> #N/A | G46: =SUM(G47:G66) -> #N/A | H46: =SUM(H47:H66) -> #N/A | I46: =SUM(I47:I66) -> #N/A | J46: =SUM(J47:J66) -> #N/A | K46: =SUM(K47:K66) -> #N/A | L46: =SUM(L47:L66) -> #N/A | M46: =SUM(M47:M66) -> #N/A | N46: =SUM(N47:N66) -> #N/A | ... AI46: =SUM(AI47:AI66) -> #N/A | AJ46: =SUM(F46:AI46) -> #N/A | AL46: =F46/$E46 -> #N/A | AM46: =G46/$E46 -> #N/A | AN46: =H46/$E46 -> #N/A | AO46: =I46/$E46 -> #N/A | AP46: =J46/$E46 -> #N/A | AQ46: =K46/$E46 -> #N/A | AR46: =L46/$E46 -> #N/A | AS46: =M46/$E46 -> #N/A | ... BO46: =AI46/$E46 -> #N/A | BP46: =SUM(AL46:BO46) -> #N/A | BT46: mg 424 | BU46: br 135
B47: INV | C47: 4.1 | D47: INTERSEÇÕES ALONGADAS | E47: =BS47 -> 8935404.9 | F47: =$E47*AL47 -> 0 | G47: =$E47*AM47 -> 0 | H47: =$E47*AN47 -> 0 | I47: =$E47*AO47 -> 0 | J47: =$E47*AP47 -> 0 | K47: =$E47*AQ47 -> 8935404.9 | L47: =$E47*AR47 -> 0 | M47: =$E47*AS47 -> 0 | ... AI47: =$E47*BO47 -> 0 | AJ47: =SUM(F47:AI47) -> 8935404.9 | AQ47: 1 | AR47: 0 | BM47: 0 | BN47: 0 | BO47: 0 | BP47: =SUM(AL47:BO47) -> 1 | BR47: =BW47/1.25*1.2 -> 37230854 | BS47: =BR47/BU47*BT47 -> 8935404.9 | BT47: 6 | BU47: 25 | BW47: 38782139
B48: INV | C48: 4.2 | D48: INTERSEÇÕES EM DOIS NÍVEIS | E48: =BS48 -> 41440068 | F48: =$E48*AL48 -> 0 | G48: =$E48*AM48 -> 0 | H48: =$E48*AN48 -> 0 | I48: =$E48*AO48 -> 0 | J48: =$E48*AP48 -> 0 | K48: =$E48*AQ48 -> 41440068 | L48: =$E48*AR48 -> 0 | M48: =$E48*AS48 -> 0 | ... AI48: =$E48*BO48 -> 0 | AJ48: =SUM(F48:AI48) -> 41440068 | AQ48: 1 | AR48: 0 | BM48: 0 | BN48: 0 | BO48: 0 | BP48: =SUM(AL48:BO48) -> 1 | BR48: =BW48/1.25*1.2 -> 55253424 | BS48: =BR48/BU48*BT48 -> 41440068 | BT48: 6 | BU48: 8 | BW48: 57555650
...

Sheet Quadro 6 - Investimentos
A4: Quadro 6 - Investimentos | D4: Valores em R$
A6: INVESTIMENTOS | B6: TOTAL | C6: Ano 1 | D6: Ano 2 | E6: Ano 3 | F6: Ano 4 | G6: Ano 5 | H6: Ano 6 | I6: Ano 7 | J6: Ano 8 | K6: Ano 9 | L6: Ano 10 | M6: Ano 11 | N6: Ano 12 | O6: Ano 13 | P6: Ano 14 | Q6: Ano 15 | R6: Ano 16 | S6: Ano 17 | T6: Ano 18 | U6: Ano 19 | V6: Ano 20 | W6: Ano 21 | X6: Ano 22 | Y6: Ano 23 | Z6: Ano 24 | AA6: Ano 25 | AB6: Ano 26 | AC6: Ano 27 | AD6: Ano 28 | AE6: Ano 29 | AF6: Ano 30
A8: Trabalhos Iniciais | B8: =SUM(C8:AF8) -> 0 | AH8: =SUM(C8:AF8)-B8 -> 0
A9: Restauração da Rodovia | B9: =SUM(C9:AF9) -> 0 | AH9: =SUM(C9:AF9)-B9 -> 0
A10: Manutenção da Rodovia | B10: =SUM(C10:AF10) -> 0 | AH10: =SUM(C10:AF10)-B10 -> 0
A11: Obras de Ampliação e Melhorias ( edificações e instalações operacionais ) | B11: =SUM(C11:AF11) -> #N/A | C11: ='Quadro 5 Cronograma PER'!F57 -> #N/A | D11: ='Quadro 5 Cronograma PER'!G57 -> #N/A | E11: ='Quadro 5 Cronograma PER'!H57 -> #N/A | F11: ='Quadro 5 Cronograma PER'!I57 -> #N/A | G11: ='Quadro 5 Cronograma PER'!J57 -> #N/A | H11: ='Quadro 5 Cronograma PER'!K57 -> #N/A | I11: ='Quadro 5 Cronograma PER'!L57 -> #N/A | J11: ='Quadro 5 Cronograma PER'!M57 -> #N/A | ... AF11: ='Quadro 5 Cronograma PER'!AI57 -> #N/A | AH11: =SUM(C11:AF11)-B11 -> #N/A
A12: Gestão Ambiental | B12: =SUM(C12:AF12) -> 0 | AH12: =SUM(C12:AF12)-B12 -> 0
A13: Sistemas de Operação | B13: =SUM(C13:AF13) -> 53151518 | C13: ='Quadro 5 Cronograma PER'!F70 -> 47650537 | D13: ='Quadro 5 Cronograma PER'!G70 -> 266912.43 | E13: ='Quadro 5 Cronograma PER'!H70 -> 0 | F13: ='Quadro 5 Cronograma PER'!I70 -> 0 | G13: ='Quadro 5 Cronograma PER'!J70 -> 0 | H13: ='Quadro 5 Cronograma PER'!K70 -> 0 | I13: ='Quadro 5 Cronograma PER'!L70 -> 0 | J13: ='Quadro 5 Cronograma PER'!M70 -> 0 | ... AF13: ='Quadro 5 Cronograma PER'!AI70 -> 0 | AH13: =SUM(C13:AF13)-B13 -> 0
A14: Projetos | B14: =SUM(C14:AF14) -> 0 | AH14: =SUM(C14:AF14)-B14 -> 0
A15: Desapropriações e Desocupações | B15: =SUM(C15:AF15) -> 0 | AH15: =SUM(C15:AF15)-B15 -> 0
A16: Total | B16: =SUM(C16:AF16) -> #N/A | C16: =C13+C11 -> #N/A | D16: =D13+D11 -> #N/A | E16: =E13+E11 -> #N/A | F16: =F13+F11 -> #N/A | G16: =G13+G11 -> #N/A | H16: =H13+H11 -> #N/A | I16: =I13+I11 -> #N/A | J16: =J13+J11 -> #N/A | ... AF16: =AF13+AF11 -> #N/A
B17: =+B16-B13 -> #N/A
A18: Trabalhos Iniciais / Recuperação / Melhorias / Gestão Ambiental / Projetos / Desapropriações e Desocupações | B18: =SUM(C18:AF18) -> #N/A | C18: =C8+C9+C12+C11+C15+C14 -> #N/A | D18: =D8+D9+D12+D11+D15+D14 -> #N/A | E18: =E8+E9+E12+E11+E15+E14 -> #N/A | F18: =F8+F9+F12+F11+F15+F14 -> #N/A | G18: =G8+G9+G12+G11+G15+G14 -> #N/A | H18: =H8+H9+H12+H11+H15+H14 -> #N/A | I18: =I8+I9+I12+I11+I15+I14 -> #N/A | J18: =J8+J9+J12+J11+J15+J14 -> #N/A | ... AF18: =AF8+AF9+AF12+AF11+AF15+AF14 -> #N/A
A19: Manutenção da Rodovia | B19: =SUM(C19:AF19) -> 0 | C19: =C10 -> 0 | D19: =D10 -> 0 | E19: =E10 -> 0 | F19: =F10 -> 0 | G19: =G10 -> 0 | H19: =H10 -> 0 | I19: =I10 -> 0 | J19: =J10 -> 0 | ... AF19: =AF10 -> 0
A20: Equipamentos / Sistemas / Veículos | B20: =SUM(C20:AF20) -> 53151518 | C20: =C13 -> 47650537 | D20: =D13 -> 266912.43 | E20: =E13 -> 0 | F20: =F13 -> 0 | G20: =G13 -> 0 | H20: =H13 -> 0 | I20: =I13 -> 0 | J20: =J13 -> 0 | ... AF20: =AF13 -> 0
A21: Total | B21: =ROUND(SUM(C21:AF21),2) -> #N/A | C21: =C20+C18 -> #N/A | D21: =D20+D18 -> #N/A | E21: =E20+E18 -> #N/A | F21: =F20+F18 -> #N/A | G21: =G20+G18 -> #N/A | H21: =H20+H18 -> #N/A | I21: =I20+I18 -> #N/A | J21: =J20+J18 -> #N/A | ... AF21: =AF20+AF18 -> #N/A

Sheet Quadro 8. - Custos Operacionais
A4: Quadro 8 - Custos Operacionais
A6: CUSTOS E DESPESAS | B6: TOTAL | C6: Ano 1 | D6: Ano 2 | E6: Ano 3 | F6: Ano 4 | G6: Ano 5 | H6: Ano 6 | I6: Ano 7 | J6: Ano 8 | K6: Ano 9 | L6: Ano 10 | M6: Ano 11 | N6: Ano 12 | O6: Ano 13 | P6: Ano 14 | Q6: Ano 15 | R6: Ano 16 | S6: Ano 17 | T6: Ano 18 | U6: Ano 19 | V6: Ano 20 | W6: Ano 21 | X6: Ano 22 | Y6: Ano 23 | Z6: Ano 24 | AA6: Ano 25 | AB6: Ano 26 | AC6: Ano 27 | AD6: Ano 28 | AE6: Ano 29 | AF6: Ano 30
A8: Administração e Engenharia | B8: =SUM(C8:AF8) -> 3.8812339e+08 | C8: ='Crono FF'!G30*1000 -> 12409070 | D8: ='Crono FF'!H30*1000 -> 13017414 | E8: ='Crono FF'!I30*1000 -> 13017414 | F8: ='Crono FF'!J30*1000 -> 13017414 | G8: ='Crono FF'!K30*1000 -> 13017414 | H8: ='Crono FF'!L30*1000 -> 12945787 | I8: ='Crono FF'!M30*1000 -> 12945787 | J8: ='Crono FF'!N30*1000 -> 12945787 | ... AF8: ='Crono FF'!AJ30*1000 -> 12945787
A9: Controle das Operações | B9: =SUM(C9:AF9) -> 44433740 | C9: ='Crono FF'!G31*1000 -> 1481124.7 | D9: ='Crono FF'!H31*1000 -> 1481124.7 | E9: ='Crono FF'!I31*1000 -> 1481124.7 | F9: ='Crono FF'!J31*1000 -> 1481124.7 | G9: ='Crono FF'!K31*1000 -> 1481124.7 | H9: ='Crono FF'!L31*1000 -> 1481124.7 | I9: ='Crono FF'!M31*1000 -> 1481124.7 | J9: ='Crono FF'!N31*1000 -> 1481124.7 | ... AF9: ='Crono FF'!AJ31*1000 -> 1481124.7
A10: Inspeção de Tráfego | B10: =SUM(C10:AF10) -> 27285318 | C10: ='Crono FF'!G32*1000 -> 909510.6 | D10: ='Crono FF'!H32*1000 -> 909510.6 | E10: ='Crono FF'!I32*1000 -> 909510.6 | F10: ='Crono FF'!J32*1000 -> 909510.6 | G10: ='Crono FF'!K32*1000 -> 909510.6 | H10: ='Crono FF'!L32*1000 -> 909510.6 | I10: ='Crono FF'!M32*1000 -> 909510.6 | J10: ='Crono FF'!N32*1000 -> 909510.6 | ... AF10: ='Crono FF'!AJ32*1000 -> 909510.6
A11: Pesagem de Caminhões | B11: =SUM(C11:AF11) -> 19062879 | C11: ='Crono FF'!G33*1000 -> 0 | D11: ='Crono FF'!H33*1000 -> 657340.65 | E11: ='Crono FF'!I33*1000 -> 657340.65 | F11: ='Crono FF'!J33*1000 -> 657340.65 | G11: ='Crono FF'!K33*1000 -> 657340.65 | H11: ='Crono FF'!L33*1000 -> 657340.65 | I11: ='Crono FF'!M33*1000 -> 657340.65 | J11: ='Crono FF'!N33*1000 -> 657340.65 | ... AF11: ='Crono FF'!AJ33*1000 -> 657340.65
A12: Atendimento aos Usuários (BSOs) | B12: =SUM(C12:AF12) -> 33178463 | C12: ='Crono FF'!G34*1000 -> 1105948.8 | D12: ='Crono FF'!H34*1000 -> 1105948.8 | E12: ='Crono FF'!I34*1000 -> 1105948.8 | F12: ='Crono FF'!J34*1000 -> 1105948.8 | G12: ='Crono FF'!K34*1000 -> 1105948.8 | H12: ='Crono FF'!L34*1000 -> 1105948.8 | I12: ='Crono FF'!M34*1000 -> 1105948.8 | J12: ='Crono FF'!N34*1000 -> 1105948.8 | ... AF12: ='Crono FF'!AJ34*1000 -> 1105948.8
A13: Atendimento Pré-hospitalar | B13: =SUM(C13:AF13) -> 46091250 | C13: ='Crono FF'!G35*1000 -> 1536375 | D13: ='Crono FF'!H35*1000 -> 1536375 | E13: ='Crono FF'!I35*1000 -> 1536375 | F13: ='Crono FF'!J35*1000 -> 1536375 | G13: ='Crono FF'!K35*1000 -> 1536375 | H13: ='Crono FF'!L35*1000 -> 1536375 | I13: ='Crono FF'!M35*1000 -> 1536375 | J13: ='Crono FF'!N35*1000 -> 1536375 | ... AF13: ='Crono FF'!AJ35*1000 -> 1536375
A14: Serviços de Guincho | B14: =SUM(C14:AF14) -> 61652700 | C14: ='Crono FF'!G36*1000 -> 2055090 | D14: ='Crono FF'!H36*1000 -> 2055090 | E14: ='Crono FF'!I36*1000 -> 2055090 | F14: ='Crono FF'!J36*1000 -> 2055090 | G14: ='Crono FF'!K36*1000 -> 2055090 | H14: ='Crono FF'!L36*1000 -> 2055090 | I14: ='Crono FF'!M36*1000 -> 2055090 | J14: ='Crono FF'!N36*1000 -> 2055090 | ... AF14: ='Crono FF'!AJ36*1000 -> 2055090
A15: Artendimento a Incidentes | B15: =SUM(C15:AF15) -> 38911950 | C15: ='Crono FF'!G37*1000 -> 1297065 | D15: ='Crono FF'!H37*1000 -> 1297065 | E15: ='Crono FF'!I37*1000 -> 1297065 | F15: ='Crono FF'!J37*1000 -> 1297065 | G15: ='Crono FF'!K37*1000 -> 1297065 | H15: ='Crono FF'!L37*1000 -> 1297065 | I15: ='Crono FF'!M37*1000 -> 1297065 | J15: ='Crono FF'!N37*1000 -> 1297065 | ... AF15: ='Crono FF'!AJ37*1000 -> 1297065
A16: Vigilância e Guarda Patrimonial | B16: =SUM(C16:AF16) -> 70676647 | C16: ='Crono FF'!G38*1000 -> 2355888.2 | D16: ='Crono FF'!H38*1000 -> 2355888.2 | E16: ='Crono FF'!I38*1000 -> 2355888.2 | F16: ='Crono FF'!J38*1000 -> 2355888.2 | G16: ='Crono FF'!K38*1000 -> 2355888.2 | H16: ='Crono FF'!L38*1000 -> 2355888.2 | I16: ='Crono FF'!M38*1000 -> 2355888.2 | J16: ='Crono FF'!N38*1000 -> 2355888.2 | ... AF16: ='Crono FF'!AJ38*1000 -> 2355888.2
A17: Segurança do Trânsito | B17: =SUM(C17:AF17) -> 4700257.6 | C17: ='Crono FF'!G39*1000 -> 299961.82 | D17: ='Crono FF'!H39*1000 -> 299961.82 | E17: ='Crono FF'!I39*1000 -> 299961.82 | F17: ='Crono FF'!J39*1000 -> 299961.82 | G17: ='Crono FF'!K39*1000 -> 299961.82 | H17: ='Crono FF'!L39*1000 -> 299961.82 | I17: ='Crono FF'!M39*1000 -> 120853.61 | J17: ='Crono FF'!N39*1000 -> 120853.61 | ... AF17: ='Crono FF'!AJ39*1000 -> 120853.61
A18: Arrecadação de Pedágios | B18: =SUM(C18:AF18) -> 522000000 | C18: 0 | D18: 18000000 | E18: 18000000 | F18: 18000000 | G18: 18000000 | H18: 18000000 | I18: 18000000 | J18: 18000000 | K18: 18000000 | L18: 18000000 | M18: 18000000 | N18: 18000000 | O18: 18000000 | P18: 18000000 | Q18: 18000000 | R18: 18000000 | S18: 18000000 | T18: 18000000 | U18: 18000000 | V18: 18000000 | W18: 18000000 | X18: 18000000 | Y18: 18000000 | Z18: 18000000 | AA18: 18000000 | AB18: 18000000 | AC18: 18000000 | AD18: 18000000 | AE18: 18000000 | AF18: 18000000
A19: Monitoração | B19: =SUM(C19:AF19) -> 13889373 | C19: ='Crono FF'!G42*1000 -> 0 | D19: ='Crono FF'!H42*1000 -> 461675.62 | E19: ='Crono FF'!I42*1000 -> 461675.62 | F19: ='Crono FF'!J42*1000 -> 461675.62 | G19: ='Crono FF'!K42*1000 -> 561831.62 | H19: ='Crono FF'!L42*1000 -> 461675.62 | I19: ='Crono FF'!M42*1000 -> 461675.62 | J19: ='Crono FF'!N42*1000 -> 461675.62 | ... AF19: ='Crono FF'!AJ42*1000 -> 461675.62
A20: Despesas Gerais | B20: =SUM(C20:AF20) -> 40139510 | C20: ='Crono FF'!G43*1000 -> 2034866.3 | D20: ='Crono FF'!H43*1000 -> 2170034.3 | E20: ='Crono FF'!I43*1000 -> 1407634.3 | F20: ='Crono FF'!J43*1000 -> 1620034.3 | G20: ='Crono FF'!K43*1000 -> 1407634.3 | H20: ='Crono FF'!L43*1000 -> 1370034.3 | I20: ='Crono FF'!M43*1000 -> 1149186.3 | J20: ='Crono FF'!N43*1000 -> 1361586.3 | ... AF20: ='Crono FF'!AJ43*1000 -> 1361586.3
A21: Custos Sócios Ambientais | B21: =SUM(C21:AF21) -> 15472294 | C21: ='Crono FF'!G44*1000 -> 671110.18 | D21: ='Crono FF'!H44*1000 -> 721014.19 | E21: ='Crono FF'!I44*1000 -> 583014.19 | F21: ='Crono FF'!J44*1000 -> 721014.19 | G21: ='Crono FF'!K44*1000 -> 583014.19 | H21: ='Crono FF'!L44*1000 -> 721014.19 | I21: ='Crono FF'!M44*1000 -> 492763.03 | J21: ='Crono FF'!N44*1000 -> 492763.03 | ... AF21: ='Crono FF'!AJ44*1000 -> 476663.03
A22: Conservação da Rodovia | B22: =SUM(C22:AF22) -> 3.3591826e+08 | C22: ='Crono FF'!G45*1000 -> 6219078.2 | D22: ='Crono FF'!H45*1000 -> 7887591.5 | E22: ='Crono FF'!I45*1000 -> 14703823 | F22: ='Crono FF'!J45*1000 -> 7889077.7 | G22: ='Crono FF'!K45*1000 -> 7890875.8 | H22: ='Crono FF'!L45*1000 -> 11536587 | I22: ='Crono FF'!M45*1000 -> 15682292 | J22: ='Crono FF'!N45*1000 -> 8413416.9 | ... AF22: ='Crono FF'!AJ45*1000 -> 0
A23: Conservação de Equipamentos e Sistemas | B23: =SUM(C23:AF23) -> 9566611.6 | C23: ='Crono FF'!G74*1000 -> 314050.83 | D23: ='Crono FF'!H74*1000 -> 319389.07 | E23: ='Crono FF'!I74*1000 -> 319389.07 | F23: ='Crono FF'!J74*1000 -> 319389.07 | G23: ='Crono FF'!K74*1000 -> 319389.07 | H23: ='Crono FF'!L74*1000 -> 319389.07 | I23: ='Crono FF'!M74*1000 -> 319389.07 | J23: ='Crono FF'!N74*1000 -> 319389.07 | ... AF23: ='Crono FF'!AJ74*1000 -> 309666.67
A24: Outros | B24: =SUM(C24:AF24) -> 0 | C24: ='Crono FF'!G47*1000 -> 0 | D24: ='Crono FF'!H47*1000 -> 0 | E24: ='Crono FF'!I47*1000 -> 0 | F24: ='Crono FF'!J47*1000 -> 0 | G24: ='Crono FF'!K47*1000 -> 0 | H24: ='Crono FF'!L47*1000 -> 0 | I24: ='Crono FF'!M47*1000 -> 0 | J24: ='Crono FF'!N47*1000 -> 0 | ... AF24: ='Crono FF'!AJ47*1000 -> 0
A26: ADMINISTRAÇÃO / OPERAÇÃO / CONSERVAÇÃO / MONITORAÇÂO | B26: =SUM(C26:AF26) -> 1.6711026e+09 | C26: =SUM(C8:C25) -> 32689139 | D26: =SUM(D8:D25) -> 54275423 | E26: =SUM(E8:E25) -> 60191254 | F26: =SUM(F8:F25) -> 53726909 | G26: =SUM(G8:G25) -> 53478463 | H26: =SUM(H8:H25) -> 57052792 | I26: =SUM(I8:I25) -> 60570289 | J26: =SUM(J8:J25) -> 53513814 | ... AF26: =SUM(AF8:AF25) -> 45074575
A27: Garantias e Seguros | B27: =SUM(C27:AF27) -> 0 | C27: =C37 -> 0 | D27: =D37 -> 0 | E27: =E37 -> 0 | F27: =F37 -> 0 | G27: =G37 -> 0 | H27: =H37 -> 0 | I27: =I37 -> 0 | J27: =J37 -> 0 | ... Z27: =Z37 -> 0 | AF27: =AF37 -> 0
A28: Segurança no Trânsito | B28: =SUM(C28:AF28) -> 0
A29: Verba de Fiscalização | B29: =SUM(C29:AF29) -> 0
A30: Recursos de Desenvolvimento Tecnológico | B30: =SUM(C30:AF30) -> 0
A31: Garantias e Seguros / Segurança no Trânsito / Verba de Fiscalização / RDT | B31: =SUM(C31:AF31) -> 0 | C31: =SUM(C27:C30) -> 0 | D31: =SUM(D27:D30) -> 0 | E31: =SUM(E27:E30) -> 0 | F31: =SUM(F27:F30) -> 0 | G31: =SUM(G27:G30) -> 0 | H31: =SUM(H27:H30) -> 0 | I31: =SUM(I27:I30) -> 0 | J31: =SUM(J27:J30) -> 0 | ... Z31: =SUM(Z27:Z30) -> 0 | AF31: =SUM(AF27:AF30) -> 0
A32: TOTAL | B32: =SUM(C32:AF32) -> 1.6711026e+09 | C32: =C26+C31 -> 32689139 | D32: =D26+D31 -> 54275423 | E32: =E26+E31 -> 60191254 | F32: =F26+F31 -> 53726909 | G32: =G26+G31 -> 53478463 | H32: =H26+H31 -> 57052792 | I32: =I26+I31 -> 60570289 | J32: =J26+J31 -> 53513814 | ... AF32: =AF26+AF31 -> 45074575
A35: Garantias de execução | B35: =SUM(C35:AF35) -> 0 | C35: 0 | D35: 0 | E35: 0 | F35: 0 | G35: 0 | H35: 0 | I35: 0 | J35: 0 | K35: 0 | L35: 0 | M35: 0 | N35: 0 | O35: 0 | P35: 0 | Q35: 0 | R35: 0 | S35: 0 | T35: 0 | U35: 0 | V35: 0 | W35: 0 | X35: 0 | Y35: 0 | Z35: 0 | AA35: 0 | AB35: 0 | AC35: 0 | AD35: 0 | AE35: 0 | AF35: 0
A36: Seguros | B36: =SUM(C36:AF36) -> 0 | C36: 0 | D36: 0 | E36: 0 | F36: 0 | G36: 0 | H36: 0 | I36: 0 | J36: 0 | K36: 0 | L36: 0 | M36: 0 | N36: 0 | O36: 0 | P36: 0 | Q36: 0 | R36: 0 | S36: 0 | T36: 0 | U36: 0 | V36: 0 | W36: 0 | X36: 0 | Y36: 0 | Z36: 0 | AA36: 0 | AB36: 0 | AC36: 0 | AD36: 0 | AE36: 0 | AF36: 0
A37: Total (Garantias + Seguros) | B37: =SUM(C37:AF37) -> 0 | C37: =SUM(C35:C36) -> 0 | D37: =SUM(D35:D36) -> 0 | E37: =SUM(E35:E36) -> 0 | F37: =SUM(F35:F36) -> 0 | G37: =SUM(G35:G36) -> 0 | H37: =SUM(H35:H36) -> 0 | I37: =SUM(I35:I36) -> 0 | J37: =SUM(J35:J36) -> 0 | ... AF37: =SUM(AF35:AF36) -> 0
B38: ='Quadro 5 Cronograma PER'!E99+'Quadro 5 Cronograma PER'!E86 -> 1.3351844e+09
B39: =B38-B32 -> -3.3591826e+08

Sheet Monitoração
E4: MONITORAÇÃO
E6: SISTEMAS
E7: Sistema de Monitoração das Estruturas Físicas
E10: ETAPAS
E11: Coleta de dados e informações
E12: Transformação e processamento dos dados | L12: ANO 1 = | M12: 0 | N12: (3 MESES)
E13: Análise e avaliação prospectiva dos resultados obtidos
E14: Programação das ações preventivas ou corretivas
E16: SISTEMA DE MONITORAÇÃO DE ESTRUTURAS FÍSICAS | G16: ANO DA CONCESSÃO | M16: 1 | N16: 2 | O16: 3 | P16: 4 | Q16: 5 | R16: 6 | S16: 7 | T16: 8 | U16: 9 | V16: 10 | W16: 11 | X16: 12 | Y16: 13 | Z16: 14 | AA16: 15 | AB16: 16 | AC16: 17 | AD16: 18 | AE16: 19 | AF16: 20 | AG16: 21 | AH16: 22 | AI16: 23 | AJ16: 24 | AK16: 25 | AL16: 26 | AM16: 27 | AN16: 28 | AO16: 29 | AP16: 30
G17: Extensão da rodovia (km) | M17: 500.78 | N17: 500.78 | O17: 500.78 | P17: 500.78 | Q17: 500.78 | R17: 500.78 | S17: 500.78 | T17: 500.78 | U17: 500.78 | V17: 500.78 | W17: 500.78 | X17: 500.78 | Y17: 500.78 | Z17: 500.78 | AA17: 500.78 | AB17: 500.78 | AC17: 500.78 | AD17: 500.78 | AE17: 500.78 | AF17: 500.78 | AG17: 500.78 | AH17: 500.78 | AI17: 500.78 | AJ17: 500.78 | AK17: 500.78 | AL17: 500.78 | AM17: 500.78 | AN17: 500.78 | AO17: 500.78 | AP17: 500.78
G18: Ano a ser executado FWD = 1 | Q18: 1 | W18: 1 | AC18: 1 | AI18: 1 | AO18: 1
G19: Extensão das OAE - km | J19: 10 | M19: =J19 -> 10 | N19: =J19 -> 10 | O19: =M19 -> 10 | P19: =N19 -> 10 | Q19: =O19 -> 10 | R19: =P19 -> 10 | S19: =Q19 -> 10 | T19: =R19 -> 10 | U19: =S19 -> 10 | V19: =T19 -> 10 | ... AP19: =AN19 -> 10
E21: PAVIMENTO | G21: Ensaios | H21: PERÍODO | J21: R$ por km
E22: Condições Estruturais | G22: LVC | H22: Todo ano | J22: 100 | K22: faixa | L22: =SUM(M22:AP22) -> 2904524 | M22: =$J22*M$17*2*$M$12 -> 0 | N22: =$J22*N$17*2 -> 100156 | O22: =$J22*O$17*2 -> 100156 | P22: =$J22*P$17*2 -> 100156 | Q22: =$J22*Q$17*2 -> 100156 | R22: =$J22*R$17*2 -> 100156 | S22: =$J22*S$17*2 -> 100156 | T22: =$J22*T$17*2 -> 100156 | U22: =$J22*U$17*2 -> 100156 | ... AP22: =$J22*AP$17*2 -> 100156
E23: Condições Funcionais | G23: QI ou IRI | H23: Todo ano | J23: 100 | K23: faixa | L23: =SUM(M23:AP23) -> 2904524 | M23: =$J23*M$17*2*$M$12 -> 0 | N23: =$J23*N$17*2 -> 100156 | O23: =$J23*O$17*2 -> 100156 | P23: =$J23*P$17*2 -> 100156 | Q23: =$J23*Q$17*2 -> 100156 | R23: =$J23*R$17*2 -> 100156 | S23: =$J23*S$17*2 -> 100156 | T23: =$J23*T$17*2 -> 100156 | U23: =$J23*U$17*2 -> 100156 | ... AP23: =$J23*AP$17*2 -> 100156
E24: Deflexão Característica | G24: FWD (cada 200 m) | H24: A cada 6 anos | J24: 100 | K24: faixa | L24: =SUM(M24:AP24) -> 500780 | M24: =M18*$J24*M$17*2*$M$12 -> 0 | N24: =N18*$J24*N$17*2 -> 0 | O24: =O18*$J24*O$17*2 -> 0 | P24: =P18*$J24*P$17*2 -> 0 | Q24: =Q18*$J24*Q$17*2 -> 100156 | R24: =R18*$J24*R$17*2 -> 0 | S24: =S18*$J24*S$17*2 -> 0 | T24: =T18*$J24*T$17*2 -> 0 | U24: =U18*$J24*U$17*2 -> 0 | ... AP24: =AP18*$J24*AP$17*2 -> 0
E25: Resistência a derrapagem | G25: Aderência | H25: Todo ano | J25: 17.45 | K25: faixa | L25: =SUM(M25:AP25) -> 506839.44 | M25: =$J25*M$17*2*$M$12 -> 0 | N25: =$J25*N$17*2 -> 17477.222 | O25: =$J25*O$17*2 -> 17477.222 | P25: =$J25*P$17*2 -> 17477.222 | Q25: =$J25*Q$17*2 -> 17477.222 | R25: =$J25*R$17*2 -> 17477.222 | S25: =$J25*S$17*2 -> 17477.222 | T25: =$J25*T$17*2 -> 17477.222 | U25: =$J25*U$17*2 -> 17477.222 | ... AP25: =$J25*AP$17*2 -> 17477.222
E26: Pavimento Flexível | G26: ICPF (visual) | H26: Todo ano | J26: 15132.12 | K26: gl | L26: =SUM(M26:AP26) -> 438831.48 | M26: =$J26*M12 -> 0 | N26: =$J26 -> 15132.12 | O26: =$J26 -> 15132.12 | P26: =$J26 -> 15132.12 | Q26: =$J26 -> 15132.12 | R26: =$J26 -> 15132.12 | S26: =$J26 -> 15132.12 | T26: =$J26 -> 15132.12 | U26: =$J26 -> 15132.12 | ... AP26: =$J26 -> 15132.12
E27: Subtotal Monitoração do pavimento | L27: =SUM(M27:AP27) -> 7255498.9 | M27: =SUBTOTAL(9,M22:M26) -> 0 | N27: =SUBTOTAL(9,N22:N26) -> 232921.34 | O27: =SUBTOTAL(9,O22:O26) -> 232921.34 | P27: =SUBTOTAL(9,P22:P26) -> 232921.34 | Q27: =SUBTOTAL(9,Q22:Q26) -> 333077.34 | R27: =SUBTOTAL(9,R22:R26) -> 232921.34 | S27: =SUBTOTAL(9,S22:S26) -> 232921.34 | T27: =SUBTOTAL(9,T22:T26) -> 232921.34 | ... AP27: =SUBTOTAL(9,AP22:AP26) -> 232921.34
E29: ELEMENTOS DE PROTEÇÃO E SEGURANÇA
E30: Dispositivos de Segurança | G30: Inspeção visual | H30: Todo ano | J30: 72 | K30: pista | L30: =SUM(M30:AP30) -> 1045628.6 | M30: =$J30*M$17*M12 -> 0 | N30: =$J30*N$17 -> 36056.16 | O30: =$J30*O$17 -> 36056.16 | P30: =$J30*P$17 -> 36056.16 | Q30: =$J30*Q$17 -> 36056.16 | R30: =$J30*R$17 -> 36056.16 | S30: =$J30*S$17 -> 36056.16 | T30: =$J30*T$17 -> 36056.16 | U30: =$J30*U$17 -> 36056.16 | ... AP30: =$J30*AP$17 -> 36056.16
E31: Sinalização Horizontal | G31: Retroreflectância | H31: Todo ano | J31: 72 | K31: pista | L31: =SUM(M31:AP31) -> 1045628.6 | M31: =$J31*M$17*M12 -> 0 | N31: =$J31*N$17 -> 36056.16 | O31: =$J31*O$17 -> 36056.16 | P31: =$J31*P$17 -> 36056.16 | Q31: =$J31*Q$17 -> 36056.16 | R31: =$J31*R$17 -> 36056.16 | S31: =$J31*S$17 -> 36056.16 | T31: =$J31*T$17 -> 36056.16 | U31: =$J31*U$17 -> 36056.16 | ... AP31: =$J31*AP$17 -> 36056.16
E32: Sinalização Vertical e Aérea | G32: Retroreflectância | H32: Todo ano | J32: 72 | K32: pista | L32: =SUM(M32:AP32) -> 1045628.6 | M32: =$J32*M$17*M12 -> 0 | N32: =$J32*N$17 -> 36056.16 | O32: =$J32*O$17 -> 36056.16 | P32: =$J32*P$17 -> 36056.16 | Q32: =$J32*Q$17 -> 36056.16 | R32: =$J32*R$17 -> 36056.16 | S32: =$J32*S$17 -> 36056.16 | T32: =$J32*T$17 -> 36056.16 | U32: =$J32*U$17 -> 36056.16 | ... AP32: =$J32*AP$17 -> 36056.16
E33: Subtotal da Monitoração Elementos de Proteção e Segurança | L33: =SUBTOTAL(9,L30:L32) -> 3136885.9 | M33: =SUBTOTAL(9,M30:M32) -> 0 | N33: =SUBTOTAL(9,N30:N32) -> 108168.48 | O33: =SUBTOTAL(9,O30:O32) -> 108168.48 | P33: =SUBTOTAL(9,P30:P32) -> 108168.48 | Q33: =SUBTOTAL(9,Q30:Q32) -> 108168.48 | R33: =SUBTOTAL(9,R30:R32) -> 108168.48 | S33: =SUBTOTAL(9,S30:S32) -> 108168.48 | ... AP33: =SUBTOTAL(9,AP30:AP32) -> 108168.48
E35: ÍNDICE CRÍTICO | G35: Inspeção Visual | H35: Todo ano | J35: 26.56 | K35: pista | L35: =SUM(M35:AP35) -> 385720.79 | M35: =$J35*M$17*M12 -> 0 | N35: =$J35*N$17 -> 13300.717 | O35: =$J35*O$17 -> 13300.717 | P35: =$J35*P$17 -> 13300.717 | Q35: =$J35*Q$17 -> 13300.717 | R35: =$J35*R$17 -> 13300.717 | S35: =$J35*S$17 -> 13300.717 | T35: =$J35*T$17 -> 13300.717 | U35: =$J35*U$17 -> 13300.717 | ... AP35: =$J35*AP$17 -> 13300.717
E37: ÍNDICE DE GRAVIDADE GLOBAL | G37: Inspeção Visual | H37: Todo ano | J37: 97.56 | K37: pista | L37: =SUM(M37:AP37) -> 1416826.8 | M37: =$J37*M$17*M12 -> 0 | N37: =$J37*N$17 -> 48856.097 | O37: =$J37*O$17 -> 48856.097 | P37: =$J37*P$17 -> 48856.097 | Q37: =$J37*Q$17 -> 48856.097 | R37: =$J37*R$17 -> 48856.097 | S37: =$J37*S$17 -> 48856.097 | T37: =$J37*T$17 -> 48856.097 | U37: =$J37*U$17 -> 48856.097 | ... AP37: =$J37*AP$17 -> 48856.097
E39: NÍVEL DE SERVIÇO | G39: Inspeção Visual | H39: Todo ano | J39: 41.23 | K39: pista | L39: =SUM(M39:AP39) -> 598767.62 | M39: =$J39*M$17*M12 -> 0 | N39: =$J39*N$17 -> 20647.159 | O39: =$J39*O$17 -> 20647.159 | P39: =$J39*P$17 -> 20647.159 | Q39: =$J39*Q$17 -> 20647.159 | R39: =$J39*R$17 -> 20647.159 | S39: =$J39*S$17 -> 20647.159 | T39: =$J39*T$17 -> 20647.159 | U39: =$J39*U$17 -> 20647.159 | ... AP39: =$J39*AP$17 -> 20647.159
E41: ORAS DE ARTE ESPECIAIS | G41: Inspeção Visual | H41: Todo ano | J41: 921.32 | K41: km OAE | L41: =SUM(M41:AP41) -> 267182.8 | M41: =$J41*M$19*M12 -> 0 | N41: =$J41*N$19 -> 9213.2 | O41: =$J41*O$19 -> 9213.2 | P41: =$J41*P$19 -> 9213.2 | Q41: =$J41*Q$19 -> 9213.2 | R41: =$J41*R$19 -> 9213.2 | S41: =$J41*S$19 -> 9213.2 | T41: =$J41*T$19 -> 9213.2 | U41: =$J41*U$19 -> 9213.2 | ... AP41: =$J41*AP$19 -> 9213.2
E43: SISTEMA DE DRENAGEM E OBRAS DE ARTE CORRENTES | G43: Inspeção Visual | H43: Todo ano | J43: 24.85 | K43: pista | L43: =SUM(M43:AP43) -> 360887.11 | M43: =$J43*M$17*M12 -> 0 | N43: =$J43*N$17 -> 12444.383 | O43: =$J43*O$17 -> 12444.383 | P43: =$J43*P$17 -> 12444.383 | Q43: =$J43*Q$17 -> 12444.383 | R43: =$J43*R$17 -> 12444.383 | S43: =$J43*S$17 -> 12444.383 | T43: =$J43*T$17 -> 12444.383 | U43: =$J43*U$17 -> 12444.383 | ... AP43: =$J43*AP$17 -> 12444.383
E45: TERRAPLENOS E ESTRUTURAS DE CONTENÇÃO | G45: Inspeção Visual | H45: Todo ano | J45: =22.66*0 -> 0 | K45: pista | L45: =SUM(M45:AP45) -> 0 | M45: =$J45*M$17*M12 -> 0 | N45: =$J45*N$17 -> 0 | O45: =$J45*O$17 -> 0 | P45: =$J45*P$17 -> 0 | Q45: =$J45*Q$17 -> 0 | R45: =$J45*R$17 -> 0 | S45: =$J45*S$17 -> 0 | T45: =$J45*T$17 -> 0 | U45: =$J45*U$17 -> 0 | ... AP45: =$J45*AP$17 -> 0
E47: CANTEIRO CENTRAL E FAIXA DE DOMÍNIO | G47: Inspeção Visual | H47: Todo ano | J47: =26.73*0 -> 0 | K47: pista | L47: =SUM(M47:AP47) -> 0 | M47: =$J47*M$17*M12 -> 0 | N47: =$J47*N$17 -> 0 | O47: =$J47*O$17 -> 0 | P47: =$J47*P$17 -> 0 | Q47: =$J47*Q$17 -> 0 | R47: =$J47*R$17 -> 0 | S47: =$J47*S$17 -> 0 | T47: =$J47*T$17 -> 0 | U47: =$J47*U$17 -> 0 | ... AP47: =$J47*AP$17 -> 0
E49: EDIFICAÇÕES E INSTALAÇÕES OPERACIONAIS | G49: Inspeção Visual | H49: Todo ano | J49: =16124.24 -> 16124.24 | K49: gl | L49: =SUM(M49:AP49) -> 467602.96 | M49: =$J49*M12 -> 0 | N49: =$J49 -> 16124.24 | O49: =$J49 -> 16124.24 | P49: =$J49 -> 16124.24 | Q49: =$J49 -> 16124.24 | R49: =$J49 -> 16124.24 | S49: =$J49 -> 16124.24 | T49: =$J49 -> 16124.24 | U49: =$J49 -> 16124.24 | ... AP49: =$J49 -> 16124.24
E51: SISTEMAS ELÉTRICOS E DE ILUMINAÇÃO | G51: Inspeção Visual | H51: Todo ano | J51: =18.63*0 -> 0 | K51: pista | L51: =SUM(M51:AP51) -> 0 | M51: =$J51*M17*M12 -> 0 | N51: =$J51*N17 -> 0 | O51: =$J51*O17 -> 0 | P51: =$J51*P17 -> 0 | Q51: =$J51*Q17 -> 0 | R51: =$J51*R17 -> 0 | S51: =$J51*S17 -> 0 | T51: =$J51*T17 -> 0 | U51: =$J51*U17 -> 0 | ... AP51: =$J51*AP17 -> 0
E53: Subtotal da Monitoração Estruturas Físicas | L53: =SUM(L33:L51) -> 6633874 | M53: =SUM(M33:M51) -> 0 | N53: =SUM(N33:N51) -> 228754.28 | O53: =SUM(O33:O51) -> 228754.28 | P53: =SUM(P33:P51) -> 228754.28 | Q53: =SUM(Q33:Q51) -> 228754.28 | R53: =SUM(R33:R51) -> 228754.28 | S53: =SUM(S33:S51) -> 228754.28 | ... AP53: =SUM(AP33:AP51) -> 228754.28
E55: TOTAL MONITORAÇÃO | L55: =L53+L27 -> 13889373 | M55: =M27+M53 -> 0 | N55: =N27+N53 -> 461675.62 | O55: =O27+O53 -> 461675.62 | P55: =P27+P53 -> 461675.62 | Q55: =Q27+Q53 -> 561831.62 | R55: =R27+R53 -> 461675.62 | S55: =S27+S53 -> 461675.62 | T55: =T27+T53 -> 461675.62 | ... AP55: =AP27+AP53 -> 461675.62

Sheet Conserva - Resumo
D4: CONSERVA DE ROTINA | E4: TOTAL | F4: 1 | G4: 2 | H4: 3 | I4: 4 | J4: 5 | K4: 6 | L4: 7 | M4: 8 | N4: 9 | O4: 10 | P4: 11 | Q4: 12 | R4: 13 | S4: 14 | T4: 15 | U4: 16 | V4: 17 | W4: 18 | X4: 19 | Y4: 20 | Z4: 21 | AA4: 22 | AB4: 23 | AC4: 24 | AD4: 25 | AE4: 26 | AF4: 27 | AG4: 28 | AH4: 29 | AI4: 30
D5: Pavimento | E5: =SUM(F5:AJ5) -> 2.7460234e+08 | F5: =Conservação!O9*Conservação!O8 -> 4417983.2 | G5: =Conservação!X9 -> 6051136.8 | H5: =Conservação!AF9 -> 11345881 | I5: =Conservação!AN9 -> 6051136.8 | J5: =Conservação!AV9 -> 6051136.8 | K5: =Conservação!BD9 -> 8925927.2 | L5: =Conservação!BL9 -> 12239058 | M5: =Conservação!BT9 -> 6527497.5 | N5: =Conservação!CB9 -> 9383277.6 | O5: =Conservação!CJ9 -> 12239058 | P5: =Conservação!CR9 -> 6527497.5 | Q5: =Conservação!CZ9 -> 9383277.6 | R5: =Conservação!DH9 -> 12239058 | S5: =Conservação!DP9 -> 6527497.5 | T5: =Conservação!DX9 -> 9383277.6 | U5: =Conservação!EF9 -> 12438999 | V5: =Conservação!EN9 -> 6634132.8 | W5: =Conservação!EV9 -> 9536565.9 | X5: =Conservação!FD9 -> 12438999 | Y5: =Conservação!FL9 -> 6634132.8 | Z5: =Conservação!FT9 -> 9926691.5 | AA5: =Conservação!GB9 -> 12947858 | AB5: =Conservação!GJ9 -> 6905524.5 | AC5: =Conservação!GR9 -> 9926691.5 | AD5: =Conservação!GZ9 -> 12947858 | AE5: =Conservação!HH9 -> 6958842.2 | AF5: =Conservação!HP9 -> 10003336 | AG5: =Conservação!HX9 -> 13047829 | AH5: =Conservação!IF9 -> 6958842.2 | AI5: =Conservação!IN9 -> 10003336
D6: Elementos de Proteção e Segurança | E6: =SUM(F6:AJ6) -> 36145935 | F6: =Conservação!O27*Conservação!O8 -> 828820.29 | G6: =Conservação!X27 -> 828820.29 | H6: =Conservação!AF27 -> 1554038 | I6: =Conservação!AN27 -> 828820.29 | J6: =Conservação!AV27 -> 828820.29 | K6: =Conservação!BD27 -> 1206029.5 | L6: =Conservação!BL27 -> 1611380.5 | M6: =Conservação!BT27 -> 859402.91 | N6: =Conservação!CB27 -> 1235391.7 | O6: =Conservação!CJ27 -> 1611380.5 | P6: =Conservação!CR27 -> 859402.91 | Q6: =Conservação!CZ27 -> 1235391.7 | R6: =Conservação!DH27 -> 1611380.5 | S6: =Conservação!DP27 -> 859402.91 | T6: =Conservação!DX27 -> 1235391.7 | U6: =Conservação!EF27 -> 1624216.8 | V6: =Conservação!EN27 -> 866248.96 | W6: =Conservação!EV27 -> 1245232.9 | X6: =Conservação!FD27 -> 1624216.8 | Y6: =Conservação!FL27 -> 866248.96 | Z6: =Conservação!FT27 -> 1270279.2 | AA6: =Conservação!GB27 -> 1656885.9 | AB6: =Conservação!GJ27 -> 883672.46 | AC6: =Conservação!GR27 -> 1270279.2 | AD6: =Conservação!GZ27 -> 1656885.9 | AE6: =Conservação!HH27 -> 887095.48 | AF6: =Conservação!HP27 -> 1275199.8 | AG6: =Conservação!HX27 -> 1663304 | AH6: =Conservação!IF27 -> 887095.48 | AI6: =Conservação!IN27 -> 1275199.8
D7: OAE's | E7: =SUM(F7:AJ7) -> 19047157 | F7: =Conservação!O41*Conservação!O8 -> 455537.38 | G7: =Conservação!X41 -> 455537.38 | H7: =Conservação!AF41 -> 854132.59 | I7: =Conservação!AN41 -> 455537.38 | J7: =Conservação!AV41 -> 455537.38 | K7: =Conservação!BD41 -> 654834.99 | L7: =Conservação!BL41 -> 854132.59 | M7: =Conservação!BT41 -> 455537.38 | N7: =Conservação!CB41 -> 654834.99 | O7: =Conservação!CJ41 -> 854132.59 | P7: =Conservação!CR41 -> 455537.38 | Q7: =Conservação!CZ41 -> 654834.99 | R7: =Conservação!DH41 -> 854132.59 | S7: =Conservação!DP41 -> 455537.38 | T7: =Conservação!DX41 -> 654834.99 | U7: =Conservação!EF41 -> 854132.59 | V7: =Conservação!EN41 -> 455537.38 | W7: =Conservação!EV41 -> 654834.99 | X7: =Conservação!FD41 -> 854132.59 | Y7: =Conservação!FL41 -> 455537.38 | Z7: =Conservação!FT41 -> 654834.99 | AA7: =Conservação!GB41 -> 854132.59 | AB7: =Conservação!GJ41 -> 455537.38 | AC7: =Conservação!GR41 -> 654834.99 | AD7: =Conservação!GZ41 -> 854132.59 | AE7: =Conservação!HH41 -> 455537.38 | AF7: =Conservação!HP41 -> 654834.99 | AG7: =Conservação!HX41 -> 854132.59 | AH7: =Conservação!IF41 -> 455537.38 | AI7: =Conservação!IN41 -> 654834.99
D8: Drenagem e OAC | E8: =SUM(F8:AJ8) -> 1641973.8 | F8: =Conservação!O51*Conservação!O8 -> 39269.926 | G8: =Conservação!X51 -> 39269.926 | H8: =Conservação!AF51 -> 73631.11 | I8: =Conservação!AN51 -> 39269.926 | J8: =Conservação!AV51 -> 39269.926 | K8: =Conservação!BD51 -> 56450.518 | L8: =Conservação!BL51 -> 73631.11 | M8: =Conservação!BT51 -> 39269.926 | N8: =Conservação!CB51 -> 56450.518 | O8: =Conservação!CJ51 -> 73631.11 | P8: =Conservação!CR51 -> 39269.926 | Q8: =Conservação!CZ51 -> 56450.518 | R8: =Conservação!DH51 -> 73631.11 | S8: =Conservação!DP51 -> 39269.926 | T8: =Conservação!DX51 -> 56450.518 | U8: =Conservação!EF51 -> 73631.11 | V8: =Conservação!EN51 -> 39269.926 | W8: =Conservação!EV51 -> 56450.518 | X8: =Conservação!FD51 -> 73631.11 | Y8: =Conservação!FL51 -> 39269.926 | Z8: =Conservação!FT51 -> 56450.518 | AA8: =Conservação!GB51 -> 73631.11 | AB8: =Conservação!GJ51 -> 39269.926 | AC8: =Conservação!GR51 -> 56450.518 | AD8: =Conservação!GZ51 -> 73631.11 | AE8: =Conservação!HH51 -> 39269.926 | AF8: =Conservação!HP51 -> 56450.518 | AG8: =Conservação!HX51 -> 73631.11 | AH8: =Conservação!IF51 -> 39269.926 | AI8: =Conservação!IN51 -> 56450.518
D9: Terrapleno e Estruturas de Contenção | E9: =SUM(F9:AJ9) -> 3207060.5 | F9: =Conservação!O56*Conservação!O8 -> 71358.67 | G9: =Conservação!X56 -> 71358.67 | H9: =Conservação!AF56 -> 152727.68 | I9: =Conservação!AN56 -> 71358.67 | J9: =Conservação!AV56 -> 71358.67 | K9: =Conservação!BD56 -> 97530.041 | L9: =Conservação!BL56 -> 152727.68 | M9: =Conservação!BT56 -> 71358.67 | N9: =Conservação!CB56 -> 109834.66 | O9: =Conservação!CJ56 -> 152727.68 | P9: =Conservação!CR56 -> 71358.67 | Q9: =Conservação!CZ56 -> 109834.66 | R9: =Conservação!DH56 -> 152727.68 | S9: =Conservação!DP56 -> 71358.67 | T9: =Conservação!DX56 -> 109834.66 | U9: =Conservação!EF56 -> 152727.68 | V9: =Conservação!EN56 -> 71358.67 | W9: =Conservação!EV56 -> 109834.66 | X9: =Conservação!FD56 -> 152727.68 | Y9: =Conservação!FL56 -> 71358.67 | Z9: =Conservação!FT56 -> 109834.66 | AA9: =Conservação!GB56 -> 152727.68 | AB9: =Conservação!GJ56 -> 71358.67 | AC9: =Conservação!GR56 -> 109834.66 | AD9: =Conservação!GZ56 -> 152727.68 | AE9: =Conservação!HH56 -> 71358.67 | AF9: =Conservação!HP56 -> 109834.66 | AG9: =Conservação!HX56 -> 152727.68 | AH9: =Conservação!IF56 -> 71358.67 | AI9: =Conservação!IN56 -> 109834.66
D10: Faixa de Domínio | E10: =SUM(F10:AJ10) -> 8224890.8 | F10: =Conservação!O61*Conservação!O8 -> 184829.52 | G10: =Conservação!X61 -> 184829.52 | H10: =Conservação!AF61 -> 346555.36 | I10: =Conservação!AN61 -> 184829.52 | J10: =Conservação!AV61 -> 184829.52 | K10: =Conservação!BD61 -> 270556.72 | L10: =Conservação!BL61 -> 365659.65 | M10: =Conservação!BT61 -> 195018.48 | N10: =Conservação!CB61 -> 280339.06 | O10: =Conservação!CJ61 -> 365659.65 | P10: =Conservação!CR61 -> 195018.48 | Q10: =Conservação!CZ61 -> 280339.06 | R10: =Conservação!DH61 -> 365659.65 | S10: =Conservação!DP61 -> 195018.48 | T10: =Conservação!DX61 -> 280339.06 | U10: =Conservação!EF61 -> 369936.22 | V10: =Conservação!EN61 -> 197299.32 | W10: =Conservação!EV61 -> 283617.77 | X10: =Conservação!FD61 -> 369936.22 | Y10: =Conservação!FL61 -> 197299.32 | Z10: =Conservação!FT61 -> 291962.23 | AA10: =Conservação!GB61 -> 380820.3 | AB10: =Conservação!GJ61 -> 203104.16 | AC10: =Conservação!GR61 -> 291962.23 | AD10: =Conservação!GZ61 -> 380820.3 | AE10: =Conservação!HH61 -> 204244.58 | AF10: =Conservação!HP61 -> 293601.58 | AG10: =Conservação!HX61 -> 382958.59 | AH10: =Conservação!IF61 -> 204244.58 | AI10: =Conservação!IN61 -> 293601.58
D11: Edificações e Instalações Operacionais | E11: =SUM(F11:AJ11) -> 6600481.7 | F11: =Conservação!O67*Conservação!O8 -> 137747.52 | G11: =Conservação!X67 -> 137747.52 | H11: =Conservação!AF67 -> 258276.6 | I11: =Conservação!AN67 -> 137747.52 | J11: =Conservação!AV67 -> 137747.52 | K11: =Conservação!BD67 -> 198012.06 | L11: =Conservação!BL67 -> 258276.6 | M11: =Conservação!BT67 -> 137747.52 | N11: =Conservação!CB67 -> 198012.06 | O11: =Conservação!CJ67 -> 258276.6 | P11: =Conservação!CR67 -> 225115.16 | Q11: =Conservação!CZ67 -> 323603.04 | R11: =Conservação!DH67 -> 422090.92 | S11: =Conservação!DP67 -> 225115.16 | T11: =Conservação!DX67 -> 323603.04 | U11: =Conservação!EF67 -> 422090.92 | V11: =Conservação!EN67 -> 225115.16 | W11: =Conservação!EV67 -> 198012.06 | X11: =Conservação!FD67 -> 258276.6 | Y11: =Conservação!FL67 -> 137747.52 | Z11: =Conservação!FT67 -> 198012.06 | AA11: =Conservação!GB67 -> 258276.6 | AB11: =Conservação!GJ67 -> 137747.52 | AC11: =Conservação!GR67 -> 198012.06 | AD11: =Conservação!GZ67 -> 258276.6 | AE11: =Conservação!HH67 -> 137747.52 | AF11: =Conservação!HP67 -> 198012.06 | AG11: =Conservação!HX67 -> 258276.6 | AH11: =Conservação!IF67 -> 137747.52 | AI11: =Conservação!IN67 -> 198012.06
D12: Iluminação e Instalações Elétricas | E12: =SUM(F12:AJ12) -> 1276200.5 | F12: =Conservação!O69*Conservação!O8 -> 71744.373 | G12: =Conservação!X69 -> 71744.373 | H12: =Conservação!AF69 -> 71744.373 | I12: =Conservação!AN69 -> 71744.373 | J12: =Conservação!AV69 -> 71744.373 | K12: =Conservação!BD69 -> 71744.373 | L12: =Conservação!BL69 -> 71744.373 | M12: =Conservação!BT69 -> 71744.373 | N12: =Conservação!CB69 -> 71744.373 | O12: =Conservação!CJ69 -> 71744.373 | P12: =Conservação!CR69 -> 27937.84 | Q12: =Conservação!CZ69 -> 27937.84 | R12: =Conservação!DH69 -> 27937.84 | S12: =Conservação!DP69 -> 27937.84 | T12: =Conservação!DX69 -> 27937.84 | U12: =Conservação!EF69 -> 27937.84 | V12: =Conservação!EN69 -> 27937.84 | W12: =Conservação!EV69 -> 27937.84 | X12: =Conservação!FD69 -> 27937.84 | Y12: =Conservação!FL69 -> 27937.84 | Z12: =Conservação!FT69 -> 27937.84 | AA12: =Conservação!GB69 -> 27937.84 | AB12: =Conservação!GJ69 -> 27937.84 | AC12: =Conservação!GR69 -> 27937.84 | AD12: =Conservação!GZ69 -> 27937.84 | AE12: =Conservação!HH69 -> 27937.84 | AF12: =Conservação!HP69 -> 27937.84 | AG12: =Conservação!HX69 -> 27937.84 | AH12: =Conservação!IF69 -> 27937.84 | AI12: =Conservação!IN69 -> 27937.84
D13: Consultoria | E13: =SUM(F13:AJ13) -> 1579423.5 | F13: 11787.283 | G13: 47147.053 | H13: 46835.436 | I13: 48633.194 | J13: 50431.372 | K13: 55501.492 | L13: 55681.769 | M13: 55840.123 | N13: 55998.477 | O13: 56156.831 | P13: 54357.442 | Q13: 54151.804 | R13: 54448.17 | S13: 54497.734 | T13: 54596.443 | U13: 54646.007 | V13: 54695.571 | W13: 54839.381 | X13: 54878.024 | Y13: 54896.926 | Z13: 54916.247 | AA13: 54935.569 | AB13: 54935.569 | AC13: 54935.569 | AD13: 54935.569 | AE13: 54948.886 | AF13: 54948.886 | AG13: 54948.886 | AH13: 54948.886 | AI13: 54948.886
D14: TOTAL | E14: =SUM(F14:AJ14) -> 3.5232546e+08 | F14: =SUM(F5:F13) -> 6219078.2 | G14: =SUM(G5:G13) -> 7887591.5 | H14: =SUM(H5:H13) -> 14703823 | I14: =SUM(I5:I13) -> 7889077.7 | J14: =SUM(J5:J13) -> 7890875.8 | K14: =SUM(K5:K13) -> 11536587 | L14: =SUM(L5:L13) -> 15682292 | M14: =SUM(M5:M13) -> 8413416.9 | ... AI14: =SUM(AI5:AI13) -> 12674156
F15: =F14*0.5% -> 31095.391 | G15: =G14*0.5% -> 39437.958 | H15: =H14*0.5% -> 73519.113 | I15: =I14*0.5% -> 39445.388 | J15: =J14*0.5% -> 39454.379 | K15: =K14*0.5% -> 57682.934 | L15: =L14*0.5% -> 78411.46 | M15: =M14*0.5% -> 42067.084 | ... AI15: =AI14*0.5% -> 63370.779
D19: km equivalente | E19: km | F19: 500 | G19: 500 | H19: 500 | I19: 500 | J19: 500 | K19: 513.17434 | L19: 539.66869 | M19: 539.66869 | N19: 539.66869 | O19: 539.66869 | P19: 539.66869 | Q19: 539.66869 | R19: 539.66869 | S19: 539.66869 | T19: 539.66869 | U19: 548.54869 | V19: 548.54869 | W19: 548.54869 | X19: 548.54869 | Y19: 548.54869 | Z19: 571.14869 | AA19: 571.14869 | AB19: 571.14869 | AC19: 571.14869 | AD19: 571.14869 | AE19: 575.58869 | AF19: 575.58869 | AG19: 575.58869 | AH19: 575.58869 | AI19: 575.58869
D20: área de pista | E20: m2 | F20: 2694050 | G20: 2787874 | H20: 3584844 | I20: 4232579 | J20: 4970110 | K20: 4970110 | L20: 4970110 | M20: 4970110 | N20: 5023278 | O20: 5103793 | P20: 5103793 | Q20: 5103793 | R20: 5103793 | S20: 5103793 | T20: 5103793 | U20: 5127316 | V20: 5151248 | W20: 5151248 | X20: 5151248 | Y20: 5151248 | Z20: 5151248 | AA20: 5151248 | AB20: 5151248 | AC20: 5151248 | AD20: 5151248 | AE20: 5151248 | AF20: 5151248 | AG20: 5151248 | AH20: 5151248 | AI20: 5151248
D22: custo conserva / km eq / ano | E22: =AVERAGE(G22:AI22) -> 21811.676 | G22: =G14/G19 -> 15775.183 | H22: =H14/H19 -> 29407.645 | I22: =I14/I19 -> 15778.155 | J22: =J14/J19 -> 15781.752 | K22: =K14/K19 -> 22480.833 | L22: =L14/L19 -> 29059.111 | M22: =M14/M19 -> 15589.967 | N22: =N14/N19 -> 22320.886 | ... AI22: =AI14/AI19 -> 22019.467
D23: custo conserva / km eq / mês | E23: =AVERAGE(G23:AI23) -> 1817.6397 | G23: =G22/12 -> 1314.5986 | H23: =H22/12 -> 2450.6371 | I23: =I22/12 -> 1314.8463 | J23: =J22/12 -> 1315.146 | K23: =K22/12 -> 1873.4028 | L23: =L22/12 -> 2421.5925 | M23: =M22/12 -> 1299.1639 | N23: =N22/12 -> 1860.0739 | ... AI23: =AI22/12 -> 1834.9556
D25: custo conserva / m2 / ano | E25: =AVERAGE(G25:AI25) -> 2.4337822 | G25: =G14/G20 -> 2.8292496 | H25: =H14/H20 -> 4.1016632 | I25: =I14/I20 -> 1.8638938 | J25: =J14/J20 -> 1.5876662 | K25: =K14/K20 -> 2.3211935 | L25: =L14/L20 -> 3.1553209 | M25: =M14/M20 -> 1.6928029 | N25: =N14/N20 -> 2.3980125 | ... AI25: =AI14/AI20 -> 2.4604049
D26: custo conserva / m2 / mês | E26: =AVERAGE(G26:AI26) -> 0.20281518 | G26: =G25/12 -> 0.2357708 | H26: =H25/12 -> 0.34180527 | I26: =I25/12 -> 0.15532448 | J26: =J25/12 -> 0.13230552 | K26: =K25/12 -> 0.19343279 | L26: =L25/12 -> 0.26294341 | M26: =M25/12 -> 0.14106691 | N26: =N25/12 -> 0.19983438 | ... AI26: =AI25/12 -> 0.20503374

Sheet Conservação
D4: PREÇO UNITÁRIO (R$) | E4: CÓD. DERMG | F4: ITEM | G4: SERVIÇOS A EXECUTAR POR FASE DA CONCESSÃO | H4: PREÇO TOTAL (R$) | I4: 2025 | R4: 2026 | Z4: 2027 | AH4: 2028 | AP4: 2029 | AX4: 2030 | BF4: 2031 | BN4: 2032 | BV4: 2033 | CD4: 2034 | CL4: 2035 | CT4: 2036 | DB4: 2037 | DJ4: 2038 | DR4: 2039 | DZ4: 2040 | EH4: 2041 | EP4: 2042 | EX4: 2043 | FF4: 2044 | FN4: 2045 | FV4: 2046 | GD4: 2047 | GL4: 2048 | GT4: 2049 | HB4: 2050 | HJ4: 2051 | HR4: 2052 | HZ4: 2053 | IH4: 2054
I5: 1º ano | R5: 2º ano | Z5: 3º ano | AH5: 4º ano | AP5: 5º ano | AX5: 6 º ano | BF5: 7º ano | BN5: 8º ano | BV5: 9º ano | CD5: 10º ano | CL5: 11º ano | CT5: 12º ano | DB5: 13º ano | DJ5: 14º ano | DR5: 15º ano | DZ5: 16º ano | EH5: 17º ano | EP5: 18º ano | EX5: 19º ano | FF5: 20º ano | FN5: 21º ano | FV5: 22º ano | GD5: 23º ano | GL5: 24º ano | GT5: 25º ano | HB5: 26º ano | HJ5: 27º ano | HR5: 28º ano | HZ5: 29º ano | IH5: 30º ano
I6: Referência | K6: Padrão | M6: Executar (anual) | O6: R$ | P6: % | R6: Referência | T6: Padrão | V6: Executar (anual) | X6: R$ | Y6: % | Z6: Referência | AB6: Padrão | AD6: Executar (anual) | AF6: R$ | AG6: % | AH6: Referência | AJ6: Padrão | AL6: Executar (anual) | AN6: R$ | AO6: % | AP6: Referência | AR6: Padrão | AT6: Executar (anual) | AV6: R$ | AW6: % | AX6: Referência | AZ6: Padrão | BB6: Executar (anual) | BD6: R$ | BE6: % | BF6: Referência | BH6: Padrão | BJ6: Executar (anual) | BL6: R$ | BM6: % | BN6: Referência | BP6: Padrão | BR6: Executar (anual) | BT6: R$ | BU6: % | BV6: Referência | BX6: Padrão | BZ6: Executar (anual) | CB6: R$ | CC6: % | CD6: Referência | CF6: Padrão | CH6: Executar (anual) | CJ6: R$ | CK6: % | CL6: Referência | CN6: Padrão | CP6: Executar (anual) | CR6: R$ | CS6: % | CT6: Referência | CV6: Padrão | CX6: Executar (anual) | CZ6: R$ | DA6: % | DB6: Referência | DD6: Padrão | DF6: Executar (anual) | DH6: R$ | DI6: % | DJ6: Referência | DL6: Padrão | DN6: Executar (anual) | DP6: R$ | DQ6: % | DR6: Referência | DT6: Padrão | DV6: Executar (anual) | DX6: R$ | DY6: % | DZ6: Referência | EB6: Padrão | ED6: Executar (anual) | EF6: R$ | EG6: % | EH6: Referência | EJ6: Padrão | EL6: Executar (anual) | EN6: R$ | EO6: % | EP6: Referência | ER6: Padrão | ET6: Executar (anual) | EV6: R$ | EW6: % | EX6: Referência | EZ6: Padrão | FB6: Executar (anual) | FD6: R$ | FE6: % | FF6: Referência | FH6: Padrão | FJ6: Executar (anual) | FL6: R$ | FM6: % | FN6: Referência | FP6: Padrão | FR6: Executar (anual) | FT6: R$ | FU6: % | FV6: Referência | FX6: Padrão | FZ6: Executar (anual) | GB6: R$ | GC6: % | GD6: Referência | GF6: Padrão | GH6: Executar (anual) | GJ6: R$ | GK6: % | GL6: Referência | GN6: Padrão | GP6: Executar (anual) | GR6: R$ | GS6: % | GT6: Referência | GV6: Padrão | GX6: Executar (anual) | GZ6: R$ | HA6: % | HB6: Referência | HD6: Padrão | HF6: Executar (anual) | HH6: R$ | HI6: % | HJ6: Referência | HL6: Padrão | HN6: Executar (anual) | HP6: R$ | HQ6: % | HR6: Referência | HT6: Padrão | HV6: Executar (anual) | HX6: R$ | HY6: % | HZ6: Referência | IB6: Padrão | ID6: Executar (anual) | IF6: R$ | IG6: % | IH6: Referência | IJ6: Padrão | IL6: Executar (anual) | IN6: R$ | IO6: %
