Workbook
Name Cód.: "serv"
Name KM: INVESTIMENTOS_SMB!$H$41
Name KM: INVESTIMENTOS_CMB!$H$41
Name OPÇÃO_HDM: INVESTIMENTOS_SMB!$G$44
Name OPÇÃO_HDM: INVESTIMENTOS_CMB!$G$43
Name TX_MOB_DESM: 3.56%

Sheet INVESTIMENTOS_CMB
B6: RESUMO GERAL POR TRECHO - OBRAS PUBLICAS | I6: =COLUMN()-3 -> 6 | J6: =COLUMN()-3 -> 7 | K6: =COLUMN()-3 -> 8 | L6: =COLUMN()-3 -> 9 | M6: =COLUMN()-3 -> 10 | N6: =COLUMN()-3 -> 11 | O6: =COLUMN()-3 -> 12 | P6: =COLUMN()-3 -> 13 | Q6: Observação
I7: TRABALHOS INICIAS | J7: RECUPERAÇÃO | K7: DUPLICAÇÃO | L7: FAIXAS ADICIONAIS | M7: ACOSTAMENTOS | N7: ACESSOS | O7: Desapropriação | P7: GERAL
I8: TRABALHOS INICIAS
B9: ITEM | C9: RODOVIA | D9: SRE/MG | E9: TRECHO | F9: KM INICIAL | G9: KM FINAL | H9: KM | I9: VALOR | J9: VALOR | K9: VALOR | N9: VALOR | P9: VALOR
B10: 8 | C10: CMG120 | D10: 120CMG0190-01 | E10: ENTR MG129(B) - FIM DESAFETAÇÃO (ITABIRA) | F10: 440.4 | G10: 441.45 | H10: =G10-F10 -> 1.05 | I10: 74788 | J10: 1789023 | N10: 222287 | O10: 0 | P10: =SUM(I10:O10) -> 2086098
B11: 9 | C11: CMG120 | D11: 120CMG0190-02 | E11: FIM DESAFETAÇÃO (ITABIRA) - CAPOEIRANA | F11: 441.45 | G11: 458.94 | H11: =G11-F11 -> 17.49 | I11: 622447 | J11: 18264128 | N11: 1556007 | O11: 0 | P11: =SUM(I11:O11) -> 20442582
B12: 10 | C12: CMG120 | D12: 120CMG0190-03 | E12: CAPOEIRANA - ENTR BR381(A) (DESEMBARGADOR DRUMOND DIV 12/40 CRG) | F12: 458.94 | G12: 468.11 | H12: =G12-F12 -> 9.17 | I12: 313008 | J12: 6882667 | N12: 889147 | O12: 0 | P12: =SUM(I12:O12) -> 8084822
B13: 12 | C13: MG129 | D13: 129EMG0050-02 | E13: ENTR BR120 (B) - DISTRITO INDUSTRIAL DE ITABIRA (INÍCIO) | F13: 13.6 | G13: 17.53 | H13: =G13-F13 -> 3.93 | I13: 549659 | J13: 7030809 | N13: 0 | O13: 0 | P13: =SUM(I13:O13) -> 7580468
B14: 13 | C14: MG129 | D14: 129EMG0050-03 | E14: DISTRITO INDUSTRIAL DE ITABIRA (INÍCIO) - DISTRITO INDUSTRIAL DE ITABIRA (FIM) | F14: 17.53 | G14: 21.37 | H14: =G14-F14 -> 3.84 | I14: 622839 | J14: 8359466 | N14: 666860 | O14: 0 | P14: =SUM(I14:O14) -> 9649165
B15: 14 | C15: MG129 | D15: 129EMG0205-01 | E15: DISTRITO INDUSTRIAL DE ITABIRA (FIM) - KM 23 (FIM TRECHO URBANO) | F15: 21.37 | G15: 22.99 | H15: =G15-F15 -> 1.62 | I15: 133328 | J15: 2096722 | N15: 222287 | O15: 0 | P15: =SUM(I15:O15) -> 2452337
B16: 15 | C16: MG129 | D16: 129EMG0205-02 | E16: KM 23 (FIM TRECHO URBANO) - ENTR P/ITABIRA (ITABIRUÇU) | F16: 22.99 | G16: 27.89 | H16: =G16-F16 -> 4.9 | I16: 940665 | J16: 9236486 | N16: 444573 | O16: 0 | P16: =SUM(I16:O16) -> 10621724
A17: =SUM(H17:H18) -> 5.08 | B17: 16 | C17: MG129 | D17: 129EMG0220-01 | E17: ENTR P/ITABIRA (ITABIRUÇU) - INÍCIO PERÍMETRO URBANO ITABIRA | F17: 27.89 | G17: 31.33 | H17: =G17-F17 -> 3.44 | I17: 760546 | J17: 9301882 | K17: 30030425 | N17: 889147 | O17: 154912 | P17: =SUM(I17:O17) -> 41136912
B18: 17 | C18: MG129 | D18: 129EMG0220-02 | E18: INÍCIO PERÍMETRO URBANO ITABIRA - ENTR MG434 (CHAPADA) | F18: 31.33 | G18: 32.97 | H18: =G18-F18 -> 1.64 | I18: 621512 | J18: 3572429 | K18: 14174470 | N18: 222287 | O18: 14533 | P18: =SUM(I18:O18) -> 18605231
A19: 0.643 | B19: 18 | C19: MG129 | D19: 129EMG0240-01 | E19: ENTR MG434 (CHAPADA) - FINAL PERIMETRO URBANO ITABIRA | F19: 32.97 | G19: 33.56 | H19: =G19-F19 -> 0.59 | I19: 150296 | J19: 902985 | M19: =A19*3148000 -> 2024164 | N19: 0 | O19: 617318 | P19: =SUM(I19:O19) -> 3694763
A20: 10.173 | B20: 19 | C20: MG129 | D20: 129EMG0240-02 | E20: FINAL PERIMETRO URBANO ITABIRA - SÃO GONÇALO DO RIO ABAIXO | F20: 33.56 | G20: 48.62 | H20: =G20-F20 -> 15.06 | I20: 2510578 | J20: 11514761 | M20: =A20*3148000 -> 32024604 | N20: 444573 | O20: 0 | P20: =SUM(I20:O20) -> 46494516
B21: 20 | C21: MG129 | D21: 129EMG0280-02 | E21: ENTR BR381 (B) (S GONÇALO R ABAIXO) - USINA PETI | F21: 52.54 | G21: 58.95 | H21: =G21-F21 -> 6.41 | I21: 0 | J21: 0 | N21: 444573 | O21: 0 | P21: =SUM(I21:O21) -> 444573
B22: 21 | C22: MG129 | D22: 129EMG0300-01 | E22: USINA PETI - FIM DO TRECHO DESAFETADO | F22: 58.95 | G22: 66.27 | H22: =G22-F22 -> 7.32 | I22: 0 | J22: 0 | N22: 0 | O22: 0 | P22: =SUM(I22:O22) -> 0
B23: 22 | C23: MG129 | D23: 129EMG0300-02 | E23: FIM DO TRECHO DESAFETADO - ENTR BR 262 (A) SANTA BÁRBARA | F23: 66.27 | G23: 70.63 | H23: =G23-F23 -> 4.36 | I23: 0 | J23: 0 | N23: 222287 | O23: 0 | P23: =SUM(I23:O23) -> 222287
B24: 23 | C24: MG129 | D24: 129EMG0300-03 | E24: ENTR BR 262 (A) SANTA BÁRBARA - SANTA BÁRBARA (CENTRO) | F24: 70.63 | G24: 73.35 | H24: =G24-F24 -> 2.72 | I24: 0 | J24: 0 | N24: 0 | O24: 0 | P24: =SUM(I24:O24) -> 0
B25: 24 | C25: MG129 | D25: 129EMG0320 | E25: SANTA BÁRBARA CENTRO (2) - ENTR MGC262(B) | F25: 77.68 | G25: 77.89 | H25: =G25-F25 -> 0.21 | I25: 49751 | J25: 1114165 | N25: 0 | O25: 0 | P25: =SUM(I25:O25) -> 1163916
A26: =H26 -> 12.42 | B26: 25 | C26: MG129 | D26: 129EMG0340 | E26: ENTR MGC262(B) - CATAS ALTAS | F26: 77.89 | G26: 90.31 | H26: =G26-F26 -> 12.42 | I26: 1774630 | J26: 14715225 | L26: =H26*4540000 -> 56386800 | N26: 444573 | O26: 313609 | P26: =SUM(I26:O26) -> 73634837
B27: 26 | C27: MG129 | D27: 129EMG0350 | E27: CATAS ALTAS - ENTR P/CLÁUDIO MANUEL | F27: 90.31 | G27: 93 | H27: =G27-F27 -> 2.69 | I27: 442393 | J27: 2557302 | N27: 222287 | O27: 0 | P27: =SUM(I27:O27) -> 3221982
B28: 27 | C28: MG129 | D28: 129EMG0360 | E28: ENTR P/CLÁUDIO MANUEL - RIO PIRACICABA | F28: 93 | G28: 101.93 | H28: =G28-F28 -> 8.93 | I28: 1185909 | J28: 16836877 | N28: 0 | O28: 0 | P28: =SUM(I28:O28) -> 18022786
B29: 28 | C29: MG129 | D29: 129EMG0380 | E29: RIO PIRACICABA - MINERAÇÃO SAMARCO (DIV 12/17 CRG) | F29: 101.93 | G29: 113.04 | H29: =G29-F29 -> 11.11 | I29: 1193677 | J29: 16622502 | N29: 0 | O29: 0 | P29: =SUM(I29:O29) -> 17816179
B30: 29 | C30: MG129 | D30: 129EMG0400 | E30: MINERAÇÃO SAMARCO (DIV 12/17 CRG) - ANTÔNIO PEREIRA | F30: 113.04 | G30: 125.95 | H30: =G30-F30 -> 12.91 | I30: 661602 | J30: 22841114 | N30: 0 | O30: 0 | P30: =SUM(I30:O30) -> 23502716
A31: =H31 -> 9.46 | B31: 30 | C31: MG129 | D31: 129EMG0420 | E31: ANTÔNIO PEREIRA - MARIANA (INÍCIO TRECHO URBANO) | F31: 125.95 | G31: 135.41 | H31: =G31-F31 -> 9.46 | I31: 938392 | J31: 12393792 | L31: =H31*4540000 -> 42948400 | N31: 1333720 | O31: 761461 | P31: =SUM(I31:O31) -> 58375765
A32: =SUM(H32:H36) -> 9.71 | B32: 32 | C32: CMG262 | D32: 262CMG0450-01 | E32: ENTR MG129 (B) (SANTA BÁRBARA) - SANTA BÁRBARA (FIM TRECHO URBANO) | F32: 226.5 | G32: 227.87 | H32: =G32-F32 -> 1.37 | I32: 197181 | J32: 8697548 | K32: 30472803 | N32: 889147 | O32: 309886 | P32: =SUM(I32:O32) -> 40566565
B33: 33 | C33: CMG262 | D33: 262CMG0450-02 | E33: SANTA BÁRBARA (FIM TRECHO URBANO) - ENTR AMG1225 (ACESSO CARAÇA) (TRECHO DESAFETADO) | F33: 227.87 | G33: 230.77 | H33: =G33-F33 -> 2.9 | I33: 1547860 | J33: 13380024 | K33: 25394073 | N33: 666860 | O33: 209467 | P33: =SUM(I33:O33) -> 41198284
B34: 33.1 | C34: CMG262 | D34: 262CMG0450-03 | E34: ENTR AMG1225 (ACESSO CARAÇA) (TRECHO DESAFETADO) - SANTA BÁRBARA (FIM TRECHO DESAFETADO) | F34: 230.77 | G34: 233.93 | H34: =G34-F34 -> 3.16 | I34: 87512 | J34: 3969972 | K34: 28618122 | N34: 889147 | O34: 0 | P34: =SUM(I34:O34) -> 33564753
B35: 33.2 | C35: CMG262 | D35: 262CMG0450-04 | E35: SANTA BÁRBARA (FIM TRECHO DESAFETADO) - BARÃO DE COCAIS (INÍCIO TRECHO DESAFETADO) | F35: 233.93 | G35: 234.68 | H35: =G35-F35 -> 0.75 | I35: 31034 | J35: 789497 | K35: 7692512 | N35: 222287 | O35: 0 | P35: =SUM(I35:O35) -> 8735330 | Q35: Trecho Urbano
B36: 33.3 | C36: CMG262 | D36: 262CMG0450-05 | E36: BARÃO DE COCAIS (INÍCIO TRECHO DESAFETADO) - ENTR MG436 (BARÃO DE COCAIS) | F36: 234.68 | G36: 236.21 | H36: =G36-F36 -> 1.53 | I36: 49308 | J36: 1342415 | K36: 13656744 | N36: 444573 | O36: 0 | P36: =SUM(I36:O36) -> 15493040
A37: =SUM(H37:H38) -> 19.17 | B37: 38 | C37: MG434 | D37: 434EMG0200-01 | E37: ENTR BR381 (P/BELO HORIZONTE) - INÍCIO PERIMETRO URBANO ITABIRA | F37: 0 | G37: 0.25 | H37: =G37-F37 -> 0.25 | I37: 5619 | J37: 5065362 | K37: 2309285 | N37: 0 | O37: 70139 | P37: =SUM(I37:O37) -> 7450405
B38: 38.1 | C38: MG434 | D38: 434EMG0200-02 | E38: INÍCIO PERIMETRO URBANO ITABIRA - ENTR MG129 (CHAPADA) | F38: 0.25 | G38: 19.17 | H38: =G38-F38 -> 18.92 | I38: 1830999 | J38: 39821405 | K38: 153368568 | N38: 2222867 | O38: 0 | P38: =SUM(I38:O38) -> 197243839
B39: 40 | C39: MG436 | D39: 436EMG0200-01 | E39: ENTR BR381 - INICIO DO TRECHO URBANO (BARÃO DE COCAIS) (KM 16,2) | F39: 0.09 | G39: 16.35 | H39: =G39-F39 -> 16.26 | I39: 1791575 | J39: 37451012 | N39: 2222867 | O39: 0 | P39: =SUM(I39:O39) -> 41465454
B40: 41 | C40: MG436 | D40: 436EMG0200-02 | E40: ENTR MGC262 (BARÃO DE COCAIS)(KM 19,3) - INICIO DO TRECHO URBANO (BARÃO DE COCAIS) (KM 16,2) | F40: 16.35 | G40: 19.26 | H40: =G40-F40 -> 2.91 | I40: 785602 | J40: 7071755 | N40: 1778293 | O40: 0 | P40: =SUM(I40:O40) -> 9635650
B41: TOTAL DE SERVIÇOS | H41: =SUM(H10:H40) -> 189.32 | I41: =SUM(I10:I40) -> 19872710 | J41: =SUM(J10:J40) -> 283621325 | K41: =SUM(K10:K40) -> 305717002 | L41: =SUM(L10:L40) -> 99335200 | M41: =SUM(M10:M40) -> 34048768 | N41: =SUM(N10:N40) -> 17560649 | O41: =SUM(O10:O40) -> 2451325 | P41: =SUM(P10:P40) -> 762606979
J42: =J43/J41 -> 0.3043 | K42: =K43/K41 -> 0.1046 | L42: =L43/L41 -> 0.0815 | M42: =M43/M41 -> 0.047 | N42: =N43/N41 -> 0.1396
B43: Faixa adicional | J43: 86317707 | K43: 31982543 | L43: =L41-SUM(H26,H31)*4170000 -> 8095600 | M43: =M41-SUM(A19:A20)*3000000 -> 1600768 | N43: 2452315 | P43: =SUM(I43:N43) -> 130448933 | Q43: <=== MATERIAL BETUMINOSO
B44: Acostamento | E44: Duplicação - MG-129 | P44: =P41-P43 -> 632158046 | Q44: <=== TOTAL SEM MATERIAL BETUMINOSO
B45: Duplicação | E45: Extensão: | F45: =A17 -> 5.08 | H45: SERVIÇOS FUNCIONAIS
B46: Duplicação 434 | E46: Melhoria: | F46: =SUM(K17:K18) -> 44204895 | H46: -FAIXA DE DOMINIO
E47: Recuperação Funcional*: | F47: =SUM(I17:J18) -> 14256369 | H47: - OAE
E48: Acessos: | F48: =SUM(N17:N18) -> 1111434 | H48: - DISPOSITIVOS DE SEGURANÇA
E49: Total: | F49: =SUM(F46:F48) -> 59572698 | H49: - DRENAGEM E OAC
H50: - ILUMINAÇÃO E INST. ELETRICAS
E51: Duplicação - MG-262
E52: Extensão: | F52: =A32 -> 9.71
E53: Melhoria: | F53: =SUM(K32:K36) -> 105834254
E54: Recuperação Funcional*: | F54: =SUM(I32:J36) -> 30092351
E55: Acessos: | F55: =SUM(N32:N36) -> 3112014
E56: Total: | F56: =SUM(F53:F55) -> 139038619
E58: Duplicação - MG-434
E59: Extensão: | F59: =A37 -> 19.17
E60: Melhoria: | F60: =SUM(K37:K38) -> 155677853
E61: Recuperação Funcional*: | F61: =SUM(I37:J38) -> 46723385
E62: Acessos: | F62: =SUM(N37:N38) -> 2222867
E63: Total: | F63: =SUM(F60:F62) -> 204624105
E65: Duplicação - MG-262 / MG-129 / MG-434
E66: Extensão: | F66: =F52+F45+F59 -> 33.96
E67: Melhoria: | F67: =SUM(F46,F53,F60) -> 305717002
E68: Recuperação Funcional*: | F68: =SUM(F47,F54,F61) -> 91072105
E69: Acessos: | F69: =SUM(F48,F55,F62) -> 6446315
E70: Total: | F70: =SUM(F67:F69) -> 403235422
E72: Faixa Adicional MG-129 (01 e 02)
E73: Extensão: | F73: =SUM(F80,F87) -> 21.88
E74: Melhoria: | F74: =SUM(F81,F88) -> 99335200
E75: Recuperação Funcional*: | F75: =SUM(F82,F89) -> 29822039
E76: Acessos: | F76: =SUM(F83,F90) -> 1778293 | I76: =I41-(I41*I$42) -> 19872710 | J76: =J41-(J41*J$42) -> 197315356 | K76: =K41-(K41*K$42) -> 273739004 | L76: =L41-(L41*L$42) -> 91239381 | M76: =M41-(M41*M$42) -> 32448476 | N76: =N41-(N41*N$42) -> 15109182 | P76: =SUM(I76:N76) -> 629724109
E77: Total: | F77: =SUM(F74:F76) -> 130935532
E79: Faixa Adicional MG-129 01
E80: Extensão: | F80: =A26 -> 12.42
E81: Melhoria: | F81: =L26 -> 56386800 | J81: Obras Gerais
E82: Recuperação Funcional*: | F82: =SUM(I26:J26) -> 16489855 | J82: Melhoria: | K82: =SUM(F46,F53,F74,F95) -> 283423117
E83: Acessos: | F83: =N26 -> 444573 | J83: Recuperação Funcional*: | K83: =SUM(F47,F54,F75,F96) -> 89249379
E84: Total: | F84: =SUM(F81:F83) -> 73321228 | J84: Acessos: | K84: =SUM(F48,F55,F76,F97) -> 6446314
J85: Total: | K85: =SUM(K82:K84) -> 379118810
E86: Faixa Adicional MG-129 02
E87: Extensão: | F87: =A31 -> 9.46 | J87: Obras Gerais
E88: Melhoria: | F88: =L31 -> 42948400 | J88: Melhoria: | K88: =K82 -> 283423117
E89: Recuperação Funcional*: | F89: =SUM(I31:J31) -> 13332184 | J89: Recuperação Funcional*: | K89: =SUM(I10:J40) -> 303494035
E90: Acessos: | F90: =N31 -> 1333720 | J90: Acessos: | K90: =SUM(N10:N40) -> 17560649
E91: Total: | F91: =SUM(F88:F90) -> 57614304 | J91: Total: | K91: =SUM(K88:K90) -> 604477801
E93: Acostamento - MG-129
E94: Extensão: | F94: =SUM(A19:A20) -> 10.82
E95: Melhoria: | F95: =SUM(M19:M20) -> 34048768
E96: Recuperação Funcional*: | F96: =SUM(I19:J20) -> 15078620
E97: Acessos: | F97: =SUM(N20) -> 444573
E98: Total: | F98: =SUM(F95:F97) -> 49571961

Sheet TCP
B1: RESUMO POR TCP
B2: Pórtico | C2: SRE | D2: VALOR | E2: VALOR P/TCP
B3: TCP - P 01 | C3: 129EMG0360 | D3: =VLOOKUP(C3,INVESTIMENTOS_CMB!D:P,13,0) -> 18022786 | E3: =SUM(D3:D6) -> 117717446
B4: TCP - P 01 | C4: 129EMG0380 | D4: =VLOOKUP(C4,INVESTIMENTOS_CMB!D:P,13,0) -> 17816179
B5: TCP - P 01 | C5: 129EMG0400 | D5: =VLOOKUP(C5,INVESTIMENTOS_CMB!D:P,13,0) -> 23502716
B6: TCP - P 01 | C6: 129EMG0420 | D6: =VLOOKUP(C6,INVESTIMENTOS_CMB!D:P,13,0) -> 58375765
B7: TCP - P 02 | C7: 129EMG0300-02 | D7: =VLOOKUP(C7,INVESTIMENTOS_CMB!D:P,13,0) -> 222287 | E7: =SUM(D7:D11) -> 78243022
B8: TCP - P 02 | C8: 129EMG0300-03 | D8: =VLOOKUP(C8,INVESTIMENTOS_CMB!D:P,13,0) -> 0
B9: TCP - P 02 | C9: 129EMG0320 | D9: =VLOOKUP(C9,INVESTIMENTOS_CMB!D:P,13,0) -> 1163916
B10: TCP - P 02 | C10: 129EMG0340 | D10: =VLOOKUP(C10,INVESTIMENTOS_CMB!D:P,13,0) -> 73634837
B11: TCP - P 02 | C11: 129EMG0350 | D11: =VLOOKUP(C11,INVESTIMENTOS_CMB!D:P,13,0) -> 3221982
B12: TCP - P 03 | C12: 436EMG0200-01 | D12: =VLOOKUP(C12,INVESTIMENTOS_CMB!D:P,13,0) -> 41465454 | E12: =D12 -> 41465454
B13: TCP - P 04 | C13: 129EMG0050-02 | D13: =VLOOKUP(C13,INVESTIMENTOS_CMB!D:P,13,0) -> 7580468 | E13: =SUM(D13:D18) -> 90045837
B14: TCP - P 04 | C14: 129EMG0050-03 | D14: =VLOOKUP(C14,INVESTIMENTOS_CMB!D:P,13,0) -> 9649165
B15: TCP - P 04 | C15: 129EMG0205-01 | D15: =VLOOKUP(C15,INVESTIMENTOS_CMB!D:P,13,0) -> 2452337
B16: TCP - P 04 | C16: 129EMG0205-02 | D16: =VLOOKUP(C16,INVESTIMENTOS_CMB!D:P,13,0) -> 10621724
B17: TCP - P 04 | C17: 129EMG0220-01 | D17: =VLOOKUP(C17,INVESTIMENTOS_CMB!D:P,13,0) -> 41136912
B18: TCP - P 04 | C18: 129EMG0220-02 | D18: =VLOOKUP(C18,INVESTIMENTOS_CMB!D:P,13,0) -> 18605231
B19: TCP - P 06 | C19: NOVO SRE | E19: =SUM(D19:D23) -> 0
B20: TCP - P 06 | C20: 120CMG0185-01
B21: TCP - P 06 | C21: 120CMG0185-02
B22: TCP - P 06 | C22: 120CMG0185-03
B23: TCP - P 06 | C23: 120CMG0175-01
B24: TCP - P 07 | C24: 120CMG0175-02 | E24: =SUM(D24:D27) -> 0
B25: TCP - P 07 | C25: 120CMG0175-03
B26: TCP - P 07 | C26: 120CMG0177-01
B27: TCP - P 07 | C27: 129EMG0050-01
B28: TCP - P 08 | C28: 120CMG0190-01 | D28: =VLOOKUP(C28,INVESTIMENTOS_CMB!D:P,13,0) -> 2086098 | E28: =SUM(D28:D30) -> 30613502
B29: TCP - P 08 | C29: 120CMG0190-02 | D29: =VLOOKUP(C29,INVESTIMENTOS_CMB!D:P,13,0) -> 20442582
B30: TCP - P 08 | C30: 120CMG0190-03 | D30: =VLOOKUP(C30,INVESTIMENTOS_CMB!D:P,13,0) -> 8084822
B31: TCP - P 11 | C31: 262CMG0450-01 | D31: =VLOOKUP(C31,INVESTIMENTOS_CMB!D:P,13,0) -> 40566565 | E31: =SUM(D31:D36) -> 149193622
B32: TCP - P 11 | C32: 262CMG0450-02 | D32: =VLOOKUP(C32,INVESTIMENTOS_CMB!D:P,13,0) -> 41198284
B33: TCP - P 11 | C33: 262CMG0450-03 | D33: =VLOOKUP(C33,INVESTIMENTOS_CMB!D:P,13,0) -> 33564753
B34: TCP - P 11 | C34: 262CMG0450-04 | D34: =VLOOKUP(C34,INVESTIMENTOS_CMB!D:P,13,0) -> 8735330
B35: TCP - P 11 | C35: 262CMG0450-05 | D35: =VLOOKUP(C35,INVESTIMENTOS_CMB!D:P,13,0) -> 15493040
B36: TCP - P 11 | C36: 436EMG0200-02 | D36: =VLOOKUP(C36,INVESTIMENTOS_CMB!D:P,13,0) -> 9635650
B37: TCP - P 12 | C37: 434EMG0200-01 | D37: =VLOOKUP(C37,INVESTIMENTOS_CMB!D:P,13,0) -> 7450405 | E37: =SUM(D37:D38) -> 204694244
B38: TCP - P 12 | C38: 434EMG0200-02 | D38: =VLOOKUP(C38,INVESTIMENTOS_CMB!D:P,13,0) -> 197243839
B39: TCP - P 13 | C39: 129EMG0240-01 | D39: =VLOOKUP(C39,INVESTIMENTOS_CMB!D:P,13,0) -> 3694763 | E39: =SUM(D39:D41) -> 4139336
B40: TCP - P 13 | C40: 129EMG0280-02 | D40: =VLOOKUP(C40,INVESTIMENTOS_CMB!D:P,13,0) -> 444573
B41: TCP - P 13 | C41: 129EMG0300-01 | D41: =VLOOKUP(C41,INVESTIMENTOS_CMB!D:P,13,0) -> 0
B42: TCP - P 14 | C42: 129EMG0240-02 | D42: =VLOOKUP(C42,INVESTIMENTOS_CMB!D:P,10,0) -> 32024604 | E42: =D42 -> 32024604
D43: =SUM(D3:D42) -> 748137067 | E43: =SUM(E3:E42) -> 748137067
E45: =INVESTIMENTOS_CMB!P41 -> 762606979
E46: =E45-E43 -> 14469912

Sheet INVESTIMENTOS_SMB
B6: RESUMO GERAL POR TRECHO - OBRAS PUBLICAS | I6: =COLUMN()-3 -> 6 | J6: =COLUMN()-3 -> 7 | K6: =COLUMN()-3 -> 8 | L6: =COLUMN()-3 -> 9 | M6: =COLUMN()-3 -> 10 | N6: =COLUMN()-3 -> 11 | O6: =COLUMN()-3 -> 12 | P6: =COLUMN()-3 -> 13 | Q6: Observação
I7: TRABALHOS INICIAS | J7: RECUPERAÇÃO | K7: DUPLICAÇÃO | L7: FAIXAS ADICIONAIS | M7: ACOSTAMENTOS | N7: ACESSOS | O7: Desapropriação | P7: GERAL
I8: TRABALHOS INICIAS
B9: ITEM | C9: RODOVIA | D9: SRE/MG | E9: TRECHO | F9: KM INICIAL | G9: KM FINAL | H9: KM | I9: VALOR | J9: VALOR | K9: VALOR | N9: VALOR | P9: VALOR
B10: 8 | C10: CMG120 | D10: 120CMG0190-01 | E10: ENTR MG129(B) - FIM DESAFETAÇÃO (ITABIRA) | F10: 440.4 | G10: 441.45 | H10: =G10-F10 -> 1.05 | I10: =INVESTIMENTOS_CMB!I10 -> 74788 | J10: =INVESTIMENTOS_CMB!J10-(INVESTIMENTOS_CMB!J10*INVESTIMENTOS_CMB!J$42) -> 1244623 | K10: =INVESTIMENTOS_CMB!K10-(INVESTIMENTOS_CMB!K10*INVESTIMENTOS_CMB!K$42) -> 0 | L10: =INVESTIMENTOS_CMB!L10-(INVESTIMENTOS_CMB!L10*INVESTIMENTOS_CMB!L$42) -> 0 | M10: =INVESTIMENTOS_CMB!M10-(INVESTIMENTOS_CMB!M10*INVESTIMENTOS_CMB!M$42) -> 0 | N10: =INVESTIMENTOS_CMB!N10-(INVESTIMENTOS_CMB!N10*INVESTIMENTOS_CMB!N$42) -> 191256 | O10: 0 | P10: =SUM(I10:O10) -> 1510667
B11: 9 | C11: CMG120 | D11: 120CMG0190-02 | E11: FIM DESAFETAÇÃO (ITABIRA) - CAPOEIRANA | F11: 441.45 | G11: 458.94 | H11: =G11-F11 -> 17.49 | I11: =INVESTIMENTOS_CMB!I11 -> 622447 | J11: =INVESTIMENTOS_CMB!J11-(INVESTIMENTOS_CMB!J11*INVESTIMENTOS_CMB!J$42) -> 12706354 | K11: =INVESTIMENTOS_CMB!K11-(INVESTIMENTOS_CMB!K11*INVESTIMENTOS_CMB!K$42) -> 0 | L11: =INVESTIMENTOS_CMB!L11-(INVESTIMENTOS_CMB!L11*INVESTIMENTOS_CMB!L$42) -> 0 | M11: =INVESTIMENTOS_CMB!M11-(INVESTIMENTOS_CMB!M11*INVESTIMENTOS_CMB!M$42) -> 0 | N11: =INVESTIMENTOS_CMB!N11-(INVESTIMENTOS_CMB!N11*INVESTIMENTOS_CMB!N$42) -> 1338788 | O11: 0 | P11: =SUM(I11:O11) -> 14667589
B12: 10 | C12: CMG120 | D12: 120CMG0190-03 | E12: CAPOEIRANA - ENTR BR381(A) (DESEMBARGADOR DRUMOND DIV 12/40 CRG) | F12: 458.94 | G12: 468.11 | H12: =G12-F12 -> 9.17 | I12: =INVESTIMENTOS_CMB!I12 -> 313008 | J12: =INVESTIMENTOS_CMB!J12-(INVESTIMENTOS_CMB!J12*INVESTIMENTOS_CMB!J$42) -> 4788271 | K12: =INVESTIMENTOS_CMB!K12-(INVESTIMENTOS_CMB!K12*INVESTIMENTOS_CMB!K$42) -> 0 | L12: =INVESTIMENTOS_CMB!L12-(INVESTIMENTOS_CMB!L12*INVESTIMENTOS_CMB!L$42) -> 0 | M12: =INVESTIMENTOS_CMB!M12-(INVESTIMENTOS_CMB!M12*INVESTIMENTOS_CMB!M$42) -> 0 | N12: =INVESTIMENTOS_CMB!N12-(INVESTIMENTOS_CMB!N12*INVESTIMENTOS_CMB!N$42) -> 765022 | O12: 0 | P12: =SUM(I12:O12) -> 5866301
B13: 12 | C13: MG129 | D13: 129EMG0050-02 | E13: ENTR BR120 (B) - DISTRITO INDUSTRIAL DE ITABIRA (INÍCIO) | F13: 13.6 | G13: 17.53 | H13: =G13-F13 -> 3.93 | I13: =INVESTIMENTOS_CMB!I13 -> 549659 | J13: =INVESTIMENTOS_CMB!J13-(INVESTIMENTOS_CMB!J13*INVESTIMENTOS_CMB!J$42) -> 4891334 | K13: =INVESTIMENTOS_CMB!K13-(INVESTIMENTOS_CMB!K13*INVESTIMENTOS_CMB!K$42) -> 0 | L13: =INVESTIMENTOS_CMB!L13-(INVESTIMENTOS_CMB!L13*INVESTIMENTOS_CMB!L$42) -> 0 | M13: =INVESTIMENTOS_CMB!M13-(INVESTIMENTOS_CMB!M13*INVESTIMENTOS_CMB!M$42) -> 0 | N13: =INVESTIMENTOS_CMB!N13-(INVESTIMENTOS_CMB!N13*INVESTIMENTOS_CMB!N$42) -> 0 | O13: 0 | P13: =SUM(I13:O13) -> 5440993
B14: 13 | C14: MG129 | D14: 129EMG0050-03 | E14: DISTRITO INDUSTRIAL DE ITABIRA (INÍCIO) - DISTRITO INDUSTRIAL DE ITABIRA (FIM) | F14: 17.53 | G14: 21.37 | H14: =G14-F14 -> 3.84 | I14: =INVESTIMENTOS_CMB!I14 -> 622839 | J14: =INVESTIMENTOS_CMB!J14-(INVESTIMENTOS_CMB!J14*INVESTIMENTOS_CMB!J$42) -> 5815680 | K14: =INVESTIMENTOS_CMB!K14-(INVESTIMENTOS_CMB!K14*INVESTIMENTOS_CMB!K$42) -> 0 | L14: =INVESTIMENTOS_CMB!L14-(INVESTIMENTOS_CMB!L14*INVESTIMENTOS_CMB!L$42) -> 0 | M14: =INVESTIMENTOS_CMB!M14-(INVESTIMENTOS_CMB!M14*INVESTIMENTOS_CMB!M$42) -> 0 | N14: =INVESTIMENTOS_CMB!N14-(INVESTIMENTOS_CMB!N14*INVESTIMENTOS_CMB!N$42) -> 573766 | O14: 0 | P14: =SUM(I14:O14) -> 7012285
B15: 14 | C15: MG129 | D15: 129EMG0205-01 | E15: DISTRITO INDUSTRIAL DE ITABIRA (FIM) - KM 23 (FIM TRECHO URBANO) | F15: 21.37 | G15: 22.99 | H15: =G15-F15 -> 1.62 | I15: =INVESTIMENTOS_CMB!I15 -> 133328 | J15: =INVESTIMENTOS_CMB!J15-(INVESTIMENTOS_CMB!J15*INVESTIMENTOS_CMB!J$42) -> 1458689 | K15: =INVESTIMENTOS_CMB!K15-(INVESTIMENTOS_CMB!K15*INVESTIMENTOS_CMB!K$42) -> 0 | L15: =INVESTIMENTOS_CMB!L15-(INVESTIMENTOS_CMB!L15*INVESTIMENTOS_CMB!L$42) -> 0 | M15: =INVESTIMENTOS_CMB!M15-(INVESTIMENTOS_CMB!M15*INVESTIMENTOS_CMB!M$42) -> 0 | N15: =INVESTIMENTOS_CMB!N15-(INVESTIMENTOS_CMB!N15*INVESTIMENTOS_CMB!N$42) -> 191256 | O15: 0 | P15: =SUM(I15:O15) -> 1783273
B16: 15 | C16: MG129 | D16: 129EMG0205-02 | E16: KM 23 (FIM TRECHO URBANO) - ENTR P/ITABIRA (ITABIRUÇU) | F16: 22.99 | G16: 27.89 | H16: =G16-F16 -> 4.9 | I16: =INVESTIMENTOS_CMB!I16 -> 940665 | J16: =INVESTIMENTOS_CMB!J16-(INVESTIMENTOS_CMB!J16*INVESTIMENTOS_CMB!J$42) -> 6425823 | K16: =INVESTIMENTOS_CMB!K16-(INVESTIMENTOS_CMB!K16*INVESTIMENTOS_CMB!K$42) -> 0 | L16: =INVESTIMENTOS_CMB!L16-(INVESTIMENTOS_CMB!L16*INVESTIMENTOS_CMB!L$42) -> 0 | M16: =INVESTIMENTOS_CMB!M16-(INVESTIMENTOS_CMB!M16*INVESTIMENTOS_CMB!M$42) -> 0 | N16: =INVESTIMENTOS_CMB!N16-(INVESTIMENTOS_CMB!N16*INVESTIMENTOS_CMB!N$42) -> 382511 | O16: 0 | P16: =SUM(I16:O16) -> 7748999
A17: =SUM(H17:H18) -> 5.08 | B17: 16 | C17: MG129 | D17: 129EMG0220-01 | E17: ENTR P/ITABIRA (ITABIRUÇU) - INÍCIO PERÍMETRO URBANO ITABIRA | F17: 27.89 | G17: 31.33 | H17: =G17-F17 -> 3.44 | I17: =INVESTIMENTOS_CMB!I17 -> 760546 | J17: =INVESTIMENTOS_CMB!J17-(INVESTIMENTOS_CMB!J17*INVESTIMENTOS_CMB!J$42) -> 6471319 | K17: =INVESTIMENTOS_CMB!K17-(INVESTIMENTOS_CMB!K17*INVESTIMENTOS_CMB!K$42) -> 26889243 | L17: =INVESTIMENTOS_CMB!L17-(INVESTIMENTOS_CMB!L17*INVESTIMENTOS_CMB!L$42) -> 0 | M17: =INVESTIMENTOS_CMB!M17-(INVESTIMENTOS_CMB!M17*INVESTIMENTOS_CMB!M$42) -> 0 | N17: =INVESTIMENTOS_CMB!N17-(INVESTIMENTOS_CMB!N17*INVESTIMENTOS_CMB!N$42) -> 765022 | O17: 10481345 | P17: =SUM(I17:O17) -> 45367475
B18: 17 | C18: MG129 | D18: 129EMG0220-02 | E18: INÍCIO PERÍMETRO URBANO ITABIRA - ENTR MG434 (CHAPADA) | F18: 31.33 | G18: 32.97 | H18: =G18-F18 -> 1.64 | I18: =INVESTIMENTOS_CMB!I18 -> 621512 | J18: =INVESTIMENTOS_CMB!J18-(INVESTIMENTOS_CMB!J18*INVESTIMENTOS_CMB!J$42) -> 2485339 | K18: =INVESTIMENTOS_CMB!K18-(INVESTIMENTOS_CMB!K18*INVESTIMENTOS_CMB!K$42) -> 12691820 | L18: =INVESTIMENTOS_CMB!L18-(INVESTIMENTOS_CMB!L18*INVESTIMENTOS_CMB!L$42) -> 0 | M18: =INVESTIMENTOS_CMB!M18-(INVESTIMENTOS_CMB!M18*INVESTIMENTOS_CMB!M$42) -> 0 | N18: =INVESTIMENTOS_CMB!N18-(INVESTIMENTOS_CMB!N18*INVESTIMENTOS_CMB!N$42) -> 191256 | O18: 3176297 | P18: =SUM(I18:O18) -> 19166224
A19: 0.643 | B19: 18 | C19: MG129 | D19: 129EMG0240-01 | E19: ENTR MG434 (CHAPADA) - FINAL PERIMETRO URBANO ITABIRA | F19: 32.97 | G19: 33.56 | H19: =G19-F19 -> 0.59 | I19: =INVESTIMENTOS_CMB!I19 -> 150296 | J19: =INVESTIMENTOS_CMB!J19-(INVESTIMENTOS_CMB!J19*INVESTIMENTOS_CMB!J$42) -> 628207 | K19: =INVESTIMENTOS_CMB!K19-(INVESTIMENTOS_CMB!K19*INVESTIMENTOS_CMB!K$42) -> 0 | L19: =INVESTIMENTOS_CMB!L19-(INVESTIMENTOS_CMB!L19*INVESTIMENTOS_CMB!L$42) -> 0 | M19: =INVESTIMENTOS_CMB!M19-(INVESTIMENTOS_CMB!M19*INVESTIMENTOS_CMB!M$42) -> 1929028 | N19: =INVESTIMENTOS_CMB!N19-(INVESTIMENTOS_CMB!N19*INVESTIMENTOS_CMB!N$42) -> 0 | O19: 5224061 | P19: =SUM(I19:O19) -> 7931592
A20: 10.173 | B20: 19 | C20: MG129 | D20: 129EMG0240-02 | E20: FINAL PERIMETRO URBANO ITABIRA - SÃO GONÇALO DO RIO ABAIXO | F20: 33.56 | G20: 48.62 | H20: =G20-F20 -> 15.06 | I20: =INVESTIMENTOS_CMB!I20 -> 2510578 | J20: =INVESTIMENTOS_CMB!J20-(INVESTIMENTOS_CMB!J20*INVESTIMENTOS_CMB!J$42) -> 8010819 | K20: =INVESTIMENTOS_CMB!K20-(INVESTIMENTOS_CMB!K20*INVESTIMENTOS_CMB!K$42) -> 0 | L20: =INVESTIMENTOS_CMB!L20-(INVESTIMENTOS_CMB!L20*INVESTIMENTOS_CMB!L$42) -> 0 | M20: =INVESTIMENTOS_CMB!M20-(INVESTIMENTOS_CMB!M20*INVESTIMENTOS_CMB!M$42) -> 30519448 | N20: =INVESTIMENTOS_CMB!N20-(INVESTIMENTOS_CMB!N20*INVESTIMENTOS_CMB!N$42) -> 382511 | O20: 28299630 | P20: =SUM(I20:O20) -> 69722986
B21: 20 | C21: MG129 | D21: 129EMG0280-02 | E21: ENTR BR381 (B) (S GONÇALO R ABAIXO) - USINA PETI | F21: 52.54 | G21: 58.95 | H21: =G21-F21 -> 6.41 | I21: =INVESTIMENTOS_CMB!I21 -> 0 | J21: =INVESTIMENTOS_CMB!J21-(INVESTIMENTOS_CMB!J21*INVESTIMENTOS_CMB!J$42) -> 0 | K21: =INVESTIMENTOS_CMB!K21-(INVESTIMENTOS_CMB!K21*INVESTIMENTOS_CMB!K$42) -> 0 | L21: =INVESTIMENTOS_CMB!L21-(INVESTIMENTOS_CMB!L21*INVESTIMENTOS_CMB!L$42) -> 0 | M21: =INVESTIMENTOS_CMB!M21-(INVESTIMENTOS_CMB!M21*INVESTIMENTOS_CMB!M$42) -> 0 | N21: =INVESTIMENTOS_CMB!N21-(INVESTIMENTOS_CMB!N21*INVESTIMENTOS_CMB!N$42) -> 382511 | O21: 0 | P21: =SUM(I21:O21) -> 382511
B22: 21 | C22: MG129 | D22: 129EMG0300-01 | E22: USINA PETI - FIM DO TRECHO DESAFETADO | F22: 58.95 | G22: 66.27 | H22: =G22-F22 -> 7.32 | I22: =INVESTIMENTOS_CMB!I22 -> 0 | J22: =INVESTIMENTOS_CMB!J22-(INVESTIMENTOS_CMB!J22*INVESTIMENTOS_CMB!J$42) -> 0 | K22: =INVESTIMENTOS_CMB!K22-(INVESTIMENTOS_CMB!K22*INVESTIMENTOS_CMB!K$42) -> 0 | L22: =INVESTIMENTOS_CMB!L22-(INVESTIMENTOS_CMB!L22*INVESTIMENTOS_CMB!L$42) -> 0 | M22: =INVESTIMENTOS_CMB!M22-(INVESTIMENTOS_CMB!M22*INVESTIMENTOS_CMB!M$42) -> 0 | N22: =INVESTIMENTOS_CMB!N22-(INVESTIMENTOS_CMB!N22*INVESTIMENTOS_CMB!N$42) -> 0 | O22: 0 | P22: =SUM(I22:O22) -> 0
B23: 22 | C23: MG129 | D23: 129EMG0300-02 | E23: FIM DO TRECHO DESAFETADO - ENTR BR 262 (A) SANTA BÁRBARA | F23: 66.27 | G23: 70.63 | H23: =G23-F23 -> 4.36 | I23: =INVESTIMENTOS_CMB!I23 -> 0 | J23: =INVESTIMENTOS_CMB!J23-(INVESTIMENTOS_CMB!J23*INVESTIMENTOS_CMB!J$42) -> 0 | K23: =INVESTIMENTOS_CMB!K23-(INVESTIMENTOS_CMB!K23*INVESTIMENTOS_CMB!K$42) -> 0 | L23: =INVESTIMENTOS_CMB!L23-(INVESTIMENTOS_CMB!L23*INVESTIMENTOS_CMB!L$42) -> 0 | M23: =INVESTIMENTOS_CMB!M23-(INVESTIMENTOS_CMB!M23*INVESTIMENTOS_CMB!M$42) -> 0 | N23: =INVESTIMENTOS_CMB!N23-(INVESTIMENTOS_CMB!N23*INVESTIMENTOS_CMB!N$42) -> 191256 | O23: 0 | P23: =SUM(I23:O23) -> 191256
B24: 23 | C24: MG129 | D24: 129EMG0300-03 | E24: ENTR BR 262 (A) SANTA BÁRBARA - SANTA BÁRBARA (CENTRO) | F24: 70.63 | G24: 73.35 | H24: =G24-F24 -> 2.72 | I24: =INVESTIMENTOS_CMB!I24 -> 0 | J24: =INVESTIMENTOS_CMB!J24-(INVESTIMENTOS_CMB!J24*INVESTIMENTOS_CMB!J$42) -> 0 | K24: =INVESTIMENTOS_CMB!K24-(INVESTIMENTOS_CMB!K24*INVESTIMENTOS_CMB!K$42) -> 0 | L24: =INVESTIMENTOS_CMB!L24-(INVESTIMENTOS_CMB!L24*INVESTIMENTOS_CMB!L$42) -> 0 | M24: =INVESTIMENTOS_CMB!M24-(INVESTIMENTOS_CMB!M24*INVESTIMENTOS_CMB!M$42) -> 0 | N24: =INVESTIMENTOS_CMB!N24-(INVESTIMENTOS_CMB!N24*INVESTIMENTOS_CMB!N$42) -> 0 | O24: 0 | P24: =SUM(I24:O24) -> 0
B25: 24 | C25: MG129 | D25: 129EMG0320 | E25: SANTA BÁRBARA CENTRO (2) - ENTR MGC262(B) | F25: 77.68 | G25: 77.89 | H25: =G25-F25 -> 0.21 | I25: =INVESTIMENTOS_CMB!I25 -> 49751 | J25: =INVESTIMENTOS_CMB!J25-(INVESTIMENTOS_CMB!J25*INVESTIMENTOS_CMB!J$42) -> 775125 | K25: =INVESTIMENTOS_CMB!K25-(INVESTIMENTOS_CMB!K25*INVESTIMENTOS_CMB!K$42) -> 0 | L25: =INVESTIMENTOS_CMB!L25-(INVESTIMENTOS_CMB!L25*INVESTIMENTOS_CMB!L$42) -> 0 | M25: =INVESTIMENTOS_CMB!M25-(INVESTIMENTOS_CMB!M25*INVESTIMENTOS_CMB!M$42) -> 0 | N25: =INVESTIMENTOS_CMB!N25-(INVESTIMENTOS_CMB!N25*INVESTIMENTOS_CMB!N$42) -> 0 | O25: 0 | P25: =SUM(I25:O25) -> 824876
A26: =H26 -> 12.42 | B26: 25 | C26: MG129 | D26: 129EMG0340 | E26: ENTR MGC262(B) - CATAS ALTAS | F26: 77.89 | G26: 90.31 | H26: =G26-F26 -> 12.42 | I26: =INVESTIMENTOS_CMB!I26 -> 1774630 | J26: =INVESTIMENTOS_CMB!J26-(INVESTIMENTOS_CMB!J26*INVESTIMENTOS_CMB!J$42) -> 10237382 | K26: =INVESTIMENTOS_CMB!K26-(INVESTIMENTOS_CMB!K26*INVESTIMENTOS_CMB!K$42) -> 0 | L26: =INVESTIMENTOS_CMB!L26-(INVESTIMENTOS_CMB!L26*INVESTIMENTOS_CMB!L$42) -> 51791276 | M26: =INVESTIMENTOS_CMB!M26-(INVESTIMENTOS_CMB!M26*INVESTIMENTOS_CMB!M$42) -> 0 | N26: =INVESTIMENTOS_CMB!N26-(INVESTIMENTOS_CMB!N26*INVESTIMENTOS_CMB!N$42) -> 382511 | O26: 11770838 | P26: =SUM(I26:O26) -> 75956637
B27: 26 | C27: MG129 | D27: 129EMG0350 | E27: CATAS ALTAS - ENTR P/CLÁUDIO MANUEL | F27: 90.31 | G27: 93 | H27: =G27-F27 -> 2.69 | I27: =INVESTIMENTOS_CMB!I27 -> 442393 | J27: =INVESTIMENTOS_CMB!J27-(INVESTIMENTOS_CMB!J27*INVESTIMENTOS_CMB!J$42) -> 1779115 | K27: =INVESTIMENTOS_CMB!K27-(INVESTIMENTOS_CMB!K27*INVESTIMENTOS_CMB!K$42) -> 0 | L27: =INVESTIMENTOS_CMB!L27-(INVESTIMENTOS_CMB!L27*INVESTIMENTOS_CMB!L$42) -> 0 | M27: =INVESTIMENTOS_CMB!M27-(INVESTIMENTOS_CMB!M27*INVESTIMENTOS_CMB!M$42) -> 0 | N27: =INVESTIMENTOS_CMB!N27-(INVESTIMENTOS_CMB!N27*INVESTIMENTOS_CMB!N$42) -> 191256 | O27: 0 | P27: =SUM(I27:O27) -> 2412764
B28: 27 | C28: MG129 | D28: 129EMG0360 | E28: ENTR P/CLÁUDIO MANUEL - RIO PIRACICABA | F28: 93 | G28: 101.93 | H28: =G28-F28 -> 8.93 | I28: =INVESTIMENTOS_CMB!I28 -> 1185909 | J28: =INVESTIMENTOS_CMB!J28-(INVESTIMENTOS_CMB!J28*INVESTIMENTOS_CMB!J$42) -> 11713415 | K28: =INVESTIMENTOS_CMB!K28-(INVESTIMENTOS_CMB!K28*INVESTIMENTOS_CMB!K$42) -> 0 | L28: =INVESTIMENTOS_CMB!L28-(INVESTIMENTOS_CMB!L28*INVESTIMENTOS_CMB!L$42) -> 0 | M28: =INVESTIMENTOS_CMB!M28-(INVESTIMENTOS_CMB!M28*INVESTIMENTOS_CMB!M$42) -> 0 | N28: =INVESTIMENTOS_CMB!N28-(INVESTIMENTOS_CMB!N28*INVESTIMENTOS_CMB!N$42) -> 0 | O28: 0 | P28: =SUM(I28:O28) -> 12899324
B29: 28 | C29: MG129 | D29: 129EMG0380 | E29: RIO PIRACICABA - MINERAÇÃO SAMARCO (DIV 12/17 CRG) | F29: 101.93 | G29: 113.04 | H29: =G29-F29 -> 11.11 | I29: =INVESTIMENTOS_CMB!I29 -> 1193677 | J29: =INVESTIMENTOS_CMB!J29-(INVESTIMENTOS_CMB!J29*INVESTIMENTOS_CMB!J$42) -> 11564275 | K29: =INVESTIMENTOS_CMB!K29-(INVESTIMENTOS_CMB!K29*INVESTIMENTOS_CMB!K$42) -> 0 | L29: =INVESTIMENTOS_CMB!L29-(INVESTIMENTOS_CMB!L29*INVESTIMENTOS_CMB!L$42) -> 0 | M29: =INVESTIMENTOS_CMB!M29-(INVESTIMENTOS_CMB!M29*INVESTIMENTOS_CMB!M$42) -> 0 | N29: =INVESTIMENTOS_CMB!N29-(INVESTIMENTOS_CMB!N29*INVESTIMENTOS_CMB!N$42) -> 0 | O29: 0 | P29: =SUM(I29:O29) -> 12757952
B30: 29 | C30: MG129 | D30: 129EMG0400 | E30: MINERAÇÃO SAMARCO (DIV 12/17 CRG) - ANTÔNIO PEREIRA | F30: 113.04 | G30: 125.95 | H30: =G30-F30 -> 12.91 | I30: =INVESTIMENTOS_CMB!I30 -> 661602 | J30: =INVESTIMENTOS_CMB!J30-(INVESTIMENTOS_CMB!J30*INVESTIMENTOS_CMB!J$42) -> 15890563 | K30: =INVESTIMENTOS_CMB!K30-(INVESTIMENTOS_CMB!K30*INVESTIMENTOS_CMB!K$42) -> 0 | L30: =INVESTIMENTOS_CMB!L30-(INVESTIMENTOS_CMB!L30*INVESTIMENTOS_CMB!L$42) -> 0 | M30: =INVESTIMENTOS_CMB!M30-(INVESTIMENTOS_CMB!M30*INVESTIMENTOS_CMB!M$42) -> 0 | N30: =INVESTIMENTOS_CMB!N30-(INVESTIMENTOS_CMB!N30*INVESTIMENTOS_CMB!N$42) -> 0 | O30: 0 | P30: =SUM(I30:O30) -> 16552165
A31: =H31 -> 9.46 | B31: 30 | C31: MG129 | D31: 129EMG0420 | E31: ANTÔNIO PEREIRA - MARIANA (INÍCIO TRECHO URBANO) | F31: 125.95 | G31: 135.41 | H31: =G31-F31 -> 9.46 | I31: =INVESTIMENTOS_CMB!I31 -> 938392 | J31: =INVESTIMENTOS_CMB!J31-(INVESTIMENTOS_CMB!J31*INVESTIMENTOS_CMB!J$42) -> 8622361 | K31: =INVESTIMENTOS_CMB!K31-(INVESTIMENTOS_CMB!K31*INVESTIMENTOS_CMB!K$42) -> 0 | L31: =INVESTIMENTOS_CMB!L31-(INVESTIMENTOS_CMB!L31*INVESTIMENTOS_CMB!L$42) -> 39448105 | M31: =INVESTIMENTOS_CMB!M31-(INVESTIMENTOS_CMB!M31*INVESTIMENTOS_CMB!M$42) -> 0 | N31: =INVESTIMENTOS_CMB!N31-(INVESTIMENTOS_CMB!N31*INVESTIMENTOS_CMB!N$42) -> 1147533 | O31: 36134936 | P31: =SUM(I31:O31) -> 86291327
A32: =SUM(H32:H36) -> 9.71 | B32: 32 | C32: CMG262 | D32: 262CMG0450-01 | E32: ENTR MG129 (B) (SANTA BÁRBARA) - SANTA BÁRBARA (FIM TRECHO URBANO) | F32: 226.5 | G32: 227.87 | H32: =G32-F32 -> 1.37 | I32: =INVESTIMENTOS_CMB!I32 -> 197181 | J32: =INVESTIMENTOS_CMB!J32-(INVESTIMENTOS_CMB!J32*INVESTIMENTOS_CMB!J$42) -> 6050884 | K32: =INVESTIMENTOS_CMB!K32-(INVESTIMENTOS_CMB!K32*INVESTIMENTOS_CMB!K$42) -> 27285348 | L32: =INVESTIMENTOS_CMB!L32-(INVESTIMENTOS_CMB!L32*INVESTIMENTOS_CMB!L$42) -> 0 | M32: =INVESTIMENTOS_CMB!M32-(INVESTIMENTOS_CMB!M32*INVESTIMENTOS_CMB!M$42) -> 0 | N32: =INVESTIMENTOS_CMB!N32-(INVESTIMENTOS_CMB!N32*INVESTIMENTOS_CMB!N$42) -> 765022 | O32: 5622406 | P32: =SUM(I32:O32) -> 39920841
B33: 33 | C33: CMG262 | D33: 262CMG0450-02 | E33: SANTA BÁRBARA (FIM TRECHO URBANO) - ENTR AMG1225 (ACESSO CARAÇA) (TRECHO DESAFETADO) | F33: 227.87 | G33: 230.77 | H33: =G33-F33 -> 2.9 | I33: =INVESTIMENTOS_CMB!I33 -> 1547860 | J33: =INVESTIMENTOS_CMB!J33-(INVESTIMENTOS_CMB!J33*INVESTIMENTOS_CMB!J$42) -> 9308483 | K33: =INVESTIMENTOS_CMB!K33-(INVESTIMENTOS_CMB!K33*INVESTIMENTOS_CMB!K$42) -> 22737853 | L33: =INVESTIMENTOS_CMB!L33-(INVESTIMENTOS_CMB!L33*INVESTIMENTOS_CMB!L$42) -> 0 | M33: =INVESTIMENTOS_CMB!M33-(INVESTIMENTOS_CMB!M33*INVESTIMENTOS_CMB!M$42) -> 0 | N33: =INVESTIMENTOS_CMB!N33-(INVESTIMENTOS_CMB!N33*INVESTIMENTOS_CMB!N$42) -> 573766 | O33: 13272355 | P33: =SUM(I33:O33) -> 47440317
B34: 33.1 | C34: CMG262 | D34: 262CMG0450-03 | E34: ENTR AMG1225 (ACESSO CARAÇA) (TRECHO DESAFETADO) - SANTA BÁRBARA (FIM TRECHO DESAFETADO) | F34: 230.77 | G34: 233.93 | H34: =G34-F34 -> 3.16 | I34: =INVESTIMENTOS_CMB!I34 -> 87512 | J34: =INVESTIMENTOS_CMB!J34-(INVESTIMENTOS_CMB!J34*INVESTIMENTOS_CMB!J$42) -> 2761910 | K34: =INVESTIMENTOS_CMB!K34-(INVESTIMENTOS_CMB!K34*INVESTIMENTOS_CMB!K$42) -> 25624666 | L34: =INVESTIMENTOS_CMB!L34-(INVESTIMENTOS_CMB!L34*INVESTIMENTOS_CMB!L$42) -> 0 | M34: =INVESTIMENTOS_CMB!M34-(INVESTIMENTOS_CMB!M34*INVESTIMENTOS_CMB!M$42) -> 0 | N34: =INVESTIMENTOS_CMB!N34-(INVESTIMENTOS_CMB!N34*INVESTIMENTOS_CMB!N$42) -> 765022 | O34: 13983008 | P34: =SUM(I34:O34) -> 43222118
B35: 33.2 | C35: CMG262 | D35: 262CMG0450-04 | E35: SANTA BÁRBARA (FIM TRECHO DESAFETADO) - BARÃO DE COCAIS (INÍCIO TRECHO DESAFETADO) | F35: 233.93 | G35: 234.68 | H35: =G35-F35 -> 0.75 | I35: =INVESTIMENTOS_CMB!I35 -> 31034 | J35: =INVESTIMENTOS_CMB!J35-(INVESTIMENTOS_CMB!J35*INVESTIMENTOS_CMB!J$42) -> 549253 | K35: =INVESTIMENTOS_CMB!K35-(INVESTIMENTOS_CMB!K35*INVESTIMENTOS_CMB!K$42) -> 6887875 | L35: =INVESTIMENTOS_CMB!L35-(INVESTIMENTOS_CMB!L35*INVESTIMENTOS_CMB!L$42) -> 0 | M35: =INVESTIMENTOS_CMB!M35-(INVESTIMENTOS_CMB!M35*INVESTIMENTOS_CMB!M$42) -> 0 | N35: =INVESTIMENTOS_CMB!N35-(INVESTIMENTOS_CMB!N35*INVESTIMENTOS_CMB!N$42) -> 191256 | O35: 1327501 | P35: =SUM(I35:O35) -> 8986919 | Q35: Trecho Urbano
B36: 33.3 | C36: CMG262 | D36: 262CMG0450-05 | E36: BARÃO DE COCAIS (INÍCIO TRECHO DESAFETADO) - ENTR MG436 (BARÃO DE COCAIS) | F36: 234.68 | G36: 236.21 | H36: =G36-F36 -> 1.53 | I36: =INVESTIMENTOS_CMB!I36 -> 49308 | J36: =INVESTIMENTOS_CMB!J36-(INVESTIMENTOS_CMB!J36*INVESTIMENTOS_CMB!J$42) -> 933918 | K36: =INVESTIMENTOS_CMB!K36-(INVESTIMENTOS_CMB!K36*INVESTIMENTOS_CMB!K$42) -> 12228249 | L36: =INVESTIMENTOS_CMB!L36-(INVESTIMENTOS_CMB!L36*INVESTIMENTOS_CMB!L$42) -> 0 | M36: =INVESTIMENTOS_CMB!M36-(INVESTIMENTOS_CMB!M36*INVESTIMENTOS_CMB!M$42) -> 0 | N36: =INVESTIMENTOS_CMB!N36-(INVESTIMENTOS_CMB!N36*INVESTIMENTOS_CMB!N$42) -> 382511 | O36: 2212501 | P36: =SUM(I36:O36) -> 15806487
A37: =SUM(H37:H38) -> 19.17 | B37: 38 | C37: MG434 | D37: 434EMG0200-01 | E37: ENTR BR381 (P/BELO HORIZONTE) - INÍCIO PERIMETRO URBANO ITABIRA | F37: 0 | G37: 0.25 | H37: =G37-F37 -> 0.25 | I37: =INVESTIMENTOS_CMB!I37 -> 5619 | J37: =INVESTIMENTOS_CMB!J37-(INVESTIMENTOS_CMB!J37*INVESTIMENTOS_CMB!J$42) -> 3523972 | K37: =INVESTIMENTOS_CMB!K37-(INVESTIMENTOS_CMB!K37*INVESTIMENTOS_CMB!K$42) -> 2067734 | L37: =INVESTIMENTOS_CMB!L37-(INVESTIMENTOS_CMB!L37*INVESTIMENTOS_CMB!L$42) -> 0 | M37: =INVESTIMENTOS_CMB!M37-(INVESTIMENTOS_CMB!M37*INVESTIMENTOS_CMB!M$42) -> 0 | N37: =INVESTIMENTOS_CMB!N37-(INVESTIMENTOS_CMB!N37*INVESTIMENTOS_CMB!N$42) -> 0 | O37: 6876548 | P37: =SUM(I37:O37) -> 12473873
B38: 38.1 | C38: MG434 | D38: 434EMG0200-02 | E38: INÍCIO PERIMETRO URBANO ITABIRA - ENTR MG129 (CHAPADA) | F38: 0.25 | G38: 19.17 | H38: =G38-F38 -> 18.92 | I38: =INVESTIMENTOS_CMB!I38 -> 1830999 | J38: =INVESTIMENTOS_CMB!J38-(INVESTIMENTOS_CMB!J38*INVESTIMENTOS_CMB!J$42) -> 27703751 | K38: =INVESTIMENTOS_CMB!K38-(INVESTIMENTOS_CMB!K38*INVESTIMENTOS_CMB!K$42) -> 137326216 | L38: =INVESTIMENTOS_CMB!L38-(INVESTIMENTOS_CMB!L38*INVESTIMENTOS_CMB!L$42) -> 0 | M38: =INVESTIMENTOS_CMB!M38-(INVESTIMENTOS_CMB!M38*INVESTIMENTOS_CMB!M$42) -> 0 | N38: =INVESTIMENTOS_CMB!N38-(INVESTIMENTOS_CMB!N38*INVESTIMENTOS_CMB!N$42) -> 1912555 | O38: 28059976 | P38: =SUM(I38:O38) -> 196833497
B39: 40 | C39: MG436 | D39: 436EMG0200-01 | E39: ENTR BR381 - INICIO DO TRECHO URBANO (BARÃO DE COCAIS) (KM 16,2) | F39: 0.09 | G39: 16.35 | H39: =G39-F39 -> 16.26 | I39: =INVESTIMENTOS_CMB!I39 -> 1791575 | J39: =INVESTIMENTOS_CMB!J39-(INVESTIMENTOS_CMB!J39*INVESTIMENTOS_CMB!J$42) -> 26054669 | K39: =INVESTIMENTOS_CMB!K39-(INVESTIMENTOS_CMB!K39*INVESTIMENTOS_CMB!K$42) -> 0 | L39: =INVESTIMENTOS_CMB!L39-(INVESTIMENTOS_CMB!L39*INVESTIMENTOS_CMB!L$42) -> 0 | M39: =INVESTIMENTOS_CMB!M39-(INVESTIMENTOS_CMB!M39*INVESTIMENTOS_CMB!M$42) -> 0 | N39: =INVESTIMENTOS_CMB!N39-(INVESTIMENTOS_CMB!N39*INVESTIMENTOS_CMB!N$42) -> 1912555 | O39: 0 | P39: =SUM(I39:O39) -> 29758799
B40: 41 | C40: MG436 | D40: 436EMG0200-02 | E40: ENTR MGC262 (BARÃO DE COCAIS)(KM 19,3) - INICIO DO TRECHO URBANO (BARÃO DE COCAIS) (KM 16,2) | F40: 16.35 | G40: 19.26 | H40: =G40-F40 -> 2.91 | I40: =INVESTIMENTOS_CMB!I40 -> 785602 | J40: =INVESTIMENTOS_CMB!J40-(INVESTIMENTOS_CMB!J40*INVESTIMENTOS_CMB!J$42) -> 4919820 | K40: =INVESTIMENTOS_CMB!K40-(INVESTIMENTOS_CMB!K40*INVESTIMENTOS_CMB!K$42) -> 0 | L40: =INVESTIMENTOS_CMB!L40-(INVESTIMENTOS_CMB!L40*INVESTIMENTOS_CMB!L$42) -> 0 | M40: =INVESTIMENTOS_CMB!M40-(INVESTIMENTOS_CMB!M40*INVESTIMENTOS_CMB!M$42) -> 0 | N40: =INVESTIMENTOS_CMB!N40-(INVESTIMENTOS_CMB!N40*INVESTIMENTOS_CMB!N$42) -> 1530043 | O40: 0 | P40: =SUM(I40:O40) -> 7235465
B41: TOTAL DE SERVIÇOS | H41: =SUM(H10:H40) -> 189.32 | I41: =SUM(I10:I40) -> 19872710 | J41: =SUM(J10:J40) -> 197315354 | K41: =SUM(K10:K40) -> 273739004 | L41: =SUM(L10:L40) -> 91239381 | M41: =SUM(M10:M40) -> 32448476 | N41: =SUM(N10:N40) -> 15109185 | O41: =SUM(O10:O40) -> 166441402 | P41: =SUM(P10:P40) -> 796165512
J42: =J43-J44 -> -11736 | K42: =K43-K44 -> -4545 | L42: =L43-L44 -> 219 | M42: =M43-M44 -> -476 | N42: =N43-N44 -> -851
J43: =INVESTIMENTOS_CMB!J41-INVESTIMENTOS_SMB!J41 -> 86305971 | K43: =INVESTIMENTOS_CMB!K41-INVESTIMENTOS_SMB!K41 -> 31977998 | L43: =INVESTIMENTOS_CMB!L41-INVESTIMENTOS_SMB!L41 -> 8095819 | M43: =INVESTIMENTOS_CMB!M41-INVESTIMENTOS_SMB!M41 -> 1600292 | N43: =INVESTIMENTOS_CMB!N41-INVESTIMENTOS_SMB!N41 -> 2451464
B44: Faixa adicional | J44: =INVESTIMENTOS_CMB!J43 -> 86317707 | K44: =INVESTIMENTOS_CMB!K43 -> 31982543 | L44: =INVESTIMENTOS_CMB!L43 -> 8095600 | M44: =INVESTIMENTOS_CMB!M43 -> 1600768 | N44: =INVESTIMENTOS_CMB!N43 -> 2452315 | P44: =SUM(I44:N44) -> 130448933 | Q44: <=== MATERIAL BETUMINOSO
B45: Acostamento | E45: Duplicação - MG-129
B46: Duplicação | E46: Extensão: | F46: =A17 -> 5.08 | H46: SERVIÇOS FUNCIONAIS
B47: Duplicação 434 | E47: Melhoria: | F47: =SUM(K17:K18) -> 39581063 | H47: -FAIXA DE DOMINIO
E48: Recuperação Funcional*: | F48: =SUM(I17:J18) -> 10338716 | H48: - OAE
E49: Acessos: | F49: =SUM(N17:N18) -> 956278 | H49: - DISPOSITIVOS DE SEGURANÇA
E50: Total: | F50: =SUM(F47:F49) -> 50876057 | H50: - DRENAGEM E OAC | N50: MB
H51: - ILUMINAÇÃO E INST. ELETRICAS
E52: Duplicação - MG-262
E53: Extensão: | F53: =A32 -> 9.71
E54: Melhoria: | F54: =SUM(K32:K36) -> 94763991
E55: Recuperação Funcional*: | F55: =SUM(I32:J36) -> 21517343
E56: Acessos: | F56: =SUM(N32:N36) -> 2677577
E57: Total: | F57: =SUM(F54:F56) -> 118958911
E59: Duplicação - MG-434
E60: Extensão: | F60: =A37 -> 19.17
E61: Melhoria: | F61: =SUM(K37:K38) -> 139393950
E62: Recuperação Funcional*: | F62: =SUM(I37:J38) -> 33064341
E63: Acessos: | F63: =SUM(N37:N38) -> 1912555
E64: Total: | F64: =SUM(F61:F63) -> 174370846
E66: Duplicação - MG-262 / MG-129 / MG-434
E67: Extensão: | F67: =F53+F46+F60 -> 33.96
E68: Melhoria: | F68: =SUM(F47,F54,F61) -> 273739004
E69: Recuperação Funcional*: | F69: =SUM(F48,F55,F62) -> 64920400
E70: Acessos: | F70: =SUM(F49,F56,F63) -> 5546410
E71: Total: | F71: =SUM(F68:F70) -> 344205814
E73: Faixa Adicional MG-129 (01 e 02)
E74: Extensão: | F74: =SUM(F81,F88) -> 21.88
E75: Melhoria: | F75: =SUM(F82,F89) -> 91239381
E76: Recuperação Funcional*: | F76: =SUM(F83,F90) -> 21572765
E77: Acessos: | F77: =SUM(F84,F91) -> 1530044
E78: Total: | F78: =SUM(F75:F77) -> 114342190
E80: Faixa Adicional MG-129 01
E81: Extensão: | F81: =A26 -> 12.42
E82: Melhoria: | F82: =L26 -> 51791276
E83: Recuperação Funcional*: | F83: =SUM(I26:J26) -> 12012012
E84: Acessos: | F84: =N26 -> 382511
E85: Total: | F85: =SUM(F82:F84) -> 64185799
E87: Faixa Adicional MG-129 02
E88: Extensão: | F88: =A31 -> 9.46
E89: Melhoria: | F89: =L31 -> 39448105 | J89: Obras Gerais
E90: Recuperação Funcional*: | F90: =SUM(I31:J31) -> 9560753 | J90: Melhoria: | K90: =SUM(F47,F54,F75,F96) -> 258032911
E91: Acessos: | F91: =N31 -> 1147533 | J91: Recuperação Funcional*: | K91: =SUM(F48,F55,F76,F97) -> 64728724
E92: Total: | F92: =SUM(F89:F91) -> 50156391 | J92: Acessos: | K92: =SUM(F49,F56,F77,F98) -> 5546410
J93: Total: | K93: =SUM(K90:K92) -> 328308045
E94: Acostamento - MG-129
E95: Extensão: | F95: =SUM(A19:A20) -> 10.82 | J95: Obras Gerais
E96: Melhoria: | F96: =SUM(M19:M20) -> 32448476 | J96: Melhoria: | K96: =K90 -> 258032911
E97: Recuperação Funcional*: | F97: =SUM(I19:J20) -> 11299900 | J97: Recuperação Funcional*: | K97: =SUM(I10:J40) -> 217188064
E98: Acessos: | F98: =SUM(N20) -> 382511 | J98: Acessos: | K98: =SUM(N10:N40) -> 15109185
E99: Total: | F99: =SUM(F96:F98) -> 44130887 | J99: Total: | K99: =SUM(K96:K98) -> 490330160

Sheet APRESENTAÇÃO
B1: COM MATERIAL BETUMINOSO | E1: SEM MATERIAL BETUMINOSO
B2: =INVESTIMENTOS_CMB!E44 -> Duplicação - MG-129 | E2: =INVESTIMENTOS_SMB!E45 -> Duplicação - MG-129
B3: =INVESTIMENTOS_CMB!E45 -> Extensão: | C3: =INVESTIMENTOS_CMB!F45 -> 5.08 | E3: =INVESTIMENTOS_SMB!E46 -> Extensão: | F3: =INVESTIMENTOS_SMB!F46 -> 5.08
B4: =INVESTIMENTOS_CMB!E46 -> Melhoria: | C4: =INVESTIMENTOS_CMB!F46 -> 44204895 | E4: =INVESTIMENTOS_SMB!E47 -> Melhoria: | F4: =INVESTIMENTOS_SMB!F47 -> 39581063
B5: =INVESTIMENTOS_CMB!E47 -> Recuperação Funcional*: | C5: =INVESTIMENTOS_CMB!F47 -> 14256369 | E5: =INVESTIMENTOS_SMB!E48 -> Recuperação Funcional*: | F5: =INVESTIMENTOS_SMB!F48 -> 10338716 | H5: Obras Prioritárias | K5: Obras Prioritárias e Recuperação - Malha Lote 11
B6: =INVESTIMENTOS_CMB!E48 -> Acessos: | C6: =INVESTIMENTOS_CMB!F48 -> 1111434 | E6: =INVESTIMENTOS_SMB!E49 -> Acessos: | F6: =INVESTIMENTOS_SMB!F49 -> 956278 | H6: COM MATERIAL BETUMINOSO | K6: COM MATERIAL BETUMINOSO
B7: =INVESTIMENTOS_CMB!E49 -> Total: | C7: =INVESTIMENTOS_CMB!F49 -> 59572698 | E7: =INVESTIMENTOS_SMB!E50 -> Total: | F7: =INVESTIMENTOS_SMB!F50 -> 50876057 | H7: Obra: | I7: =SUM(C4,C11,C18,C39,C46,C53) -> 439100970 | K7: Obra: | L7: =SUM(INVESTIMENTOS_CMB!K41:M41) -> 439100970
H8: Recuperação Funcional*: | I8: =SUM(C5,C12,C19,C40,C47,C54) -> 135972764 | K8: Recuperação Funcional*: | L8: =SUM(INVESTIMENTOS_CMB!I41,INVESTIMENTOS_CMB!J41) -> 303494035
B9: =INVESTIMENTOS_CMB!E51 -> Duplicação - MG-262 | E9: =INVESTIMENTOS_SMB!E52 -> Duplicação - MG-262 | H9: Acessos: | I9: =SUM(C6,C13,C20,C41,C48,C55) -> 8669181 | K9: Acessos: | L9: =INVESTIMENTOS_CMB!N41 -> 17560649
B10: =INVESTIMENTOS_CMB!E52 -> Extensão: | C10: =INVESTIMENTOS_CMB!F52 -> 9.71 | E10: =INVESTIMENTOS_SMB!E53 -> Extensão: | F10: =INVESTIMENTOS_SMB!F53 -> 9.71 | H10: Total: | I10: =SUM(I7:I9) -> 583742915 | K10: Total: | L10: =SUM(L7:L9) -> 760155654
B11: =INVESTIMENTOS_CMB!E53 -> Melhoria: | C11: =INVESTIMENTOS_CMB!F53 -> 105834254 | E11: =INVESTIMENTOS_SMB!E54 -> Melhoria: | F11: =INVESTIMENTOS_SMB!F54 -> 94763991 | H11: SEM MATERIAL BETUMINOSO | K11: SEM MATERIAL BETUMINOSO
B12: =INVESTIMENTOS_CMB!E54 -> Recuperação Funcional*: | C12: =INVESTIMENTOS_CMB!F54 -> 30092351 | E12: =INVESTIMENTOS_SMB!E55 -> Recuperação Funcional*: | F12: =INVESTIMENTOS_SMB!F55 -> 21517343 | H12: Obra: | I12: =SUM(F4,F11,F18,F39,F46,F53) -> 397426861 | K12: Obra: | L12: =SUM(INVESTIMENTOS_SMB!K41:M41)+(SUM(INVESTIMENTOS_SMB!K42:M42)) -> 397422059
B13: =INVESTIMENTOS_CMB!E55 -> Acessos: | C13: =INVESTIMENTOS_CMB!F55 -> 3112014 | E13: =INVESTIMENTOS_SMB!E56 -> Acessos: | F13: =INVESTIMENTOS_SMB!F56 -> 2677577 | H13: Recuperação Funcional*: | I13: =SUM(F5,F12,F19,F40,F47,F54) -> 97793065 | K13: Recuperação Funcional*: | L13: =SUM(INVESTIMENTOS_SMB!I41:J41)+INVESTIMENTOS_SMB!J42 -> 217176328
B14: =INVESTIMENTOS_CMB!E56 -> Total: | C14: =INVESTIMENTOS_CMB!F56 -> 139038619 | E14: =INVESTIMENTOS_SMB!E57 -> Total: | F14: =INVESTIMENTOS_SMB!F57 -> 118958911 | H14: Acessos: | I14: =SUM(F6,F13,F20,F41,F48,F55) -> 7458965 | K14: Acessos: | L14: =INVESTIMENTOS_SMB!N41+INVESTIMENTOS_SMB!N42 -> 15108334
H15: Total: | I15: =SUM(I12:I14) -> 502678891 | K15: Total: | L15: =SUM(L12:L14) -> 629706721
B16: =INVESTIMENTOS_CMB!E58 -> Duplicação - MG-434 | E16: =INVESTIMENTOS_SMB!E59 -> Duplicação - MG-434
B17: =INVESTIMENTOS_CMB!E59 -> Extensão: | C17: =INVESTIMENTOS_CMB!F59 -> 19.17 | E17: =INVESTIMENTOS_SMB!E60 -> Extensão: | F17: =INVESTIMENTOS_SMB!F60 -> 19.17 | L17: 760155654
B18: =INVESTIMENTOS_CMB!E60 -> Melhoria: | C18: =INVESTIMENTOS_CMB!F60 -> 155677853 | E18: =INVESTIMENTOS_SMB!E61 -> Melhoria: | F18: =INVESTIMENTOS_SMB!F61 -> 139393950
B19: =INVESTIMENTOS_CMB!E61 -> Recuperação Funcional*: | C19: =INVESTIMENTOS_CMB!F61 -> 46723385 | E19: =INVESTIMENTOS_SMB!E62 -> Recuperação Funcional*: | F19: =INVESTIMENTOS_SMB!F62 -> 33064341 | L19: 130448933
B20: =INVESTIMENTOS_CMB!E62 -> Acessos: | C20: =INVESTIMENTOS_CMB!F62 -> 2222867 | E20: =INVESTIMENTOS_SMB!E63 -> Acessos: | F20: =INVESTIMENTOS_SMB!F63 -> 1912555 | L20: 629706721
B21: =INVESTIMENTOS_CMB!E63 -> Total: | C21: =INVESTIMENTOS_CMB!F63 -> 204624105 | E21: =INVESTIMENTOS_SMB!E64 -> Total: | F21: =INVESTIMENTOS_SMB!F64 -> 174370846
B23: =INVESTIMENTOS_CMB!E65 -> Duplicação - MG-262 / MG-129 / MG-434 | E23: =INVESTIMENTOS_SMB!E66 -> Duplicação - MG-262 / MG-129 / MG-434
B24: =INVESTIMENTOS_CMB!E66 -> Extensão: | C24: =INVESTIMENTOS_CMB!F66 -> 33.96 | E24: =INVESTIMENTOS_SMB!E67 -> Extensão: | F24: =INVESTIMENTOS_SMB!F67 -> 33.96
B25: =INVESTIMENTOS_CMB!E67 -> Melhoria: | C25: =INVESTIMENTOS_CMB!F67 -> 305717002 | E25: =INVESTIMENTOS_SMB!E68 -> Melhoria: | F25: =INVESTIMENTOS_SMB!F68 -> 273739004
B26: =INVESTIMENTOS_CMB!E68 -> Recuperação Funcional*: | C26: =INVESTIMENTOS_CMB!F68 -> 91072105 | E26: =INVESTIMENTOS_SMB!E69 -> Recuperação Funcional*: | F26: =INVESTIMENTOS_SMB!F69 -> 64920400
B27: =INVESTIMENTOS_CMB!E69 -> Acessos: | C27: =INVESTIMENTOS_CMB!F69 -> 6446315 | E27: =INVESTIMENTOS_SMB!E70 -> Acessos: | F27: =INVESTIMENTOS_SMB!F70 -> 5546410
B28: =INVESTIMENTOS_CMB!E70 -> Total: | C28: =INVESTIMENTOS_CMB!F70 -> 403235422 | E28: =INVESTIMENTOS_SMB!E71 -> Total: | F28: =INVESTIMENTOS_SMB!F71 -> 344205814
B30: =INVESTIMENTOS_CMB!E72 -> Faixa Adicional MG-129 (01 e 02) | E30: =INVESTIMENTOS_SMB!E73 -> Faixa Adicional MG-129 (01 e 02)
B31: =INVESTIMENTOS_CMB!E73 -> Extensão: | C31: =INVESTIMENTOS_CMB!F73 -> 21.88 | E31: =INVESTIMENTOS_SMB!E74 -> Extensão: | F31: =INVESTIMENTOS_SMB!F74 -> 21.88
B32: =INVESTIMENTOS_CMB!E74 -> Melhoria: | C32: =INVESTIMENTOS_CMB!F74 -> 99335200 | E32: =INVESTIMENTOS_SMB!E75 -> Melhoria: | F32: =INVESTIMENTOS_SMB!F75 -> 91239381
B33: =INVESTIMENTOS_CMB!E75 -> Recuperação Funcional*: | C33: =INVESTIMENTOS_CMB!F75 -> 29822039 | E33: =INVESTIMENTOS_SMB!E76 -> Recuperação Funcional*: | F33: =INVESTIMENTOS_SMB!F76 -> 21572765
B34: =INVESTIMENTOS_CMB!E76 -> Acessos: | C34: =INVESTIMENTOS_CMB!F76 -> 1778293 | E34: =INVESTIMENTOS_SMB!E77 -> Acessos: | F34: =INVESTIMENTOS_SMB!F77 -> 1530044
B35: =INVESTIMENTOS_CMB!E77 -> Total: | C35: =INVESTIMENTOS_CMB!F77 -> 130935532 | E35: =INVESTIMENTOS_SMB!E78 -> Total: | F35: =INVESTIMENTOS_SMB!F78 -> 114342190
B37: =INVESTIMENTOS_CMB!E79 -> Faixa Adicional MG-129 01 | E37: =INVESTIMENTOS_SMB!E80 -> Faixa Adicional MG-129 01
B38: =INVESTIMENTOS_CMB!E80 -> Extensão: | C38: =INVESTIMENTOS_CMB!F80 -> 12.42 | E38: =INVESTIMENTOS_SMB!E81 -> Extensão: | F38: =INVESTIMENTOS_SMB!F81 -> 12.42
B39: =INVESTIMENTOS_CMB!E81 -> Melhoria: | C39: =INVESTIMENTOS_CMB!F81 -> 56386800 | E39: =INVESTIMENTOS_SMB!E82 -> Melhoria: | F39: =INVESTIMENTOS_SMB!F82 -> 51791276
B40: =INVESTIMENTOS_CMB!E82 -> Recuperação Funcional*: | C40: =INVESTIMENTOS_CMB!F82 -> 16489855 | E40: =INVESTIMENTOS_SMB!E83 -> Recuperação Funcional*: | F40: =INVESTIMENTOS_SMB!F83 -> 12012012
B41: =INVESTIMENTOS_CMB!E83 -> Acessos: | C41: =INVESTIMENTOS_CMB!F83 -> 444573 | E41: =INVESTIMENTOS_SMB!E84 -> Acessos: | F41: =INVESTIMENTOS_SMB!F84 -> 382511
B42: =INVESTIMENTOS_CMB!E84 -> Total: | C42: =INVESTIMENTOS_CMB!F84 -> 73321228 | E42: =INVESTIMENTOS_SMB!E85 -> Total: | F42: =INVESTIMENTOS_SMB!F85 -> 64185799
B44: =INVESTIMENTOS_CMB!E86 -> Faixa Adicional MG-129 02 | E44: =INVESTIMENTOS_SMB!E87 -> Faixa Adicional MG-129 02
B45: =INVESTIMENTOS_CMB!E87 -> Extensão: | C45: =INVESTIMENTOS_CMB!F87 -> 9.46 | E45: =INVESTIMENTOS_SMB!E88 -> Extensão: | F45: =INVESTIMENTOS_SMB!F88 -> 9.46
B46: =INVESTIMENTOS_CMB!E88 -> Melhoria: | C46: =INVESTIMENTOS_CMB!F88 -> 42948400 | E46: =INVESTIMENTOS_SMB!E89 -> Melhoria: | F46: =INVESTIMENTOS_SMB!F89 -> 39448105
B47: =INVESTIMENTOS_CMB!E89 -> Recuperação Funcional*: | C47: =INVESTIMENTOS_CMB!F89 -> 13332184 | E47: =INVESTIMENTOS_SMB!E90 -> Recuperação Funcional*: | F47: =INVESTIMENTOS_SMB!F90 -> 9560753
B48: =INVESTIMENTOS_CMB!E90 -> Acessos: | C48: =INVESTIMENTOS_CMB!F90 -> 1333720 | E48: =INVESTIMENTOS_SMB!E91 -> Acessos: | F48: =INVESTIMENTOS_SMB!F91 -> 1147533
B49: =INVESTIMENTOS_CMB!E91 -> Total: | C49: =INVESTIMENTOS_CMB!F91 -> 57614304 | E49: =INVESTIMENTOS_SMB!E92 -> Total: | F49: =INVESTIMENTOS_SMB!F92 -> 50156391
B51: =INVESTIMENTOS_CMB!E93 -> Acostamento - MG-129 | E51: =INVESTIMENTOS_SMB!E94 -> Acostamento - MG-129
B52: =INVESTIMENTOS_CMB!E94 -> Extensão: | C52: =INVESTIMENTOS_CMB!F94 -> 10.82 | E52: =INVESTIMENTOS_SMB!E95 -> Extensão: | F52: =INVESTIMENTOS_SMB!F95 -> 10.82
B53: =INVESTIMENTOS_CMB!E95 -> Melhoria: | C53: =INVESTIMENTOS_CMB!F95 -> 34048768 | E53: =INVESTIMENTOS_SMB!E96 -> Melhoria: | F53: =INVESTIMENTOS_SMB!F96 -> 32448476
B54: =INVESTIMENTOS_CMB!E96 -> Recuperação Funcional*: | C54: =INVESTIMENTOS_CMB!F96 -> 15078620 | E54: =INVESTIMENTOS_SMB!E97 -> Recuperação Funcional*: | F54: =INVESTIMENTOS_SMB!F97 -> 11299900
B55: =INVESTIMENTOS_CMB!E97 -> Acessos: | C55: =INVESTIMENTOS_CMB!F97 -> 444573 | E55: =INVESTIMENTOS_SMB!E98 -> Acessos: | F55: =INVESTIMENTOS_SMB!F98 -> 382511
B56: =INVESTIMENTOS_CMB!E98 -> Total: | C56: =INVESTIMENTOS_CMB!F98 -> 49571961 | E56: =INVESTIMENTOS_SMB!E99 -> Total: | F56: =INVESTIMENTOS_SMB!F99 -> 44130887
