Workbook
Name ATIVO: INVESTIMENTOS!#REF!
Name BASE: '[1]PAINEL DE CONTROLE'!$D$105:$D$106
Name BDI_M: '[1]BDI Sem Desoneração'!$H$25
Name BDI_S: '[1]BDI Sem Desoneração'!$G$25
Name CAPEX: '[1]PAINEL DE CONTROLE'!$N$14
Name CAPEX_total: '[1]Quadro 17 - WACC '!$G$17
Name CENARIO: CENARIOS!$A$22
Name CENARIOS: [1]CENARIOS!$U$6:$U$16
Name Cód.: "serv"
Name CPA: '[1]PAINEL DE CONTROLE'!$I$11
Name DESCR: "bds"
Name DESVIO_V: '[1]TABELA-ANP'!$A$188
Name EDIFICAÇÕES: '[1]Quadro 18 - Edificações'!$G$177
Name especificacoes: NA()
Name Extensão_total: '[1]Quadro 17 - WACC '!$G$19
Name FF: '[1]SCO-COMUNICAÇÃO'!$H$18
Name KM: INVESTIMENTOS!$I$45
Name LDD: '[1]Quadro 17B - WACC - Outputs '!$E$21
Name MEDIA_FX_A: '[1]Quadro 7 - Cronograma do PER'!$BZ$291
Name MODELO: '[1]PAINEL DE CONTROLE'!$E$22
Name OPÇÃO_HDM: INVESTIMENTOS!$H$47
Name OPEX: '[1]PAINEL DE CONTROLE'!$N$23
Name PADRAO: '[1]OPEX 3C Quantidades'!$E$6
Name Par: '[1]OPEX 6B - Cotações Eqp. Sist.'!$E$8:$L$99
Name percentual_AC: '[1]Quadro 17B - WACC - Outputs '!$E$28
Name percentual_AU: '[1]Quadro 17B - WACC - Outputs '!$E$12
Name percentual_CD: '[1]Quadro 17B - WACC - Outputs '!$E$16
Name percentual_HP: '[1]Quadro 17B - WACC - Outputs '!$E$4
Name percentual_IAM: '[1]Quadro 17B - WACC - Outputs '!$E$30
Name percentual_LIP: '[1]Quadro 17B - WACC - Outputs '!$E$7
Name percentual_RAAPC: '[1]Quadro 17B - WACC - Outputs '!$E$8
Name percentual_RCD: '[1]Quadro 17B - WACC - Outputs '!$E$17
Name percentual_RM: '[1]Quadro 17B - WACC - Outputs '!$E$23
Name percentual_RTAPC: '[1]Quadro 17B - WACC - Outputs '!$E$5
Name percentual_RTGT: '[1]Quadro 17B - WACC - Outputs '!$E$26
Name percentual_TGT: '[1]Quadro 17B - WACC - Outputs '!$E$25
Name percentual_UC: '[1]Quadro 17B - WACC - Outputs '!$E$10
Name PORTICO_ATIVO: INVESTIMENTOS!$AB$5:$AB$44
Name PORTICOS: INVESTIMENTOS!$AB$45
Name risco_viabilidade: '[1]Quadro 17B - WACC - Outputs '!$E$14
Name RSA: '[1]Quadro 17B - WACC - Outputs '!$E$19
Name SITUAÇÃO: '[1]PAINEL DE CONTROLE'!$X$92:$X$94
Name TD: [2]PainelControle!$V$50
Name TD_A: [2]PainelControle!$AF$51
Name TKM: '[1]PAINEL DE CONTROLE'!$I$19
Name TMA: '[1]Quadro 11b - Fluxo C. Projeto'!$C$7
Name TX_MOB_DESM: 3.56%

Sheet INVESTIMENTOS
A1: 0 | B1: CENARIO | C1: ="RESUMO GERAL POR TRECHO - CONCESSÃO "&KM -> RESUMO GERAL POR TRECHO - CONCESSÃO 161,61 | J1: =COLUMN()-3 -> 7 | K1: =COLUMN()-3 -> 8 | L1: =COLUMN()-3 -> 9 | M1: =COLUMN()-3 -> 10 | N1: =COLUMN()-3 -> 11 | O1: =COLUMN()-3 -> 12 | P1: =COLUMN()-3 -> 13 | Q1: =COLUMN()-3 -> 14 | ... Z1: =COLUMN()-3 -> 23
J2: SERVIÇOS INICIAIS | K2: RECUPERAÇÃO | L2: MANUTENÇÃO (DEMAIS SERVIÇOS) | M2: MANUTENÇÃO PAVIMENTO | N2: AMPLIAÇÃO | AA2: GERAL | AB2: PORTICOS FREE FLOW
C3: PPP CONCESSÃO RODOVIAS LOTE 11 - QUADRILÁTERO FERRÍFERO | N3: FAIXAS ADICIONAIS | O3: ACESSOS | P3: DUPLICAÇÃO | Q3: TRATAMENTO URBANO | R3: PARADA DE ONIBUS | S3: ACOSTAMENTOS | T3: CORREÇÃO TRAÇADO | U3: CONTORNO | V3: INTERSEÇÕES | W3: MARGINAIS | X3: OAE's | Y3: PASSARELAS | Z3: SAFETY BOX
C4: ITEM | D4: RODOVIA | E4: SRE/MG | F4: TRECHO | G4: KM INICIAL | H4: KM FINAL | I4: KM | J4: VALOR | K4: VALOR | L4: VALOR | M4: VALOR | N4: VALOR | O4: VALOR | P4: VALOR | Q4: VALOR | R4: VALOR | S4: VALOR | T4: VALOR | U4: VALOR | V4: VALOR | W4: VALOR | X4: VALOR | Y4: VALOR | Z4: VALOR | AA4: VALOR
A5: S | B5: =_xlfn.XLOOKUP(E5,TCP!$C$3:$C$42,TCP!$B$3:$B$42,0,0) -> TCP - P 06 | C5: 0 | D5: CMG120 | E5: NOVO SRE | F5: CONTORNO SANTA MARIA DO ITABIRA | G5: 0 | H5: 4.68 | AA5: =SUM(J5:Z5) -> 0
A6: =_xlfn.XLOOKUP(C6,CENARIOS!$D$2:$AP$2,CENARIOS!$D$22:$AP$22,0,0) -> S | B6: =_xlfn.XLOOKUP(E6,TCP!$C$3:$C$42,TCP!$B$3:$B$42,0,0) -> TCP - P 07 | C6: 1 | D6: MG120 | E6: 120CMG0175-01 | F6: ENTR MG232 (P/CARMESIA) - ENTR MG232 (B) | G6: 349 | H6: 349.74 | AA6: =SUM(J6:Z6) -> 0
A7: =_xlfn.XLOOKUP(C7,CENARIOS!$D$2:$AP$2,CENARIOS!$D$22:$AP$22,0,0) -> S | B7: =_xlfn.XLOOKUP(E7,TCP!$C$3:$C$42,TCP!$B$3:$B$42,0,0) -> TCP - P 07 | C7: 2 | D7: MG120 | E7: 120CMG0175-02 | F7: ENTR MG232 (B) - DIV 02/12 CRG | G7: 349.74 | H7: 351.77 | AA7: =SUM(J7:Z7) -> 0
A8: =_xlfn.XLOOKUP(C8,CENARIOS!$D$2:$AP$2,CENARIOS!$D$22:$AP$22,0,0) -> S | B8: =_xlfn.XLOOKUP(E8,TCP!$C$3:$C$42,TCP!$B$3:$B$42,0,0) -> TCP - P 07 | C8: 3 | D8: MG120 | E8: 120CMG0175-03 | F8: DIV 02/12 CRG - ACESSO FERROS | G8: 351.77 | H8: 376.65 | AA8: =SUM(J8:Z8) -> 0 | AB8: =IF(A8="N","","FF07") -> FF07
A9: =_xlfn.XLOOKUP(C9,CENARIOS!$D$2:$AP$2,CENARIOS!$D$22:$AP$22,0,0) -> S | B9: =_xlfn.XLOOKUP(E9,TCP!$C$3:$C$42,TCP!$B$3:$B$42,0,0) -> TCP - P 07 | C9: 4 | D9: CMG120 | E9: 120CMG0177-01 | F9: ACESSO FERROS - SANTA MARIA DE ITABIRA (INÍCIO TRECHO URBANO) | G9: 376.65 | H9: 410.1 | AA9: =SUM(J9:Z9) -> 0
A10: =_xlfn.XLOOKUP(C10,CENARIOS!$D$2:$AP$2,CENARIOS!$D$22:$AP$22,0,0) -> S | B10: =_xlfn.XLOOKUP(E10,TCP!$C$3:$C$42,TCP!$B$3:$B$42,0,0) -> TCP - P 06 | C10: 5 | D10: CMG120 | E10: 120CMG0185-01 | F10: SANTA MARIA DE ITABIRA (INÍCIO TRECHO URBANO) - SANTA MARIA DE ITABIRA (ENTR RUA PADRE LUÍS) | G10: 410.1 | H10: 410.16 | AA10: =SUM(J10:Z10) -> 0
A11: =_xlfn.XLOOKUP(C11,CENARIOS!$D$2:$AP$2,CENARIOS!$D$22:$AP$22,0,0) -> S | B11: =_xlfn.XLOOKUP(E11,TCP!$C$3:$C$42,TCP!$B$3:$B$42,0,0) -> TCP - P 06 | C11: 6 | D11: CMG120 | E11: 120CMG0185-02 | F11: SANTA MARIA DE ITABIRA (ENTR RUA PADRE LUÍS) - SANTA MARIA DE ITABIRA (FIM TRECHO URBANO) | G11: 413.67 | H11: 414.43 | AA11: =SUM(J11:Z11) -> 0
A12: =_xlfn.XLOOKUP(C12,CENARIOS!$D$2:$AP$2,CENARIOS!$D$22:$AP$22,0,0) -> S | B12: =_xlfn.XLOOKUP(E12,TCP!$C$3:$C$42,TCP!$B$3:$B$42,0,0) -> TCP - P 06 | C12: 7 | D12: CMG120 | E12: 120CMG0185-03 | F12: SANTA MARIA DE ITABIRA (FIM TRECHO URBANO) - ENTR MG129(A) (ITABIRA) | G12: 414.43 | H12: 426.7 | AA12: =SUM(J12:Z12) -> 0 | AB12: =IF(A12="N","","FF06") -> FF06
A13: =_xlfn.XLOOKUP(C13,CENARIOS!$D$2:$AP$2,CENARIOS!$D$22:$AP$22,0,0) -> S | B13: =_xlfn.XLOOKUP(E13,TCP!$C$3:$C$42,TCP!$B$3:$B$42,0,0) -> TCP - P 08 | C13: 8 | D13: CMG120 | E13: 120CMG0190-01 | F13: ENTR MG129(B) - FIM DESAFETAÇÃO (ITABIRA) | G13: 440.4 | H13: 441.45 | AA13: =SUM(J13:Z13) -> 0
A14: =_xlfn.XLOOKUP(C14,CENARIOS!$D$2:$AP$2,CENARIOS!$D$22:$AP$22,0,0) -> S | B14: =_xlfn.XLOOKUP(E14,TCP!$C$3:$C$42,TCP!$B$3:$B$42,0,0) -> TCP - P 08 | C14: 9 | D14: CMG120 | E14: 120CMG0190-02 | F14: FIM DESAFETAÇÃO (ITABIRA) - CAPOEIRANA | G14: 441.45 | H14: 458.94 | AA14: =SUM(J14:Z14) -> 0
A15: =_xlfn.XLOOKUP(C15,CENARIOS!$D$2:$AP$2,CENARIOS!$D$22:$AP$22,0,0) -> S | B15: =_xlfn.XLOOKUP(E15,TCP!$C$3:$C$42,TCP!$B$3:$B$42,0,0) -> TCP - P 08 | C15: 10 | D15: CMG120 | E15: 120CMG0190-03 | F15: CAPOEIRANA - ENTR BR381(A) (DESEMBARGADOR DRUMOND DIV 12/40 CRG) | G15: 458.94 | H15: 468.11 | AA15: =SUM(J15:Z15) -> 0 | AB15: =IF(A15="N","","FF08") -> FF08
A16: =_xlfn.XLOOKUP(C16,CENARIOS!$D$2:$AP$2,CENARIOS!$D$22:$AP$22,0,0) -> S | B16: =_xlfn.XLOOKUP(E16,TCP!$C$3:$C$42,TCP!$B$3:$B$42,0,0) -> TCP - P 07 | C16: 11 | D16: MG129 | E16: 129EMG0050-01 | F16: ENTR BR120 (A) - ENTR BR120 (B) | G16: 0 | H16: 13.6 | AA16: =SUM(J16:Z16) -> 0
A17: =_xlfn.XLOOKUP(C17,CENARIOS!$D$2:$AP$2,CENARIOS!$D$22:$AP$22,0,0) -> S | B17: =_xlfn.XLOOKUP(E17,TCP!$C$3:$C$42,TCP!$B$3:$B$42,0,0) -> TCP - P 04 | C17: 12 | D17: MG129 | E17: 129EMG0050-02 | F17: ENTR BR120 (B) - DISTRITO INDUSTRIAL DE ITABIRA (INÍCIO) | G17: 13.6 | H17: 17.53 | I17: =IF(A17="N",0,H17-G17) -> 3.93 | J17: =IF(A17="N",0,'[3]RESUMO POR TRECHO'!I16) -> 720479 | K17: =IF(A17="N",0,'[4]RESUMO POR TRECHO'!I16) -> 6813589 | L17: =IF(A17="N",0,'[5]RESUMO POR TRECHO'!K17) -> 2699672 | M17: =IF(A17="N",0,'[6]RESUMO POR TRECHO'!M17) -> 10873870 | N17: 0 | O17: =IF(A17="N",0,'[7]RESUMO POR TRECHO'!J16) -> 0 | P17: =IF(A17="N",0,'[8]RESUMO POR TRECHO'!J16*0) -> 0 | Q17: =IF(A17="N",0,'[9]RESUMO POR TRECHO'!J16) -> 0 | R17: =IF(A17="N",0,'[10]RESUMO POR TRECHO'!J16) -> 353461 | S17: =IF(A17="N",0,'[11]RESUMO POR TRECHO'!J16) -> 0 | T17: =IF(A17="N",0,'[12]RESUMO POR TRECHO'!J16) -> 0 | V17: =IF(A17="N",0,'[13]RESUMO POR TRECHO'!L16) -> 0 | W17: =IF(A17="N",0,'[14]RESUMO POR TRECHO'!J16) -> 0 | X17: =IF(A17="N",0,'[15]RESUMO POR TRECHO'!J16) -> 4203532 | Y17: =IF(A17="N",0,[16]Res_Passarelas!F15) -> 0 | Z17: =IF(A17="N",0,'[9]Safety Box por SRE'!F14) -> 0 | AA17: =SUM(J17:Z17) -> 25664603
A18: =_xlfn.XLOOKUP(C18,CENARIOS!$D$2:$AP$2,CENARIOS!$D$22:$AP$22,0,0) -> S | B18: =_xlfn.XLOOKUP(E18,TCP!$C$3:$C$42,TCP!$B$3:$B$42,0,0) -> TCP - P 04 | C18: 13 | D18: MG129 | E18: 129EMG0050-03 | F18: DISTRITO INDUSTRIAL DE ITABIRA (INÍCIO) - DISTRITO INDUSTRIAL DE ITABIRA (FIM) | G18: 17.53 | H18: 21.37 | I18: =IF(A18="N",0,H18-G18) -> 3.84 | J18: =IF(A18="N",0,'[3]RESUMO POR TRECHO'!I17) -> 1017419 | K18: =IF(A18="N",0,'[4]RESUMO POR TRECHO'!I17) -> 8101151 | L18: =IF(A18="N",0,'[5]RESUMO POR TRECHO'!K18) -> 4213454 | M18: =IF(A18="N",0,'[6]RESUMO POR TRECHO'!M18) -> 16325998 | N18: 0 | O18: =IF(A18="N",0,'[7]RESUMO POR TRECHO'!J17) -> 666860 | P18: =IF(A18="N",0,'[8]RESUMO POR TRECHO'!J17*0) -> 0 | Q18: =IF(A18="N",0,'[9]RESUMO POR TRECHO'!J17) -> 0 | R18: =IF(A18="N",0,'[10]RESUMO POR TRECHO'!J17) -> 706402 | S18: =IF(A18="N",0,'[11]RESUMO POR TRECHO'!J17) -> 0 | T18: =IF(A18="N",0,'[12]RESUMO POR TRECHO'!J17) -> 0 | V18: =IF(A18="N",0,'[13]RESUMO POR TRECHO'!L17) -> 13888963 | W18: =IF(A18="N",0,'[14]RESUMO POR TRECHO'!J17) -> 22029865 | X18: =IF(A18="N",0,'[15]RESUMO POR TRECHO'!J17) -> 6242314 | Y18: =IF(A18="N",0,[16]Res_Passarelas!F16) -> 4370000 | Z18: =IF(A18="N",0,'[9]Safety Box por SRE'!F15) -> 0 | AA18: =SUM(J18:Z18) -> 77562426
A19: =_xlfn.XLOOKUP(C19,CENARIOS!$D$2:$AP$2,CENARIOS!$D$22:$AP$22,0,0) -> S | B19: =_xlfn.XLOOKUP(E19,TCP!$C$3:$C$42,TCP!$B$3:$B$42,0,0) -> TCP - P 04 | C19: 14 | D19: MG129 | E19: 129EMG0205-01 | F19: DISTRITO INDUSTRIAL DE ITABIRA (FIM) - KM 23 (FIM TRECHO URBANO) | G19: 21.37 | H19: 22.99 | I19: =IF(A19="N",0,H19-G19) -> 1.62 | J19: =IF(A19="N",0,'[3]RESUMO POR TRECHO'!I18) -> 251578 | K19: =IF(A19="N",0,'[4]RESUMO POR TRECHO'!I18) -> 2031900 | L19: =IF(A19="N",0,'[5]RESUMO POR TRECHO'!K19) -> 1323929 | M19: =IF(A19="N",0,'[6]RESUMO POR TRECHO'!M19) -> 4816491 | N19: 0 | O19: =IF(A19="N",0,'[7]RESUMO POR TRECHO'!J18) -> 222287 | P19: =IF(A19="N",0,'[8]RESUMO POR TRECHO'!J18*0) -> 0 | Q19: =IF(A19="N",0,'[9]RESUMO POR TRECHO'!J18) -> 0 | R19: =IF(A19="N",0,'[10]RESUMO POR TRECHO'!J18) -> 0 | S19: =IF(A19="N",0,'[11]RESUMO POR TRECHO'!J18) -> 0 | T19: =IF(A19="N",0,'[12]RESUMO POR TRECHO'!J18) -> 0 | V19: =IF(A19="N",0,'[13]RESUMO POR TRECHO'!L18) -> 0 | W19: =IF(A19="N",0,'[14]RESUMO POR TRECHO'!J18) -> 3284619 | X19: =IF(A19="N",0,'[15]RESUMO POR TRECHO'!J18) -> 0 | Y19: =IF(A19="N",0,[16]Res_Passarelas!F17) -> 0 | Z19: =IF(A19="N",0,'[9]Safety Box por SRE'!F16) -> 0 | AA19: =SUM(J19:Z19) -> 11930804
A20: =_xlfn.XLOOKUP(C20,CENARIOS!$D$2:$AP$2,CENARIOS!$D$22:$AP$22,0,0) -> S | B20: =_xlfn.XLOOKUP(E20,TCP!$C$3:$C$42,TCP!$B$3:$B$42,0,0) -> TCP - P 04 | C20: 15 | D20: MG129 | E20: 129EMG0205-02 | F20: KM 23 (FIM TRECHO URBANO) - ENTR P/ITABIRA (ITABIRUÇU) | G20: 22.99 | H20: 27.89 | I20: =IF(A20="N",0,H20-G20) -> 4.9 | J20: =IF(A20="N",0,'[3]RESUMO POR TRECHO'!I19) -> 1602814 | K20: =IF(A20="N",0,'[4]RESUMO POR TRECHO'!I19) -> 8951091 | L20: =IF(A20="N",0,'[5]RESUMO POR TRECHO'!K20) -> 3832974 | M20: =IF(A20="N",0,'[6]RESUMO POR TRECHO'!M20) -> 13184060 | N20: 0 | O20: =IF(A20="N",0,'[7]RESUMO POR TRECHO'!J19) -> 444573 | P20: =IF(A20="N",0,'[8]RESUMO POR TRECHO'!J19*0) -> 0 | Q20: =IF(A20="N",0,'[9]RESUMO POR TRECHO'!J19) -> 0 | R20: =IF(A20="N",0,'[10]RESUMO POR TRECHO'!J19) -> 353461 | S20: =IF(A20="N",0,'[11]RESUMO POR TRECHO'!J19) -> 0 | T20: =IF(A20="N",0,'[12]RESUMO POR TRECHO'!J19) -> 0 | V20: =IF(A20="N",0,'[13]RESUMO POR TRECHO'!L19) -> 18933321 | W20: =IF(A20="N",0,'[14]RESUMO POR TRECHO'!J19) -> 0 | X20: =IF(A20="N",0,'[15]RESUMO POR TRECHO'!J19) -> 2803534 | Y20: =IF(A20="N",0,[16]Res_Passarelas!F18) -> 0 | Z20: =IF(A20="N",0,'[9]Safety Box por SRE'!F17) -> 0 | AA20: =SUM(J20:Z20) -> 50105828
A21: =_xlfn.XLOOKUP(C21,CENARIOS!$D$2:$AP$2,CENARIOS!$D$22:$AP$22,0,0) -> S | B21: =_xlfn.XLOOKUP(E21,TCP!$C$3:$C$42,TCP!$B$3:$B$42,0,0) -> TCP - P 04 | C21: 16 | D21: MG129 | E21: 129EMG0220-01 | F21: ENTR P/ITABIRA (ITABIRUÇU) - INÍCIO PERÍMETRO URBANO ITABIRA | G21: 27.89 | H21: 31.33 | I21: =IF(A21="N",0,H21-G21) -> 3.44 | J21: =IF(A21="N",0,'[3]RESUMO POR TRECHO'!I20) -> 2529722 | K21: =IF(A21="N",0,'[4]RESUMO POR TRECHO'!I20) -> 9014427 | L21: =IF(A21="N",0,'[5]RESUMO POR TRECHO'!K21) -> 4079341 | M21: =IF(A21="N",0,'[6]RESUMO POR TRECHO'!M21) -> 20132608 | N21: 0 | O21: =IF(A21="N",0,'[7]RESUMO POR TRECHO'!J20) -> 889147 | P21: =IF(A21="N",0,'[8]RESUMO POR TRECHO'!J20) -> 30030425 | Q21: =IF(A21="N",0,'[9]RESUMO POR TRECHO'!J20) -> 0 | R21: =IF(A21="N",0,'[10]RESUMO POR TRECHO'!J20) -> 706402 | S21: =IF(A21="N",0,'[11]RESUMO POR TRECHO'!J20) -> 0 | T21: =IF(A21="N",0,'[12]RESUMO POR TRECHO'!J20) -> 4604945 | V21: =IF(A21="N",0,'[13]RESUMO POR TRECHO'!L20) -> 14342467 | W21: =IF(A21="N",0,'[14]RESUMO POR TRECHO'!J20) -> 10385996 | X21: =IF(A21="N",0,'[15]RESUMO POR TRECHO'!J20) -> 3058575 | Y21: =IF(A21="N",0,[16]Res_Passarelas!F19) -> 4370000 | Z21: =IF(A21="N",0,'[9]Safety Box por SRE'!F18) -> 0 | AA21: =SUM(J21:Z21) -> 104144055 | AB21: =IF(A21="N","","FF04") -> FF04
A22: =_xlfn.XLOOKUP(C22,CENARIOS!$D$2:$AP$2,CENARIOS!$D$22:$AP$22,0,0) -> S | B22: =_xlfn.XLOOKUP(E22,TCP!$C$3:$C$42,TCP!$B$3:$B$42,0,0) -> TCP - P 04 | C22: 17 | D22: MG129 | E22: 129EMG0220-02 | F22: INÍCIO PERÍMETRO URBANO ITABIRA - ENTR MG434 (CHAPADA) | G22: 31.33 | H22: 32.97 | I22: =IF(A22="N",0,H22-G22) -> 1.64 | J22: =IF(A22="N",0,'[3]RESUMO POR TRECHO'!I21) -> 622392 | K22: =IF(A22="N",0,'[4]RESUMO POR TRECHO'!I21) -> 3462037 | L22: =IF(A22="N",0,'[5]RESUMO POR TRECHO'!K22) -> 1644438 | M22: =IF(A22="N",0,'[6]RESUMO POR TRECHO'!M22) -> 7925314 | N22: 0 | O22: =IF(A22="N",0,'[7]RESUMO POR TRECHO'!J21) -> 222287 | P22: =IF(A22="N",0,'[8]RESUMO POR TRECHO'!J21) -> 14174470 | Q22: =IF(A22="N",0,'[9]RESUMO POR TRECHO'!J21) -> 0 | R22: =IF(A22="N",0,'[10]RESUMO POR TRECHO'!J21) -> 353461 | S22: =IF(A22="N",0,'[11]RESUMO POR TRECHO'!J21) -> 0 | T22: =IF(A22="N",0,'[12]RESUMO POR TRECHO'!J21) -> 0 | V22: =IF(A22="N",0,'[13]RESUMO POR TRECHO'!L21) -> 14559366 | W22: =IF(A22="N",0,'[14]RESUMO POR TRECHO'!J21) -> 6741512 | X22: =IF(A22="N",0,'[15]RESUMO POR TRECHO'!J21) -> 5024577 | Y22: =IF(A22="N",0,[16]Res_Passarelas!F20) -> 2185000 | Z22: =IF(A22="N",0,'[9]Safety Box por SRE'!F19) -> 0 | AA22: =SUM(J22:Z22) -> 56914854
A23: =_xlfn.XLOOKUP(C23,CENARIOS!$D$2:$AP$2,CENARIOS!$D$22:$AP$22,0,0) -> S | B23: =_xlfn.XLOOKUP(E23,TCP!$C$3:$C$42,TCP!$B$3:$B$42,0,0) -> TCP - P 13 | C23: 18 | D23: MG129 | E23: 129EMG0240-01 | F23: ENTR MG434 (CHAPADA) - FINAL PERIMETRO URBANO ITABIRA | G23: 32.97 | H23: 33.56 | I23: =IF(A23="N",0,H23-G23) -> 0.59 | J23: =IF(A23="N",0,'[3]RESUMO POR TRECHO'!I22) -> 167263 | K23: =IF(A23="N",0,'[4]RESUMO POR TRECHO'!I22) -> 875072 | L23: =IF(A23="N",0,'[5]RESUMO POR TRECHO'!K23) -> 888565 | M23: =IF(A23="N",0,'[6]RESUMO POR TRECHO'!M23) -> 2552670 | N23: 0 | O23: =IF(A23="N",0,'[7]RESUMO POR TRECHO'!J22) -> 0 | P23: =IF(A23="N",0,'[8]RESUMO POR TRECHO'!J22) -> 0 | Q23: =IF(A23="N",0,'[9]RESUMO POR TRECHO'!J22) -> 521215 | R23: =IF(A23="N",0,'[10]RESUMO POR TRECHO'!J22) -> 706402 | S23: =IF(A23="N",0,'[11]RESUMO POR TRECHO'!J22) -> 3531803 | T23: =IF(A23="N",0,'[12]RESUMO POR TRECHO'!J22) -> 0 | V23: =IF(A23="N",0,'[13]RESUMO POR TRECHO'!L22) -> 0 | W23: =IF(A23="N",0,'[14]RESUMO POR TRECHO'!J22) -> 0 | X23: =IF(A23="N",0,'[15]RESUMO POR TRECHO'!J22) -> 0 | Y23: =IF(A23="N",0,[16]Res_Passarelas!F21) -> 0 | Z23: =IF(A23="N",0,'[9]Safety Box por SRE'!F20) -> 278637 | AA23: =SUM(J23:Z23) -> 9521627
A24: =_xlfn.XLOOKUP(C24,CENARIOS!$D$2:$AP$2,CENARIOS!$D$22:$AP$22,0,0) -> S | B24: =_xlfn.XLOOKUP(E24,TCP!$C$3:$C$42,TCP!$B$3:$B$42,0,0) -> TCP - P 14 | C24: 19 | D24: MG129 | E24: 129EMG0240-02 | F24: FINAL PERIMETRO URBANO ITABIRA - SÃO GONÇALO DO RIO ABAIXO | G24: 33.56 | H24: 48.62 | I24: =IF(A24="N",0,H24-G24) -> 15.06 | J24: =IF(A24="N",0,'[3]RESUMO POR TRECHO'!I23) -> 2780857 | K24: =IF(A24="N",0,'[4]RESUMO POR TRECHO'!I23) -> 11158940 | L24: =IF(A24="N",0,'[5]RESUMO POR TRECHO'!K24) -> 13609985 | M24: =IF(A24="N",0,'[6]RESUMO POR TRECHO'!M24) -> 32310464 | N24: 0 | O24: =IF(A24="N",0,'[7]RESUMO POR TRECHO'!J23) -> 444573 | P24: =IF(A24="N",0,'[8]RESUMO POR TRECHO'!J23*0) -> 0 | Q24: =IF(A24="N",0,'[9]RESUMO POR TRECHO'!J23) -> 2481698 | R24: =IF(A24="N",0,'[10]RESUMO POR TRECHO'!J23) -> 3885474 | S24: =IF(A24="N",0,'[11]RESUMO POR TRECHO'!J23) -> 27099306 | T24: =IF(A24="N",0,'[12]RESUMO POR TRECHO'!J23) -> 8967238 | V24: =IF(A24="N",0,'[13]RESUMO POR TRECHO'!L23) -> 20769322 | W24: =IF(A24="N",0,'[14]RESUMO POR TRECHO'!J23) -> 0 | X24: =IF(A24="N",0,'[15]RESUMO POR TRECHO'!J23) -> 2631542 | Y24: =IF(A24="N",0,[16]Res_Passarelas!F22) -> 4370000 | Z24: =IF(A24="N",0,'[9]Safety Box por SRE'!F21) -> 1393183 | AA24: =SUM(J24:Z24) -> 131902582 | AB24: =IF(A24="N","","FF14") -> FF14
A25: =_xlfn.XLOOKUP(C25,CENARIOS!$D$2:$AP$2,CENARIOS!$D$22:$AP$22,0,0) -> S | B25: =_xlfn.XLOOKUP(E25,TCP!$C$3:$C$42,TCP!$B$3:$B$42,0,0) -> TCP - P 13 | C25: 20 | D25: MG129 | E25: 129EMG0280-02 | F25: ENTR BR381 (B) (S GONÇALO R ABAIXO) - USINA PETI | G25: 52.54 | H25: 58.95 | I25: =IF(A25="N",0,H25-G25) -> 6.41 | J25: =IF(A25="N",0,'[3]RESUMO POR TRECHO'!I24) -> 0 | K25: =IF(A25="N",0,'[4]RESUMO POR TRECHO'!I24) -> 0 | L25: =IF(A25="N",0,'[5]RESUMO POR TRECHO'!K25) -> 3959379 | M25: =IF(A25="N",0,'[6]RESUMO POR TRECHO'!M25) -> 12268255 | N25: 0 | O25: =IF(A25="N",0,'[7]RESUMO POR TRECHO'!J24) -> 444573 | P25: =IF(A25="N",0,'[8]RESUMO POR TRECHO'!J24) -> 0 | Q25: =IF(A25="N",0,'[9]RESUMO POR TRECHO'!J24) -> 1993710 | R25: =IF(A25="N",0,'[10]RESUMO POR TRECHO'!J24) -> 1766266 | S25: =IF(A25="N",0,'[11]RESUMO POR TRECHO'!J24) -> 0 | T25: =IF(A25="N",0,'[12]RESUMO POR TRECHO'!J24) -> 0 | V25: =IF(A25="N",0,'[13]RESUMO POR TRECHO'!L24) -> 0 | W25: =IF(A25="N",0,'[14]RESUMO POR TRECHO'!J24) -> 0 | X25: =IF(A25="N",0,'[15]RESUMO POR TRECHO'!J24) -> 0 | Y25: =IF(A25="N",0,[16]Res_Passarelas!F23) -> 0 | Z25: =IF(A25="N",0,'[9]Safety Box por SRE'!F22) -> 1114546 | AA25: =SUM(J25:Z25) -> 21546729
A26: =_xlfn.XLOOKUP(C26,CENARIOS!$D$2:$AP$2,CENARIOS!$D$22:$AP$22,0,0) -> S | B26: =_xlfn.XLOOKUP(E26,TCP!$C$3:$C$42,TCP!$B$3:$B$42,0,0) -> TCP - P 13 | C26: 21 | D26: MG129 | E26: 129EMG0300-01 | F26: USINA PETI - FIM DO TRECHO DESAFETADO | G26: 58.95 | H26: 66.27 | I26: =IF(A26="N",0,H26-G26) -> 7.32 | J26: =IF(A26="N",0,'[3]RESUMO POR TRECHO'!I25) -> 0 | K26: =IF(A26="N",0,'[4]RESUMO POR TRECHO'!I25) -> 0 | L26: =IF(A26="N",0,'[5]RESUMO POR TRECHO'!K26) -> 4604240 | M26: =IF(A26="N",0,'[6]RESUMO POR TRECHO'!M26) -> 13959889 | N26: 0 | O26: =IF(A26="N",0,'[7]RESUMO POR TRECHO'!J25) -> 0 | P26: =IF(A26="N",0,'[8]RESUMO POR TRECHO'!J25) -> 0 | Q26: =IF(A26="N",0,'[9]RESUMO POR TRECHO'!J25) -> 2510098 | R26: =IF(A26="N",0,'[10]RESUMO POR TRECHO'!J25) -> 2119207 | S26: =IF(A26="N",0,'[11]RESUMO POR TRECHO'!J25) -> 0 | T26: =IF(A26="N",0,'[12]RESUMO POR TRECHO'!J25) -> 0 | V26: =IF(A26="N",0,'[13]RESUMO POR TRECHO'!L25) -> 0 | W26: =IF(A26="N",0,'[14]RESUMO POR TRECHO'!J25) -> 0 | X26: =IF(A26="N",0,'[15]RESUMO POR TRECHO'!J25) -> 0 | Y26: =IF(A26="N",0,[16]Res_Passarelas!F24) -> 0 | Z26: =IF(A26="N",0,'[9]Safety Box por SRE'!F23) -> 1393183 | AA26: =SUM(J26:Z26) -> 24586617 | AB26: =IF(A26="N","","FF13") -> FF13
A27: =_xlfn.XLOOKUP(C27,CENARIOS!$D$2:$AP$2,CENARIOS!$D$22:$AP$22,0,0) -> S | B27: =_xlfn.XLOOKUP(E27,TCP!$C$3:$C$42,TCP!$B$3:$B$42,0,0) -> TCP - P 02 | C27: 22 | D27: MG129 | E27: 129EMG0300-02 | F27: FIM DO TRECHO DESAFETADO - ENTR BR 262 (A) SANTA BÁRBARA | G27: 66.27 | H27: 70.63 | I27: =IF(A27="N",0,H27-G27) -> 4.36 | J27: =IF(A27="N",0,'[3]RESUMO POR TRECHO'!I26) -> 0 | K27: =IF(A27="N",0,'[4]RESUMO POR TRECHO'!I26) -> 0 | L27: =IF(A27="N",0,'[5]RESUMO POR TRECHO'!K27) -> 2859244 | M27: =IF(A27="N",0,'[6]RESUMO POR TRECHO'!M27) -> 8747099 | N27: 0 | O27: =IF(A27="N",0,'[7]RESUMO POR TRECHO'!J26) -> 222287 | P27: =IF(A27="N",0,'[8]RESUMO POR TRECHO'!J26) -> 0 | Q27: =IF(A27="N",0,'[9]RESUMO POR TRECHO'!J26) -> 1547761 | R27: =IF(A27="N",0,'[10]RESUMO POR TRECHO'!J26) -> 1059864 | S27: =IF(A27="N",0,'[11]RESUMO POR TRECHO'!J26) -> 0 | T27: =IF(A27="N",0,'[12]RESUMO POR TRECHO'!J26) -> 0 | V27: =IF(A27="N",0,'[13]RESUMO POR TRECHO'!L26) -> 0 | W27: =IF(A27="N",0,'[14]RESUMO POR TRECHO'!J26) -> 0 | X27: =IF(A27="N",0,'[15]RESUMO POR TRECHO'!J26) -> 0 | Y27: =IF(A27="N",0,[16]Res_Passarelas!F25) -> 0 | Z27: =IF(A27="N",0,'[9]Safety Box por SRE'!F24) -> 835910 | AA27: =SUM(J27:Z27) -> 15272165
A28: =_xlfn.XLOOKUP(C28,CENARIOS!$D$2:$AP$2,CENARIOS!$D$22:$AP$22,0,0) -> S | B28: =_xlfn.XLOOKUP(E28,TCP!$C$3:$C$42,TCP!$B$3:$B$42,0,0) -> TCP - P 02 | C28: 23 | D28: MG129 | E28: 129EMG0300-03 | F28: ENTR BR 262 (A) SANTA BÁRBARA - SANTA BÁRBARA (CENTRO) | G28: 70.63 | H28: 73.35 | I28: =IF(A28="N",0,H28-G28) -> 2.72 | J28: =IF(A28="N",0,'[3]RESUMO POR TRECHO'!I27) -> 0 | K28: =IF(A28="N",0,'[4]RESUMO POR TRECHO'!I27) -> 0 | L28: =IF(A28="N",0,'[5]RESUMO POR TRECHO'!K28) -> 560775 | M28: =IF(A28="N",0,'[6]RESUMO POR TRECHO'!M28) -> 4123264 | N28: 0 | O28: =IF(A28="N",0,'[7]RESUMO POR TRECHO'!J27) -> 0 | P28: =IF(A28="N",0,'[8]RESUMO POR TRECHO'!J27) -> 0 | Q28: =IF(A28="N",0,'[9]RESUMO POR TRECHO'!J27) -> 0 | R28: =IF(A28="N",0,'[10]RESUMO POR TRECHO'!J27) -> 0 | S28: =IF(A28="N",0,'[11]RESUMO POR TRECHO'!J27) -> 0 | T28: =IF(A28="N",0,'[12]RESUMO POR TRECHO'!J27) -> 0 | V28: =IF(A28="N",0,'[13]RESUMO POR TRECHO'!L27) -> 0 | W28: =IF(A28="N",0,'[14]RESUMO POR TRECHO'!J27) -> 0 | X28: =IF(A28="N",0,'[15]RESUMO POR TRECHO'!J27) -> 0 | Y28: =IF(A28="N",0,[16]Res_Passarelas!F26) -> 0 | Z28: =IF(A28="N",0,'[9]Safety Box por SRE'!F25) -> 0 | AA28: =SUM(J28:Z28) -> 4684039
A29: =_xlfn.XLOOKUP(C29,CENARIOS!$D$2:$AP$2,CENARIOS!$D$22:$AP$22,0,0) -> S | B29: =_xlfn.XLOOKUP(E29,TCP!$C$3:$C$42,TCP!$B$3:$B$42,0,0) -> TCP - P 02 | C29: 24 | D29: MG129 | E29: 129EMG0320 | F29: SANTA BÁRBARA CENTRO (2) - ENTR MGC262(B) | G29: 77.68 | H29: 77.89 | I29: =IF(A29="N",0,H29-G29) -> 0.21 | J29: =IF(A29="N",0,'[3]RESUMO POR TRECHO'!I28) -> 153492 | K29: =IF(A29="N",0,'[4]RESUMO POR TRECHO'!I28) -> 1079735 | L29: =IF(A29="N",0,'[5]RESUMO POR TRECHO'!K29) -> 134095 | M29: =IF(A29="N",0,'[6]RESUMO POR TRECHO'!M29) -> 1821644 | N29: 0 | O29: =IF(A29="N",0,'[7]RESUMO POR TRECHO'!J28) -> 0 | P29: =IF(A29="N",0,'[8]RESUMO POR TRECHO'!J28) -> 0 | Q29: =IF(A29="N",0,'[9]RESUMO POR TRECHO'!J28) -> 0 | R29: =IF(A29="N",0,'[10]RESUMO POR TRECHO'!J28) -> 0 | S29: =IF(A29="N",0,'[11]RESUMO POR TRECHO'!J28) -> 0 | T29: =IF(A29="N",0,'[12]RESUMO POR TRECHO'!J28) -> 0 | V29: =IF(A29="N",0,'[13]RESUMO POR TRECHO'!L28) -> 0 | W29: =IF(A29="N",0,'[14]RESUMO POR TRECHO'!J28) -> 0 | X29: =IF(A29="N",0,'[15]RESUMO POR TRECHO'!J28) -> 0 | Y29: =IF(A29="N",0,[16]Res_Passarelas!F27) -> 0 | Z29: =IF(A29="N",0,'[9]Safety Box por SRE'!F26) -> 0 | AA29: =SUM(J29:Z29) -> 3188966
A30: =_xlfn.XLOOKUP(C30,CENARIOS!$D$2:$AP$2,CENARIOS!$D$22:$AP$22,0,0) -> S | B30: =_xlfn.XLOOKUP(E30,TCP!$C$3:$C$42,TCP!$B$3:$B$42,0,0) -> TCP - P 02 | C30: 25 | D30: MG129 | E30: 129EMG0340 | F30: ENTR MGC262(B) - CATAS ALTAS | G30: 77.89 | H30: 90.31 | I30: =IF(A30="N",0,H30-G30) -> 12.42 | J30: =IF(A30="N",0,'[3]RESUMO POR TRECHO'!I29) -> 2576905 | K30: =IF(A30="N",0,'[4]RESUMO POR TRECHO'!I29) -> 14260545 | L30: =IF(A30="N",0,'[5]RESUMO POR TRECHO'!K30) -> 10774554 | M30: =IF(A30="N",0,'[6]RESUMO POR TRECHO'!M30) -> 43283089 | N30: 56386800 | O30: =IF(A30="N",0,'[7]RESUMO POR TRECHO'!J29) -> 444573 | P30: =IF(A30="N",0,'[8]RESUMO POR TRECHO'!J29*0) -> 0 | Q30: =IF(A30="N",0,'[9]RESUMO POR TRECHO'!J29) -> 0 | R30: =IF(A30="N",0,'[10]RESUMO POR TRECHO'!J29) -> 1412805 | S30: =IF(A30="N",0,'[11]RESUMO POR TRECHO'!J29) -> 0 | T30: =IF(A30="N",0,'[12]RESUMO POR TRECHO'!J29) -> 13069863 | V30: =IF(A30="N",0,'[13]RESUMO POR TRECHO'!L29) -> 19327063 | W30: =IF(A30="N",0,'[14]RESUMO POR TRECHO'!J29) -> 0 | X30: =IF(A30="N",0,'[15]RESUMO POR TRECHO'!J29) -> 6485198 | Y30: =IF(A30="N",0,[16]Res_Passarelas!F28) -> 2090000 | Z30: =IF(A30="N",0,'[9]Safety Box por SRE'!F27) -> 0 | AA30: =SUM(J30:Z30) -> 170111395 | AB30: =IF(A30="N","","FF02") -> FF02
A31: =_xlfn.XLOOKUP(C31,CENARIOS!$D$2:$AP$2,CENARIOS!$D$22:$AP$22,0,0) -> S | B31: =_xlfn.XLOOKUP(E31,TCP!$C$3:$C$42,TCP!$B$3:$B$42,0,0) -> TCP - P 02 | C31: 26 | D31: MG129 | E31: 129EMG0350 | F31: CATAS ALTAS - ENTR P/CLÁUDIO MANUEL | G31: 90.31 | H31: 93 | I31: =IF(A31="N",0,H31-G31) -> 2.69 | J31: =IF(A31="N",0,'[3]RESUMO POR TRECHO'!I30) -> 590321 | K31: =IF(A31="N",0,'[4]RESUMO POR TRECHO'!I30) -> 2478259 | L31: =IF(A31="N",0,'[5]RESUMO POR TRECHO'!K31) -> 2749360 | M31: =IF(A31="N",0,'[6]RESUMO POR TRECHO'!M31) -> 10803719 | N31: 0 | O31: =IF(A31="N",0,'[7]RESUMO POR TRECHO'!J30) -> 222287 | P31: =IF(A31="N",0,'[8]RESUMO POR TRECHO'!J30*0) -> 0 | Q31: =IF(A31="N",0,'[9]RESUMO POR TRECHO'!J30) -> 0 | R31: =IF(A31="N",0,'[10]RESUMO POR TRECHO'!J30) -> 353461 | S31: =IF(A31="N",0,'[11]RESUMO POR TRECHO'!J30) -> 0 | T31: =IF(A31="N",0,'[12]RESUMO POR TRECHO'!J30) -> 4356029 | V31: =IF(A31="N",0,'[13]RESUMO POR TRECHO'!L30) -> 7375570 | W31: =IF(A31="N",0,'[14]RESUMO POR TRECHO'!J30) -> 0 | X31: =IF(A31="N",0,'[15]RESUMO POR TRECHO'!J30) -> 0 | Y31: =IF(A31="N",0,[16]Res_Passarelas!F29) -> 2090000 | Z31: =IF(A31="N",0,'[9]Safety Box por SRE'!F28) -> 0 | AA31: =SUM(J31:Z31) -> 31019006
A32: =_xlfn.XLOOKUP(C32,CENARIOS!$D$2:$AP$2,CENARIOS!$D$22:$AP$22,0,0) -> S | B32: =_xlfn.XLOOKUP(E32,TCP!$C$3:$C$42,TCP!$B$3:$B$42,0,0) -> TCP - P 01 | C32: 27 | D32: MG129 | E32: 129EMG0360 | F32: ENTR P/CLÁUDIO MANUEL - RIO PIRACICABA | G32: 93 | H32: 101.93 | I32: =IF(A32="N",0,H32-G32) -> 8.93 | J32: =IF(A32="N",0,'[3]RESUMO POR TRECHO'!I31) -> 1734297 | K32: =IF(A32="N",0,'[4]RESUMO POR TRECHO'!I31) -> 16316609 | L32: =IF(A32="N",0,'[5]RESUMO POR TRECHO'!K32) -> 9072570 | M32: =IF(A32="N",0,'[6]RESUMO POR TRECHO'!M32) -> 33514648 | N32: 0 | O32: =IF(A32="N",0,'[7]RESUMO POR TRECHO'!J31) -> 0 | P32: =IF(A32="N",0,'[8]RESUMO POR TRECHO'!J31*0) -> 0 | Q32: =IF(A32="N",0,'[9]RESUMO POR TRECHO'!J31) -> 0 | R32: =IF(A32="N",0,'[10]RESUMO POR TRECHO'!J31) -> 706402 | S32: =IF(A32="N",0,'[11]RESUMO POR TRECHO'!J31) -> 0 | T32: =IF(A32="N",0,'[12]RESUMO POR TRECHO'!J31) -> 25823570 | V32: =IF(A32="N",0,'[13]RESUMO POR TRECHO'!L31) -> 23006493 | W32: =IF(A32="N",0,'[14]RESUMO POR TRECHO'!J31) -> 0 | X32: =IF(A32="N",0,'[15]RESUMO POR TRECHO'!J31) -> 6568820 | Y32: =IF(A32="N",0,[16]Res_Passarelas!F30) -> 2280000 | Z32: =IF(A32="N",0,'[9]Safety Box por SRE'!F29) -> 0 | AA32: =SUM(J32:Z32) -> 119023409
A33: =_xlfn.XLOOKUP(C33,CENARIOS!$D$2:$AP$2,CENARIOS!$D$22:$AP$22,0,0) -> S | B33: =_xlfn.XLOOKUP(E33,TCP!$C$3:$C$42,TCP!$B$3:$B$42,0,0) -> TCP - P 01 | C33: 28 | D33: MG129 | E33: 129EMG0380 | F33: RIO PIRACICABA - MINERAÇÃO SAMARCO (DIV 12/17 CRG) | G33: 101.93 | H33: 113.04 | I33: =IF(A33="N",0,H33-G33) -> 11.11 | J33: =IF(A33="N",0,'[3]RESUMO POR TRECHO'!I32) -> 1952093 | K33: =IF(A33="N",0,'[4]RESUMO POR TRECHO'!I32) -> 16108865 | L33: =IF(A33="N",0,'[5]RESUMO POR TRECHO'!K33) -> 9900717 | M33: =IF(A33="N",0,'[6]RESUMO POR TRECHO'!M33) -> 36060338 | N33: 0 | O33: =IF(A33="N",0,'[7]RESUMO POR TRECHO'!J32) -> 0 | P33: =IF(A33="N",0,'[8]RESUMO POR TRECHO'!J32*0) -> 0 | Q33: =IF(A33="N",0,'[9]RESUMO POR TRECHO'!J32) -> 0 | R33: =IF(A33="N",0,'[10]RESUMO POR TRECHO'!J32) -> 1059864 | S33: =IF(A33="N",0,'[11]RESUMO POR TRECHO'!J32) -> 0 | T33: =IF(A33="N",0,'[12]RESUMO POR TRECHO'!J32) -> 8779537 | V33: =IF(A33="N",0,'[13]RESUMO POR TRECHO'!L32) -> 12258841 | W33: =IF(A33="N",0,'[14]RESUMO POR TRECHO'!J32) -> 0 | X33: =IF(A33="N",0,'[15]RESUMO POR TRECHO'!J32) -> 4694367 | Y33: =IF(A33="N",0,[16]Res_Passarelas!F31) -> 0 | Z33: =IF(A33="N",0,'[9]Safety Box por SRE'!F30) -> 0 | AA33: =SUM(J33:Z33) -> 90814622
A34: =_xlfn.XLOOKUP(C34,CENARIOS!$D$2:$AP$2,CENARIOS!$D$22:$AP$22,0,0) -> S | B34: =_xlfn.XLOOKUP(E34,TCP!$C$3:$C$42,TCP!$B$3:$B$42,0,0) -> TCP - P 01 | C34: 29 | D34: MG129 | E34: 129EMG0400 | F34: MINERAÇÃO SAMARCO (DIV 12/17 CRG) - ANTÔNIO PEREIRA | G34: 113.04 | H34: 125.95 | I34: =IF(A34="N",0,H34-G34) -> 12.91 | J34: =IF(A34="N",0,'[3]RESUMO POR TRECHO'!I33) -> 1933358 | K34: =IF(A34="N",0,'[4]RESUMO POR TRECHO'!I33) -> 22135314 | L34: =IF(A34="N",0,'[5]RESUMO POR TRECHO'!K34) -> 11515110 | M34: =IF(A34="N",0,'[6]RESUMO POR TRECHO'!M34) -> 73854764 | N34: 0 | O34: =IF(A34="N",0,'[7]RESUMO POR TRECHO'!J33) -> 0 | P34: =IF(A34="N",0,'[8]RESUMO POR TRECHO'!J33*0) -> 0 | Q34: =IF(A34="N",0,'[9]RESUMO POR TRECHO'!J33) -> 0 | R34: =IF(A34="N",0,'[10]RESUMO POR TRECHO'!J33) -> 1766266 | S34: =IF(A34="N",0,'[11]RESUMO POR TRECHO'!J33) -> 0 | T34: =IF(A34="N",0,'[12]RESUMO POR TRECHO'!J33) -> 18783455 | V34: =IF(A34="N",0,'[13]RESUMO POR TRECHO'!L33) -> 13121977 | W34: =IF(A34="N",0,'[14]RESUMO POR TRECHO'!J33) -> 0 | X34: =IF(A34="N",0,'[15]RESUMO POR TRECHO'!J33) -> 6503321 | Y34: =IF(A34="N",0,[16]Res_Passarelas!F32) -> 2090000 | Z34: =IF(A34="N",0,'[9]Safety Box por SRE'!F31) -> 0 | AA34: =SUM(J34:Z34) -> 151703565 | AB34: =IF(A34="N","","FF01") -> FF01
A35: =_xlfn.XLOOKUP(C35,CENARIOS!$D$2:$AP$2,CENARIOS!$D$22:$AP$22,0,0) -> S | B35: =_xlfn.XLOOKUP(E35,TCP!$C$3:$C$42,TCP!$B$3:$B$42,0,0) -> TCP - P 01 | C35: 30 | D35: MG129 | E35: 129EMG0420 | F35: ANTÔNIO PEREIRA - MARIANA (INÍCIO TRECHO URBANO) | G35: 125.95 | H35: 135.41 | I35: =IF(A35="N",0,H35-G35) -> 9.46 | J35: =IF(A35="N",0,'[3]RESUMO POR TRECHO'!I34) -> 1711199 | K35: =IF(A35="N",0,'[4]RESUMO POR TRECHO'!I34) -> 12010834 | L35: =IF(A35="N",0,'[5]RESUMO POR TRECHO'!K35) -> 9458899 | M35: =IF(A35="N",0,'[6]RESUMO POR TRECHO'!M35) -> 35349284 | N35: 42948400 | O35: =IF(A35="N",0,'[7]RESUMO POR TRECHO'!J34) -> 1333720 | P35: =IF(A35="N",0,'[8]RESUMO POR TRECHO'!J34*0) -> 0 | Q35: =IF(A35="N",0,'[9]RESUMO POR TRECHO'!J34) -> 0 | R35: =IF(A35="N",0,'[10]RESUMO POR TRECHO'!J34) -> 2472669 | S35: =IF(A35="N",0,'[11]RESUMO POR TRECHO'!J34) -> 0 | T35: =IF(A35="N",0,'[12]RESUMO POR TRECHO'!J34) -> 8752044 | V35: =IF(A35="N",0,'[13]RESUMO POR TRECHO'!L34) -> 26023900 | W35: =IF(A35="N",0,'[14]RESUMO POR TRECHO'!J34) -> 0 | X35: =IF(A35="N",0,'[15]RESUMO POR TRECHO'!J34) -> 0 | Y35: =IF(A35="N",0,[16]Res_Passarelas!F33) -> 8360000 | Z35: =IF(A35="N",0,'[9]Safety Box por SRE'!F32) -> 0 | AA35: =SUM(J35:Z35) -> 148420949
A36: =_xlfn.XLOOKUP(C36,CENARIOS!$D$2:$AP$2,CENARIOS!$D$22:$AP$22,0,0) -> S | B36: =_xlfn.XLOOKUP(E36,TCP!$C$3:$C$42,TCP!$B$3:$B$42,0,0) -> TCP - P 11 | C36: 32 | D36: CMG262 | E36: 262CMG0450-01 | F36: ENTR MG129 (B) (SANTA BÁRBARA) - SANTA BÁRBARA (FIM TRECHO URBANO) | G36: 226.5 | H36: 227.87 | I36: =IF(A36="N",0,H36-G36) -> 1.37 | J36: =IF(A36="N",0,'[3]RESUMO POR TRECHO'!I35) -> 421050 | K36: =IF(A36="N",0,'[4]RESUMO POR TRECHO'!I35) -> 8428794 | L36: =IF(A36="N",0,'[5]RESUMO POR TRECHO'!K36) -> 4137337 | M36: =IF(A36="N",0,'[6]RESUMO POR TRECHO'!M36) -> 50819126 | N36: 0 | O36: =IF(A36="N",0,'[7]RESUMO POR TRECHO'!J35) -> 889147 | P36: =IF(A36="N",0,'[8]RESUMO POR TRECHO'!J35) -> 30472803 | Q36: =IF(A36="N",0,'[9]RESUMO POR TRECHO'!J35) -> 0 | R36: =IF(A36="N",0,'[10]RESUMO POR TRECHO'!J35) -> 353461 | S36: =IF(A36="N",0,'[11]RESUMO POR TRECHO'!J35) -> 0 | T36: =IF(A36="N",0,'[12]RESUMO POR TRECHO'!J35) -> 1483652 | V36: =IF(A36="N",0,'[13]RESUMO POR TRECHO'!L35) -> 33874798 | W36: =IF(A36="N",0,'[14]RESUMO POR TRECHO'!J35) -> 0 | X36: =IF(A36="N",0,'[15]RESUMO POR TRECHO'!J35) -> 5988874 | Y36: =IF(A36="N",0,[16]Res_Passarelas!F34) -> 2090000 | Z36: =IF(A36="N",0,'[9]Safety Box por SRE'!F33) -> 0 | AA36: =SUM(J36:Z36) -> 138959042
A37: =_xlfn.XLOOKUP(C37,CENARIOS!$D$2:$AP$2,CENARIOS!$D$22:$AP$22,0,0) -> S | B37: =_xlfn.XLOOKUP(E37,TCP!$C$3:$C$42,TCP!$B$3:$B$42,0,0) -> TCP - P 11 | C37: 33 | D37: CMG262 | E37: 262CMG0450-02 | F37: SANTA BÁRBARA (FIM TRECHO URBANO) - ENTR AMG1225 (ACESSO CARAÇA) (TRECHO DESAFETADO) | G37: 227.87 | H37: 230.77 | I37: =IF(A37="N",0,H37-G37) -> 2.9 | J37: =IF(A37="N",0,'[3]RESUMO POR TRECHO'!I36) -> 1506362 | K37: =IF(A37="N",0,'[4]RESUMO POR TRECHO'!I36) -> 12966561 | L37: =IF(A37="N",0,'[5]RESUMO POR TRECHO'!K37) -> 1867803 | M37: =IF(A37="N",0,'[6]RESUMO POR TRECHO'!M37) -> 4213581 | N37: 0 | O37: =IF(A37="N",0,'[7]RESUMO POR TRECHO'!J36) -> 666860 | P37: =IF(A37="N",0,'[8]RESUMO POR TRECHO'!J36) -> 25394073 | Q37: =IF(A37="N",0,'[9]RESUMO POR TRECHO'!J36) -> 0 | R37: =IF(A37="N",0,'[10]RESUMO POR TRECHO'!J36) -> 353461 | S37: =IF(A37="N",0,'[11]RESUMO POR TRECHO'!J36) -> 0 | T37: =IF(A37="N",0,'[12]RESUMO POR TRECHO'!J36) -> 0 | V37: =IF(A37="N",0,'[13]RESUMO POR TRECHO'!L36) -> 4883271 | W37: =IF(A37="N",0,'[14]RESUMO POR TRECHO'!J36) -> 2657357 | X37: =IF(A37="N",0,'[15]RESUMO POR TRECHO'!J36) -> 2228605 | Y37: =IF(A37="N",0,[16]Res_Passarelas!F35) -> 0 | Z37: =IF(A37="N",0,'[9]Safety Box por SRE'!F34) -> 0 | AA37: =SUM(J37:Z37) -> 56737934 | AB37: =IF(A37="N","","FF11") -> FF11
A38: =_xlfn.XLOOKUP(C38,CENARIOS!$D$2:$AP$2,CENARIOS!$D$22:$AP$22,0,0) -> S | B38: =_xlfn.XLOOKUP(E38,TCP!$C$3:$C$42,TCP!$B$3:$B$42,0,0) -> TCP - P 11 | C38: 33.1 | D38: CMG262 | E38: 262CMG0450-03 | F38: ENTR AMG1225 (ACESSO CARAÇA) (TRECHO DESAFETADO) - SANTA BÁRBARA (FIM TRECHO DESAFETADO) | G38: 230.77 | H38: 233.93 | I38: =IF(A38="N",0,H38-G38) -> 3.16 | J38: =IF(A38="N",0,'[3]RESUMO POR TRECHO'!I37) -> 372591 | K38: =IF(A38="N",0,'[4]RESUMO POR TRECHO'!I37) -> 3847321 | L38: =IF(A38="N",0,'[5]RESUMO POR TRECHO'!K38) -> 2983130 | M38: =IF(A38="N",0,'[6]RESUMO POR TRECHO'!M38) -> 4591207 | N38: 0 | O38: =IF(A38="N",0,'[7]RESUMO POR TRECHO'!J37) -> 889147 | P38: =IF(A38="N",0,'[8]RESUMO POR TRECHO'!J37) -> 28618122 | Q38: =IF(A38="N",0,'[9]RESUMO POR TRECHO'!J37) -> 0 | R38: =IF(A38="N",0,'[10]RESUMO POR TRECHO'!J37) -> 353461 | S38: =IF(A38="N",0,'[11]RESUMO POR TRECHO'!J37) -> 0 | T38: =IF(A38="N",0,'[12]RESUMO POR TRECHO'!J37) -> 0 | V38: =IF(A38="N",0,'[13]RESUMO POR TRECHO'!L37) -> 2492298 | W38: =IF(A38="N",0,'[14]RESUMO POR TRECHO'!J37) -> 0 | X38: =IF(A38="N",0,'[15]RESUMO POR TRECHO'!J37) -> 2116038 | Y38: =IF(A38="N",0,[16]Res_Passarelas!F36) -> 4275000 | Z38: =IF(A38="N",0,'[9]Safety Box por SRE'!F35) -> 0 | AA38: =SUM(J38:Z38) -> 50538315
A39: =_xlfn.XLOOKUP(C39,CENARIOS!$D$2:$AP$2,CENARIOS!$D$22:$AP$22,0,0) -> S | B39: =_xlfn.XLOOKUP(E39,TCP!$C$3:$C$42,TCP!$B$3:$B$42,0,0) -> TCP - P 11 | C39: 33.2 | D39: CMG262 | E39: 262CMG0450-04 | F39: SANTA BÁRBARA (FIM TRECHO DESAFETADO) - BARÃO DE COCAIS (INÍCIO TRECHO DESAFETADO) | G39: 233.93 | H39: 234.68 | I39: =IF(A39="N",0,H39-G39) -> 0.75 | J39: =IF(A39="N",0,'[3]RESUMO POR TRECHO'!I38) -> 81608 | K39: =IF(A39="N",0,'[4]RESUMO POR TRECHO'!I38) -> 765082 | L39: =IF(A39="N",0,'[5]RESUMO POR TRECHO'!K39) -> 187827 | M39: =IF(A39="N",0,'[6]RESUMO POR TRECHO'!M39) -> 1089629 | N39: 0 | O39: =IF(A39="N",0,'[7]RESUMO POR TRECHO'!J38) -> 222287 | P39: =IF(A39="N",0,'[8]RESUMO POR TRECHO'!J38) -> 7692512 | Q39: =IF(A39="N",0,'[9]RESUMO POR TRECHO'!J38) -> 0 | R39: =IF(A39="N",0,'[10]RESUMO POR TRECHO'!J38) -> 0 | S39: =IF(A39="N",0,'[11]RESUMO POR TRECHO'!J38) -> 0 | T39: =IF(A39="N",0,'[12]RESUMO POR TRECHO'!J38) -> 0 | V39: =IF(A39="N",0,'[13]RESUMO POR TRECHO'!L38) -> 0 | W39: =IF(A39="N",0,'[14]RESUMO POR TRECHO'!J38) -> 0 | X39: =IF(A39="N",0,'[15]RESUMO POR TRECHO'!J38) -> 4234781 | Y39: =IF(A39="N",0,[16]Res_Passarelas!F37) -> 0 | Z39: =IF(A39="N",0,'[9]Safety Box por SRE'!F36) -> 0 | AA39: =SUM(J39:Z39) -> 14273726
A40: =_xlfn.XLOOKUP(C40,CENARIOS!$D$2:$AP$2,CENARIOS!$D$22:$AP$22,0,0) -> S | B40: =_xlfn.XLOOKUP(E40,TCP!$C$3:$C$42,TCP!$B$3:$B$42,0,0) -> TCP - P 11 | C40: 33.3 | D40: CMG262 | E40: 262CMG0450-05 | F40: BARÃO DE COCAIS (INÍCIO TRECHO DESAFETADO) - ENTR MG436 (BARÃO DE COCAIS) | G40: 234.68 | H40: 236.21 | I40: =IF(A40="N",0,H40-G40) -> 1.53 | J40: =IF(A40="N",0,'[3]RESUMO POR TRECHO'!I39) -> 136379 | K40: =IF(A40="N",0,'[4]RESUMO POR TRECHO'!I39) -> 1300930 | L40: =IF(A40="N",0,'[5]RESUMO POR TRECHO'!K40) -> 222362 | M40: =IF(A40="N",0,'[6]RESUMO POR TRECHO'!M40) -> 2222919 | N40: 0 | O40: =IF(A40="N",0,'[7]RESUMO POR TRECHO'!J39) -> 444573 | P40: =IF(A40="N",0,'[8]RESUMO POR TRECHO'!J39) -> 13656744 | Q40: =IF(A40="N",0,'[9]RESUMO POR TRECHO'!J39) -> 0 | R40: =IF(A40="N",0,'[10]RESUMO POR TRECHO'!J39) -> 353461 | S40: =IF(A40="N",0,'[11]RESUMO POR TRECHO'!J39) -> 0 | T40: =IF(A40="N",0,'[12]RESUMO POR TRECHO'!J39) -> 0 | V40: =IF(A40="N",0,'[13]RESUMO POR TRECHO'!L39) -> 14559366 | W40: =IF(A40="N",0,'[14]RESUMO POR TRECHO'!J39) -> 0 | X40: =IF(A40="N",0,'[15]RESUMO POR TRECHO'!J39) -> 4322180 | Y40: =IF(A40="N",0,[16]Res_Passarelas!F38) -> 2185000 | Z40: =IF(A40="N",0,'[9]Safety Box por SRE'!F37) -> 0 | AA40: =SUM(J40:Z40) -> 39403914
...

Sheet TCP
B1: RESUMO POR TCP
B2: Pórtico | C2: SRE | D2: KM | E2: KM P/TCP | F2: VALOR | G2: VALOR P/TCP
B3: TCP - P 01 | C3: 129EMG0360 | D3: =VLOOKUP(C3,INVESTIMENTOS!$E$5:$I$44,5,0) -> 8.93 | E3: =SUM(D3:D6) -> 42.41 | F3: =VLOOKUP(C3,INVESTIMENTOS!E:AA,23,0) -> 119023409 | G3: =SUM(F3:F6) -> 509962545
B4: TCP - P 01 | C4: 129EMG0380 | D4: =VLOOKUP(C4,INVESTIMENTOS!$E$5:$I$44,5,0) -> 11.11 | F4: =VLOOKUP(C4,INVESTIMENTOS!E:AA,23,0) -> 90814622
B5: TCP - P 01 | C5: 129EMG0400 | D5: =VLOOKUP(C5,INVESTIMENTOS!$E$5:$I$44,5,0) -> 12.91 | F5: =VLOOKUP(C5,INVESTIMENTOS!E:AA,23,0) -> 151703565
B6: TCP - P 01 | C6: 129EMG0420 | D6: =VLOOKUP(C6,INVESTIMENTOS!$E$5:$I$44,5,0) -> 9.46 | F6: =VLOOKUP(C6,INVESTIMENTOS!E:AA,23,0) -> 148420949
B7: TCP - P 02 | C7: 129EMG0300-02 | D7: =VLOOKUP(C7,INVESTIMENTOS!$E$5:$I$44,5,0) -> 4.36 | E7: =SUM(D7:D11) -> 22.4 | F7: =VLOOKUP(C7,INVESTIMENTOS!E:AA,23,0) -> 15272165 | G7: =SUM(F7:F11) -> 224275571
B8: TCP - P 02 | C8: 129EMG0300-03 | D8: =VLOOKUP(C8,INVESTIMENTOS!$E$5:$I$44,5,0) -> 2.72 | F8: =VLOOKUP(C8,INVESTIMENTOS!E:AA,23,0) -> 4684039
B9: TCP - P 02 | C9: 129EMG0320 | D9: =VLOOKUP(C9,INVESTIMENTOS!$E$5:$I$44,5,0) -> 0.21 | F9: =VLOOKUP(C9,INVESTIMENTOS!E:AA,23,0) -> 3188966
B10: TCP - P 02 | C10: 129EMG0340 | D10: =VLOOKUP(C10,INVESTIMENTOS!$E$5:$I$44,5,0) -> 12.42 | F10: =VLOOKUP(C10,INVESTIMENTOS!E:AA,23,0) -> 170111395
B11: TCP - P 02 | C11: 129EMG0350 | D11: =VLOOKUP(C11,INVESTIMENTOS!$E$5:$I$44,5,0) -> 2.69 | F11: =VLOOKUP(C11,INVESTIMENTOS!E:AA,23,0) -> 31019006
B12: TCP - P 03 | C12: 436EMG0200-01 | D12: =VLOOKUP(C12,INVESTIMENTOS!$E$5:$I$44,5,0) -> 16.26 | E12: =D12 -> 16.26 | F12: =VLOOKUP(C12,INVESTIMENTOS!E:AA,23,0) -> 185086857 | G12: =F12 -> 185086857
B13: TCP - P 04 | C13: 129EMG0050-02 | D13: =VLOOKUP(C13,INVESTIMENTOS!$E$5:$I$44,5,0) -> 3.93 | E13: =SUM(D13:D18) -> 19.37 | F13: =VLOOKUP(C13,INVESTIMENTOS!E:AA,23,0) -> 25664603 | G13: =SUM(F13:F18) -> 326322570
B14: TCP - P 04 | C14: 129EMG0050-03 | D14: =VLOOKUP(C14,INVESTIMENTOS!$E$5:$I$44,5,0) -> 3.84 | F14: =VLOOKUP(C14,INVESTIMENTOS!E:AA,23,0) -> 77562426
B15: TCP - P 04 | C15: 129EMG0205-01 | D15: =VLOOKUP(C15,INVESTIMENTOS!$E$5:$I$44,5,0) -> 1.62 | F15: =VLOOKUP(C15,INVESTIMENTOS!E:AA,23,0) -> 11930804
B16: TCP - P 04 | C16: 129EMG0205-02 | D16: =VLOOKUP(C16,INVESTIMENTOS!$E$5:$I$44,5,0) -> 4.9 | F16: =VLOOKUP(C16,INVESTIMENTOS!E:AA,23,0) -> 50105828
B17: TCP - P 04 | C17: 129EMG0220-01 | D17: =VLOOKUP(C17,INVESTIMENTOS!$E$5:$I$44,5,0) -> 3.44 | F17: =VLOOKUP(C17,INVESTIMENTOS!E:AA,23,0) -> 104144055
B18: TCP - P 04 | C18: 129EMG0220-02 | D18: =VLOOKUP(C18,INVESTIMENTOS!$E$5:$I$44,5,0) -> 1.64 | F18: =VLOOKUP(C18,INVESTIMENTOS!E:AA,23,0) -> 56914854
B19: TCP - P 06 | C19: NOVO SRE | E19: =SUM(D19:D22) -> 0 | F19: =VLOOKUP(C19,INVESTIMENTOS!E:AA,23,0) -> 0 | G19: =SUM(F19:F22) -> 0
B20: TCP - P 06 | C20: 120CMG0185-01 | D20: =VLOOKUP(C20,INVESTIMENTOS!$E$5:$I$44,5,0) -> 0 | F20: =VLOOKUP(C20,INVESTIMENTOS!E:AA,23,0) -> 0
B21: TCP - P 06 | C21: 120CMG0185-02 | D21: =VLOOKUP(C21,INVESTIMENTOS!$E$5:$I$44,5,0) -> 0 | F21: =VLOOKUP(C21,INVESTIMENTOS!E:AA,23,0) -> 0
B22: TCP - P 06 | C22: 120CMG0185-03 | D22: =VLOOKUP(C22,INVESTIMENTOS!$E$5:$I$44,5,0) -> 0 | F22: =VLOOKUP(C22,INVESTIMENTOS!E:AA,23,0) -> 0
B23: TCP - P 07 | C23: 120CMG0175-01 | D23: =VLOOKUP(C23,INVESTIMENTOS!$E$5:$I$44,5,0) -> 0 | E23: =SUM(D23:D27) -> 0 | F23: =VLOOKUP(C23,INVESTIMENTOS!E:AA,23,0) -> 0 | G23: =SUM(F23:F27) -> 0
B24: TCP - P 07 | C24: 120CMG0175-02 | D24: =VLOOKUP(C24,INVESTIMENTOS!$E$5:$I$44,5,0) -> 0 | F24: =VLOOKUP(C24,INVESTIMENTOS!E:AA,23,0) -> 0
B25: TCP - P 07 | C25: 120CMG0175-03 | D25: =VLOOKUP(C25,INVESTIMENTOS!$E$5:$I$44,5,0) -> 0 | F25: =VLOOKUP(C25,INVESTIMENTOS!E:AA,23,0) -> 0
B26: TCP - P 07 | C26: 120CMG0177-01 | D26: =VLOOKUP(C26,INVESTIMENTOS!$E$5:$I$44,5,0) -> 0 | F26: =VLOOKUP(C26,INVESTIMENTOS!E:AA,23,0) -> 0
B27: TCP - P 07 | C27: 129EMG0050-01 | D27: =VLOOKUP(C27,INVESTIMENTOS!$E$5:$I$44,5,0) -> 0 | F27: =VLOOKUP(C27,INVESTIMENTOS!E:AA,23,0) -> 0
B28: TCP - P 08 | C28: 120CMG0190-01 | D28: =VLOOKUP(C28,INVESTIMENTOS!$E$5:$I$44,5,0) -> 0 | E28: =SUM(D28:D30) -> 0 | F28: =VLOOKUP(C28,INVESTIMENTOS!E:AA,23,0) -> 0 | G28: =SUM(F28:F30) -> 0
B29: TCP - P 08 | C29: 120CMG0190-02 | D29: =VLOOKUP(C29,INVESTIMENTOS!$E$5:$I$44,5,0) -> 0 | F29: =VLOOKUP(C29,INVESTIMENTOS!E:AA,23,0) -> 0
B30: TCP - P 08 | C30: 120CMG0190-03 | D30: =VLOOKUP(C30,INVESTIMENTOS!$E$5:$I$44,5,0) -> 0 | F30: =VLOOKUP(C30,INVESTIMENTOS!E:AA,23,0) -> 0
B31: TCP - P 11 | C31: 262CMG0450-01 | D31: =VLOOKUP(C31,INVESTIMENTOS!$E$5:$I$44,5,0) -> 1.37 | E31: =SUM(D31:D36) -> 12.62 | F31: =VLOOKUP(C31,INVESTIMENTOS!E:AA,23,0) -> 138959042 | G31: =SUM(F31:F36) -> 355350423
B32: TCP - P 11 | C32: 262CMG0450-02 | D32: =VLOOKUP(C32,INVESTIMENTOS!$E$5:$I$44,5,0) -> 2.9 | F32: =VLOOKUP(C32,INVESTIMENTOS!E:AA,23,0) -> 56737934
B33: TCP - P 11 | C33: 262CMG0450-03 | D33: =VLOOKUP(C33,INVESTIMENTOS!$E$5:$I$44,5,0) -> 3.16 | F33: =VLOOKUP(C33,INVESTIMENTOS!E:AA,23,0) -> 50538315
B34: TCP - P 11 | C34: 262CMG0450-04 | D34: =VLOOKUP(C34,INVESTIMENTOS!$E$5:$I$44,5,0) -> 0.75 | F34: =VLOOKUP(C34,INVESTIMENTOS!E:AA,23,0) -> 14273726
B35: TCP - P 11 | C35: 262CMG0450-05 | D35: =VLOOKUP(C35,INVESTIMENTOS!$E$5:$I$44,5,0) -> 1.53 | F35: =VLOOKUP(C35,INVESTIMENTOS!E:AA,23,0) -> 39403914
B36: TCP - P 11 | C36: 436EMG0200-02 | D36: =VLOOKUP(C36,INVESTIMENTOS!$E$5:$I$44,5,0) -> 2.91 | F36: =VLOOKUP(C36,INVESTIMENTOS!E:AA,23,0) -> 55437492
B37: TCP - P 12 | C37: 434EMG0200-01 | D37: =VLOOKUP(C37,INVESTIMENTOS!$E$5:$I$44,5,0) -> 0.25 | E37: =SUM(D37:D38) -> 19.17 | F37: =VLOOKUP(C37,INVESTIMENTOS!E:AA,23,0) -> 5527290 | G37: =SUM(F37:F38) -> 193083512
B38: TCP - P 12 | C38: 434EMG0200-02 | D38: =VLOOKUP(C38,INVESTIMENTOS!$E$5:$I$44,5,0) -> 18.92 | F38: =VLOOKUP(C38,INVESTIMENTOS!E:AA,23,0) -> 187556222
B39: TCP - P 13 | C39: 129EMG0240-01 | D39: =VLOOKUP(C39,INVESTIMENTOS!$E$5:$I$44,5,0) -> 0.59 | E39: =SUM(D39:D41) -> 14.32 | F39: =VLOOKUP(C39,INVESTIMENTOS!E:AA,23,0) -> 9521627 | G39: =SUM(F39:F41) -> 55654973
B40: TCP - P 13 | C40: 129EMG0280-02 | D40: =VLOOKUP(C40,INVESTIMENTOS!$E$5:$I$44,5,0) -> 6.41 | F40: =VLOOKUP(C40,INVESTIMENTOS!E:AA,23,0) -> 21546729
...

Sheet CENARIOS
D1: =COLUMN() -> 4 | E1: =COLUMN() -> 5 | F1: =COLUMN() -> 6 | G1: =COLUMN() -> 7 | H1: =COLUMN() -> 8 | I1: =COLUMN() -> 9 | J1: =COLUMN() -> 10 | K1: =COLUMN() -> 11 | ... AP1: =COLUMN() -> 42
D2: 1 | E2: 2 | F2: 3 | G2: 4 | H2: 5 | I2: 6 | J2: 7 | K2: 8 | L2: 9 | M2: 10 | N2: 11 | O2: 12 | P2: 13 | Q2: 14 | R2: 15 | S2: 16 | T2: 17 | U2: 18 | V2: 19 | W2: 20 | X2: 21 | Y2: 22 | Z2: 23 | AA2: 24 | AB2: 25 | AC2: 26 | AD2: 27 | AE2: 28 | AF2: 29 | AG2: 30 | AH2: 32 | AI2: 33 | AJ2: 33.1 | AK2: 33.2 | AL2: 33.3 | AM2: 38 | AN2: 38.1 | AO2: 40 | AP2: 41
D3: 120CMG0175-01 | E3: 120CMG0175-02 | F3: 120CMG0175-03 | G3: 120CMG0177-01 | H3: 120CMG0185-01 | I3: 120CMG0185-02 | J3: 120CMG0185-03 | K3: 120CMG0190-01 | L3: 120CMG0190-02 | M3: 120CMG0190-03 | N3: 129EMG0050-01 | O3: 129EMG0050-02 | P3: 129EMG0050-03 | Q3: 129EMG0205-01 | R3: 129EMG0205-02 | S3: 129EMG0220-01 | T3: 129EMG0220-02 | U3: 129EMG0240-01 | V3: 129EMG0240-02 | W3: 129EMG0280-02 | X3: 129EMG0300-01 | Y3: 129EMG0300-02 | Z3: 129EMG0300-03 | AA3: 129EMG0320 | AB3: 129EMG0340 | AC3: 129EMG0350 | AD3: 129EMG0360 | AE3: 129EMG0380 | AF3: 129EMG0400 | AG3: 129EMG0420 | AH3: 262CMG0450-01 | AI3: 262CMG0450-02 | AJ3: 262CMG0450-03 | AK3: 262CMG0450-04 | AL3: 262CMG0450-05 | AM3: 434EMG0200-01 | AN3: 434EMG0200-02 | AO3: 436EMG0200-01 | AP3: 436EMG0200-02
C4: KM | D4: =_xlfn.XLOOKUP(D$3,INVESTIMENTOS!$E$5:$E$44,INVESTIMENTOS!$I$5:$I$44,0,0) -> 0 | E4: =_xlfn.XLOOKUP(E$3,INVESTIMENTOS!$E$5:$E$44,INVESTIMENTOS!$I$5:$I$44,0,0) -> 0 | F4: =_xlfn.XLOOKUP(F$3,INVESTIMENTOS!$E$5:$E$44,INVESTIMENTOS!$I$5:$I$44,0,0) -> 0 | G4: =_xlfn.XLOOKUP(G$3,INVESTIMENTOS!$E$5:$E$44,INVESTIMENTOS!$I$5:$I$44,0,0) -> 0 | H4: =_xlfn.XLOOKUP(H$3,INVESTIMENTOS!$E$5:$E$44,INVESTIMENTOS!$I$5:$I$44,0,0) -> 0 | I4: =_xlfn.XLOOKUP(I$3,INVESTIMENTOS!$E$5:$E$44,INVESTIMENTOS!$I$5:$I$44,0,0) -> 0 | J4: =_xlfn.XLOOKUP(J$3,INVESTIMENTOS!$E$5:$E$44,INVESTIMENTOS!$I$5:$I$44,0,0) -> 0 | K4: =_xlfn.XLOOKUP(K$3,INVESTIMENTOS!$E$5:$E$44,INVESTIMENTOS!$I$5:$I$44,0,0) -> 0 | ... AP4: =_xlfn.XLOOKUP(AP$3,INVESTIMENTOS!$E$5:$E$44,INVESTIMENTOS!$I$5:$I$44,0,0) -> 2.91
B5: TCP | D5: =_xlfn.XLOOKUP(D$3,INVESTIMENTOS!$E$5:$E$44,INVESTIMENTOS!$B$5:$B$44,0,0) -> TCP - P 07 | E5: =_xlfn.XLOOKUP(E3,INVESTIMENTOS!$E$5:$E$44,INVESTIMENTOS!$B$5:$B$44,0,0) -> TCP - P 07 | F5: =_xlfn.XLOOKUP(F3,INVESTIMENTOS!$E$5:$E$44,INVESTIMENTOS!$B$5:$B$44,0,0) -> TCP - P 07 | G5: =_xlfn.XLOOKUP(G3,INVESTIMENTOS!$E$5:$E$44,INVESTIMENTOS!$B$5:$B$44,0,0) -> TCP - P 07 | H5: =_xlfn.XLOOKUP(H3,INVESTIMENTOS!$E$5:$E$44,INVESTIMENTOS!$B$5:$B$44,0,0) -> TCP - P 06 | I5: =_xlfn.XLOOKUP(I3,INVESTIMENTOS!$E$5:$E$44,INVESTIMENTOS!$B$5:$B$44,0,0) -> TCP - P 06 | J5: =_xlfn.XLOOKUP(J3,INVESTIMENTOS!$E$5:$E$44,INVESTIMENTOS!$B$5:$B$44,0,0) -> TCP - P 06 | K5: =_xlfn.XLOOKUP(K3,INVESTIMENTOS!$E$5:$E$44,INVESTIMENTOS!$B$5:$B$44,0,0) -> TCP - P 08 | L5: =_xlfn.XLOOKUP(L3,INVESTIMENTOS!$E$5:$E$44,INVESTIMENTOS!$B$5:$B$44,0,0) -> TCP - P 08 | ... AP5: =_xlfn.XLOOKUP(AP3,INVESTIMENTOS!$E$5:$E$44,INVESTIMENTOS!$B$5:$B$44,0,0) -> TCP - P 11
B6: FF | D6: =_xlfn.XLOOKUP(D3,INVESTIMENTOS!$E$5:$E$44,PORTICO_ATIVO,0,0) -> 0 | E6: =_xlfn.XLOOKUP(E3,INVESTIMENTOS!$E$5:$E$44,PORTICO_ATIVO,0,0) -> 0 | F6: =_xlfn.XLOOKUP(F3,INVESTIMENTOS!$E$5:$E$44,PORTICO_ATIVO,0,0) -> FF07 | G6: =_xlfn.XLOOKUP(G3,INVESTIMENTOS!$E$5:$E$44,PORTICO_ATIVO,0,0) -> 0 | H6: =_xlfn.XLOOKUP(H3,INVESTIMENTOS!$E$5:$E$44,PORTICO_ATIVO,0,0) -> 0 | I6: =_xlfn.XLOOKUP(I3,INVESTIMENTOS!$E$5:$E$44,PORTICO_ATIVO,0,0) -> 0 | J6: =_xlfn.XLOOKUP(J3,INVESTIMENTOS!$E$5:$E$44,PORTICO_ATIVO,0,0) -> FF06 | K6: =_xlfn.XLOOKUP(K3,INVESTIMENTOS!$E$5:$E$44,PORTICO_ATIVO,0,0) -> 0 | ... AP6: =_xlfn.XLOOKUP(AP3,INVESTIMENTOS!$E$5:$E$44,PORTICO_ATIVO,0,0) -> 0
A7: 0 | B7: BASE | C7: 277 | D7: S | E7: S | F7: S | G7: S | H7: S | I7: S | J7: S | K7: S | L7: S | M7: S | N7: S | O7: S | P7: S | Q7: S | R7: S | S7: S | T7: S | U7: S | V7: S | W7: S | X7: S | Y7: S | Z7: S | AA7: S | AB7: S | AC7: S | AD7: S | AE7: S | AF7: S | AG7: S | AH7: S | AI7: S | AJ7: S | AK7: S | AL7: S | AM7: S | AN7: S | AO7: S | AP7: S
A8: 1 | B8: CENARIO1 | C8: 250 | D8: S | E8: S | F8: S | G8: S | H8: S | I8: S | J8: S | K8: N | L8: N | M8: N | N8: S | O8: S | P8: S | Q8: S | R8: S | S8: S | T8: S | U8: S | V8: S | W8: S | X8: S | Y8: S | Z8: S | AA8: S | AB8: S | AC8: S | AD8: S | AE8: S | AF8: S | AG8: S | AH8: S | AI8: S | AJ8: S | AK8: S | AL8: S | AM8: S | AN8: S | AO8: S | AP8: S
A9: 2 | B9: CENARIO2 | C9: 250 | D9: S | E9: S | F9: S | G9: S | H9: S | I9: S | J9: S | K9: N | L9: N | M9: N | N9: S | O9: S | P9: S | Q9: S | R9: S | S9: S | T9: S | U9: S | V9: S | W9: S | X9: S | Y9: S | Z9: S | AA9: S | AB9: S | AC9: S | AD9: S | AE9: S | AF9: S | AG9: S | AH9: S | AI9: S | AJ9: S | AK9: S | AL9: S | AM9: S | AN9: S | AO9: S | AP9: S
A10: 3 | B10: CENARIO3 | C10: 250 | D10: S | E10: S | F10: S | G10: S | H10: S | I10: S | J10: S | K10: N | L10: N | M10: N | N10: S | O10: S | P10: S | Q10: S | R10: S | S10: S | T10: S | U10: S | V10: S | W10: S | X10: S | Y10: S | Z10: S | AA10: S | AB10: S | AC10: S | AD10: S | AE10: S | AF10: S | AG10: S | AH10: S | AI10: S | AJ10: S | AK10: S | AL10: S | AM10: S | AN10: S | AO10: S | AP10: S
A11: 4 | B11: CENARIO4 | C11: 161 | D11: N | E11: N | F11: N | G11: N | H11: N | I11: N | J11: N | K11: N | L11: N | M11: N | N11: N | O11: S | P11: S | Q11: S | R11: S | S11: S | T11: S | U11: S | V11: S | W11: S | X11: S | Y11: S | Z11: S | AA11: S | AB11: S | AC11: S | AD11: S | AE11: S | AF11: S | AG11: S | AH11: S | AI11: S | AJ11: S | AK11: S | AL11: S | AM11: S | AN11: S | AO11: S | AP11: S
A12: 5 | B12: CENARIO5 | C12: 161 | D12: N | E12: N | F12: N | G12: N | H12: N | I12: N | J12: N | K12: N | L12: N | M12: N | N12: N | O12: S | P12: S | Q12: S | R12: S | S12: S | T12: S | U12: S | V12: S | W12: S | X12: S | Y12: S | Z12: S | AA12: S | AB12: S | AC12: S | AD12: S | AE12: S | AF12: S | AG12: S | AH12: S | AI12: S | AJ12: S | AK12: S | AL12: S | AM12: S | AN12: S | AO12: S | AP12: S
A14: PORTICOS
A15: 0 | B15: BASE | C15: 277 | D15: 7 | E15: 7 | F15: 7 | G15: 7 | H15: 6 | I15: 6 | J15: 6 | K15: 8 | L15: 8 | M15: 8 | N15: 7 | O15: 4 | P15: 4 | Q15: 4 | R15: 4 | S15: 4 | T15: 4 | U15: 13 | V15: 14 | W15: 13 | X15: 13 | Y15: 2 | Z15: 2 | AA15: 2 | AB15: 2 | AC15: 2 | AD15: 1 | AE15: 1 | AF15: 1 | AG15: 1 | AH15: 11 | AI15: 11 | AJ15: 11 | AK15: 11 | AL15: 11 | AM15: 12 | AN15: 12 | AO15: 3 | AP15: 11
A16: 1 | B16: CENARIO1 | C16: 250 | D16: 7 | E16: 7 | F16: 7 | G16: 7 | H16: 7 | I16: 7 | J16: 7 | K16: N | L16: N | M16: N | N16: 7 | O16: 4 | P16: 4 | Q16: 4 | R16: 4 | S16: 4 | T16: 4 | U16: 4 | V16: 4 | W16: 4 | X16: 4 | Y16: 2 | Z16: 2 | AA16: 2 | AB16: 2 | AC16: 2 | AD16: 2 | AE16: 2 | AF16: 2 | AG16: 2 | AH16: 11 | AI16: 11 | AJ16: 11 | AK16: 11 | AL16: 11 | AM16: 12 | AN16: 12 | AO16: 11 | AP16: 11
A17: 2 | B17: CENARIO2 | C17: 250 | D17: 7 | E17: 7 | F17: 7 | G17: 7 | H17: 4 | I17: 4 | J17: 4 | K17: N | L17: N | M17: N | N17: 4 | O17: 4 | P17: 4 | Q17: 4 | R17: 4 | S17: 4 | T17: 4 | U17: 4 | V17: 4 | W17: 4 | X17: 4 | Y17: 11 | Z17: 11 | AA17: 11 | AB17: 11 | AC17: 11 | AD17: 1 | AE17: 1 | AF17: 1 | AG17: 1 | AH17: 11 | AI17: 11 | AJ17: 11 | AK17: 11 | AL17: 11 | AM17: 12 | AN17: 12 | AO17: 3 | AP17: 11
A18: 3 | B18: CENARIO3 | C18: 250 | D18: 7 | E18: 7 | F18: 7 | G18: 7 | H18: 7 | I18: 7 | J18: 7 | K18: N | L18: N | M18: N | N18: 7 | O18: 4 | P18: 4 | Q18: 4 | R18: 4 | S18: 4 | T18: 4 | U18: 13 | V18: 13 | W18: 13 | X18: 13 | Y18: 11 | Z18: 11 | AA18: 11 | AB18: 11 | AC18: 11 | AD18: 1 | AE18: 1 | AF18: 1 | AG18: 1 | AH18: 11 | AI18: 11 | AJ18: 11 | AK18: 11 | AL18: 11 | AM18: 4 | AN18: 4 | AO18: 11 | AP18: 11
A19: 4 | B19: CENARIO4 | C19: 161 | D19: N | E19: N | F19: N | G19: N | H19: N | I19: N | J19: N | K19: N | L19: N | M19: N | N19: N | O19: 4 | P19: 4 | Q19: 4 | R19: 4 | S19: 4 | T19: 4 | U19: 13 | V19: 13 | W19: 13 | X19: 13 | Y19: 11 | Z19: 11 | AA19: 11 | AB19: 11 | AC19: 11 | AD19: 1 | AE19: 1 | AF19: 1 | AG19: 1 | AH19: 11 | AI19: 11 | AJ19: 11 | AK19: 11 | AL19: 11 | AM19: 4 | AN19: 4 | AO19: 11 | AP19: 11
A20: 5 | B20: CENARIO5 | C20: 161 | D20: N | E20: N | F20: N | G20: N | H20: N | I20: N | J20: N | K20: N | L20: N | M20: N | N20: N | O20: 4 | P20: 4 | Q20: 4 | R20: 4 | S20: 4 | T20: 4 | U20: 11 | V20: 4 | W20: 11 | X20: 11 | Y20: 11 | Z20: 11 | AA20: 11 | AB20: 11 | AC20: 11 | AD20: 1 | AE20: 1 | AF20: 1 | AG20: 1 | AH20: 11 | AI20: 11 | AJ20: 11 | AK20: 11 | AL20: 11 | AM20: 4 | AN20: 4 | AO20: 11 | AP20: 11
A22: =INVESTIMENTOS!A1 -> 0 | C22: CENARIO ATIVO => | D22: {=INDEX($A$7:$AP$12,CENARIO+1,D1)} -> S | E22: {=INDEX($A$7:$AP$12,CENARIO+1,E1)} -> S | F22: {=INDEX($A$7:$AP$12,CENARIO+1,F1)} -> S | G22: {=INDEX($A$7:$AP$12,CENARIO+1,G1)} -> S | H22: {=INDEX($A$7:$AP$12,CENARIO+1,H1)} -> S | I22: {=INDEX($A$7:$AP$12,CENARIO+1,I1)} -> S | J22: {=INDEX($A$7:$AP$12,CENARIO+1,J1)} -> S | K22: {=INDEX($A$7:$AP$12,CENARIO+1,K1)} -> S | ... AP22: {=INDEX($A$7:$AP$12,CENARIO+1,AP1)} -> S
D29: RESUMO TCP
D30: 1 | E30: 2 | F30: 3 | G30: 4 | H30: 5 | I30: 6 | J30: 7 | K30: 8 | L30: 9 | M30: 10 | N30: 11 | O30: 12 | P30: 13 | Q30: 14 | R30: TOTAL KM
D31: =SUMIF($D15:$AP15,D$30,$D$4:$AP$4) -> 42.41 | E31: =SUMIF($D15:$AP15,E$30,$D$4:$AP$4) -> 22.4 | F31: =SUMIF($D15:$AP15,F$30,$D$4:$AP$4) -> 16.26 | G31: =SUMIF($D15:$AP15,G$30,$D$4:$AP$4) -> 19.37 | H31: =SUMIF($D15:$AP15,H$30,$D$4:$AP$4) -> 0 | I31: =SUMIF($D15:$AP15,I$30,$D$4:$AP$4) -> 0 | J31: =SUMIF($D15:$AP15,J$30,$D$4:$AP$4) -> 0 | K31: =SUMIF($D15:$AP15,K$30,$D$4:$AP$4) -> 0 | ... Q31: =SUMIF($D15:$AP15,Q$30,$D$4:$AP$4) -> 15.06 | R31: =SUM(D31:Q31) -> 161.61
D32: =SUMIF($D16:$AP16,D$30,$D$4:$AP$4) -> 0 | E32: =SUMIF($D16:$AP16,E$30,$D$4:$AP$4) -> 64.81 | F32: =SUMIF($D16:$AP16,F$30,$D$4:$AP$4) -> 0 | G32: =SUMIF($D16:$AP16,G$30,$D$4:$AP$4) -> 48.75 | H32: =SUMIF($D16:$AP16,H$30,$D$4:$AP$4) -> 0 | I32: =SUMIF($D16:$AP16,I$30,$D$4:$AP$4) -> 0 | J32: =SUMIF($D16:$AP16,J$30,$D$4:$AP$4) -> 0 | K32: =SUMIF($D16:$AP16,K$30,$D$4:$AP$4) -> 0 | ... Q32: =SUMIF($D16:$AP16,Q$30,$D$4:$AP$4) -> 0 | R32: =SUM(D32:Q32) -> 161.61
D33: =SUMIF($D17:$AP17,D$30,$D$4:$AP$4) -> 42.41 | E33: =SUMIF($D17:$AP17,E$30,$D$4:$AP$4) -> 0 | F33: =SUMIF($D17:$AP17,F$30,$D$4:$AP$4) -> 16.26 | G33: =SUMIF($D17:$AP17,G$30,$D$4:$AP$4) -> 48.75 | H33: =SUMIF($D17:$AP17,H$30,$D$4:$AP$4) -> 0 | I33: =SUMIF($D17:$AP17,I$30,$D$4:$AP$4) -> 0 | J33: =SUMIF($D17:$AP17,J$30,$D$4:$AP$4) -> 0 | K33: =SUMIF($D17:$AP17,K$30,$D$4:$AP$4) -> 0 | ... Q33: =SUMIF($D17:$AP17,Q$30,$D$4:$AP$4) -> 0 | R33: =SUM(D33:Q33) -> 161.61
D34: =SUMIF($D18:$AP18,D$30,$D$4:$AP$4) -> 42.41 | E34: =SUMIF($D18:$AP18,E$30,$D$4:$AP$4) -> 0 | F34: =SUMIF($D18:$AP18,F$30,$D$4:$AP$4) -> 0 | G34: =SUMIF($D18:$AP18,G$30,$D$4:$AP$4) -> 38.54 | H34: =SUMIF($D18:$AP18,H$30,$D$4:$AP$4) -> 0 | I34: =SUMIF($D18:$AP18,I$30,$D$4:$AP$4) -> 0 | J34: =SUMIF($D18:$AP18,J$30,$D$4:$AP$4) -> 0 | K34: =SUMIF($D18:$AP18,K$30,$D$4:$AP$4) -> 0 | ... Q34: =SUMIF($D18:$AP18,Q$30,$D$4:$AP$4) -> 0 | R34: =SUM(D34:Q34) -> 161.61
D35: =SUMIF($D19:$AP19,D$30,$D$4:$AP$4) -> 42.41 | E35: =SUMIF($D19:$AP19,E$30,$D$4:$AP$4) -> 0 | F35: =SUMIF($D19:$AP19,F$30,$D$4:$AP$4) -> 0 | G35: =SUMIF($D19:$AP19,G$30,$D$4:$AP$4) -> 38.54 | H35: =SUMIF($D19:$AP19,H$30,$D$4:$AP$4) -> 0 | I35: =SUMIF($D19:$AP19,I$30,$D$4:$AP$4) -> 0 | J35: =SUMIF($D19:$AP19,J$30,$D$4:$AP$4) -> 0 | K35: =SUMIF($D19:$AP19,K$30,$D$4:$AP$4) -> 0 | ... Q35: =SUMIF($D19:$AP19,Q$30,$D$4:$AP$4) -> 0 | R35: =SUM(D35:Q35) -> 161.61
D36: =SUMIF($D20:$AP20,D$30,$D$4:$AP$4) -> 42.41 | E36: =SUMIF($D20:$AP20,E$30,$D$4:$AP$4) -> 0 | F36: =SUMIF($D20:$AP20,F$30,$D$4:$AP$4) -> 0 | G36: =SUMIF($D20:$AP20,G$30,$D$4:$AP$4) -> 53.6 | H36: =SUMIF($D20:$AP20,H$30,$D$4:$AP$4) -> 0 | I36: =SUMIF($D20:$AP20,I$30,$D$4:$AP$4) -> 0 | J36: =SUMIF($D20:$AP20,J$30,$D$4:$AP$4) -> 0 | K36: =SUMIF($D20:$AP20,K$30,$D$4:$AP$4) -> 0 | ... Q36: =SUMIF($D20:$AP20,Q$30,$D$4:$AP$4) -> 0 | R36: =SUM(D36:Q36) -> 161.61
