Workbook
Name indice_cáculo: MC_Dispositivo!$CP:$CP
Name memória_cálculo: MC_Dispositivo!$CP:$DT

Sheet Cadastro_Dren_Sup
A1: ID | B1: RODOVIA | C1: LADO | D1: SENTIDO | E1: KM_INICIO | F1: KM_FIM | G1: TIPO | H1: Volume de Concreto (m³/m) | I1: EXTENSÃO (m) | M1: Dispositivo | N1: Bom | P1: Bom
A2: 1 | B2: CMG-120 | C2: Direita | D2: Crescente | E2: 569205.03 | F2: 569384.69 | G2: DR-6 | H2: 0.102 | I2: 179.65618 | L2: Sarjeta Triangula de Corte | M2: DR-1B | N2: =SUMIF(G:G,M2,I:I) -> 101926.93 | O2: 0.114 | P2: =N2*$O2 -> 11619.67
A3: 2 | B3: =$B$2 -> CMG-120 | C3: Esquerda | D3: Crescente | E3: 569218.59 | F3: 569228.99 | G3: DR-6 | H3: 0.102 | I3: 10.399999 | L3: Valeta Trapezoidal | M3: DR-3B | N3: =SUMIF(G:G,M3,I:I) -> 535.77217 | O3: 0.112 | P3: =N3*$O3 -> 60.006483
A4: 3 | B4: =$B$2 -> CMG-120 | C4: Direita | D4: Crescente | E4: 569416.87 | F4: 569661.61 | G4: DR-6 | H4: 0.102 | I4: 244.73088 | L4: Sarjeta Triangula de Aterro | M4: DR-6 | N4: =SUMIF(G:G,M4,I:I) -> 192586.43 | O4: 0.102 | P4: =N4*$O4 -> 19643.816
A5: 4 | B5: =$B$2 -> CMG-120 | C5: Direita | D5: Crescente | E5: 569661.61 | F5: 569750.55 | G5: DR-6 | H5: 0.102 | I5: 88.946177 | M5: Meio fio e sarjeta de concreto | N5: =SUMIF(G:G,M5,I:I) -> 17089.552 | O5: =0.133+0.077 -> 0.21 | P5: =N5*$O5 -> 3588.8058
A6: 5 | B6: =$B$2 -> CMG-120 | C6: Direita | D6: Crescente | E6: 569761.56 | F6: 570389.22 | G6: DR-6 | H6: 0.102 | I6: 627.66184 | M6: Total | N6: =SUM(N2:N5) -> 312138.68
A7: 6 | B7: =$B$2 -> CMG-120 | C7: Direita | D7: Crescente | E7: 570411.21 | F7: 570662.9 | G7: DR-6 | H7: 0.102 | I7: 251.68262
A8: 7 | B8: =$B$2 -> CMG-120 | C8: Direita | D8: Crescente | E8: 570839.33 | F8: 570883.82 | G8: DR-6 | H8: 0.102 | I8: 44.491541
A9: 8 | B9: =$B$2 -> CMG-120 | C9: Direita | D9: Crescente | E9: 570922.05 | F9: 572151.52 | G9: Meio fio e sarjeta de concreto | H9: 0.21 | I9: 1229.4663 | L9: Complementações da Drenagem Superficial
A10: 9 | B10: =$B$2 -> CMG-120 | C10: Direita | D10: Crescente | E10: 572166.77 | F10: 572288.94 | G10: Meio fio e sarjeta de concreto | H10: 0.21 | I10: 122.17149 | L10: Rodovia | M10: DR-1B | N10: Meio Fio
A11: 10 | B11: =$B$2 -> CMG-120 | C11: Direita | D11: Crescente | E11: 572288.94 | F11: 572393.1 | G11: Meio fio e sarjeta de concreto | H11: 0.21 | I11: 104.16236 | L11: CMG-120 | M11: =[3]QUANTIDADES_REC!$F$122+[3]QUANTIDADES_TI!$F$78 -> 9116.0119 | N11: =[3]QUANTIDADES_REC!$F$123+[3]QUANTIDADES_TI!$F$79 -> 39980.265
A12: 11 | B12: =$B$2 -> CMG-120 | C12: Direita | D12: Crescente | E12: 572404.04 | F12: 572488.51 | G12: Meio fio e sarjeta de concreto | H12: 0.21 | I12: 84.475484 | L12: BR-356 | M12: =[4]QUANTIDADES_REC!$F$122+[4]QUANTIDADES_TI!$F$78 -> 17512.647 | N12: =[4]QUANTIDADES_REC!$F$123+[4]QUANTIDADES_TI!$F$79 -> 9557.6367
A13: 12 | B13: =$B$2 -> CMG-120 | C13: Direita | D13: Crescente | E13: 573015.02 | F13: 573083.08 | G13: Meio fio e sarjeta de concreto | H13: 0.21 | I13: 68.05785 | L13: LMG-813 | M13: =[5]QUANTIDADES_REC!$F$122+[5]QUANTIDADES_TI!$F$78 -> 9925.2147 | N13: =[5]QUANTIDADES_REC!$F$123+[5]QUANTIDADES_TI!$F$79 -> 1545.5502
A14: 13 | B14: =$B$2 -> CMG-120 | C14: Direita | D14: Crescente | E14: 573091.2 | F14: 573106.34 | G14: Meio fio e sarjeta de concreto | H14: 0.21 | I14: 15.140782 | L14: MG-329 | M14: =[6]QUANTIDADES_REC!$F$122+[6]QUANTIDADES_TI!$F$78 -> 10847.682 | N14: =[6]QUANTIDADES_REC!$F$123+[6]QUANTIDADES_TI!$F$79 -> 4153.9994
A15: 14 | B15: =$B$2 -> CMG-120 | C15: Direita | D15: Crescente | E15: 573121.01 | F15: 573144.36 | G15: Meio fio e sarjeta de concreto | H15: 0.21 | I15: 23.3513 | L15: MG-262 | M15: =[7]QUANTIDADES_REC!$F$122+[7]QUANTIDADES_TI!$F$78 -> 15852.147 | N15: =[7]QUANTIDADES_REC!$F$123+[7]QUANTIDADES_TI!$F$79 -> 17058.825
A16: 15 | B16: =$B$2 -> CMG-120 | C16: Direita | D16: Crescente | E16: 573261.68 | F16: 573334.84 | G16: Meio fio e sarjeta de concreto | H16: 0.21 | I16: 73.156259
A17: 16 | B17: =$B$2 -> CMG-120 | C17: Direita | D17: Crescente | E17: 573334.84 | F17: 573436.39 | G17: Meio fio e sarjeta de concreto | H17: 0.21 | I17: 101.55241
A18: 17 | B18: =$B$2 -> CMG-120 | C18: Direita | D18: Crescente | E18: 573443.88 | F18: 573467.45 | G18: Meio fio e sarjeta de concreto | H18: 0.21 | I18: 23.567684
A19: 18 | B19: =$B$2 -> CMG-120 | C19: Direita | D19: Crescente | E19: 573491.89 | F19: 573574.52 | G19: Meio fio e sarjeta de concreto | H19: 0.21 | I19: 82.63074
A20: 19 | B20: =$B$2 -> CMG-120 | C20: Direita | D20: Crescente | E20: 573594.41 | F20: 573738.01 | G20: Meio fio e sarjeta de concreto | H20: 0.21 | I20: 143.60093
A21: 20 | B21: =$B$2 -> CMG-120 | C21: Direita | D21: Crescente | E21: 573784.45 | F21: 573791.4 | G21: Meio fio e sarjeta de concreto | H21: 0.21 | I21: 6.9509134
A22: 21 | B22: =$B$2 -> CMG-120 | C22: Direita | D22: Crescente | E22: 573806.63 | F22: 573837.06 | G22: Meio fio e sarjeta de concreto | H22: 0.21 | I22: 30.428935
A23: 22 | B23: =$B$2 -> CMG-120 | C23: Direita | D23: Crescente | E23: 573845.29 | F23: 574248.37 | G23: Meio fio e sarjeta de concreto | H23: 0.21 | I23: 403.08147
A24: 23 | B24: =$B$2 -> CMG-120 | C24: Direita | D24: Crescente | E24: 574273.32 | F24: 574474.04 | G24: Meio fio e sarjeta de concreto | H24: 0.21 | I24: 200.7264
A25: 24 | B25: =$B$2 -> CMG-120 | C25: Direita | D25: Crescente | E25: 574507.6 | F25: 574546.7 | G25: DR-1B | H25: 0.114 | I25: 39.103177
A26: 25 | B26: =$B$2 -> CMG-120 | C26: Direita | D26: Crescente | E26: 574624.41 | F26: 574652.23 | G26: DR-6 | H26: 0.102 | I26: 27.816319
A27: 26 | B27: =$B$2 -> CMG-120 | C27: Direita | D27: Crescente | E27: 574734.71 | F27: 574996.23 | G27: DR-6 | H27: 0.102 | I27: 261.51464
... A205: 204 | B205: =$B$2 -> CMG-120 | C205: Direita | D205: Decrescente | E205: 569816.9 | F205: 569672.68 | G205: DR-1B | H205: 0.114 | I205: 144.22077
A206: 1 | B206: BR-356 | C206: Direita | D206: Crescente | E206: 30416.202 | F206: 31137.65 | G206: DR-1B | H206: 0.114 | I206: 721.44831
A207: 2 | B207: BR-356 | C207: Direita | D207: Crescente | E207: 31554.887 | F207: 32315.305 | G207: DR-1B | H207: 0.114 | I207: 760.41763
A208: 3 | B208: BR-356 | C208: Direita | D208: Crescente | E208: 32551.695 | F208: 33028.244 | G208: DR-6 | H208: 0.102 | I208: 476.54902
A209: 4 | B209: BR-356 | C209: Direita | D209: Crescente | E209: 33160.973 | F209: 33833.946 | G209: DR-1B | H209: 0.114 | I209: 672.97346
A210: 5 | B210: BR-356 | C210: Direita | D210: Crescente | E210: 34091.351 | F210: 34616.257 | G210: DR-1B | H210: 0.114 | I210: 524.90539
A211: 6 | B211: BR-356 | C211: Direita | D211: Crescente | E211: 34974.716 | F211: 36295.714 | G211: DR-1B | H211: 0.114 | I211: 1320.9974
A212: 7 | B212: BR-356 | C212: Direita | D212: Crescente | E212: 36663.234 | F212: 38014.186 | G212: DR-1B | H212: 0.114 | I212: 1350.9513
A213: 8 | B213: BR-356 | C213: Direita | D213: Crescente | E213: 38050.251 | F213: 39832.471 | G213: DR-6 | H213: 0.102 | I213: 1782.2198
A214: 9 | B214: BR-356 | C214: Direita | D214: Crescente | E214: 40036.213 | F214: 40419.909 | G214: DR-6 | H214: 0.102 | I214: 383.69677
A215: 10 | B215: BR-356 | C215: Direita | D215: Crescente | E215: 40774.659 | F215: 40847.395 | G215: DR-6 | H215: 0.102 | I215: 72.735584
A216: 11 | B216: BR-356 | C216: Direita | D216: Crescente | E216: 40920.353 | F216: 43163.864 | G216: DR-6 | H216: 0.102 | I216: 2243.5112
A217: 12 | B217: BR-356 | C217: Direita | D217: Crescente | E217: 43427.009 | F217: 43553.46 | G217: DR-6 | H217: 0.102 | I217: 126.45058
... A633: 10 | B633: MG-329 | C633: Direita | D633: Crescente | E633: 104980.18 | F633: 105302.17 | G633: DR-6 | H633: 0.102 | I633: 321.985
A634: 11 | B634: MG-329 | C634: Direita | D634: Crescente | E634: 106734.44 | F634: 107065.15 | G634: DR-1B | H634: 0.114 | I634: 330.70536 | J634: =H634*I634 -> 37.700411
A635: 12 | B635: MG-329 | C635: Direita | D635: Crescente | E635: 107065.15 | F635: 107065.15 | G635: DR-11 | H635: 0.2 | I635: 0
A636: 13 | B636: MG-329 | C636: Direita | D636: Crescente | E636: 107664.49 | F636: 107854.1 | G636: DR-6 | H636: 0.102 | I636: 189.60984
A637: 14 | B637: MG-329 | C637: Direita | D637: Crescente | E637: 108113.61 | F637: 108262.12 | G637: DR-6 | H637: 0.102 | I637: 148.50789
A638: 15 | B638: MG-329 | C638: Direita | D638: Crescente | E638: 109278.9 | F638: 109553.46 | G638: DR-6 | H638: 0.102 | I638: 274.55259
A639: 16 | B639: MG-329 | C639: Direita | D639: Crescente | E639: 110203.35 | F639: 110471.59 | G639: DR-6 | H639: 0.102 | I639: 268.23858
A640: 17 | B640: MG-329 | C640: Direita | D640: Crescente | E640: 110717.39 | F640: 110832.44 | G640: DR-1B | H640: 0.114 | I640: 115.04934 | J640: =H640*I640 -> 13.115625
A641: 18 | B641: MG-329 | C641: Direita | D641: Crescente | E641: 110843.08 | F641: 110843.08 | G641: DR-11 | H641: 0.2 | I641: 0
A642: 19 | B642: MG-329 | C642: Direita | D642: Crescente | E642: 110843.08 | F642: 110971.72 | G642: DR-6 | H642: 0.102 | I642: 128.64241
A643: 20 | B643: MG-329 | C643: Direita | D643: Crescente | E643: 110971.72 | F643: 110971.72 | G643: DR-11 | H643: 0.2 | I643: 0
A644: 21 | B644: MG-329 | C644: Direita | D644: Crescente | E644: 111111.01 | F644: 111201.91 | G644: DR-6 | H644: 0.102 | I644: 90.901801
A645: 22 | B645: MG-329 | C645: Direita | D645: Crescente | E645: 111397.26 | F645: 111560.77 | G645: DR-6 | H645: 0.102 | I645: 163.51009
A646: 23 | B646: MG-329 | C646: Direita | D646: Crescente | E646: 111675.88 | F646: 111867.22 | G646: DR-6 | H646: 0.102 | I646: 191.33834
A647: 24 | B647: MG-329 | C647: Direita | D647: Crescente | E647: 111912.59 | F647: 111936.59 | G647: DR-6 | H647: 0.102 | I647: 24.000832
A648: 25 | B648: MG-329 | C648: Direita | D648: Crescente | E648: 111951.7 | F648: 111981.98 | G648: DR-6 | H648: 0.102 | I648: 30.28122
A649: 26 | B649: MG-329 | C649: Direita | D649: Crescente | E649: 112253.21 | F649: 112398.47 | G649: DR-6 | H649: 0.102 | I649: 145.2566
A650: 27 | B650: MG-329 | C650: Direita | D650: Crescente | E650: 113143.74 | F650: 113614.94 | G650: DR-6 | H650: 0.102 | I650: 471.19942
A651: 28 | B651: MG-329 | C651: Direita | D651: Crescente | E651: 113622.61 | F651: 113721.36 | G651: DR-6 | H651: 0.102 | I651: 98.75843
A652: 29 | B652: MG-329 | C652: Direita | D652: Crescente | E652: 113912.57 | F652: 114065.73 | G652: DR-6 | H652: 0.102 | I652: 153.15385
... A673: 50 | B673: MG-329 | C673: Direita | D673: Crescente | E673: 127621.67 | F673: 128042.01 | G673: DR-6 | H673: 0.102 | I673: 420.33944
A674: 51 | B674: MG-329 | C674: Direita | D674: Crescente | E674: 128319.49 | F674: 128620.81 | G674: DR-1B | H674: 0.114 | I674: 301.31872 | J674: =H674*I674 -> 34.350334
A675: 52 | B675: MG-329 | C675: Direita | D675: Crescente | E675: 129110.62 | F675: 129368.67 | G675: DR-1B | H675: 0.114 | I675: 258.04019 | J675: =H675*I675 -> 29.416581
A676: 53 | B676: MG-329 | C676: Direita | D676: Crescente | E676: 129424.63 | F676: 129979.35 | G676: DR-6 | H676: 0.102 | I676: 554.72829
A677: 54 | B677: MG-329 | C677: Direita | D677: Crescente | E677: 130146.53 | F677: 130701.32 | G677: DR-6 | H677: 0.102 | I677: 554.79084
A678: 55 | B678: MG-329 | C678: Direita | D678: Crescente | E678: 130712.01 | F678: 130763.87 | G678: DR-6 | H678: 0.102 | I678: 51.865442
A679: 56 | B679: MG-329 | C679: Esquerda | D679: Crescente | E679: 130712.01 | F679: 130743.31 | G679: DR-6 | H679: 0.102 | I679: 31.298788
A680: 57 | B680: MG-329 | C680: Esquerda | D680: Crescente | E680: 130754.48 | F680: 130944.25 | G680: DR-6 | H680: 0.102 | I680: 189.77371
A681: 58 | B681: MG-329 | C681: Direita | D681: Crescente | E681: 130891.05 | F681: 130901.42 | G681: DR-6 | H681: 0.102 | I681: 10.366595
A682: 59 | B682: MG-329 | C682: Direita | D682: Crescente | E682: 130996.05 | F682: 131006.4 | G682: DR-6 | H682: 0.102 | I682: 10.351424
A683: 60 | B683: MG-329 | C683: Direita | D683: Crescente | E683: 131028.52 | F683: 131049.24 | G683: Meio fio e sarjeta de concreto | H683: 0.21 | I683: 20.717446
A684: 61 | B684: MG-329 | C684: Direita | D684: Crescente | E684: 131163.65 | F684: 131209.75 | G684: Meio fio e sarjeta de concreto | H684: 0.21 | I684: 46.105414
A685: 62 | B685: MG-329 | C685: Direita | D685: Crescente | E685: 131781.72 | F685: 131781.72 | G685: DR-6 | H685: 0.102 | I685: 0
A686: 63 | B686: MG-329 | C686: Direita | D686: Crescente | E686: 132182.14 | F686: 132265.35 | G686: DR-6 | H686: 0.102 | I686: 83.209448
A687: 64 | B687: MG-329 | C687: Direita | D687: Crescente | E687: 132270.13 | F687: 132279.96 | G687: DR-6 | H687: 0.102 | I687: 9.8388464
... A691: 68 | B691: MG-329 | C691: Direita | D691: Crescente | E691: 132416.94 | F691: 132480.54 | G691: DR-6 | H691: 0.102 | I691: 63.596067
A692: 69 | B692: MG-329 | C692: Direita | D692: Crescente | E692: 132574.47 | F692: 132786.21 | G692: DR-1B | H692: 0.114 | I692: 211.74959 | J692: =H692*I692 -> 24.139453
A693: 70 | B693: MG-329 | C693: Direita | D693: Crescente | E693: 132885.81 | F693: 133112.65 | G693: DR-1B | H693: 0.114 | I693: 226.83499 | J693: =H693*I693 -> 25.859188
A694: 71 | B694: MG-329 | C694: Direita | D694: Crescente | E694: 133145.83 | F694: 133212.55 | G694: DR-6 | H694: 0.102 | I694: 66.722171
A695: 72 | B695: MG-329 | C695: Direita | D695: Crescente | E695: 133251.05 | F695: 133403.46 | G695: DR-6 | H695: 0.102 | I695: 152.40074
A696: 73 | B696: MG-329 | C696: Direita | D696: Crescente | E696: 133412.22 | F696: 133636.39 | G696: DR-6 | H696: 0.102 | I696: 224.17044
A697: 74 | B697: MG-329 | C697: Direita | D697: Crescente | E697: 134094 | F697: 134300.93 | G697: DR-6 | H697: 0.102 | I697: 206.92375
A698: 75 | B698: MG-329 | C698: Direita | D698: Crescente | E698: 134339.59 | F698: 134420.73 | G698: DR-1B | H698: 0.114 | I698: 81.144174 | J698: =H698*I698 -> 9.2504358
A699: 76 | B699: MG-329 | C699: Esquerda | D699: Crescente | E699: 134485.44 | F699: 134485.44 | G699: DR-6 | H699: 0.102 | I699: 0
A700: 77 | B700: MG-329 | C700: Esquerda | D700: Crescente | E700: 134495.33 | F700: 134554.91 | G700: DR-6 | H700: 0.102 | I700: 59.582129
A701: 78 | B701: MG-329 | C701: Esquerda | D701: Crescente | E701: 134554.91 | F701: 134554.91 | G701: DR-6 | H701: 0.102 | I701: 0
A702: 79 | B702: MG-329 | C702: Direita | D702: Crescente | E702: 135310.39 | F702: 135423.71 | G702: DR-3B | H702: 0.112 | I702: 113.31778
A703: 80 | B703: MG-329 | C703: Direita | D703: Crescente | E703: 136569.81 | F703: 136634.91 | G703: Meio fio e sarjeta de concreto | H703: 0.21 | I703: 65.104571
A704: 81 | B704: MG-329 | C704: Direita | D704: Crescente | E704: 137149.96 | F704: 137261.43 | G704: Meio fio e sarjeta de concreto | H704: 0.21 | I704: 111.46753
A705: 82 | B705: MG-329 | C705: Direita | D705: Decrescente | E705: 137281.55 | F705: 137149.31 | G705: Meio fio e sarjeta de concreto | H705: 0.21 | I705: 132.24381
A706: 83 | B706: MG-329 | C706: Direita | D706: Decrescente | E706: 137129.5 | F706: 137054.81 | G706: Meio fio e sarjeta de concreto | H706: 0.21 | I706: 74.699015
A707: 84 | B707: MG-329 | C707: Direita | D707: Decrescente | E707: 137054.81 | F707: 136804.96 | G707: DR-1B | H707: 0.114 | I707: 249.84612
A708: 85 | B708: MG-329 | C708: Direita | D708: Decrescente | E708: 136560.14 | F708: 136012.99 | G708: DR-1B | H708: 0.114 | I708: 547.15704
A709: 86 | B709: MG-329 | C709: Direita | D709: Decrescente | E709: 135226.43 | F709: 134734.2 | G709: DR-1B | H709: 0.114 | I709: 492.22244 | J709: =H709*I709 -> 56.113358
A710: 87 | B710: MG-329 | C710: Direita | D710: Decrescente | E710: 134307.83 | F710: 133676.98 | G710: DR-6 | H710: 0.102 | I710: 630.8476
A711: 88 | B711: MG-329 | C711: Direita | D711: Decrescente | E711: 133520.57 | F711: 133092.62 | G711: DR-1B | H711: 0.114 | I711: 427.95279 | J711: =H711*I711 -> 48.786619
A712: 89 | B712: MG-329 | C712: Direita | D712: Decrescente | E712: 132983.81 | F712: 132717.94 | G712: DR-6 | H712: 0.102 | I712: 265.86597
A713: 90 | B713: MG-329 | C713: Direita | D713: Decrescente | E713: 132654.62 | F713: 132441.42 | G713: DR-6 | H713: 0.102 | I713: 213.19714
A714: 91 | B714: MG-329 | C714: Direita | D714: Decrescente | E714: 132436.66 | F714: 132426.81 | G714: DR-6 | H714: 0.102 | I714: 9.8528529
A715: 92 | B715: MG-329 | C715: Direita | D715: Decrescente | E715: 132412.11 | F715: 132373 | G715: DR-6 | H715: 0.102 | I715: 39.103181
...

Sheet Cadastro SV
A1: ID | B1: VIA | C1: Lado | D1: SENTIDO | E1: KM | F1: TIPO | G1: SUBTIPO | H1: CONSERVAÇÃO PLACA | I1: Nº DE SUPORTES | J1: TIPO DE SUPORTE | K1: LARGURA | L1: ALTURA | M1: DIAMETRO | N1: ÁREA
S2: SINALIZAÇÃO VERTICAL | V2: TOTAL | Y2: Área/m² | Z2: SINALIZAÇÃO VERTICAL | AB2: Placa | AC2: TOTAL | AE2: Área/m² | AF2: SINALIZAÇÃO VERTICAL | AH2: Placa | AI2: TOTAL
S3: Bom | T3: Regular | U3: Ruim | Z3: Bom | AA3: Regular | AB3: Ruim | AF3: Bom | AG3: Regular | AH3: Ruim
A4: 1 | B4: CMG-120 | C4: Direita | D4: Crescente | E4: 570708.1 | F4: Advertencia | G4: A-18 | H4: Bom | I4: 1 | J4: Perfil Metalico (I/C) | K4: 1 | L4: 1 | M4: - | N4: =IF(M4="",K4*L4,IF(G4="R-1",K4*L4,IF(LEFT(G4,1)="R",PI()*((M4^2)/4),K4*L4))) -> 1 | R4: Qtd | S4: =COUNTIF($H:$H,S3) -> 3816 | T4: =COUNTIF($H:$H,T3) -> 99 | U4: =COUNTIF($H:$H,U3) -> 44 | V4: =+U4+T4+S4 -> 3959 | Y4: Advertencia | Z4: =SUMIFS($N:$N,$F:$F,$Y4,$H:$H,Z$3) -> 1528.4875 | AA4: =SUMIFS($N:$N,$F:$F,$Y4,$H:$H,AA$3) -> 39.07 | AB4: =SUMIFS($N:$N,$F:$F,$Y4,$H:$H,AB$3) -> 20.35 | AC4: =SUM(Z4:AB4) -> 1587.9075 | AD4: x | AE4: R-1 | AF4: =SUMIFS($N:$N,$G:$G,$AE4,$H:$H,Z$3) -> 12.935 | AG4: =SUMIFS($N:$N,$G:$G,$AE4,$H:$H,AA$3) -> 0.64 | AH4: =SUMIFS($N:$N,$G:$G,$AE4,$H:$H,AB$3) -> 0 | AI4: =SUM(AF4:AH4) -> 13.575
A5: 2 | B5: CMG-120 | C5: Direita | D5: Crescente | E5: 570841.7 | F5: Advertencia | G5: A-18 | H5: Bom | I5: 1 | J5: Perfil Metalico (I/C) | K5: 1 | L5: 1 | M5: - | N5: =IF(M5="",K5*L5,IF(G5="R-1",K5*L5,IF(LEFT(G5,1)="R",PI()*((M5^2)/4),K5*L5))) -> 1 | R5: Área | S5: =SUMIF($H:$H,S3,$N:$N) -> 4744.2028 | T5: =SUMIF($H:$H,T3,$N:$N) -> 109.84518 | U5: =SUMIF($H:$H,U3,$N:$N) -> 87.735398 | V5: =+U5+T5+S5 -> 4941.7833 | Y5: Apoio Operacional | Z5: =SUMIFS($N:$N,$F:$F,$Y5,$H:$H,Z$3) -> 139.86 | AA5: =SUMIFS($N:$N,$F:$F,$Y5,$H:$H,AA$3) -> 0 | AB5: =SUMIFS($N:$N,$F:$F,$Y5,$H:$H,AB$3) -> 20 | AC5: =SUM(Z5:AB5) -> 159.86 | AD5: x | AE5: R-2 | AF5: =SUMIFS($N:$N,$G:$G,$AE5,$H:$H,Z$3) -> 10.406526 | AG5: =SUMIFS($N:$N,$G:$G,$AE5,$H:$H,AA$3) -> 0 | AH5: =SUMIFS($N:$N,$G:$G,$AE5,$H:$H,AB$3) -> 0 | AI5: =SUM(AF5:AH5) -> 10.406526
A6: 3 | B6: CMG-120 | C6: Esquerda | D6: Crescente | E6: 570862.96 | F6: Regulamentacao | G6: R-1 | H6: Bom | I6: 1 | J6: Perfil Metalico (I/C) | K6: 0.75 | L6: 0.75 | M6: - | N6: =IF(M6="",K6*L6,IF(G6="R-1",K6*L6,IF(LEFT(G6,1)="R",PI()*((M6^2)/4),K6*L6))) -> 0.5625 | Y6: Dispositivos Auxiliares | Z6: =SUMIFS($N:$N,$F:$F,$Y6,$H:$H,Z$3) -> 388.9854 | AA6: =SUMIFS($N:$N,$F:$F,$Y6,$H:$H,AA$3) -> 9.1 | AB6: =SUMIFS($N:$N,$F:$F,$Y6,$H:$H,AB$3) -> 2.4 | AC6: =SUM(Z6:AB6) -> 400.4854 | AD6: x
A7: 4 | B7: CMG-120 | C7: Direita | D7: Crescente | E7: 571692.68 | F7: Regulamentacao | G7: R-19 | H7: Bom | I7: 1 | J7: Fixada na estrutura | K7: - | L7: - | M7: 0.5 | N7: =IF(M7="",K7*L7,IF(G7="R-1",K7*L7,IF(LEFT(G7,1)="R",PI()*((M7^2)/4),K7*L7))) -> 0.19634954 | Y7: Educativos | Z7: =SUMIFS($N:$N,$F:$F,$Y7,$H:$H,Z$3) -> 253.5 | AA7: =SUMIFS($N:$N,$F:$F,$Y7,$H:$H,AA$3) -> 4 | AB7: =SUMIFS($N:$N,$F:$F,$Y7,$H:$H,AB$3) -> 11.6 | AC7: =SUM(Z7:AB7) -> 269.1
A8: 5 | B8: CMG-120 | C8: Direita | D8: Crescente | E8: 571847.03 | F8: Regulamentacao | G8: R-19 | H8: Regular | I8: 1 | J8: Fixada na estrutura | K8: - | L8: - | M8: 0.5 | N8: =IF(M8="",K8*L8,IF(G8="R-1",K8*L8,IF(LEFT(G8,1)="R",PI()*((M8^2)/4),K8*L8))) -> 0.19634954 | R8: Tronco/m² | S8: Sinalização Vertical Qtd | V8: TOTAL | Y8: Indicativa Regulamentacao | Z8: =SUMIFS($N:$N,$F:$F,$Y8,$H:$H,Z$3) -> 153.55 | AA8: =SUMIFS($N:$N,$F:$F,$Y8,$H:$H,AA$3) -> 0.375 | AB8: =SUMIFS($N:$N,$F:$F,$Y8,$H:$H,AB$3) -> 7.2 | AC8: =SUM(Z8:AB8) -> 161.125
A9: 6 | B9: CMG-120 | C9: Direita | D9: Crescente | E9: 571960.98 | F9: Regulamentacao | G9: R-6a | H9: Regular | I9: 1 | J9: Fixada na estrutura | K9: - | L9: - | M9: 0.5 | N9: =IF(M9="",K9*L9,IF(G9="R-1",K9*L9,IF(LEFT(G9,1)="R",PI()*((M9^2)/4),K9*L9))) -> 0.19634954 | S9: Bom | T9: Regular | U9: Ruim | Y9: Marco Quilométrico | Z9: =SUMIFS($N:$N,$F:$F,$Y9,$H:$H,Z$3) -> 119.88 | AA9: =SUMIFS($N:$N,$F:$F,$Y9,$H:$H,AA$3) -> 0.8 | AB9: =SUMIFS($N:$N,$F:$F,$Y9,$H:$H,AB$3) -> 1.85 | AC9: =SUM(Z9:AB9) -> 122.53 | AD9: x
A10: 7 | B10: CMG-120 | C10: Direita | D10: Crescente | E10: 571993.29 | F10: Regulamentacao | G10: R-6a | H10: Bom | I10: 1 | J10: Fixada na estrutura | K10: - | L10: - | M10: 0.5 | N10: =IF(M10="",K10*L10,IF(G10="R-1",K10*L10,IF(LEFT(G10,1)="R",PI()*((M10^2)/4),K10*L10))) -> 0.19634954 | R10: Marco Quilométrico | S10: =Z9 -> 119.88 | T10: =AA9 -> 0.8 | U10: =AB9 -> 1.85 | V10: =SUM(S10:U10) -> 122.53 | Y10: Marcador de Perigo | Z10: =SUMIFS($N:$N,$F:$F,$Y10,$H:$H,Z$3) -> 14.16 | AA10: =SUMIFS($N:$N,$F:$F,$Y10,$H:$H,AA$3) -> 0 | AB10: =SUMIFS($N:$N,$F:$F,$Y10,$H:$H,AB$3) -> 0 | AC10: =SUM(Z10:AB10) -> 14.16 | AD10: x
A11: 8 | B11: CMG-120 | C11: Direita | D11: Crescente | E11: 572019.57 | F11: Regulamentacao | G11: R-6a | H11: Bom | I11: 1 | J11: Fixada na estrutura | K11: - | L11: - | M11: 0.5 | N11: =IF(M11="",K11*L11,IF(G11="R-1",K11*L11,IF(LEFT(G11,1)="R",PI()*((M11^2)/4),K11*L11))) -> 0.19634954 | R11: Regulamentação | S11: =Z8+Z11 -> 644.93986 | T11: =AA8+AA11 -> 11.475176 | U11: =AB8+AB11 -> 8.2353982 | V11: =SUM(S11:U11) -> 664.65043 | Y11: Regulamentacao | Z11: =SUMIFS($N:$N,$F:$F,$Y11,$H:$H,Z$3) -> 491.38986 | AA11: =SUMIFS($N:$N,$F:$F,$Y11,$H:$H,AA$3) -> 11.100176 | AB11: =SUMIFS($N:$N,$F:$F,$Y11,$H:$H,AB$3) -> 1.0353982 | AC11: =SUM(Z11:AB11) -> 503.52543 | AD11: x
A12: 9 | B12: CMG-120 | C12: Direita | D12: Crescente | E12: 572045 | F12: Regulamentacao | G12: R-6a | H12: Bom | I12: 1 | J12: Fixada na estrutura | K12: - | L12: - | M12: 0.5 | N12: =IF(M12="",K12*L12,IF(G12="R-1",K12*L12,IF(LEFT(G12,1)="R",PI()*((M12^2)/4),K12*L12))) -> 0.19634954 | R12: Educativa | S12: =Z5+Z7+Z12+Z13+Z14+Z15 -> 2027.25 | T12: =AA5+AA7+AA12+AA13+AA14+AA15 -> 49.4 | U12: =AB5+AB7+AB12+AB13+AB14+AB15 -> 54.9 | V12: =SUM(S12:U12) -> 2131.55 | Y12: Servicos Auxiliares | Z12: =SUMIFS($N:$N,$F:$F,$Y12,$H:$H,Z$3) -> 129.69 | AA12: =SUMIFS($N:$N,$F:$F,$Y12,$H:$H,AA$3) -> 3.9 | AB12: =SUMIFS($N:$N,$F:$F,$Y12,$H:$H,AB$3) -> 0 | AC12: =SUM(Z12:AB12) -> 133.59
A13: 10 | B13: CMG-120 | C13: Direita | D13: Crescente | E13: 572075.45 | F13: Regulamentacao | G13: R-6a | H13: Bom | I13: 1 | J13: Fixada na estrutura | K13: - | L13: - | M13: 0.5 | N13: =IF(M13="",K13*L13,IF(G13="R-1",K13*L13,IF(LEFT(G13,1)="R",PI()*((M13^2)/4),K13*L13))) -> 0.19634954 | R13: Marcador de Perigo + Auxiliares | S13: =Z10+Z6 -> 403.1454 | T13: =AA10+AA6 -> 9.1 | U13: =AB10+AB6 -> 2.4 | V13: =SUM(S13:U13) -> 414.6454 | Y13: Sinalizacao de Identificacao | Z13: =SUMIFS($N:$N,$F:$F,$Y13,$H:$H,Z$3) -> 190.3 | AA13: =SUMIFS($N:$N,$F:$F,$Y13,$H:$H,AA$3) -> 0 | AB13: =SUMIFS($N:$N,$F:$F,$Y13,$H:$H,AB$3) -> 0 | AC13: =SUM(Z13:AB13) -> 190.3
A14: 11 | B14: CMG-120 | C14: Direita | D14: Crescente | E14: 572105.87 | F14: Regulamentacao | G14: R-6a | H14: Bom | I14: 1 | J14: Fixada na estrutura | K14: - | L14: - | M14: 0.5 | N14: =IF(M14="",K14*L14,IF(G14="R-1",K14*L14,IF(LEFT(G14,1)="R",PI()*((M14^2)/4),K14*L14))) -> 0.19634954 | R14: Advertencia | S14: =Z4 -> 1528.4875 | T14: =AA4 -> 39.07 | U14: =AB4 -> 20.35 | V14: =SUM(S14:U14) -> 1587.9075 | Y14: Sinalizacao de Localizacao | Z14: =SUMIFS($N:$N,$F:$F,$Y14,$H:$H,Z$3) -> 269.4 | AA14: =SUMIFS($N:$N,$F:$F,$Y14,$H:$H,AA$3) -> 0 | AB14: =SUMIFS($N:$N,$F:$F,$Y14,$H:$H,AB$3) -> 0 | AC14: =SUM(Z14:AB14) -> 269.4
A15: 12 | B15: CMG-120 | C15: Direita | D15: Crescente | E15: 572129.27 | F15: Regulamentacao | G15: R-6a | H15: Bom | I15: 1 | J15: Fixada na estrutura | K15: - | L15: - | M15: 0.5 | N15: =IF(M15="",K15*L15,IF(G15="R-1",K15*L15,IF(LEFT(G15,1)="R",PI()*((M15^2)/4),K15*L15))) -> 0.19634954 | R15: Soma | S15: =SUM(S10:S14) -> 4723.7028 | T15: =SUM(T10:T14) -> 109.84518 | U15: =SUM(U10:U14) -> 87.735398 | V15: =SUM(S15:U15) -> 4921.2833 | Y15: Sinalizacao de Orientacao | Z15: =SUMIFS($N:$N,$F:$F,$Y15,$H:$H,Z$3) -> 1044.5 | AA15: =SUMIFS($N:$N,$F:$F,$Y15,$H:$H,AA$3) -> 41.5 | AB15: =SUMIFS($N:$N,$F:$F,$Y15,$H:$H,AB$3) -> 23.3 | AC15: =SUM(Z15:AB15) -> 1109.3
A16: 13 | B16: CMG-120 | C16: Direita | D16: Crescente | E16: 572181.64 | F16: Regulamentacao | G16: R-6a | H16: Regular | I16: 1 | J16: Fixada na estrutura | K16: - | L16: - | M16: 0.5 | N16: =IF(M16="",K16*L16,IF(G16="R-1",K16*L16,IF(LEFT(G16,1)="R",PI()*((M16^2)/4),K16*L16))) -> 0.19634954
A17: 14 | B17: CMG-120 | C17: Direita | D17: Crescente | E17: 572219.59 | F17: Regulamentacao | G17: R-6c | H17: Bom | I17: 1 | J17: Perfil Metalico (I/C) | K17: - | L17: - | M17: 0.5 | N17: =IF(M17="",K17*L17,IF(G17="R-1",K17*L17,IF(LEFT(G17,1)="R",PI()*((M17^2)/4),K17*L17))) -> 0.19634954
A18: 15 | B18: CMG-120 | C18: Esquerda | D18: Crescente | E18: 572219.59 | F18: Regulamentacao | G18: R-4a | H18: Bom | I18: 1 | J18: Perfil Metalico (I/C) | K18: - | L18: - | M18: 0.5 | N18: =IF(M18="",K18*L18,IF(G18="R-1",K18*L18,IF(LEFT(G18,1)="R",PI()*((M18^2)/4),K18*L18))) -> 0.19634954 | AC18: =SUM(AC4:AC15) -> 4921.2833
A19: 16 | B19: CMG-120 | C19: Direita | D19: Crescente | E19: 572229.8 | F19: Regulamentacao | G19: R-6c | H19: Bom | I19: 1 | J19: Perfil Metalico (I/C) | K19: - | L19: - | M19: 0.5 | N19: =IF(M19="",K19*L19,IF(G19="R-1",K19*L19,IF(LEFT(G19,1)="R",PI()*((M19^2)/4),K19*L19))) -> 0.19634954
A20: 17 | B20: CMG-120 | C20: Direita | D20: Crescente | E20: 572240.05 | F20: Regulamentacao | G20: R-6b | H20: Bom | I20: 1 | J20: Perfil Metalico (I/C) | K20: - | L20: - | M20: 0.5 | N20: =IF(M20="",K20*L20,IF(G20="R-1",K20*L20,IF(LEFT(G20,1)="R",PI()*((M20^2)/4),K20*L20))) -> 0.19634954
A21: 18 | B21: CMG-120 | C21: Direita | D21: Crescente | E21: 572254.23 | F21: Servicos Auxiliares | G21: IE | H21: Bom | I21: 1 | J21: Perfil Metalico (I/C) | K21: 0.5 | L21: 0.5 | M21: - | N21: =IF(M21="",K21*L21,IF(G21="R-1",K21*L21,IF(LEFT(G21,1)="R",PI()*((M21^2)/4),K21*L21))) -> 0.25 | Y21: Quantidade/Unidade | Z21: SINALIZAÇÃO VERTICAL | AB21: Placa | AC21: TOTAL
A22: 19 | B22: CMG-120 | C22: Direita | D22: Crescente | E22: 572264.49 | F22: Servicos Auxiliares | G22: S | H22: Bom | I22: 1 | J22: Perfil Metalico (I/C) | K22: 0.5 | L22: 0.5 | M22: - | N22: =IF(M22="",K22*L22,IF(G22="R-1",K22*L22,IF(LEFT(G22,1)="R",PI()*((M22^2)/4),K22*L22))) -> 0.25 | Z22: Bom | AA22: Regular | AB22: Ruim
A23: 20 | B23: CMG-120 | C23: Direita | D23: Crescente | E23: 572264.49 | F23: Regulamentacao | G23: R-6a | H23: Bom | I23: 1 | J23: Perfil Metalico (I/C) | K23: - | L23: - | M23: 0.5 | N23: =IF(M23="",K23*L23,IF(G23="R-1",K23*L23,IF(LEFT(G23,1)="R",PI()*((M23^2)/4),K23*L23))) -> 0.19634954 | Y23: Advertencia | Z23: =COUNTIFS($F:$F,$Y23,$H:$H,Z$22) -> 1100 | AA23: =COUNTIFS($F:$F,$Y23,$H:$H,AA$22) -> 32 | AB23: =COUNTIFS($F:$F,$Y23,$H:$H,AB$22) -> 16 | AC23: =SUM(Z23:AB23) -> 1148
A24: 21 | B24: CMG-120 | C24: Direita | D24: Crescente | E24: 572278.67 | F24: Regulamentacao | G24: R-6a | H24: Regular | I24: 1 | J24: Fixada na estrutura | K24: - | L24: - | M24: 0.75 | N24: =IF(M24="",K24*L24,IF(G24="R-1",K24*L24,IF(LEFT(G24,1)="R",PI()*((M24^2)/4),K24*L24))) -> 0.44178647 | Y24: Apoio Operacional | Z24: =COUNTIFS($F:$F,$Y24,$H:$H,Z$22) -> 26 | AA24: =COUNTIFS($F:$F,$Y24,$H:$H,AA$22) -> 0 | AB24: =COUNTIFS($F:$F,$Y24,$H:$H,AB$22) -> 1 | AC24: =SUM(Z24:AB24) -> 27
A25: 22 | B25: CMG-120 | C25: Direita | D25: Crescente | E25: 572303.13 | F25: Regulamentacao | G25: R-6b | H25: Bom | I25: 1 | J25: Perfil Metalico (I/C) | K25: - | L25: - | M25: 0.75 | N25: =IF(M25="",K25*L25,IF(G25="R-1",K25*L25,IF(LEFT(G25,1)="R",PI()*((M25^2)/4),K25*L25))) -> 0.44178647 | Y25: Dispositivos Auxiliares | Z25: =COUNTIFS($F:$F,$Y25,$H:$H,Z$22) -> 1293 | AA25: =COUNTIFS($F:$F,$Y25,$H:$H,AA$22) -> 28 | AB25: =COUNTIFS($F:$F,$Y25,$H:$H,AB$22) -> 8 | AC25: =SUM(Z25:AB25) -> 1329
A26: 23 | B26: CMG-120 | C26: Direita | D26: Crescente | E26: 572313.41 | F26: Regulamentacao | G26: R-6a | H26: Bom | I26: 1 | J26: Fixada na estrutura | K26: - | L26: - | M26: 0.75 | N26: =IF(M26="",K26*L26,IF(G26="R-1",K26*L26,IF(LEFT(G26,1)="R",PI()*((M26^2)/4),K26*L26))) -> 0.44178647 | Y26: Educativos | Z26: =COUNTIFS($F:$F,$Y26,$H:$H,Z$22) -> 41 | AA26: =COUNTIFS($F:$F,$Y26,$H:$H,AA$22) -> 2 | AB26: =COUNTIFS($F:$F,$Y26,$H:$H,AB$22) -> 3 | AC26: =SUM(Z26:AB26) -> 46
A27: 24 | B27: CMG-120 | C27: Direita | D27: Crescente | E27: 572326.96 | F27: Regulamentacao | G27: R-4a | H27: Bom | I27: 1 | J27: Fixada na estrutura | K27: - | L27: - | M27: 0.5 | N27: =IF(M27="",K27*L27,IF(G27="R-1",K27*L27,IF(LEFT(G27,1)="R",PI()*((M27^2)/4),K27*L27))) -> 0.19634954 | Y27: Indicativa Regulamentacao | Z27: =COUNTIFS($F:$F,$Y27,$H:$H,Z$22) -> 61 | AA27: =COUNTIFS($F:$F,$Y27,$H:$H,AA$22) -> 1 | AB27: =COUNTIFS($F:$F,$Y27,$H:$H,AB$22) -> 2 | AC27: =SUM(Z27:AB27) -> 64
A28: 25 | B28: CMG-120 | C28: Direita | D28: Crescente | E28: 572326.96 | F28: Regulamentacao | G28: R-6a | H28: Bom | I28: 1 | J28: Fixada na estrutura | K28: - | L28: - | M28: 0.5 | N28: =IF(M28="",K28*L28,IF(G28="R-1",K28*L28,IF(LEFT(G28,1)="R",PI()*((M28^2)/4),K28*L28))) -> 0.19634954 | Y28: Marco Quilométrico | Z28: =COUNTIFS($F:$F,$Y28,$H:$H,Z$22) -> 145 | AA28: =COUNTIFS($F:$F,$Y28,$H:$H,AA$22) -> 2 | AB28: =COUNTIFS($F:$F,$Y28,$H:$H,AB$22) -> 5 | AC28: =SUM(Z28:AB28) -> 152
A29: 26 | B29: CMG-120 | C29: Esquerda | D29: Crescente | E29: 572326.96 | F29: Regulamentacao | G29: R-3 | H29: Bom | I29: 1 | J29: Perfil Metalico (I/C) | K29: - | L29: - | M29: 0.5 | N29: =IF(M29="",K29*L29,IF(G29="R-1",K29*L29,IF(LEFT(G29,1)="R",PI()*((M29^2)/4),K29*L29))) -> 0.19634954 | Y29: Marcador de Perigo | Z29: =COUNTIFS($F:$F,$Y29,$H:$H,Z$22) -> 53 | AA29: =COUNTIFS($F:$F,$Y29,$H:$H,AA$22) -> 0 | AB29: =COUNTIFS($F:$F,$Y29,$H:$H,AB$22) -> 0 | AC29: =SUM(Z29:AB29) -> 53
A30: 27 | B30: CMG-120 | C30: Direita | D30: Crescente | E30: 572347.69 | F30: Regulamentacao | G30: R-6a | H30: Bom | I30: 1 | J30: Fixada na estrutura | K30: - | L30: - | M30: 0.5 | N30: =IF(M30="",K30*L30,IF(G30="R-1",K30*L30,IF(LEFT(G30,1)="R",PI()*((M30^2)/4),K30*L30))) -> 0.19634954 | Y30: Regulamentacao | Z30: =COUNTIFS($F:$F,$Y30,$H:$H,Z$22) -> 715 | AA30: =COUNTIFS($F:$F,$Y30,$H:$H,AA$22) -> 22 | AB30: =COUNTIFS($F:$F,$Y30,$H:$H,AB$22) -> 2 | AC30: =SUM(Z30:AB30) -> 739
A31: 28 | B31: CMG-120 | C31: Direita | D31: Crescente | E31: 572369.46 | F31: Regulamentacao | G31: R-6a | H31: Bom | I31: 1 | J31: Fixada na estrutura | K31: - | L31: - | M31: 0.5 | N31: =IF(M31="",K31*L31,IF(G31="R-1",K31*L31,IF(LEFT(G31,1)="R",PI()*((M31^2)/4),K31*L31))) -> 0.19634954 | Y31: Servicos Auxiliares | Z31: =COUNTIFS($F:$F,$Y31,$H:$H,Z$22) -> 85 | AA31: =COUNTIFS($F:$F,$Y31,$H:$H,AA$22) -> 4 | AB31: =COUNTIFS($F:$F,$Y31,$H:$H,AB$22) -> 0 | AC31: =SUM(Z31:AB31) -> 89
A32: 29 | B32: CMG-120 | C32: Esquerda | D32: Crescente | E32: 572393.1 | F32: Regulamentacao | G32: R-24a | H32: Bom | I32: 1 | J32: Perfil Metalico (I/C) | K32: - | L32: - | M32: 0.5 | N32: =IF(M32="",K32*L32,IF(G32="R-1",K32*L32,IF(LEFT(G32,1)="R",PI()*((M32^2)/4),K32*L32))) -> 0.19634954 | Y32: Sinalizacao de Identificacao | Z32: =COUNTIFS($F:$F,$Y32,$H:$H,Z$22) -> 47 | AA32: =COUNTIFS($F:$F,$Y32,$H:$H,AA$22) -> 0 | AB32: =COUNTIFS($F:$F,$Y32,$H:$H,AB$22) -> 0 | AC32: =SUM(Z32:AB32) -> 47
A33: 30 | B33: CMG-120 | C33: Esquerda | D33: Crescente | E33: 572393.1 | F33: Regulamentacao | G33: R-6c | H33: Bom | I33: 1 | J33: Perfil Metalico (I/C) | K33: - | L33: - | M33: 0.5 | N33: =IF(M33="",K33*L33,IF(G33="R-1",K33*L33,IF(LEFT(G33,1)="R",PI()*((M33^2)/4),K33*L33))) -> 0.19634954 | Y33: Sinalizacao de Localizacao | Z33: =COUNTIFS($F:$F,$Y33,$H:$H,Z$22) -> 55 | AA33: =COUNTIFS($F:$F,$Y33,$H:$H,AA$22) -> 0 | AB33: =COUNTIFS($F:$F,$Y33,$H:$H,AB$22) -> 0 | AC33: =SUM(Z33:AB33) -> 55
A34: 31 | B34: CMG-120 | C34: Direita | D34: Crescente | E34: 572404.04 | F34: Regulamentacao | G34: R-6a | H34: Bom | I34: 1 | J34: Fixada na estrutura | K34: - | L34: - | M34: 0.5 | N34: =IF(M34="",K34*L34,IF(G34="R-1",K34*L34,IF(LEFT(G34,1)="R",PI()*((M34^2)/4),K34*L34))) -> 0.19634954 | Y34: Sinalizacao de Orientacao | Z34: =COUNTIFS($F:$F,$Y34,$H:$H,Z$22) -> 189 | AA34: =COUNTIFS($F:$F,$Y34,$H:$H,AA$22) -> 8 | AB34: =COUNTIFS($F:$F,$Y34,$H:$H,AB$22) -> 7 | AC34: =SUM(Z34:AB34) -> 204
A35: 32 | B35: CMG-120 | C35: Esquerda | D35: Crescente | E35: 572414.96 | F35: Regulamentacao | G35: R-6c | H35: Regular | I35: 1 | J35: Perfil Metalico (I/C) | K35: - | L35: - | M35: 0.5 | N35: =IF(M35="",K35*L35,IF(G35="R-1",K35*L35,IF(LEFT(G35,1)="R",PI()*((M35^2)/4),K35*L35))) -> 0.19634954 | AC35: =SUM(AC23:AC34) -> 3953
A36: 33 | B36: CMG-120 | C36: Direita | D36: Crescente | E36: 572425.22 | F36: Servicos Auxiliares | G36: S | H36: Bom | I36: 1 | J36: Fixada na estrutura | K36: 0.5 | L36: 0.5 | M36: - | N36: =IF(M36="",K36*L36,IF(G36="R-1",K36*L36,IF(LEFT(G36,1)="R",PI()*((M36^2)/4),K36*L36))) -> 0.25
A37: 34 | B37: CMG-120 | C37: Direita | D37: Crescente | E37: 572425.22 | F37: Regulamentacao | G37: R-6a | H37: Bom | I37: 1 | J37: Fixada na estrutura | K37: - | L37: - | M37: 0.75 | N37: =IF(M37="",K37*L37,IF(G37="R-1",K37*L37,IF(LEFT(G37,1)="R",PI()*((M37^2)/4),K37*L37))) -> 0.44178647
A38: 35 | B38: CMG-120 | C38: Direita | D38: Crescente | E38: 572439.62 | F38: Regulamentacao | G38: R-6a | H38: Bom | I38: 1 | J38: Fixada na estrutura | K38: - | L38: - | M38: 0.75 | N38: =IF(M38="",K38*L38,IF(G38="R-1",K38*L38,IF(LEFT(G38,1)="R",PI()*((M38^2)/4),K38*L38))) -> 0.44178647
A39: 36 | B39: CMG-120 | C39: Direita | D39: Crescente | E39: 572449.38 | F39: Regulamentacao | G39: R-6a | H39: Bom | I39: 1 | J39: Perfil Metalico (I/C) | K39: - | L39: - | M39: 0.5 | N39: =IF(M39="",K39*L39,IF(G39="R-1",K39*L39,IF(LEFT(G39,1)="R",PI()*((M39^2)/4),K39*L39))) -> 0.19634954
A40: 37 | B40: CMG-120 | C40: Esquerda | D40: Crescente | E40: 572464.06 | F40: Regulamentacao | G40: R-6c | H40: Bom | I40: 1 | J40: Perfil Metalico (I/C) | K40: - | L40: - | M40: 0.5 | N40: =IF(M40="",K40*L40,IF(G40="R-1",K40*L40,IF(LEFT(G40,1)="R",PI()*((M40^2)/4),K40*L40))) -> 0.19634954
A41: 38 | B41: CMG-120 | C41: Direita | D41: Crescente | E41: 572478.76 | F41: Regulamentacao | G41: R-6a | H41: Bom | I41: 1 | J41: Fixada na estrutura | K41: - | L41: - | M41: 0.5 | N41: =IF(M41="",K41*L41,IF(G41="R-1",K41*L41,IF(LEFT(G41,1)="R",PI()*((M41^2)/4),K41*L41))) -> 0.19634954
A42: 39 | B42: CMG-120 | C42: Direita | D42: Crescente | E42: 572488.51 | F42: Regulamentacao | G42: R-6a | H42: Regular | I42: 1 | J42: Perfil Metalico (I/C) | K42: - | L42: - | M42: 0.5 | N42: =IF(M42="",K42*L42,IF(G42="R-1",K42*L42,IF(LEFT(G42,1)="R",PI()*((M42^2)/4),K42*L42))) -> 0.19634954
A43: 40 | B43: CMG-120 | C43: Direita | D43: Crescente | E43: 572513.05 | F43: Regulamentacao | G43: R-6c | H43: Bom | I43: 1 | J43: Perfil Metalico (I/C) | K43: - | L43: - | M43: 1 | N43: =IF(M43="",K43*L43,IF(G43="R-1",K43*L43,IF(LEFT(G43,1)="R",PI()*((M43^2)/4),K43*L43))) -> 0.78539816
A44: 41 | B44: CMG-120 | C44: Direita | D44: Crescente | E44: 572531.25 | F44: Regulamentacao | G44: R-6c | H44: Bom | I44: 1 | J44: Perfil Metalico (I/C) | K44: - | L44: - | M44: 1 | N44: =IF(M44="",K44*L44,IF(G44="R-1",K44*L44,IF(LEFT(G44,1)="R",PI()*((M44^2)/4),K44*L44))) -> 0.78539816
A45: 42 | B45: CMG-120 | C45: Direita | D45: Crescente | E45: 572550.33 | F45: Regulamentacao | G45: R-6c | H45: Bom | I45: 1 | J45: Fixada na estrutura | K45: - | L45: - | M45: 1 | N45: =IF(M45="",K45*L45,IF(G45="R-1",K45*L45,IF(LEFT(G45,1)="R",PI()*((M45^2)/4),K45*L45))) -> 0.78539816
A46: 43 | B46: CMG-120 | C46: Direita | D46: Crescente | E46: 572565.56 | F46: Regulamentacao | G46: R-6c | H46: Bom | I46: 1 | J46: Fixada na estrutura | K46: - | L46: - | M46: 1 | N46: =IF(M46="",K46*L46,IF(G46="R-1",K46*L46,IF(LEFT(G46,1)="R",PI()*((M46^2)/4),K46*L46))) -> 0.78539816
A47: 44 | B47: CMG-120 | C47: Direita | D47: Crescente | E47: 572573.77 | F47: Regulamentacao | G47: R-6c | H47: Bom | I47: 1 | J47: Fixada na estrutura | K47: - | L47: - | M47: 1 | N47: =IF(M47="",K47*L47,IF(G47="R-1",K47*L47,IF(LEFT(G47,1)="R",PI()*((M47^2)/4),K47*L47))) -> 0.78539816
A48: 45 | B48: CMG-120 | C48: Direita | D48: Crescente | E48: 572604.14 | F48: Regulamentacao | G48: R-6c | H48: Bom | I48: 1 | J48: Fixada na estrutura | K48: - | L48: - | M48: 1 | N48: =IF(M48="",K48*L48,IF(G48="R-1",K48*L48,IF(LEFT(G48,1)="R",PI()*((M48^2)/4),K48*L48))) -> 0.78539816
... A53: 50 | B53: CMG-120 | C53: Direita | D53: Crescente | E53: 573135.69 | F53: Regulamentacao | G53: R-6c | H53: Bom | I53: 1 | J53: Perfil Metalico (I/C) | K53: - | L53: - | M53: 0.5 | N53: =IF(M53="",K53*L53,IF(G53="R-1",K53*L53,IF(LEFT(G53,1)="R",PI()*((M53^2)/4),K53*L53))) -> 0.19634954
A54: 51 | B54: CMG-120 | C54: Direita | D54: Crescente | E54: 573135.69 | F54: Advertencia | G54: A-32b | H54: Bom | I54: 1 | J54: Perfil Metalico (I/C) | K54: 0.5 | L54: 0.5 | M54: - | N54: =IF(M54="",K54*L54,IF(G54="R-1",K54*L54,IF(LEFT(G54,1)="R",PI()*((M54^2)/4),K54*L54))) -> 0.25
A55: 52 | B55: CMG-120 | C55: Direita | D55: Crescente | E55: 573168.44 | F55: Indicativa Regulamentacao | G55: IR-3 | H55: Bom | I55: 1 | J55: Perfil Metalico (I/C) | K55: 0.5 | L55: 0.5 | M55: - | N55: =IF(M55="",K55*L55,IF(G55="R-1",K55*L55,IF(LEFT(G55,1)="R",PI()*((M55^2)/4),K55*L55))) -> 0.25
A56: 53 | B56: CMG-120 | C56: Direita | D56: Crescente | E56: 573173.61 | F56: Advertencia | G56: A-18 | H56: Bom | I56: 1 | J56: Perfil Metalico (I/C) | K56: 0.5 | L56: 0.5 | M56: - | N56: =IF(M56="",K56*L56,IF(G56="R-1",K56*L56,IF(LEFT(G56,1)="R",PI()*((M56^2)/4),K56*L56))) -> 0.25
A57: 54 | B57: CMG-120 | C57: Direita | D57: Crescente | E57: 573354.98 | F57: Regulamentacao | G57: R-3 | H57: Bom | I57: 1 | J57: Portico | K57: - | L57: - | M57: 0.5 | N57: =IF(M57="",K57*L57,IF(G57="R-1",K57*L57,IF(LEFT(G57,1)="R",PI()*((M57^2)/4),K57*L57))) -> 0.19634954
A58: 55 | B58: CMG-120 | C58: Direita | D58: Crescente | E58: 573368.78 | F58: Regulamentacao | G58: R-3 | H58: Bom | I58: 1 | J58: Fixada na estrutura | K58: - | L58: - | M58: 0.5 | N58: =IF(M58="",K58*L58,IF(G58="R-1",K58*L58,IF(LEFT(G58,1)="R",PI()*((M58^2)/4),K58*L58))) -> 0.19634954
A59: 56 | B59: CMG-120 | C59: Direita | D59: Crescente | E59: 573374.06 | F59: Regulamentacao | G59: R-25b | H59: Bom | I59: 1 | J59: Perfil Metalico (I/C) | K59: - | L59: - | M59: 0.5 | N59: =IF(M59="",K59*L59,IF(G59="R-1",K59*L59,IF(LEFT(G59,1)="R",PI()*((M59^2)/4),K59*L59))) -> 0.19634954
A60: 57 | B60: CMG-120 | C60: Direita | D60: Crescente | E60: 573374.06 | F60: Regulamentacao | G60: R-2 | H60: Bom | I60: 1 | J60: Perfil Metalico (I/C) | K60: - | L60: - | M60: 0.5 | N60: =IF(M60="",K60*L60,IF(G60="R-1",K60*L60,IF(LEFT(G60,1)="R",PI()*((M60^2)/4),K60*L60))) -> 0.19634954
A61: 58 | B61: CMG-120 | C61: Direita | D61: Crescente | E61: 573610.68 | F61: Regulamentacao | G61: R-5a | H61: Bom | I61: 1 | J61: Perfil Metalico (I/C) | K61: - | L61: - | M61: 0.5 | N61: =IF(M61="",K61*L61,IF(G61="R-1",K61*L61,IF(LEFT(G61,1)="R",PI()*((M61^2)/4),K61*L61))) -> 0.19634954
A62: 59 | B62: CMG-120 | C62: Direita | D62: Crescente | E62: 573639.87 | F62: Regulamentacao | G62: R-6a | H62: Bom | I62: 1 | J62: Fixada na estrutura | K62: - | L62: - | M62: 0.5 | N62: =IF(M62="",K62*L62,IF(G62="R-1",K62*L62,IF(LEFT(G62,1)="R",PI()*((M62^2)/4),K62*L62))) -> 0.19634954
A63: 60 | B63: CMG-120 | C63: Direita | D63: Crescente | E63: 573671.57 | F63: Regulamentacao | G63: R-6a | H63: Bom | I63: 1 | J63: Fixada na estrutura | K63: - | L63: - | M63: 0.5 | N63: =IF(M63="",K63*L63,IF(G63="R-1",K63*L63,IF(LEFT(G63,1)="R",PI()*((M63^2)/4),K63*L63))) -> 0.19634954
A64: 61 | B64: CMG-120 | C64: Direita | D64: Crescente | E64: 573692.51 | F64: Regulamentacao | G64: R-6a | H64: Bom | I64: 1 | J64: Fixada na estrutura | K64: - | L64: - | M64: 0.5 | N64: =IF(M64="",K64*L64,IF(G64="R-1",K64*L64,IF(LEFT(G64,1)="R",PI()*((M64^2)/4),K64*L64))) -> 0.19634954
A65: 62 | B65: CMG-120 | C65: Direita | D65: Crescente | E65: 573727.93 | F65: Regulamentacao | G65: R-6a | H65: Bom | I65: 1 | J65: Fixada na estrutura | K65: - | L65: - | M65: 0.5 | N65: =IF(M65="",K65*L65,IF(G65="R-1",K65*L65,IF(LEFT(G65,1)="R",PI()*((M65^2)/4),K65*L65))) -> 0.19634954
A66: 63 | B66: CMG-120 | C66: Direita | D66: Crescente | E66: 573756.05 | F66: Regulamentacao | G66: R-6a | H66: Bom | I66: 1 | J66: Fixada na estrutura | K66: - | L66: - | M66: 0.5 | N66: =IF(M66="",K66*L66,IF(G66="R-1",K66*L66,IF(LEFT(G66,1)="R",PI()*((M66^2)/4),K66*L66))) -> 0.19634954
A67: 64 | B67: CMG-120 | C67: Direita | D67: Crescente | E67: 573821.82 | F67: Regulamentacao | G67: R-6a | H67: Bom | I67: 1 | J67: Fixada na estrutura | K67: - | L67: - | M67: 0.5 | N67: =IF(M67="",K67*L67,IF(G67="R-1",K67*L67,IF(LEFT(G67,1)="R",PI()*((M67^2)/4),K67*L67))) -> 0.19634954
A68: 65 | B68: CMG-120 | C68: Direita | D68: Crescente | E68: 573860.52 | F68: Regulamentacao | G68: R-6a | H68: Bom | I68: 1 | J68: Fixada na estrutura | K68: - | L68: - | M68: 0.5 | N68: =IF(M68="",K68*L68,IF(G68="R-1",K68*L68,IF(LEFT(G68,1)="R",PI()*((M68^2)/4),K68*L68))) -> 0.19634954
A69: 66 | B69: CMG-120 | C69: Direita | D69: Crescente | E69: 573860.52 | F69: Servicos Auxiliares | G69: S | H69: Bom | I69: 1 | J69: Fixada na estrutura | K69: 0.5 | L69: 0.5 | M69: - | N69: =IF(M69="",K69*L69,IF(G69="R-1",K69*L69,IF(LEFT(G69,1)="R",PI()*((M69^2)/4),K69*L69))) -> 0.25
A70: 67 | B70: CMG-120 | C70: Direita | D70: Crescente | E70: 573933.34 | F70: Regulamentacao | G70: R-6b | H70: Bom | I70: 1 | J70: Fixada na estrutura | K70: - | L70: - | M70: 1 | N70: =IF(M70="",K70*L70,IF(G70="R-1",K70*L70,IF(LEFT(G70,1)="R",PI()*((M70^2)/4),K70*L70))) -> 0.78539816
A71: 68 | B71: CMG-120 | C71: Direita | D71: Crescente | E71: 574107.65 | F71: Advertencia | G71: A-18 | H71: Bom | I71: 1 | J71: Perfil Metalico (I/C) | K71: 0.75 | L71: 0.75 | M71: - | N71: =IF(M71="",K71*L71,IF(G71="R-1",K71*L71,IF(LEFT(G71,1)="R",PI()*((M71^2)/4),K71*L71))) -> 0.5625
A72: 69 | B72: CMG-120 | C72: Direita | D72: Crescente | E72: 574148.09 | F72: Regulamentacao | G72: R-19 | H72: Bom | I72: 1 | J72: Perfil Metalico (I/C) | K72: - | L72: - | M72: 0.5 | N72: =IF(M72="",K72*L72,IF(G72="R-1",K72*L72,IF(LEFT(G72,1)="R",PI()*((M72^2)/4),K72*L72))) -> 0.19634954
A73: 70 | B73: CMG-120 | C73: Direita | D73: Crescente | E73: 574227.48 | F73: Regulamentacao | G73: R-6c | H73: Bom | I73: 1 | J73: Fixada na estrutura | K73: - | L73: - | M73: 0.75 | N73: =IF(M73="",K73*L73,IF(G73="R-1",K73*L73,IF(LEFT(G73,1)="R",PI()*((M73^2)/4),K73*L73))) -> 0.44178647
A74: 71 | B74: CMG-120 | C74: Direita | D74: Crescente | E74: 574284.53 | F74: Regulamentacao | G74: R-6c | H74: Bom | I74: 1 | J74: Fixada na estrutura | K74: - | L74: - | M74: 0.75 | N74: =IF(M74="",K74*L74,IF(G74="R-1",K74*L74,IF(LEFT(G74,1)="R",PI()*((M74^2)/4),K74*L74))) -> 0.44178647
A75: 72 | B75: CMG-120 | C75: Direita | D75: Crescente | E75: 574340.76 | F75: Advertencia | G75: A-18 | H75: Bom | I75: 1 | J75: Fixada na estrutura | K75: 0.75 | L75: 0.75 | M75: - | N75: =IF(M75="",K75*L75,IF(G75="R-1",K75*L75,IF(LEFT(G75,1)="R",PI()*((M75^2)/4),K75*L75))) -> 0.5625
A76: 73 | B76: CMG-120 | C76: Direita | D76: Crescente | E76: 574416.47 | F76: Regulamentacao | G76: R-19 | H76: Bom | I76: 1 | J76: Perfil Metalico (I/C) | K76: - | L76: - | M76: 0.5 | N76: =IF(M76="",K76*L76,IF(G76="R-1",K76*L76,IF(LEFT(G76,1)="R",PI()*((M76^2)/4),K76*L76))) -> 0.19634954
A77: 74 | B77: CMG-120 | C77: Direita | D77: Crescente | E77: 574556.62 | F77: Regulamentacao | G77: R-7 | H77: Bom | I77: 1 | J77: Perfil Metalico (I/C) | K77: - | L77: - | M77: 0.5 | N77: =IF(M77="",K77*L77,IF(G77="R-1",K77*L77,IF(LEFT(G77,1)="R",PI()*((M77^2)/4),K77*L77))) -> 0.19634954
A78: 75 | B78: CMG-120 | C78: Direita | D78: Crescente | E78: 574605.31 | F78: Advertencia | G78: A-1a | H78: Bom | I78: 1 | J78: Perfil Metalico (I/C) | K78: 1 | L78: 1 | M78: - | N78: =IF(M78="",K78*L78,IF(G78="R-1",K78*L78,IF(LEFT(G78,1)="R",PI()*((M78^2)/4),K78*L78))) -> 1
A79: 76 | B79: CMG-120 | C79: Direita | D79: Crescente | E79: 574649.16 | F79: Dispositivos Auxiliares | G79: MA | H79: Bom | I79: 1 | J79: Perfil Metalico (I/C) | K79: 0.5 | L79: 0.6 | M79: - | N79: =IF(M79="",K79*L79,IF(G79="R-1",K79*L79,IF(LEFT(G79,1)="R",PI()*((M79^2)/4),K79*L79))) -> 0.3
A80: 77 | B80: CMG-120 | C80: Direita | D80: Crescente | E80: 574656.26 | F80: Dispositivos Auxiliares | G80: MA | H80: Bom | I80: 1 | J80: Perfil Metalico (I/C) | K80: 0.5 | L80: 0.6 | M80: - | N80: =IF(M80="",K80*L80,IF(G80="R-1",K80*L80,IF(LEFT(G80,1)="R",PI()*((M80^2)/4),K80*L80))) -> 0.3
A81: 78 | B81: CMG-120 | C81: Direita | D81: Crescente | E81: 574666.46 | F81: Dispositivos Auxiliares | G81: MA | H81: Bom | I81: 1 | J81: Perfil Metalico (I/C) | K81: 0.5 | L81: 0.6 | M81: - | N81: =IF(M81="",K81*L81,IF(G81="R-1",K81*L81,IF(LEFT(G81,1)="R",PI()*((M81^2)/4),K81*L81))) -> 0.3
A82: 79 | B82: CMG-120 | C82: Direita | D82: Crescente | E82: 574673.98 | F82: Dispositivos Auxiliares | G82: MA | H82: Bom | I82: 1 | J82: Perfil Metalico (I/C) | K82: 0.5 | L82: 0.6 | M82: - | N82: =IF(M82="",K82*L82,IF(G82="R-1",K82*L82,IF(LEFT(G82,1)="R",PI()*((M82^2)/4),K82*L82))) -> 0.3
A83: 80 | B83: CMG-120 | C83: Direita | D83: Crescente | E83: 574775.2 | F83: Advertencia | G83: A-1b | H83: Bom | I83: 1 | J83: Perfil Metalico (I/C) | K83: 1.2 | L83: 1.2 | M83: - | N83: =IF(M83="",K83*L83,IF(G83="R-1",K83*L83,IF(LEFT(G83,1)="R",PI()*((M83^2)/4),K83*L83))) -> 1.44
A84: 81 | B84: CMG-120 | C84: Direita | D84: Crescente | E84: 575017.69 | F84: Regulamentacao | G84: R-19-60 | H84: Bom | I84: 1 | J84: Perfil Metalico (I/C) | K84: - | L84: - | M84: 1 | N84: =IF(M84="",K84*L84,IF(G84="R-1",K84*L84,IF(LEFT(G84,1)="R",PI()*((M84^2)/4),K84*L84))) -> 0.78539816
A85: 82 | B85: CMG-120 | C85: Direita | D85: Crescente | E85: 575097.88 | F85: Regulamentacao | G85: R-5a | H85: Bom | I85: 1 | J85: Perfil Metalico (I/C) | K85: - | L85: - | M85: 1 | N85: =IF(M85="",K85*L85,IF(G85="R-1",K85*L85,IF(LEFT(G85,1)="R",PI()*((M85^2)/4),K85*L85))) -> 0.78539816
A86: 83 | B86: CMG-120 | C86: Direita | D86: Crescente | E86: 575329.72 | F86: Marco Quilométrico | G86: IL-2 | H86: Ruim | I86: 1 | J86: Madeira | K86: 0.5 | L86: 0.8 | M86: - | N86: =IF(M86="",K86*L86,IF(G86="R-1",K86*L86,IF(LEFT(G86,1)="R",PI()*((M86^2)/4),K86*L86))) -> 0.4
A87: 84 | B87: CMG-120 | C87: Direita | D87: Crescente | E87: 575418.92 | F87: Sinalizacao de Orientacao | G87: OD | H87: Bom | I87: 2 | J87: Madeira | K87: 3.5 | L87: 2 | M87: - | N87: =IF(M87="",K87*L87,IF(G87="R-1",K87*L87,IF(LEFT(G87,1)="R",PI()*((M87^2)/4),K87*L87))) -> 7
A88: 85 | B88: CMG-120 | C88: Direita | D88: Crescente | E88: 575621.87 | F88: Regulamentacao | G88: R-2 | H88: Bom | I88: 1 | J88: Madeira | K88: - | L88: - | M88: 1 | N88: =IF(M88="",K88*L88,IF(G88="R-1",K88*L88,IF(LEFT(G88,1)="R",PI()*((M88^2)/4),K88*L88))) -> 0.78539816
A89: 86 | B89: CMG-120 | C89: Direita | D89: Crescente | E89: 575631.52 | F89: Marcador de Perigo | G89: MP | H89: Bom | I89: 1 | J89: Madeira | K89: 0.3 | L89: 0.9 | M89: - | N89: =IF(M89="",K89*L89,IF(G89="R-1",K89*L89,IF(LEFT(G89,1)="R",PI()*((M89^2)/4),K89*L89))) -> 0.27
A90: 87 | B90: CMG-120 | C90: Direita | D90: Crescente | E90: 575631.52 | F90: Sinalizacao de Orientacao | G90: OCs | H90: Bom | I90: 2 | J90: Madeira | K90: 3.5 | L90: 3 | M90: - | N90: =IF(M90="",K90*L90,IF(G90="R-1",K90*L90,IF(LEFT(G90,1)="R",PI()*((M90^2)/4),K90*L90))) -> 10.5
A91: 88 | B91: CMG-120 | C91: Direita | D91: Crescente | E91: 575763.02 | F91: Apoio Operacional | G91: IP | H91: Bom | I91: 3 | J91: Madeira | K91: 4 | L91: 4 | M91: - | N91: =IF(M91="",K91*L91,IF(G91="R-1",K91*L91,IF(LEFT(G91,1)="R",PI()*((M91^2)/4),K91*L91))) -> 16
A92: 89 | B92: CMG-120 | C92: Direita | D92: Crescente | E92: 575774.06 | F92: Advertencia | G92: A-2b | H92: Bom | I92: 1 | J92: Madeira | K92: 1 | L92: 1 | M92: - | N92: =IF(M92="",K92*L92,IF(G92="R-1",K92*L92,IF(LEFT(G92,1)="R",PI()*((M92^2)/4),K92*L92))) -> 1
A93: 90 | B93: CMG-120 | C93: Direita | D93: Crescente | E93: 575857.12 | F93: Regulamentacao | G93: R-19 | H93: Bom | I93: 1 | J93: Madeira | K93: - | L93: - | M93: 1 | N93: =IF(M93="",K93*L93,IF(G93="R-1",K93*L93,IF(LEFT(G93,1)="R",PI()*((M93^2)/4),K93*L93))) -> 0.78539816
A94: 91 | B94: CMG-120 | C94: Direita | D94: Crescente | E94: 575981.32 | F94: Sinalizacao de Identificacao | G94: II | H94: Bom | I94: 2 | J94: Madeira | K94: 2.5 | L94: 2 | M94: - | N94: =IF(M94="",K94*L94,IF(G94="R-1",K94*L94,IF(LEFT(G94,1)="R",PI()*((M94^2)/4),K94*L94))) -> 5
A95: 92 | B95: CMG-120 | C95: Direita | D95: Crescente | E95: 576289.91 | F95: Regulamentacao | G95: R-7 | H95: Bom | I95: 1 | J95: Madeira | K95: - | L95: - | M95: 1 | N95: =IF(M95="",K95*L95,IF(G95="R-1",K95*L95,IF(LEFT(G95,1)="R",PI()*((M95^2)/4),K95*L95))) -> 0.78539816
A96: 93 | B96: CMG-120 | C96: Direita | D96: Crescente | E96: 577397.98 | F96: Regulamentacao | G96: R-7 | H96: Bom | I96: 1 | J96: Madeira | K96: - | L96: - | M96: 1 | N96: =IF(M96="",K96*L96,IF(G96="R-1",K96*L96,IF(LEFT(G96,1)="R",PI()*((M96^2)/4),K96*L96))) -> 0.78539816
A97: 94 | B97: CMG-120 | C97: Direita | D97: Crescente | E97: 577497.28 | F97: Regulamentacao | G97: R-19 | H97: Bom | I97: 1 | J97: Madeira | K97: - | L97: - | M97: 1 | N97: =IF(M97="",K97*L97,IF(G97="R-1",K97*L97,IF(LEFT(G97,1)="R",PI()*((M97^2)/4),K97*L97))) -> 0.78539816
A98: 95 | B98: CMG-120 | C98: Direita | D98: Crescente | E98: 577865.23 | F98: Marco Quilométrico | G98: IL-1 | H98: Bom | I98: 1 | J98: Madeira | K98: 0.5 | L98: 0.8 | M98: - | N98: =IF(M98="",K98*L98,IF(G98="R-1",K98*L98,IF(LEFT(G98,1)="R",PI()*((M98^2)/4),K98*L98))) -> 0.4
A99: 96 | B99: CMG-120 | C99: Direita | D99: Crescente | E99: 578204.28 | F99: Advertencia | G99: A-32a | H99: Bom | I99: 1 | J99: Madeira | K99: 1 | L99: 1 | M99: - | N99: =IF(M99="",K99*L99,IF(G99="R-1",K99*L99,IF(LEFT(G99,1)="R",PI()*((M99^2)/4),K99*L99))) -> 1
A100: 97 | B100: CMG-120 | C100: Direita | D100: Crescente | E100: 578276.15 | F100: Regulamentacao | G100: R-7 | H100: Bom | I100: 1 | J100: Madeira | K100: - | L100: - | M100: 1 | N100: =IF(M100="",K100*L100,IF(G100="R-1",K100*L100,IF(LEFT(G100,1)="R",PI()*((M100^2)/4),K100*L100))) -> 0.78539816
A101: 98 | B101: CMG-120 | C101: Direita | D101: Crescente | E101: 579149.57 | F101: Sinalizacao de Identificacao | G101: II | H101: Bom | I101: 2 | J101: Madeira | K101: 2.5 | L101: 2 | M101: - | N101: =IF(M101="",K101*L101,IF(G101="R-1",K101*L101,IF(LEFT(G101,1)="R",PI()*((M101^2)/4),K101*L101))) -> 5
A102: 99 | B102: CMG-120 | C102: Direita | D102: Crescente | E102: 579620.48 | F102: Dispositivos Auxiliares | G102: MA | H102: Bom | I102: 1 | J102: Madeira | K102: 0.5 | L102: 0.6 | M102: - | N102: =IF(M102="",K102*L102,IF(G102="R-1",K102*L102,IF(LEFT(G102,1)="R",PI()*((M102^2)/4),K102*L102))) -> 0.3
A103: 100 | B103: CMG-120 | C103: Direita | D103: Crescente | E103: 579627.41 | F103: Advertencia | G103: A-1a | H103: Bom | I103: 1 | J103: Madeira | K103: 1 | L103: 1 | M103: - | N103: =IF(M103="",K103*L103,IF(G103="R-1",K103*L103,IF(LEFT(G103,1)="R",PI()*((M103^2)/4),K103*L103))) -> 1
A104: 101 | B104: CMG-120 | C104: Direita | D104: Crescente | E104: 579641.57 | F104: Dispositivos Auxiliares | G104: MA | H104: Bom | I104: 1 | J104: Madeira | K104: 0.5 | L104: 0.6 | M104: - | N104: =IF(M104="",K104*L104,IF(G104="R-1",K104*L104,IF(LEFT(G104,1)="R",PI()*((M104^2)/4),K104*L104))) -> 0.3
...

Sheet Cadastro DS
A1: ID | B1: RODOVIA | C1: LADO | D1: SENTIDO | E1: KM_INICIO | F1: KM_FIM | G1: TIPO | H1: EXTENSÃO (m) | I1: CONSERVAÇÃO | J1: Terminal ou transição Início | K1: Terminal ou transição Fim | O1: Quantidade | P1: Dispositivo | Q1: Quantidade
A2: 1 | B2: CMG-120 | C2: Direita | D2: Crescente | E2: 569884.88 | F2: 569976.73 | G2: Guarda-corpo metalico | H2: 98.8184 | I2: Bom | J2: - | K2: - | O2: =COUNTIF(G:G,P2) -> 14 | P2: Guarda-corpo metalico | Q2: =SUMIFS($H:$H,$G:$G,$P2) -> 575.6682
A3: 2 | B3: CMG-120 | C3: Direita | D3: Crescente | E3: 570400.34 | F3: 570445.39 | G3: Defensa Metalica | H3: 51.8121 | I3: Bom | J3: Terminal Aereo | K3: Terminal Aereo | O3: =COUNTIF(G:G,P3) -> 193 | P3: Defensa Metalica | Q3: =SUMIFS($H:$H,$G:$G,$P3) -> 13459.79
A4: 3 | B4: CMG-120 | C4: Direita | D4: Crescente | E4: 573300.89 | F4: 573334.84 | G4: Guarda-corpo metalico | H4: 35.7196 | I4: Bom | J4: - | K4: - | O4: =COUNTIF(G:G,P4) -> 30 | P4: Guarda-corpo de concreto | Q4: =SUMIFS($H:$H,$G:$G,$P4) -> 1692.6556
A5: 4 | B5: CMG-120 | C5: Direita | D5: Crescente | E5: 573555.7 | F5: 573566.99 | G5: Guarda-corpo de concreto | H5: 11.5671 | I5: Bom | J5: - | K5: - | O5: =COUNTIF(G:G,P5) -> 15 | P5: Barreira de concreto | Q5: =SUMIFS($H:$H,$G:$G,$P5) -> 759.8366
A6: 5 | B6: CMG-120 | C6: Direita | D6: Crescente | E6: 576040.88 | F6: 576074.39 | G6: Defensa Metalica | H6: 35.4275 | I6: Bom | J6: Terminal Ancorado | K6: Transicao Tripla | P6: Total | Q6: =SUM(Q2:Q5) -> 16487.951
A7: 6 | B7: CMG-120 | C7: Direita | D7: Crescente | E7: 576074.39 | F7: 576132.36 | G7: Barreira de concreto | H7: 57.483 | I7: Bom | J7: - | K7: -
A8: 7 | B8: CMG-120 | C8: Direita | D8: Crescente | E8: 576132.36 | F8: 576156.69 | G8: Defensa Metalica | H8: 20.713 | I8: Bom | J8: Transicao Tripla | K8: Terminal Ancorado
A9: 8 | B9: CMG-120 | C9: Direita | D9: Crescente | E9: 579260.31 | F9: 579282.11 | G9: Defensa Metalica | H9: 31.3395 | I9: Bom | J9: Terminal Ancorado | K9: Transicao Tripla | P9: Dispositivo de Saída | Q9: Condição (und)
A10: 9 | B10: CMG-120 | C10: Direita | D10: Crescente | E10: 579296.35 | F10: 579331.14 | G10: Guarda-corpo de concreto | H10: 35.6902 | I10: Bom | J10: - | K10: - | Q10: Bom
A11: 10 | B11: CMG-120 | C11: Direita | D11: Crescente | E11: 579331.14 | F11: 579355.63 | G11: Defensa Metalica | H11: 22.1681 | I11: Bom | J11: Transicao Tripla | K11: Terminal Ancorado | P11: Terminal Aereo | Q11: =COUNTIFS($J:$J,$P11)+COUNTIFS($K:$K,$P11) -> 110
A12: 11 | B12: CMG-120 | C12: Direita | D12: Crescente | E12: 587613.86 | F12: 587657.92 | G12: Defensa Metalica | H12: 37.4902 | I12: Bom | J12: Terminal Aereo | K12: Terminal Aereo | P12: Transicao Tripla | Q12: =COUNTIFS($J:$J,$P12)+COUNTIFS($K:$K,$P12) -> 30
A13: 12 | B13: CMG-120 | C13: Direita | D13: Crescente | E13: 587657.92 | F13: 587668.93 | G13: Guarda-corpo de concreto | H13: 6.7154 | I13: Regular | J13: - | K13: - | P13: Terminal Ancorado | Q13: =COUNTIFS($J:$J,$P13)+COUNTIFS($K:$K,$P13) -> 200
A14: 13 | B14: CMG-120 | C14: Direita | D14: Crescente | E14: 587668.93 | F14: 587679.95 | G14: Defensa Metalica | H14: 16.1581 | I14: Bom | J14: Terminal Aereo | K14: Terminal Aereo | P14: Transicao Dupla | Q14: =COUNTIFS($J:$J,$P14)+COUNTIFS($K:$K,$P14) -> 25
A15: 14 | B15: CMG-120 | C15: Direita | D15: Crescente | E15: 587793.83 | F15: 587814.69 | G15: Defensa Metalica | H15: 19.0835 | I15: Bom | J15: Terminal Ancorado | K15: Terminal Ancorado | P15: Terminal Atenuador de Impacto | Q15: =COUNTIFS($J:$J,$P15)+COUNTIFS($K:$K,$P15) -> 13
A16: 15 | B16: CMG-120 | C16: Direita | D16: Crescente | E16: 590831.64 | F16: 590927.99 | G16: Defensa Metalica | H16: 95.152 | I16: Bom | J16: Terminal Aereo | K16: Terminal Ancorado | P16: Total | Q16: =SUM(Q11:Q15) -> 378
A17: 16 | B17: CMG-120 | C17: Direita | D17: Crescente | E17: 593656.86 | F17: 593804.83 | G17: Defensa Metalica | H17: 145.7366 | I17: Bom | J17: Terminal Aereo | K17: Terminal Ancorado
A18: 17 | B18: CMG-120 | C18: Direita | D18: Crescente | E18: 597877.53 | F18: 598009.76 | G18: Defensa Metalica | H18: 128.1641 | I18: Bom | J18: Terminal Aereo | K18: Terminal Ancorado
A19: 18 | B19: CMG-120 | C19: Direita | D19: Crescente | E19: 599015.66 | F19: 599045.83 | G19: Defensa Metalica | H19: 34.3471 | I19: Regular | J19: Terminal Ancorado | K19: Terminal Ancorado
A20: 19 | B20: CMG-120 | C20: Direita | D20: Crescente | E20: 599045.83 | F20: 599061 | G20: Guarda-corpo metalico | H20: 15.5827 | I20: Bom | J20: - | K20: -
A21: 20 | B21: CMG-120 | C21: Direita | D21: Crescente | E21: 599061 | F21: 599076.13 | G21: Defensa Metalica | H21: 12.6392 | I21: Regular | J21: Terminal Aereo | K21: Terminal Ancorado
A22: 21 | B22: CMG-120 | C22: Direita | D22: Crescente | E22: 603009.65 | F22: 603044.36 | G22: Defensa Metalica | H22: 33.9662 | I22: Bom | J22: Terminal Ancorado | K22: Transicao Tripla
A23: 22 | B23: CMG-120 | C23: Direita | D23: Crescente | E23: 603044.36 | F23: 603044.36 | G23: Guarda-corpo de concreto | H23: 5.8766 | I23: Bom | J23: - | K23: -
A24: 23 | B24: CMG-120 | C24: Direita | D24: Crescente | E24: 604110.86 | F24: 604150.12 | G24: Defensa Metalica | H24: 33.0658 | I24: Bom | J24: Terminal Ancorado | K24: Transicao Tripla
A25: 24 | B25: CMG-120 | C25: Direita | D25: Crescente | E25: 604150.12 | F25: 604174.5 | G25: Barreira de concreto | H25: 30.2403 | I25: Bom | J25: - | K25: -
A26: 25 | B26: CMG-120 | C26: Direita | D26: Crescente | E26: 604174.5 | F26: 604189.31 | G26: Defensa Metalica | H26: 9.4912 | I26: Bom | J26: Transicao Dupla | K26: Terminal Ancorado
A27: 26 | B27: CMG-120 | C27: Direita | D27: Crescente | E27: 606582.47 | F27: 606642.16 | G27: Defensa Metalica | H27: 53.315 | I27: Bom | J27: Terminal Aereo | K27: Terminal Ancorado
A28: 27 | B28: CMG-120 | C28: Direita | D28: Crescente | E28: 606651.96 | F28: 606682.52 | G28: Defensa Metalica | H28: 24.0398 | I28: Bom | J28: Terminal Ancorado | K28: Terminal Aereo
... A253: 57 | B253: MG-262 | C253: Direita | D253: Decrescente | E253: 4701.4526 | F253: 4691.2277 | G253: Defensa Metalica | H253: 11.0961 | I253: Bom | J253: Transicao Dupla | K253: Terminal Ancorado

Sheet Cadastro_Bueiro
A1: km Estaca | B1: Rodovia | C1: Tipo | D1: Dimensão (m) | E1: Comp (m) | F1: Entr. | G1: Saída | H1: Auxiliar | J1: Tipo | K1: Dimensão m | L1: Quantidade | M1: Extensão Total m | N1: Área m² | O1: Volume m³ | P1: Área de limpeza da Boca (m²)
A2: 600 | B2: MG-262 | C2: BSTC | D2: 0.6 | E2: 18 | F2: Caixa | G2: Boca | H2: 1 | J2: BSTC | K2: 0.4 | L2: =COUNTIFS(C:C,J2,D:D,K2) -> 76 | M2: =SUMIFS(E:E,C:C,J2,D:D,K2) -> 1298 | N2: =(PI()*0.4^2)/4 -> 0.12566371 | O2: =M2*N2 -> 163.11149 | P2: =(4*( ( (K2+0.4) *2) + (0.27*4) * 2 ))/2 -> 7.52
A3: 750 | B3: MG-262 | C3: BSTC | D3: 0.6 | E3: 18 | F3: Caixa | G3: Boca | H3: 1 | J3: BSTC | K3: 0.6 | L3: =COUNTIFS(C:C,J3,D:D,K3) -> 303 | M3: =SUMIFS(E:E,C:C,J3,D:D,K3) -> 6210.6 | N3: =(PI()*0.6^2)/4 -> 0.28274334 | O3: =M3*N3 -> 1756.0058 | P3: =(4*( ( (K3+0.4) *2) + (0.27*4) * 2 ))/2 -> 8.32
A4: 4950 | B4: MG-262 | C4: BSTC | D4: 0.6 | E4: 18 | F4: Caixa | G4: Boca | H4: 1 | J4: BSTC | K4: 0.8 | L4: =COUNTIFS(C:C,J4,D:D,K4) -> 205 | M4: =SUMIFS(E:E,C:C,J4,D:D,K4) -> 4737.5 | N4: =(PI()*0.8^2)/4 -> 0.50265482 | O4: =M4*N4 -> 2381.3272 | P4: =(4*( ( (K4+0.4) *2) + (0.27*4) * 2 ))/2 -> 9.12
A5: 5200 | B5: MG-262 | C5: BSTC | D5: 0.6 | E5: 18 | F5: Caixa | G5: Boca | H5: 1 | J5: BSTC | K5: 1 | L5: =COUNTIFS(C:C,J5,D:D,K5) -> 34 | M5: =SUMIFS(E:E,C:C,J5,D:D,K5) -> 1004 | N5: =(PI()*1^2)/4 -> 0.78539816 | O5: =M5*N5 -> 788.53976 | P5: =(4*( ( (K5+0.4) *2) + (0.27*4) * 2 ))/2 -> 9.92
A6: 8600 | B6: MG-262 | C6: BSTC | D6: 0.6 | E6: 18 | F6: Caixa | G6: Boca | H6: 1 | J6: BSTC | K6: 1.2 | L6: =COUNTIFS(C:C,J6,D:D,K6) -> 2 | M6: =SUMIFS(E:E,C:C,J6,D:D,K6) -> 50 | N6: =(PI()*1.2^2)/4 -> 1.1309734 | O6: =M6*N6 -> 56.548668 | P6: =(4*( ( (K6+0.4) *2) + (0.27*4) * 2 ))/2 -> 10.72
A7: 11800 | B7: MG-262 | C7: BSTC | D7: 0.6 | E7: 18 | F7: Caixa | G7: Boca | H7: 1 | J7: BDTC | K7: 0.8 | L7: =COUNTIFS(C:C,J7,D:D,K7) -> 9 | M7: =SUMIFS(E:E,C:C,J7,D:D,K7) -> 271 | N7: =((PI()*0.8^2)/4)*2 -> 1.0053096 | O7: =M7*N7 -> 272.43891 | P7: =((4*( ( (K7+0.4) *2) + (0.27*4) * 2 ))/2)*2+1 -> 19.24
A8: 14500 | B8: MG-262 | C8: BSTC | D8: 0.6 | E8: 18 | F8: Caixa | G8: Boca | H8: 1 | J8: BDTC | K8: 1 | L8: =COUNTIFS(C:C,J8,D:D,K8) -> 5 | M8: =SUMIFS(E:E,C:C,J8,D:D,K8) -> 140 | N8: =((PI()*1^2)/4)*2 -> 1.5707963 | O8: =M8*N8 -> 219.91149 | P8: =((4*( ( (K8+0.4) *2) + (0.27*4) * 2 ))/2)*2+1 -> 20.84 | Q8: =M8/L8 -> 28
A9: 15100 | B9: MG-262 | C9: BSTC | D9: 0.6 | E9: 100 | F9: Caixa | G9: Boca | H9: 1 | J9: BDTC | K9: 1.2 | L9: =COUNTIFS(C:C,J9,D:D,K9) -> 2 | M9: =SUMIFS(E:E,C:C,J9,D:D,K9) -> 47 | N9: =((PI()*1.2^2)/4)*2 -> 2.2619467 | O9: =M9*N9 -> 106.3115 | P9: =((4*( ( (K9+0.4) *2) + (0.27*4) * 2 ))/2)*2+1 -> 22.44 | Q9: =M9/L9 -> 23.5
A10: 15400 | B10: MG-262 | C10: BSTC | D10: 0.6 | E10: 28 | F10: Caixa | G10: Boca | H10: 1 | J10: BTTC | K10: 1 | L10: =COUNTIFS(C:C,J10,D:D,K10) -> 1 | M10: =SUMIFS(E:E,C:C,J10,D:D,K10) -> 30 | N10: =((PI()*1^2)/4)*3 -> 2.3561945 | O10: =M10*N10 -> 70.685835 | P10: =((4*( ( (K10+0.4) *2) + (0.27*4) * 2 ))/2)*3+1 -> 30.76 | Q10: =M10/L10 -> 30
A11: 16200 | B11: MG-262 | C11: BSTC | D11: 0.4 | E11: 28 | F11: Boca | G11: Boca | H11: 1 | J11: BTTM | K11: 2 | L11: =COUNTIFS(C:C,J11,D:D,K11) -> 1 | M11: =SUMIFS(E:E,C:C,J11,D:D,K11) -> 55 | N11: =((PI()*2^2)/4)*3 -> 9.424778 | O11: =M11*N11 -> 518.36279 | P11: =((4*( ( (K11+0.4) *2) + (0.27*4) * 2 ))/2)*3+1 -> 42.76 | Q11: =M11/L11 -> 55
A12: 17750 | B12: MG-262 | C12: BSTC | D12: 0.4 | E12: 30 | F12: Caixa | G12: Boca | H12: 1 | J12: BSCC | K12: 0,80X1,10 | L12: =COUNTIFS(C:C,J12,D:D,K12) -> 1 | M12: =SUMIFS(E:E,C:C,J12,D:D,K12) -> 61 | N12: =0.8*1.1 -> 0.88 | O12: =M12*N12 -> 53.68 | P12: =(4*( ( (1.1+0.4) *2) + (0.27*4) * 2 ))/2 -> 10.32 | Q12: =M12/L12 -> 61
A13: 17800 | B13: MG-262 | C13: BSTC | D13: 0.4 | E13: 18 | F13: Caixa | G13: Boca | H13: 1 | J13: BSCC | K13: 0,8x1,0 | L13: =COUNTIFS(C:C,J13,D:D,K13) -> 1 | M13: =SUMIFS(E:E,C:C,J13,D:D,K13) -> 78 | N13: =0.8*1 -> 0.8 | O13: =M13*N13 -> 62.4 | P13: =(4*( ( (1+0.4) *2) + (0.27*4) * 2 ))/2 -> 9.92 | Q13: =M13/L13 -> 78
A14: 18100 | B14: MG-262 | C14: BSTC | D14: 0.4 | E14: 30 | F14: Caixa | G14: Boca | H14: 1 | J14: BSCC | K14: 1,0X1,0 | L14: =COUNTIFS(C:C,J14,D:D,K14) -> 3 | M14: =SUMIFS(E:E,C:C,J14,D:D,K14) -> 118 | N14: 1 | O14: =M14*N14 -> 118 | P14: =(4*( ( (1+0.4) *2) + (0.27*4) * 2 ))/2 -> 9.92 | Q14: =M14/L14 -> 39.333333
A15: 19100 | B15: MG-262 | C15: BSTC | D15: 0.4 | E15: 30 | F15: Caixa | G15: Boca | H15: 1 | J15: BSCC | K15: 1,0x1,5 | L15: =COUNTIFS(C:C,J15,D:D,K15) -> 1 | M15: =SUMIFS(E:E,C:C,J15,D:D,K15) -> 53 | N15: 1.5 | O15: =M15*N15 -> 79.5 | P15: =(4*( ( (1.5+0.4) *2) + (0.27*4) * 2 ))/2 -> 11.92 | Q15: =M15/L15 -> 53
A16: 19200 | B16: MG-262 | C16: BSTC | D16: 0.4 | E16: 18 | F16: Caixa | G16: Boca | H16: 1 | J16: BSCC | K16: 1,5X1,0 | L16: =COUNTIFS(C:C,J16,D:D,K16) -> 2 | M16: =SUMIFS(E:E,C:C,J16,D:D,K16) -> 89 | N16: 1.5 | O16: =M16*N16 -> 133.5 | P16: =(4*( ( (1+0.4) *2) + (0.27*4) * 2 ))/2 -> 9.92 | Q16: =M16/L16 -> 44.5
A17: 21400 | B17: MG-262 | C17: BSTC | D17: 0.4 | E17: 12 | F17: Caixa | G17: Boca | H17: 1 | J17: BSCC | K17: 1,5X1,5 | L17: =COUNTIFS(C:C,J17,D:D,K17) -> 2 | M17: =SUMIFS(E:E,C:C,J17,D:D,K17) -> 38 | N17: =1.5*1.5 -> 2.25 | O17: =M17*N17 -> 85.5 | P17: =(4*( ( (1.5+0.4) *2) + (0.27*4) * 2 ))/2 -> 11.92 | Q17: =M17/L17 -> 19
A18: 21900 | B18: MG-262 | C18: BSTC | D18: 0.6 | E18: 12 | F18: Caixa | G18: Boca | H18: 1 | J18: BSCC | K18: 1,5X2,0 | L18: =COUNTIFS(C:C,J18,D:D,K18) -> 2 | M18: =SUMIFS(E:E,C:C,J18,D:D,K18) -> 86 | N18: 3 | O18: =M18*N18 -> 258 | P18: =(4*( ( (2+0.4) *2) + (0.27*4) * 2 ))/2 -> 13.92 | Q18: =M18/L18 -> 43
A19: 22200 | B19: MG-262 | C19: BSTC | D19: 0.4 | E19: 18 | F19: Caixa | G19: Boca | H19: 1 | J19: BSCC | K19: 1,50X1,70 | L19: =COUNTIFS(C:C,J19,D:D,K19) -> 1 | M19: =SUMIFS(E:E,C:C,J19,D:D,K19) -> 24 | N19: =1.5*1.7 -> 2.55 | O19: =M19*N19 -> 61.2 | P19: =(4*( ( (1.7+0.4) *2) + (0.27*4) * 2 ))/2 -> 12.72 | Q19: =M19/L19 -> 24
A20: 22350 | B20: MG-262 | C20: BSTC | D20: 0.4 | E20: 18 | F20: Boca | G20: Boca | H20: 1 | J20: BSCC | K20: 2,0X1,5 | L20: =COUNTIFS(C:C,J20,D:D,K20) -> 1 | M20: =SUMIFS(E:E,C:C,J20,D:D,K20) -> 27 | N20: =2*1.5 -> 3 | O20: =M20*N20 -> 81 | P20: =(4*( ( (1.5+0.4) *2) + (0.27*4) * 2 ))/2 -> 11.92 | Q20: =M20/L20 -> 27
A21: 22650 | B21: MG-262 | C21: BSTC | D21: 0.4 | E21: 30 | F21: Caixa | G21: Boca | H21: 1 | J21: BSCC | K21: 2,5X2,0 | L21: =COUNTIFS(C:C,J21,D:D,K21) -> 1 | M21: =SUMIFS(E:E,C:C,J21,D:D,K21) -> 16 | N21: 5 | O21: =M21*N21 -> 80 | P21: =(4*( ( (2+0.4) *2) + (0.27*4) * 2 ))/2 -> 13.92 | Q21: =M21/L21 -> 16
A22: 22700 | B22: MG-262 | C22: BSTC | D22: 1 | E22: 30 | F22: Caixa | G22: Boca | H22: 1 | J22: BSCC | K22: 2,0X3,5 | L22: =COUNTIFS(C:C,J22,D:D,K22) -> 1 | M22: =SUMIFS(E:E,C:C,J22,D:D,K22) -> 20 | N22: 7 | O22: =M22*N22 -> 140 | P22: =(4*( ( (3.5+0.4) *2) + (0.27*4) * 2 ))/2 -> 19.92 | Q22: =M22/L22 -> 20
A23: 22800 | B23: MG-262 | C23: BSTC | D23: 1 | E23: 18 | F23: Caixa | G23: Boca | H23: 1 | J23: BSCC | K23: 2,5X3,0 | L23: =COUNTIFS(C:C,J23,D:D,K23) -> 2 | M23: =SUMIFS(E:E,C:C,J23,D:D,K23) -> 77 | N23: =2.5*3 -> 7.5 | O23: =M23*N23 -> 577.5 | P23: =(4*( ( (3+0.4) *2) + (0.27*4) * 2 ))/2 -> 17.92 | Q23: =M23/L23 -> 38.5
A24: 23050 | B24: MG-262 | C24: BSTC | D24: 0.4 | E24: 18 | F24: Caixa | G24: Boca | H24: 1 | J24: BSCC | K24: 3,0X3,0 | L24: =COUNTIFS(C:C,J24,D:D,K24) -> 1 | M24: =SUMIFS(E:E,C:C,J24,D:D,K24) -> 21 | N24: 9 | O24: =M24*N24 -> 189 | P24: =(4*( ( (3+0.4) *2) + (0.27*4) * 2 ))/2 -> 17.92 | Q24: =M24/L24 -> 21
A25: 23300 | B25: MG-262 | C25: BSTC | D25: 0.4 | E25: 18 | F25: Boca | G25: Boca | H25: 1 | J25: BSCC | K25: 4,0X3,O | L25: =COUNTIFS(C:C,J25,D:D,K25) -> 1 | M25: =SUMIFS(E:E,C:C,J25,D:D,K25) -> 22 | N25: 12 | O25: =M25*N25 -> 264 | P25: =(4*( ( (3+0.4) *2) + (0.27*4) * 2 ))/2 -> 17.92 | Q25: =M25/L25 -> 22
A26: 23800 | B26: MG-262 | C26: BSTC | D26: 0.4 | E26: 12 | F26: Caixa | G26: Boca | H26: 1 | J26: BDCC | K26: 1,0X2,0 | L26: =COUNTIFS(C:C,J26,D:D,K26) -> 1 | M26: =SUMIFS(E:E,C:C,J26,D:D,K26) -> 18 | N26: 4 | O26: =M26*N26 -> 72 | P26: =(4*( ( (2+0.4) *2) + (0.27*4) * 2 ))/2 -> 13.92 | Q26: =M26/L26 -> 18
A27: 24200 | B27: MG-262 | C27: BSTC | D27: 0.4 | E27: 18 | F27: Boca | G27: Boca | H27: 1 | J27: BDCC | K27: 2,00X2,00 | L27: =COUNTIFS(C:C,J27,D:D,K27) -> 1 | M27: =SUMIFS(E:E,C:C,J27,D:D,K27) -> 17 | N27: 8 | O27: =M27*N27 -> 136 | P27: =(4*( ( (2+0.4) *2) + (0.27*4) * 2 ))/2 -> 13.92 | Q27: =M27/L27 -> 17
A28: 24600 | B28: MG-262 | C28: BSTC | D28: 0.4 | E28: 18 | F28: Caixa | G28: Boca | H28: 1 | J28: ARMCO | K28: 1 | L28: =COUNTIFS(C:C,J28,D:D,K28) -> 1 | M28: =SUMIFS(E:E,C:C,J28,D:D,K28) -> 19 | N28: =(PI()*1^2)/4 -> 0.78539816 | O28: =M28*N28 -> 14.922565 | P28: =(4*( ( (1+0.4) *2) + (0.27*4) * 2 ))/2 -> 9.92 | Q28: =M28/L28 -> 19
A29: 24700 | B29: MG-262 | C29: BSTC | D29: 0.4 | E29: 12 | F29: Caixa | G29: Boca | H29: 1 | J29: ARMCO | K29: 1.8 | L29: =COUNTIFS(C:C,J29,D:D,K29) -> 1 | M29: =SUMIFS(E:E,C:C,J29,D:D,K29) -> 62 | N29: =(PI()*1.8^2)/4 -> 2.54469 | O29: =M29*N29 -> 157.77078 | P29: =(4*( ( (1+0.4) *2) + (0.27*4) * 2 ))/2 -> 9.92 | Q29: =M29/L29 -> 62
A30: 24800 | B30: MG-262 | C30: BSTC | D30: 0.4 | E30: 12 | F30: Caixa | G30: Boca | H30: 1 | J30: ARMCO | K30: 2 | L30: =COUNTIFS(C:C,J30,D:D,K30) -> 3 | M30: =SUMIFS(E:E,C:C,J30,D:D,K30) -> 144 | N30: =(PI()*2^2)/4 -> 3.1415927 | O30: =M30*N30 -> 452.38934 | P30: =(4*( ( (1+0.4) *2) + (0.27*4) * 2 ))/2 -> 9.92 | Q30: =M30/L30 -> 48
A31: 25100 | B31: MG-262 | C31: BSTC | D31: 0.4 | E31: 12 | F31: Caixa | G31: Boca | H31: 1
A32: 26350 | B32: MG-262 | C32: BSTC | D32: 0.4 | E32: 30 | F32: Caixa | G32: Boca | H32: 1
A33: 26500 | B33: MG-262 | C33: BSTC | D33: 0.4 | E33: 18 | F33: Caixa | G33: Boca | H33: 1
A34: 26700 | B34: MG-262 | C34: BSTC | D34: 0.6 | E34: 18 | F34: Caixa | G34: Boca | H34: 1
A35: 27650 | B35: MG-262 | C35: BSTC | D35: 0.4 | E35: 12 | F35: Caixa | G35: Boca | H35: 1
A36: 28000 | B36: MG-262 | C36: BSTC | D36: 0.4 | E36: 12 | F36: Caixa | G36: Boca | H36: 1
A37: 28600 | B37: MG-262 | C37: BSTC | D37: 0.6 | E37: 12 | F37: Caixa | G37: Boca | H37: 1
A38: 28900 | B38: MG-262 | C38: BSTC | D38: 0.6 | E38: 12 | F38: Caixa | G38: Boca | H38: 1
A39: 30700 | B39: MG-262 | C39: BSTC | D39: 0.6 | E39: 30 | F39: Caixa | G39: Boca | H39: 1
A40: 31300 | B40: MG-262 | C40: BSTC | D40: 0.6 | E40: 30 | F40: Caixa | G40: Boca | H40: 1
A41: 31500 | B41: MG-262 | C41: BSTC | D41: 0.4 | E41: 12 | F41: Caixa | G41: Boca | H41: 1
A42: 31950 | B42: MG-262 | C42: BSTC | D42: 0.6 | E42: 18 | F42: Caixa | G42: Boca | H42: 1
... A46: 35550 | B46: MG-262 | C46: BSTC | D46: 0.4 | E46: 12 | F46: Boca | G46: Boca | H46: 1
A47: 35700 | B47: MG-262 | C47: BSTC | D47: 0.4 | E47: 12 | F47: Caixa | G47: Boca | H47: 1 | AO47: 100.5
A48: 35900 | B48: MG-262 | C48: BSTC | D48: 0.4 | E48: 18 | F48: Caixa | G48: Boca | H48: 1 | AO48: 105.5
A49: 37300 | B49: MG-262 | C49: BSTC | D49: 0.4 | E49: 18 | F49: Caixa | G49: Boca | H49: 1
A50: 38800 | B50: MG-262 | C50: BSTC | D50: 0.4 | E50: 12 | F50: Caixa | G50: Boca | H50: 1
A51: 39000 | B51: MG-262 | C51: BSTC | D51: 0.4 | E51: 12 | F51: Caixa | G51: Boca | H51: 1
A52: 39400 | B52: MG-262 | C52: BSTC | D52: 0.4 | E52: 12 | F52: Caixa | G52: Boca | H52: 1
A53: 39850 | B53: MG-262 | C53: BSTC | D53: 0.8 | E53: 12 | F53: Caixa | G53: Boca | H53: 1
A54: 40800 | B54: MG-262 | C54: BSTC | D54: 0.6 | E54: 18 | F54: Caixa | G54: Boca | H54: 1
A55: 42800 | B55: MG-262 | C55: BSTC | D55: 0.6 | E55: 40 | F55: Caixa | G55: Boca | H55: 1
A56: 44600 | B56: MG-262 | C56: BSTC | D56: 0.8 | E56: 38 | F56: Caixa | G56: Boca | H56: 1
A57: 45550 | B57: MG-262 | C57: BSTC | D57: 0.6 | E57: 20 | F57: Caixa | G57: Boca | H57: 1
A58: 46350 | B58: MG-262 | C58: BSTC | D58: 0.8 | E58: 40 | F58: Boca | G58: Boca | H58: 1
A59: 46600 | B59: MG-262 | C59: BSTC | D59: 0.6 | E59: 40 | F59: Caixa | G59: Boca | H59: 1
A60: 47600 | B60: MG-262 | C60: BSTC | D60: 0.6 | E60: 130 | F60: Boca e Caixas | G60: Boca | H60: 1
... A104: 103450 | B104: MG-329 | C104: BSTC | D104: 0.6 | E104: 18 | F104: CAIXA | G104: BOCA | H104: 1
A105: 104700 | B105: MG-329 | C105: BSTC | D105: 0.8 | E105: 30 | F105: CAIXA | G105: BOCA | H105: 1 | I105: =SUMIFS(E:E,Cadastro_Bueiro!$A:$A,">="&(AO$47*1000),Cadastro_Bueiro!$A:$A,"<="&(AO$48*1000)) -> 81
A106: 104800 | B106: MG-329 | C106: BSTC | D106: 0.6 | E106: 15 | F106: CAIXA | G106: BOCA | H106: 1 | I106: {=SUM(IF((Cadastro_Bueiro!$C:$C="BSTC")*(Cadastro_Bueiro!$D:$D=0.6)*(Cadastro_Bueiro!A:A>=(AO47*1000))*(Cadastro_Bueiro!A:A<=(AO48*1000))*(Cadastro_Bueiro!B:B="MG-329"),Cadastro_Bueiro!E:E))} -> 51
A107: 106200 | B107: MG-329 | C107: BSTC | D107: 0.6 | E107: 13 | F107: CAIXA | G107: BOCA | H107: 1
A108: 106500 | B108: MG-329 | C108: BSTC | D108: 0.6 | E108: 18 | F108: CAIXA | G108: BOCA | H108: 1
A109: 107100 | B109: MG-329 | C109: BSTC | D109: 0.6 | E109: 13 | F109: CAIXA | G109: BOCA | H109: 1
A110: 109000 | B110: MG-329 | C110: BSTC | D110: 0.6 | E110: 13 | F110: CAIXA | G110: CAIXA | H110: 1
A111: 109100 | B111: MG-329 | C111: BSTC | D111: 0.6 | E111: 13 | F111: CAIXA | G111: CAIXA | H111: 1
A112: 109900 | B112: MG-329 | C112: BSTC | D112: 0.6 | E112: 13 | F112: CAIXA | G112: CAIXA | H112: 1
A113: 110100 | B113: MG-329 | C113: BSTC | D113: 0.6 | E113: 13 | F113: CAIXA | G113: CAIXA | H113: 1
A114: 111050 | B114: MG-329 | C114: BSTC | D114: 0.4 | E114: 10 | F114: CAIXA | G114: CAIXA | H114: 1
A115: 111200 | B115: MG-329 | C115: BSTC | D115: 0.6 | E115: 13 | F115: CAIXA | G115: BOCA | H115: 1
A116: 112350 | B116: MG-329 | C116: BSTC | D116: 0.6 | E116: 13 | F116: CAIXA | G116: BOCA | H116: 1
A117: 115750 | B117: MG-329 | C117: BSTC | D117: 0.6 | E117: 13 | F117: BOCA | G117: CAIXA | H117: 1
A118: 118000 | B118: MG-329 | C118: BSTC | D118: 0.6 | E118: 13 | F118: CAIXA | G118: CAIXA | H118: 1
... A168: 27500 | B168: LMG-813 | C168: BSTC | D168: 0.6 | E168: 8 | F168: CAIXA | G168: BOCA | H168: 1
A169: 29000 | B169: LMG-813 | C169: BSTC | D169: 0.8 | E169: SEM ACESSO | F169: CAIXA | G169: - | H169: 1
A170: 31500 | B170: LMG-813 | C170: BSTC | D170: 0.4 | E170: 20 | F170: BOCA | G170: BOCA | H170: 1
A171: 32600 | B171: LMG-813 | C171: BSTC | D171: 0.4 | E171: 8 | F171: CAIXA | G171: BOCA | H171: 1
A172: 33400 | B172: LMG-813 | C172: BSTC | D172: 0.8 | E172: 20 | F172: BOCA | G172: BOCA | H172: 1
A173: 27+790 | B173: BR-356 | C173: BSTC | D173: 0.8 | E173: 22 | F173: CAIXA | G173: BOCA | H173: 1
A174: 28+320 | B174: BR-356 | C174: BSTC | D174: 0.8 | E174: 14 | F174: CAIXA | G174: BOCA | H174: 1
A175: 28+660 | B175: BR-356 | C175: BSTC | D175: 0.6 | E175: 18 | F175: CAIXA | G175: CAIXA | H175: 1
A176: 29+552 | B176: BR-356 | C176: BSTC | D176: 0.4 | E176: 19 | F176: CAIXA | G176: CAIXA | H176: 1
A177: 29+954 | B177: BR-356 | C177: BSTC | D177: 0.6 | E177: 14 | F177: CAIXA | G177: BOCA | H177: 1
A178: 30+240 | B178: BR-356 | C178: BSTC | D178: 0.8 | E178: 22 | F178: CAIXA | G178: BOCA | H178: 1
A179: 30+622 | B179: BR-356 | C179: BSTC | D179: 0.8 | E179: 14 | F179: CAIXA | G179: BOCA | H179: 1
A180: 30+825 | B180: BR-356 | C180: BSTC | D180: 0.8 | E180: 14 | F180: CAIXA | G180: BOCA | H180: 1
A181: 31+072 | B181: BR-356 | C181: BSTC | D181: 0.8 | E181: 14 | F181: CAIXA | G181: BOCA | H181: 1
A182: 31+603 | B182: BR-356 | C182: BSTC | D182: 0.8 | E182: 15 | F182: BOCA | G182: BOCA | H182: 1
A183: 32+240 | B183: BR-356 | C183: BSCC | D183: 3,0X3,0 | E183: 21 | F183: BOCA | G183: BOCA | H183: 1
A184: 32+688 | B184: BR-356 | C184: BSTC | D184: 0.6 | E184: 18 | F184: BOCA | G184: BOCA | H184: 1
A185: 33+180 | B185: BR-356 | C185: BSTC | D185: 0.8 | E185: 14 | F185: CAIXA | G185: BOCA | H185: 1
A186: 33+320 | B186: BR-356 | C186: BSTC | D186: 0.8 | E186: 16 | F186: CAIXA | G186: BOCA | H186: 1
A187: 33+540 | B187: BR-356 | C187: BSTC | D187: 1 | E187: 24 | F187: CAIXA | G187: BOCA | H187: 1
A188: 33+956 | B188: BR-356 | C188: BSCC | D188: 4,0X3,O | E188: 22 | F188: BOCA | G188: BOCA | H188: 1
A189: 34+272 | B189: BR-356 | C189: BSTC | D189: 0.8 | E189: 18 | F189: CAIXA | G189: BOCA | H189: 1
A190: 34+440 | B190: BR-356 | C190: BSTC | D190: 0.6 | E190: 21 | F190: BOCA | G190: BOCA | H190: 1
A191: 34+603 | B191: BR-356 | C191: BDTC | D191: 1 | E191: 17 | F191: BOCA | G191: BOCA | H191: 1
A192: 34+780 | B192: BR-356 | C192: BSTC | D192: 0.6 | E192: 19 | F192: CAIXA | G192: BOCA | H192: 1
A193: 34+914 | B193: BR-356 | C193: BSTC | D193: 0.8 | E193: 18 | F193: CAIXA | G193: BOCA | H193: 1
A194: 35+092 | B194: BR-356 | C194: BSTC | D194: 0.6 | E194: 21 | F194: CAIXA | G194: BOCA | H194: 1
A195: 35+320 | B195: BR-356 | C195: BDTC | D195: 1 | E195: 40 | F195: BOCA | G195: BOCA | H195: 1
...

Sheet MC_Dispositivo
B2: Quantitativo | Memória de Cálculo Dispositivo
B4: Conteúdo
B5: Item | C5: descrição
B6: 1 | C6: Totalizador de Serviços
B7: 2 | C7: Memória de Cálculo
B8: 3
B9: 4
B10: 5
B11: 6
B12: 7
B13: 8
B14: 9
B15: 10
B16: 11
B17: 12
B18: 13
B19: 14
... B30: 25
L34: x
B35: PROGRAMA DE CONCESSÃO DE RODOVIAS DE MINAS GERAIS LOTE OURO PRETO | E35: LOTE | F35: OURO PRETO | G35: OURO PRETO | H35: OURO PRETO | I35: OURO PRETO | J35: OURO PRETO | K35: OURO PRETO | L35: OURO PRETO | M35: OURO PRETO | N35: OURO PRETO | O35: OURO PRETO | P35: OURO PRETO | Q35: OURO PRETO | R35: OURO PRETO | S35: OURO PRETO | T35: OURO PRETO | U35: OURO PRETO | V35: OURO PRETO | W35: OURO PRETO | X35: OURO PRETO | Y35: OURO PRETO | Z35: OURO PRETO | AB35: OURO PRETO | AD35: OURO PRETO | AE35: OURO PRETO | AF35: OURO PRETO | AG35: OURO PRETO | AH35: OURO PRETO | AI35: OURO PRETO | AJ35: OURO PRETO | AK35: OURO PRETO | AL35: OURO PRETO | AM35: OURO PRETO | AN35: OURO PRETO | AO35: OURO PRETO | AP35: OURO PRETO | AQ35: OURO PRETO | AR35: OURO PRETO | AS35: OURO PRETO | AT35: OURO PRETO | AU35: OURO PRETO | AV35: OURO PRETO | AW35: OURO PRETO | AX35: OURO PRETO | AY35: OURO PRETO | AZ35: OURO PRETO | BA35: OURO PRETO | BB35: OURO PRETO | BE35: OURO PRETO
E36: RODOVIA | F36: CMG-120 | G36: CMG-120 | H36: CMG-120 | I36: CMG-120 | J36: CMG-120 | K36: CMG-120 | L36: CMG-120 | M36: LMG-813 | N36: LMG-813 | O36: LMG-813 | P36: LMG-813 | Q36: LMG-813 | R36: LMG-813 | S36: LMG-813 | T36: LMG-813 | U36: LMG-813 | V36: MG-329 | W36: MG-329 | X36: MG-329 | Y36: MG-329 | Z36: MG-329 | AB36: BR-356 | AD36: BR-356 | AE36: BR-356 | AF36: BR-356 | AG36: BR-356 | AH36: BR-356 | AI36: BR-356 | AJ36: BR-356 | AK36: BR-356 | AL36: BR-356 | AM36: BR-356 | AN36: BR-356 | AO36: BR-356 | AP36: BR-356 | AQ36: BR-356 | AR36: BR-356 | AS36: BR-356 | AT36: BR-356 | AU36: BR-356 | AV36: MG-262 | AW36: MG-262 | AX36: MG-262 | AY36: MG-262 | AZ36: MG-262 | BA36: MG-262 | BB36: MG-262
E37: SEGMENTO | F37: Interseção Tipo 1 | G37: Interseção Tipo 1 | H37: Interseção Tipo 1 | I37: Interseção Tipo 1 | J37: Interseção Tipo 1 | K37: Interseção Tipo 1 | L37: Interseção Tipo 1 | M37: Interseção Tipo 4 | N37: Interseção Tipo 3 | O37: Interseção Tipo 3 | P37: Interseção Tipo 3 | Q37: Interseção Tipo 3 | R37: Interseção Tipo 3 | S37: Interseção Tipo 3 | T37: Interseção Tipo 3 | U37: Interseção Tipo 3 | V37: Interseção Tipo 1 | W37: Interseção Tipo 1 | X37: Interseção Tipo 1 | Y37: Interseção Tipo 1 | Z37: Interseção Tipo 1 | AB37: Interseção Tipo 2 | AD37: Interseção Tipo 2 | AE37: Interseção Tipo 2 | AF37: Interseção Tipo 2 | AG37: Interseção Tipo 2 | AH37: Interseção Tipo 2 | AI37: Interseção Tipo 2 | AJ37: Interseção Tipo 2 | AK37: Interseção Tipo 2 | AL37: Interseção Tipo 2 | AM37: Interseção Tipo 2 | AN37: Interseção Tipo 2 | AO37: Interseção Tipo 2 | AP37: Interseção Tipo 2 | AQ37: Interseção Tipo 2 | AR37: Interseção Tipo 1 | AS37: Interseção Tipo 2 | AT37: Interseção Tipo 2 | AU37: Interseção Tipo 2 | AV37: Interseção Tipo 1 | AW37: Interseção Tipo 1 | AX37: Interseção Tipo 1 | AY37: Interseção Tipo 1 | AZ37: Interseção Tipo 1 | BA37: Interseção Tipo 1 | BB37: Interseção Tipo 2
E38: Contorno/Travessia | F38: Contorno Ponte Nova | K38: Contorno de Viçosa | L38: Contorno de Viçosa | N38: Contorno Paraopeba | O38: Contorno Paraopeba | R38: Contorno Aranha | S38: Contorno Aranha | Z38: Contorno Ponte Nova | AE38: Travessia Itabirito | AF38: Travessia Itabirito | AL38: Cachoeira do Campo | AM38: Cachoeira do Campo | AS38: Retorno em U* | AT38: Retorno em U* | AU38: Contorno de Cachoeira do Campo
E39: Quantidade | F39: 1 | G39: 1 | H39: 1 | I39: 1 | J39: 1 | K39: 1 | L39: 1 | M39: 1 | N39: 1 | O39: 1 | P39: 1 | Q39: 1 | R39: 1 | S39: 1 | T39: 1 | U39: 1 | V39: 1 | W39: 1 | X39: 1 | Y39: 1 | AB39: 1 | AD39: 1 | AE39: 1 | AF39: 1 | AG39: 1 | AH39: 1 | AI39: 1 | AJ39: 1 | AK39: 1 | AL39: 1 | AM39: 1 | AN39: 1 | AO39: 1 | AP39: 1 | AQ39: 1 | AR39: 1 | AS39: 1 | AT39: 1 | AU39: 1 | AV39: 1 | AW39: 1 | AX39: 1 | AY39: 1 | AZ39: 1 | BA39: 1 | BB39: 1 | BG39: MG
B40: MEMÓRIA DE CÁLCULO E QUANTIDADES | DISPOSITIVO | E40: $ | F40: =SUMPRODUCT(F$53:F$2166,$BG$53:$BG$2166) -> 0 | G40: =SUMPRODUCT(G$53:G$2166,$BG$53:$BG$2166) -> 0 | H40: =SUMPRODUCT(H$53:H$2166,$BG$53:$BG$2166) -> 0 | I40: =SUMPRODUCT(I$53:I$2166,$BG$53:$BG$2166) -> 0 | J40: =SUMPRODUCT(J$53:J$2166,$BG$53:$BG$2166) -> 0 | K40: =SUMPRODUCT(K$53:K$2166,$BG$53:$BG$2166) -> 0 | L40: =SUMPRODUCT(L$53:L$2166,$BG$53:$BG$2166) -> 0 | M40: =SUMPRODUCT(M$53:M$2166,$BG$53:$BG$2166) -> 0 | ... Z40: =SUMPRODUCT(Z$53:Z$2166,$BG$53:$BG$2166) -> 0 | AB40: =SUMPRODUCT(AB$53:AB$2166,$BG$53:$BG$2166) -> 6517851.4 | AD40: =SUMPRODUCT(AD$53:AD$2166,$BG$53:$BG$2166) -> 6517851.4 | AE40: =SUMPRODUCT(AE$53:AE$2166,$BG$53:$BG$2166) -> 6517851.4 | AF40: =SUMPRODUCT(AF$53:AF$2166,$BG$53:$BG$2166) -> 6517851.4 | AG40: =SUMPRODUCT(AG$53:AG$2166,$BG$53:$BG$2166) -> 6517851.4 | AH40: =SUMPRODUCT(AH$53:AH$2166,$BG$53:$BG$2166) -> 6517851.4 | AI40: =SUMPRODUCT(AI$53:AI$2166,$BG$53:$BG$2166) -> 6517851.4 | AJ40: =SUMPRODUCT(AJ$53:AJ$2166,$BG$53:$BG$2166) -> 6517851.4 | AK40: =SUMPRODUCT(AK$53:AK$2166,$BG$53:$BG$2166) -> 6517851.4 | ... BB40: =SUMPRODUCT(BB$53:BB$2166,$BG$53:$BG$2166) -> 4681082.1 | BG40: =SUM(F40:BE40) -> 1.5444726e+08
H41: =H32&H33 | I41: =I32&I33 | V41: =V32&V33 | AS41: *Foram deletados quantitativos abaixo para chegar em um valor de 1,6 milhão de custo paramétrico do retorno em U | BE41: =BE32&BE33 | BG41: =BG40/SUM(F39:BE39) -> 3357549.1
BM42: CMG-120 | BN42: CMG-120 | BO42: CMG-120 | BP42: CMG-120 | BQ42: CMG-120 | BR42: LMG-813 | BS42: LMG-813 | BT42: LMG-813 | BU42: LMG-813 | BV42: LMG-813 | BW42: MG-329 | BX42: MG-329 | BY42: MG-329 | BZ42: MG-329 | CA42: MG-329 | CB42: BR-356 | CC42: BR-356 | CD42: BR-356 | CE42: BR-356 | CF42: BR-356 | CG42: MG-262 | CH42: MG-262 | CI42: MG-262 | CJ42: MG-262 | CK42: MG-262
F43: 0 | G43: 0 | H43: 0 | I43: 0 | J43: 0 | K43: 0 | L43: 0 | M43: 0 | N43: 0 | O43: 0 | P43: 0 | Q43: 0 | R43: 0 | S43: 0 | T43: 0 | U43: 0 | V43: =IF(V36="CMG-120",INDEX(#REF!,1,MATCH(V44*1000,#REF!,-1)), IF(V36="LMG-813",INDEX(#REF!,MATCH(V44*1000,#REF!,1)), IF(V36="MG-329",INDEX('[8]329'!$F$3:$AI$3,MATCH(V44*1000,'[8]329'!$F$4:$AI$4,1)), IF(V36="BR-356",INDEX('[8]356'!$F$3:$AI$3,MATCH(V44*1000,'[8]356'!$F$4:$AI$4,1)), IF(V36="MG-262",INDEX('[8]262'!$F$3:$AI$3,MATCH(V44*1000,'[8]262'!$F$4:$AI$4,1))))))) -> 7 | W43: =IF(W36="CMG-120",INDEX(#REF!,1,MATCH(W44*1000,#REF!,-1)), IF(W36="LMG-813",INDEX(#REF!,MATCH(W44*1000,#REF!,1)), IF(W36="MG-329",INDEX('[8]329'!$F$3:$AI$3,MATCH(W44*1000,'[8]329'!$F$4:$AI$4,1)), IF(W36="BR-356",INDEX('[8]356'!$F$3:$AI$3,MATCH(W44*1000,'[8]356'!$F$4:$AI$4,1)), IF(W36="MG-262",INDEX('[8]262'!$F$3:$AI$3,MATCH(W44*1000,'[8]262'!$F$4:$AI$4,1))))))) -> 8 | X43: =IF(X36="MG-329",IFERROR(INDEX('[9]329'!$F$3:$AI$3,MATCH(X45*1000,'[9]329'!$F$4:$AI$4,1)),INDEX('[9]329'!$F$3:$AI$3,MATCH(X44*1000,'[9]329'!$F$4:$AI$4,1))), IF(X36="BR-356",IFERROR(INDEX('[9]356'!$F$3:$AI$3,MATCH(X45*1000,'[9]356'!$F$4:$AI$4,1)),INDEX('[9]356'!$F$3:$AI$3,MATCH(X44*1000,'[9]356'!$F$4:$AI$4,1))), IF(X36="MG-262",IFERROR(INDEX('[9]262'!$F$3:$AI$3,MATCH(X45*1000,'[9]262'!$F$4:$AI$4,-1)),INDEX('[9]262'!$F$3:$AI$3,MATCH(X44*1000,'[9]262'!$F$4:$AI$4,-1)))))) -> 4 | Y43: =IF(Y36="MG-329",IFERROR(INDEX('[9]329'!$F$3:$AI$3,MATCH(Y45*1000,'[9]329'!$F$4:$AI$4,1)),INDEX('[9]329'!$F$3:$AI$3,MATCH(Y44*1000,'[9]329'!$F$4:$AI$4,1))), IF(Y36="BR-356",IFERROR(INDEX('[9]356'!$F$3:$AI$3,MATCH(Y45*1000,'[9]356'!$F$4:$AI$4,1)),INDEX('[9]356'!$F$3:$AI$3,MATCH(Y44*1000,'[9]356'!$F$4:$AI$4,1))), IF(Y36="MG-262",IFERROR(INDEX('[9]262'!$F$3:$AI$3,MATCH(Y45*1000,'[9]262'!$F$4:$AI$4,-1)),INDEX('[9]262'!$F$3:$AI$3,MATCH(Y44*1000,'[9]262'!$F$4:$AI$4,-1)))))) -> 4 | Z43: =IF(Z36="MG-329",IFERROR(INDEX('[9]329'!$F$3:$AI$3,MATCH(Z45*1000,'[9]329'!$F$4:$AI$4,1)),INDEX('[9]329'!$F$3:$AI$3,MATCH(Z44*1000,'[9]329'!$F$4:$AI$4,1))), IF(Z36="BR-356",IFERROR(INDEX('[9]356'!$F$3:$AI$3,MATCH(Z45*1000,'[9]356'!$F$4:$AI$4,1)),INDEX('[9]356'!$F$3:$AI$3,MATCH(Z44*1000,'[9]356'!$F$4:$AI$4,1))), IF(Z36="MG-262",IFERROR(INDEX('[9]262'!$F$3:$AI$3,MATCH(Z45*1000,'[9]262'!$F$4:$AI$4,-1)),INDEX('[9]262'!$F$3:$AI$3,MATCH(Z44*1000,'[9]262'!$F$4:$AI$4,-1)))))) -> 4 | AA43: =IF(AA36="MG-329",IFERROR(INDEX('[9]329'!$F$3:$AI$3,MATCH(AA45*1000,'[9]329'!$F$4:$AI$4,1)),INDEX('[9]329'!$F$3:$AI$3,MATCH(AA44*1000,'[9]329'!$F$4:$AI$4,1))), IF(AA36="BR-356",IFERROR(INDEX('[9]356'!$F$3:$AI$3,MATCH(AA45*1000,'[9]356'!$F$4:$AI$4,1)),INDEX('[9]356'!$F$3:$AI$3,MATCH(AA44*1000,'[9]356'!$F$4:$AI$4,1))), IF(AA36="MG-262",IFERROR(INDEX('[9]262'!$F$3:$AI$3,MATCH(AA45*1000,'[9]262'!$F$4:$AI$4,-1)),INDEX('[9]262'!$F$3:$AI$3,MATCH(AA44*1000,'[9]262'!$F$4:$AI$4,-1)))))) -> FALSE | AB43: =IF(AB36="MG-329",IFERROR(INDEX('[9]329'!$F$3:$AI$3,MATCH(AB45*1000,'[9]329'!$F$4:$AI$4,1)),INDEX('[9]329'!$F$3:$AI$3,MATCH(AB44*1000,'[9]329'!$F$4:$AI$4,1))), IF(AB36="BR-356",IFERROR(INDEX('[9]356'!$F$3:$AI$3,MATCH(AB45*1000,'[9]356'!$F$4:$AI$4,1)),INDEX('[9]356'!$F$3:$AI$3,MATCH(AB44*1000,'[9]356'!$F$4:$AI$4,1))), IF(AB36="MG-262",IFERROR(INDEX('[9]262'!$F$3:$AI$3,MATCH(AB45*1000,'[9]262'!$F$4:$AI$4,-1)),INDEX('[9]262'!$F$3:$AI$3,MATCH(AB44*1000,'[9]262'!$F$4:$AI$4,-1)))))) -> 3 | AC43: =IF(AC36="MG-329",IFERROR(INDEX('[9]329'!$F$3:$AI$3,MATCH(AC45*1000,'[9]329'!$F$4:$AI$4,1)),INDEX('[9]329'!$F$3:$AI$3,MATCH(AC44*1000,'[9]329'!$F$4:$AI$4,1))), IF(AC36="BR-356",IFERROR(INDEX('[9]356'!$F$3:$AI$3,MATCH(AC45*1000,'[9]356'!$F$4:$AI$4,1)),INDEX('[9]356'!$F$3:$AI$3,MATCH(AC44*1000,'[9]356'!$F$4:$AI$4,1))), IF(AC36="MG-262",IFERROR(INDEX('[9]262'!$F$3:$AI$3,MATCH(AC45*1000,'[9]262'!$F$4:$AI$4,-1)),INDEX('[9]262'!$F$3:$AI$3,MATCH(AC44*1000,'[9]262'!$F$4:$AI$4,-1)))))) -> FALSE | AD43: =IF(AD36="MG-329",IFERROR(INDEX('[9]329'!$F$3:$AI$3,MATCH(AD45*1000,'[9]329'!$F$4:$AI$4,1)),INDEX('[9]329'!$F$3:$AI$3,MATCH(AD44*1000,'[9]329'!$F$4:$AI$4,1))), IF(AD36="BR-356",IFERROR(INDEX('[9]356'!$F$3:$AI$3,MATCH(AD45*1000,'[9]356'!$F$4:$AI$4,1)),INDEX('[9]356'!$F$3:$AI$3,MATCH(AD44*1000,'[9]356'!$F$4:$AI$4,1))), IF(AD36="MG-262",IFERROR(INDEX('[9]262'!$F$3:$AI$3,MATCH(AD45*1000,'[9]262'!$F$4:$AI$4,-1)),INDEX('[9]262'!$F$3:$AI$3,MATCH(AD44*1000,'[9]262'!$F$4:$AI$4,-1)))))) -> 3 | AE43: =IF(AE36="MG-329",IFERROR(INDEX('[9]329'!$F$3:$AI$3,MATCH(AE45*1000,'[9]329'!$F$4:$AI$4,1)),INDEX('[9]329'!$F$3:$AI$3,MATCH(AE44*1000,'[9]329'!$F$4:$AI$4,1))), IF(AE36="BR-356",IFERROR(INDEX('[9]356'!$F$3:$AI$3,MATCH(AE45*1000,'[9]356'!$F$4:$AI$4,1)),INDEX('[9]356'!$F$3:$AI$3,MATCH(AE44*1000,'[9]356'!$F$4:$AI$4,1))), IF(AE36="MG-262",IFERROR(INDEX('[9]262'!$F$3:$AI$3,MATCH(AE45*1000,'[9]262'!$F$4:$AI$4,-1)),INDEX('[9]262'!$F$3:$AI$3,MATCH(AE44*1000,'[9]262'!$F$4:$AI$4,-1)))))) -> 4 | ... BB43: =IF(BB36="MG-329",IFERROR(INDEX('[9]329'!$F$3:$AI$3,MATCH(BB45*1000,'[9]329'!$F$4:$AI$4,1)),INDEX('[9]329'!$F$3:$AI$3,MATCH(BB44*1000,'[9]329'!$F$4:$AI$4,1))), IF(BB36="BR-356",IFERROR(INDEX('[9]356'!$F$3:$AI$3,MATCH(BB45*1000,'[9]356'!$F$4:$AI$4,1)),INDEX('[9]356'!$F$3:$AI$3,MATCH(BB44*1000,'[9]356'!$F$4:$AI$4,1))), IF(BB36="MG-262",IFERROR(INDEX('[9]262'!$F$3:$AI$3,MATCH(BB45*1000,'[9]262'!$F$4:$AI$4,-1)),INDEX('[9]262'!$F$3:$AI$3,MATCH(BB44*1000,'[9]262'!$F$4:$AI$4,-1)))))) -> 3 | BI43: QUANTIDADE UNITÁRIO DE SERVIÇO | BM43: Interseção Tipo 1 | BN43: Interseção Tipo 2 | BO43: Interseção Tipo 3 | BP43: Interseção Tipo 4 | BQ43: Interseção Tipo 5 | BR43: Interseção Tipo 1 | BS43: Interseção Tipo 2 | BT43: Interseção Tipo 3 | BU43: Interseção Tipo 4 | BV43: Interseção Tipo 5 | BW43: Interseção Tipo 1 | BX43: Interseção Tipo 2 | BY43: Interseção Tipo 3 | BZ43: Interseção Tipo 4 | CA43: Interseção Tipo 5 | CB43: Interseção Tipo 1 | CC43: Interseção Tipo 2 | CD43: Interseção Tipo 3 | CE43: Interseção Tipo 4 | CF43: Interseção Tipo 5 | CG43: Interseção Tipo 1 | CH43: Interseção Tipo 2 | CI43: Interseção Tipo 3 | CJ43: Interseção Tipo 4 | CK43: Interseção Tipo 5 | CT43: 5 | CU43: =CT43+1 -> 6 | CV43: =CU43+1 -> 7 | CW43: =CV43+1 -> 8 | CX43: =CW43+1 -> 9 | CY43: =CX43+1 -> 10 | CZ43: =CY43+1 -> 11 | DA43: =CZ43+1 -> 12 | DB43: =DA43+1 -> 13 | ... DT43: =DS43+1 -> 31
B44: ITEM | C44: CÓDIGO | D44: DESCRIÇÃO | E44: UNID. | F44: 575.2 | G44: 581.9 | H44: 587.7 | I44: 597.3 | J44: 604.3 | K44: 613.6 | L44: 619 | M44: 0 | N44: 6.6 | O44: 9 | P44: 12.7 | Q44: 13.1 | R44: 18.7 | S44: 22 | T44: 29.5 | U44: 35.5 | V44: 100 | W44: 111.6 | X44: 117.4 | Y44: 124.5 | Z44: 134.1 | AB44: 32.8 | AD44: 42.5 | AE44: 52.2 | AF44: 55.4 | AG44: 57.6 | AH44: 60.4 | AI44: 62.8 | AJ44: 65.8 | AK44: 68.1 | AL44: 71.8 | AM44: 75 | AN44: 78.7 | AO44: 83.5 | AP44: 89.4 | AQ44: 94 | AR44: 108.5 | AS44: 106 | AT44: 100.5 | AU44: 73 | AV44: 14.98 | AW44: 24.9 | AX44: 38 | AY44: 47.2 | AZ44: 58.4 | BA44: 66 | BB44: 72.3 | BI44: ITEM | BJ44: CÓDIGO | BK44: DESCRIÇÃO | BL44: UNID. | BM44: QUANT. | BN44: QUANT. | BO44: QUANT. | BP44: QUANT. | BQ44: QUANT. | BR44: QUANT. | BS44: QUANT. | BT44: QUANT. | BU44: QUANT. | BV44: QUANT. | BW44: QUANT. | BX44: QUANT. | BY44: QUANT. | BZ44: QUANT. | CA44: QUANT. | CB44: QUANT. | CC44: QUANT. | CD44: QUANT. | CE44: QUANT. | CF44: QUANT. | CG44: QUANT. | CH44: QUANT. | CI44: QUANT. | CJ44: QUANT. | CK44: QUANT. | CR44: MEMÓRIA DE CÁLCULO
F45: 576 | G45: 582.55 | H45: 588.3 | I45: 598 | J45: 605 | K45: 614.5 | L45: 619 | M45: 0 | N45: 7.3 | O45: 9.5 | P45: 12.7 | Q45: 13.1 | R45: 18.7 | S45: 22 | T45: 29.5 | U45: 35.5 | V45: 100 | W45: 112.3 | X45: 118 | Y45: 125 | Z45: 134.9 | AB45: =AB44+AB46 -> 33.5 | AD45: 43 | AE45: 52.6 | AF45: 56.3 | AG45: 58.4 | AH45: 61 | AI45: 63.3 | AJ45: 66.3 | AK45: 69.1 | AL45: 72.4 | AM45: 75.6 | AN45: 79.4 | AO45: 84 | AP45: 90 | AQ45: 94.6 | AR45: 109 | AS45: 106.5 | AT45: 101 | AU45: 73.5 | AV45: 15.2 | AW45: 25.5 | AX45: 38.6 | AY45: 47.9 | AZ45: 59 | BA45: 66.6 | BB45: 73.1 | BG45: PREÇO UNITÁRIO | BM45: 5 | BN45: =BM45+1 -> 6 | BO45: =BN45+1 -> 7 | BP45: =BO45+1 -> 8 | BQ45: =BP45+1 -> 9 | BR45: =BQ45+1 -> 10 | BS45: =BR45+1 -> 11 | BT45: =BS45+1 -> 12 | BU45: =BT45+1 -> 13 | ... CM45: =CL45+1 -> 31 | CT45: CMG-120 | CU45: CMG-120 | CV45: CMG-120 | CW45: CMG-120 | CX45: CMG-120 | CY45: LMG-813 | CZ45: LMG-813 | DA45: LMG-813 | DB45: LMG-813 | DC45: LMG-813 | DD45: MG-329 | DE45: MG-329 | DF45: MG-329 | DG45: MG-329 | DH45: MG-329 | DI45: BR-356 | DJ45: BR-356 | DK45: BR-356 | DL45: BR-356 | DM45: BR-356 | DN45: MG-262 | DO45: MG-262 | DP45: MG-262 | DQ45: MG-262 | DR45: MG-262
F46: =F45-F44 -> 0.8 | G46: =G45-G44 -> 0.65 | H46: =H45-H44 -> 0.6 | I46: =I45-I44 -> 0.7 | J46: =J45-J44 -> 0.7 | K46: =K45-K44 -> 0.9 | L46: =L45-L44 -> 0 | M46: =M45-M44 -> 0 | ... Z46: =Z45-Z44 -> 0.8 | AB46: 0.7 | AD46: =AD45-AD44 -> 0.5 | AE46: =AE45-AE44 -> 0.4 | AF46: =AF45-AF44 -> 0.9 | AG46: =AG45-AG44 -> 0.8 | AH46: =AH45-AH44 -> 0.6 | AI46: =AI45-AI44 -> 0.5 | AJ46: =AJ45-AJ44 -> 0.5 | AK46: =AK45-AK44 -> 1 | ... BB46: =BB45-BB44 -> 0.8 | BI46: 1 | BK46: SERVIÇOS PRELIMINARES | CP46: 1 | CR46: SERVIÇOS PRELIMINARES | CT46: Interseção Tipo 1 | CU46: Interseção Tipo 2 | CV46: Interseção Tipo 3 | CW46: Interseção Tipo 4 | CX46: Interseção Tipo 5 | CY46: Interseção Tipo 1 | CZ46: Interseção Tipo 2 | DA46: Interseção Tipo 3 | DB46: Interseção Tipo 4 | DC46: Interseção Tipo 5 | DD46: Interseção Tipo 1 | DE46: Interseção Tipo 2 | DF46: Interseção Tipo 3 | DG46: Interseção Tipo 4 | DH46: Interseção Tipo 5 | DI46: Interseção Tipo 1 | DJ46: Interseção Tipo 2 | DK46: Interseção Tipo 3 | DL46: Interseção Tipo 4 | DM46: Interseção Tipo 5 | DN46: Interseção Tipo 1 | DO46: Interseção Tipo 2 | DP46: Interseção Tipo 3 | DQ46: Interseção Tipo 4 | DR46: Interseção Tipo 5
F47: {=SUM(IF(($BM$43:$CK$43=F37)*($BM$42:$CK$42=F36),$BM$45:$CK$45))} -> 5 | G47: {=SUM(IF(($BM$43:$CK$43=G37)*($BM$42:$CK$42=G36),$BM$45:$CK$45))} -> 5 | H47: {=SUM(IF(($BM$43:$CK$43=H37)*($BM$42:$CK$42=H36),$BM$45:$CK$45))} -> 5 | I47: {=SUM(IF(($BM$43:$CK$43=I37)*($BM$42:$CK$42=I36),$BM$45:$CK$45))} -> 5 | J47: {=SUM(IF(($BM$43:$CK$43=J37)*($BM$42:$CK$42=J36),$BM$45:$CK$45))} -> 5 | K47: {=SUM(IF(($BM$43:$CK$43=K37)*($BM$42:$CK$42=K36),$BM$45:$CK$45))} -> 5 | L47: {=SUM(IF(($BM$43:$CK$43=L37)*($BM$42:$CK$42=L36),$BM$45:$CK$45))} -> 5 | M47: {=SUM(IF(($BM$43:$CK$43=M37)*($BM$42:$CK$42=M36),$BM$45:$CK$45))} -> 13 | ... Z47: {=SUM(IF(($BM$43:$CK$43=Z37)*($BM$42:$CK$42=Z36),$BM$45:$CK$45))} -> 15 | AB47: {=SUM(IF(($BM$43:$CK$43=AB37)*($BM$42:$CK$42=AB36),$BM$45:$CK$45))} -> 21 | AD47: {=SUM(IF(($BM$43:$CK$43=AD37)*($BM$42:$CK$42=AD36),$BM$45:$CK$45))} -> 21 | AE47: {=SUM(IF(($BM$43:$CK$43=AE37)*($BM$42:$CK$42=AE36),$BM$45:$CK$45))} -> 21 | AF47: {=SUM(IF(($BM$43:$CK$43=AF37)*($BM$42:$CK$42=AF36),$BM$45:$CK$45))} -> 21 | AG47: {=SUM(IF(($BM$43:$CK$43=AG37)*($BM$42:$CK$42=AG36),$BM$45:$CK$45))} -> 21 | AH47: {=SUM(IF(($BM$43:$CK$43=AH37)*($BM$42:$CK$42=AH36),$BM$45:$CK$45))} -> 21 | AI47: {=SUM(IF(($BM$43:$CK$43=AI37)*($BM$42:$CK$42=AI36),$BM$45:$CK$45))} -> 21 | AJ47: {=SUM(IF(($BM$43:$CK$43=AJ37)*($BM$42:$CK$42=AJ36),$BM$45:$CK$45))} -> 21 | AK47: {=SUM(IF(($BM$43:$CK$43=AK37)*($BM$42:$CK$42=AK36),$BM$45:$CK$45))} -> 21 | ... BB47: {=SUM(IF(($BM$43:$CK$43=BB37)*($BM$42:$CK$42=BB36),$BM$45:$CK$45))} -> 26 | BE47: =BC47+1 -> 1 | BI47: 1.1 | BJ47: =INDEX(INDIRECT("memória_cálculo"),MATCH(BI47,INDIRECT("indice_cáculo"),0),2) -> ED-50702 | BK47: =INDEX(INDIRECT("memória_cálculo"),MATCH(BI47,INDIRECT("indice_cáculo"),0),3) -> desmatamento, destocamento e limpeza, inclusive transporte até cinquenta (50) metros | BL47: =INDEX(INDIRECT("memória_cálculo"),MATCH(BI47,INDIRECT("indice_cáculo"),0),4) -> m2 | BM47: {=INDEX(INDIRECT("memória_cálculo"),MATCH($BI47,INDIRECT("indice_cáculo"),0),BM$45)} -> 41659.023 | BN47: {=INDEX(INDIRECT("memória_cálculo"),MATCH($BI47,INDIRECT("indice_cáculo"),0),BN$45)} -> 34397.466 | BO47: {=INDEX(INDIRECT("memória_cálculo"),MATCH($BI47,INDIRECT("indice_cáculo"),0),BO$45)} -> 4381.3 | BP47: {=INDEX(INDIRECT("memória_cálculo"),MATCH($BI47,INDIRECT("indice_cáculo"),0),BP$45)} -> 24105.493 | BQ47: {=INDEX(INDIRECT("memória_cálculo"),MATCH($BI47,INDIRECT("indice_cáculo"),0),BQ$45)} -> 29045.998 | BR47: {=INDEX(INDIRECT("memória_cálculo"),MATCH($BI47,INDIRECT("indice_cáculo"),0),BR$45)} -> 41659.023 | BS47: {=INDEX(INDIRECT("memória_cálculo"),MATCH($BI47,INDIRECT("indice_cáculo"),0),BS$45)} -> 34397.466 | BT47: {=INDEX(INDIRECT("memória_cálculo"),MATCH($BI47,INDIRECT("indice_cáculo"),0),BT$45)} -> 4381.3 | ... CL47: {=INDEX(INDIRECT("memória_cálculo"),MATCH($BI47,INDIRECT("indice_cáculo"),0),CL$45)} -> 0 | CT47: 0 | CU47: 0 | CV47: 0 | CW47: 0 | CX47: 0 | CY47: 0 | CZ47: 0 | DA47: 0 | DB47: 0 | DC47: 0 | DD47: 0 | DE47: 0 | DF47: 0 | DG47: 0 | DH47: 0 | DI47: 0 | DJ47: 0 | DK47: 0 | DL47: 0 | DM47: 0 | DN47: 0 | DO47: 0 | DP47: 0 | DQ47: 0 | DR47: 0
BI48: 1.2 | BJ48: =INDEX(INDIRECT("memória_cálculo"),MATCH($BI48,INDIRECT("indice_cáculo"),0),2) -> ED-51132 | BK48: =INDEX(INDIRECT("memória_cálculo"),MATCH($BI48,INDIRECT("indice_cáculo"),0),3) -> carga mecânica de material de qualquer natureza sobre caminhão, exclusive transporte | BL48: =INDEX(INDIRECT("memória_cálculo"),MATCH($BI48,INDIRECT("indice_cáculo"),0),4) -> m3 | BM48: {=INDEX(INDIRECT("memória_cálculo"),MATCH($BI48,INDIRECT("indice_cáculo"),0),BM$45)} -> 8331.8046 | BN48: {=INDEX(INDIRECT("memória_cálculo"),MATCH($BI48,INDIRECT("indice_cáculo"),0),BN$45)} -> 6879.4932 | BO48: {=INDEX(INDIRECT("memória_cálculo"),MATCH($BI48,INDIRECT("indice_cáculo"),0),BO$45)} -> 876.26 | BP48: {=INDEX(INDIRECT("memória_cálculo"),MATCH($BI48,INDIRECT("indice_cáculo"),0),BP$45)} -> 4821.0986 | BQ48: {=INDEX(INDIRECT("memória_cálculo"),MATCH($BI48,INDIRECT("indice_cáculo"),0),BQ$45)} -> 5809.1996 | BR48: {=INDEX(INDIRECT("memória_cálculo"),MATCH($BI48,INDIRECT("indice_cáculo"),0),BR$45)} -> 8331.8046 | BS48: {=INDEX(INDIRECT("memória_cálculo"),MATCH($BI48,INDIRECT("indice_cáculo"),0),BS$45)} -> 6879.4932 | BT48: {=INDEX(INDIRECT("memória_cálculo"),MATCH($BI48,INDIRECT("indice_cáculo"),0),BT$45)} -> 876.26 | ... CL48: {=INDEX(INDIRECT("memória_cálculo"),MATCH($BI48,INDIRECT("indice_cáculo"),0),CL$45)} -> 0 | CT48: 1000 | CU48: 1000 | CV48: 100 | CW48: 1000 | CX48: 1000 | CY48: 1000 | CZ48: 1000 | DA48: 100 | DB48: 1000 | DC48: 1000 | DD48: 1000 | DE48: 1000 | DF48: 100 | DG48: 1000 | DH48: 1000 | DI48: 1000 | DJ48: 1000 | DK48: 100 | DL48: 1000 | DM48: 1000 | DN48: 1000 | DO48: 1000 | DP48: 100 | DQ48: 1000 | DR48: 1000
BI49: 1.3 | BJ49: =INDEX(INDIRECT("memória_cálculo"),MATCH($BI49,INDIRECT("indice_cáculo"),0),2) -> RO-00881 | BK49: =INDEX(INDIRECT("memória_cálculo"),MATCH($BI49,INDIRECT("indice_cáculo"),0),3) -> Transporte com caminhão basculante de 6 m³ - rodovia pavimentada | BL49: =INDEX(INDIRECT("memória_cálculo"),MATCH($BI49,INDIRECT("indice_cáculo"),0),4) -> txkm | BM49: {=INDEX(INDIRECT("memória_cálculo"),MATCH($BI49,INDIRECT("indice_cáculo"),0),BM$45)} -> 133308.87 | BN49: {=INDEX(INDIRECT("memória_cálculo"),MATCH($BI49,INDIRECT("indice_cáculo"),0),BN$45)} -> 110071.89 | BO49: {=INDEX(INDIRECT("memória_cálculo"),MATCH($BI49,INDIRECT("indice_cáculo"),0),BO$45)} -> 14020.16 | BP49: {=INDEX(INDIRECT("memória_cálculo"),MATCH($BI49,INDIRECT("indice_cáculo"),0),BP$45)} -> 77137.578 | BQ49: {=INDEX(INDIRECT("memória_cálculo"),MATCH($BI49,INDIRECT("indice_cáculo"),0),BQ$45)} -> 92947.194 | BR49: {=INDEX(INDIRECT("memória_cálculo"),MATCH($BI49,INDIRECT("indice_cáculo"),0),BR$45)} -> 133308.87 | BS49: {=INDEX(INDIRECT("memória_cálculo"),MATCH($BI49,INDIRECT("indice_cáculo"),0),BS$45)} -> 110071.89 | BT49: {=INDEX(INDIRECT("memória_cálculo"),MATCH($BI49,INDIRECT("indice_cáculo"),0),BT$45)} -> 14020.16 | ... CL49: {=INDEX(INDIRECT("memória_cálculo"),MATCH($BI49,INDIRECT("indice_cáculo"),0),CL$45)} -> 0 | CP49: 1.1 | CQ49: =INDEX([10]TPU!$A:$A,MATCH($DV49,[10]TPU!$P:$P,0)) -> ED-50702 | CR49: =INDEX([10]TPU!$C:$C,MATCH($DV49,[10]TPU!$P:$P,0)) -> desmatamento, destocamento e limpeza, inclusive transporte até cinquenta (50) metros | CS49: =INDEX([10]TPU!$D:$D,MATCH($DV49,[10]TPU!$P:$P,0)) -> m2 | CT49: =CT53 -> 41659.023 | CU49: =CU53 -> 34397.466 | CV49: =CV53 -> 4381.3 | CW49: =CW53 -> 24105.493 | CX49: =CX53 -> 29045.998 | CY49: =CY53 -> 41659.023 | CZ49: =CZ53 -> 34397.466 | DA49: =DA53 -> 4381.3 | ... DT49: =DT53 -> 0 | DV49: RO-43333
Z50: =L47+1 -> 6 | BI50: 1.4 | BJ50: =INDEX(INDIRECT("memória_cálculo"),MATCH($BI50,INDIRECT("indice_cáculo"),0),2) -> 4413942 | BK50: =INDEX(INDIRECT("memória_cálculo"),MATCH($BI50,INDIRECT("indice_cáculo"),0),3) -> Espalhamento de material em bota-fora | BL50: =INDEX(INDIRECT("memória_cálculo"),MATCH($BI50,INDIRECT("indice_cáculo"),0),4) -> m³ | BM50: {=INDEX(INDIRECT("memória_cálculo"),MATCH($BI50,INDIRECT("indice_cáculo"),0),BM$45)} -> 8331.8046 | BN50: {=INDEX(INDIRECT("memória_cálculo"),MATCH($BI50,INDIRECT("indice_cáculo"),0),BN$45)} -> 6879.4932 | BO50: {=INDEX(INDIRECT("memória_cálculo"),MATCH($BI50,INDIRECT("indice_cáculo"),0),BO$45)} -> 876.26 | BP50: {=INDEX(INDIRECT("memória_cálculo"),MATCH($BI50,INDIRECT("indice_cáculo"),0),BP$45)} -> 4821.0986 | BQ50: {=INDEX(INDIRECT("memória_cálculo"),MATCH($BI50,INDIRECT("indice_cáculo"),0),BQ$45)} -> 5809.1996 | BR50: {=INDEX(INDIRECT("memória_cálculo"),MATCH($BI50,INDIRECT("indice_cáculo"),0),BR$45)} -> 8331.8046 | BS50: {=INDEX(INDIRECT("memória_cálculo"),MATCH($BI50,INDIRECT("indice_cáculo"),0),BS$45)} -> 6879.4932 | BT50: {=INDEX(INDIRECT("memória_cálculo"),MATCH($BI50,INDIRECT("indice_cáculo"),0),BT$45)} -> 876.26 | ... CL50: {=INDEX(INDIRECT("memória_cálculo"),MATCH($BI50,INDIRECT("indice_cáculo"),0),CL$45)} -> 0
BI51: 1.5 | BJ51: =INDEX(INDIRECT("memória_cálculo"),MATCH($BI51,INDIRECT("indice_cáculo"),0),2) -> ED-50697 | BK51: =INDEX(INDIRECT("memória_cálculo"),MATCH($BI51,INDIRECT("indice_cáculo"),0),3) -> corte de árvore com motosserra, diâmetro do tronco de quinze (15) centímetros até trinta (30) centímetros, exclusive destocamento e afastamento | BL51: =INDEX(INDIRECT("memória_cálculo"),MATCH($BI51,INDIRECT("indice_cáculo"),0),4) -> un | BM51: {=INDEX(INDIRECT("memória_cálculo"),MATCH($BI51,INDIRECT("indice_cáculo"),0),BM$45)} -> 100 | BN51: {=INDEX(INDIRECT("memória_cálculo"),MATCH($BI51,INDIRECT("indice_cáculo"),0),BN$45)} -> 100 | BO51: {=INDEX(INDIRECT("memória_cálculo"),MATCH($BI51,INDIRECT("indice_cáculo"),0),BO$45)} -> 4 | BP51: {=INDEX(INDIRECT("memória_cálculo"),MATCH($BI51,INDIRECT("indice_cáculo"),0),BP$45)} -> 100 | BQ51: {=INDEX(INDIRECT("memória_cálculo"),MATCH($BI51,INDIRECT("indice_cáculo"),0),BQ$45)} -> 100 | BR51: {=INDEX(INDIRECT("memória_cálculo"),MATCH($BI51,INDIRECT("indice_cáculo"),0),BR$45)} -> 100 | BS51: {=INDEX(INDIRECT("memória_cálculo"),MATCH($BI51,INDIRECT("indice_cáculo"),0),BS$45)} -> 100 | BT51: {=INDEX(INDIRECT("memória_cálculo"),MATCH($BI51,INDIRECT("indice_cáculo"),0),BT$45)} -> 4 | ... CL51: {=INDEX(INDIRECT("memória_cálculo"),MATCH($BI51,INDIRECT("indice_cáculo"),0),CL$45)} -> 0 | CR51: Extensão | CS51: m | CT51: =CT48 -> 1000 | CU51: =CU48 -> 1000 | CV51: =CV48 -> 100 | CW51: =CW48 -> 1000 | CX51: =CX48 -> 1000 | CY51: =CY48 -> 1000 | CZ51: =CZ48 -> 1000 | DA51: =DA48 -> 100 | ... DT51: =DT48 -> 0
BI52: 1.6 | BJ52: =INDEX(INDIRECT("memória_cálculo"),MATCH($BI52,INDIRECT("indice_cáculo"),0),2) -> ED-50699 | BK52: =INDEX(INDIRECT("memória_cálculo"),MATCH($BI52,INDIRECT("indice_cáculo"),0),3) -> corte de árvore com motosserra, diâmetro do tronco acima de trinta (30) centímetros até cinquenta (50) centímetros, exclusive destocamento e afastamento | BL52: =INDEX(INDIRECT("memória_cálculo"),MATCH($BI52,INDIRECT("indice_cáculo"),0),4) -> un | BM52: {=INDEX(INDIRECT("memória_cálculo"),MATCH($BI52,INDIRECT("indice_cáculo"),0),BM$45)} -> 50 | BN52: {=INDEX(INDIRECT("memória_cálculo"),MATCH($BI52,INDIRECT("indice_cáculo"),0),BN$45)} -> 50 | BO52: {=INDEX(INDIRECT("memória_cálculo"),MATCH($BI52,INDIRECT("indice_cáculo"),0),BO$45)} -> 2 | BP52: {=INDEX(INDIRECT("memória_cálculo"),MATCH($BI52,INDIRECT("indice_cáculo"),0),BP$45)} -> 50 | BQ52: {=INDEX(INDIRECT("memória_cálculo"),MATCH($BI52,INDIRECT("indice_cáculo"),0),BQ$45)} -> 50 | BR52: {=INDEX(INDIRECT("memória_cálculo"),MATCH($BI52,INDIRECT("indice_cáculo"),0),BR$45)} -> 50 | BS52: {=INDEX(INDIRECT("memória_cálculo"),MATCH($BI52,INDIRECT("indice_cáculo"),0),BS$45)} -> 50 | BT52: {=INDEX(INDIRECT("memória_cálculo"),MATCH($BI52,INDIRECT("indice_cáculo"),0),BT$45)} -> 2 | ... CL52: {=INDEX(INDIRECT("memória_cálculo"),MATCH($BI52,INDIRECT("indice_cáculo"),0),CL$45)} -> 0 | CR52: Largura Média de Limpeza | CS52: m | CT52: =CT53/CT51 -> 41.659023 | CU52: =CU53/CU51 -> 34.397466 | CV52: =CV53/CV51 -> 43.813 | CW52: =CW53/CW51 -> 24.105493 | CX52: =CX53/CX51 -> 29.045998 | CY52: =CY53/CY51 -> 41.659023 | CZ52: =CZ53/CZ51 -> 34.397466 | DA52: =DA53/DA51 -> 43.813 | ... DR52: =DR53/DR51 -> 29.045998
B53: 1 | D53: SERVIÇOS PRELIMINARES | BI53: 2 | BK53: TERRAPLENAGEM | CR53: Área de Desmatamento | CS53: m² | CT53: 41659.023 | CU53: 34397.466 | CV53: 4381.3 | CW53: 24105.493 | CX53: 29045.998 | CY53: 41659.023 | CZ53: 34397.466 | DA53: 4381.3 | DB53: 24105.493 | DC53: 29045.998 | DD53: 41659.023 | DE53: 34397.466 | DF53: 4381.3 | DG53: 24105.493 | DH53: 29045.998 | DI53: 41659.023 | DJ53: 34397.466 | DK53: 4381.3 | DL53: 24105.493 | DM53: 29045.998 | DN53: 41659.023 | DO53: 34397.466 | DP53: 4381.3 | DQ53: 24105.493 | DR53: 29045.998 | DS53: =DS51*DS52 -> 0 | DT53: =DT51*DT52 -> 0
B54: 1.1 | C54: =INDEX(INDIRECT("memória_cálculo"),MATCH($B54,INDIRECT("indice_cáculo"),0),2) -> ED-50702 | D54: =INDEX(INDIRECT("memória_cálculo"),MATCH($B54,INDIRECT("indice_cáculo"),0),3) -> desmatamento, destocamento e limpeza, inclusive transporte até cinquenta (50) metros | E54: =INDEX(INDIRECT("memória_cálculo"),MATCH($B54,INDIRECT("indice_cáculo"),0),4) -> m2 | X54: {=INDEX($BI$46:$CM$192,MATCH($B54,$BI$46:$BI$192,0),X$47)*X$39} -> 41659.023 | Y54: {=INDEX($BI$46:$CM$192,MATCH($B54,$BI$46:$BI$192,0),Y$47)*Y$39} -> 41659.023 | Z54: {=INDEX($BI$46:$CM$192,MATCH($B54,$BI$46:$BI$192,0),Z$47)*Z$39} -> 0 | AB54: {=INDEX($BI$46:$CM$192,MATCH($B54,$BI$46:$BI$192,0),AB$47)*AB$39} -> 34397.466 | AD54: {=INDEX($BI$46:$CM$192,MATCH($B54,$BI$46:$BI$192,0),AD$47)*AD$39} -> 34397.466 | AE54: {=INDEX($BI$46:$CM$192,MATCH($B54,$BI$46:$BI$192,0),AE$47)*AE$39} -> 34397.466 | AF54: {=INDEX($BI$46:$CM$192,MATCH($B54,$BI$46:$BI$192,0),AF$47)*AF$39} -> 34397.466 | AG54: {=INDEX($BI$46:$CM$192,MATCH($B54,$BI$46:$BI$192,0),AG$47)*AG$39} -> 34397.466 | AH54: {=INDEX($BI$46:$CM$192,MATCH($B54,$BI$46:$BI$192,0),AH$47)*AH$39} -> 34397.466 | AI54: {=INDEX($BI$46:$CM$192,MATCH($B54,$BI$46:$BI$192,0),AI$47)*AI$39} -> 34397.466 | AJ54: {=INDEX($BI$46:$CM$192,MATCH($B54,$BI$46:$BI$192,0),AJ$47)*AJ$39} -> 34397.466 | AK54: {=INDEX($BI$46:$CM$192,MATCH($B54,$BI$46:$BI$192,0),AK$47)*AK$39} -> 34397.466 | ... AR54: {=INDEX($BI$46:$CM$192,MATCH($B54,$BI$46:$BI$192,0),AR$47)*AR$39} -> 41659.023 | AU54: {=INDEX($BI$46:$CM$192,MATCH($B54,$BI$46:$BI$192,0),AU$47)*AU$39} -> 34397.466 | AV54: {=INDEX($BI$46:$CM$192,MATCH($B54,$BI$46:$BI$192,0),AV$47)*AV$39} -> 41659.023 | AW54: {=INDEX($BI$46:$CM$192,MATCH($B54,$BI$46:$BI$192,0),AW$47)*AW$39} -> 41659.023 | AX54: {=INDEX($BI$46:$CM$192,MATCH($B54,$BI$46:$BI$192,0),AX$47)*AX$39} -> 41659.023 | AY54: {=INDEX($BI$46:$CM$192,MATCH($B54,$BI$46:$BI$192,0),AY$47)*AY$39} -> 41659.023 | AZ54: {=INDEX($BI$46:$CM$192,MATCH($B54,$BI$46:$BI$192,0),AZ$47)*AZ$39} -> 41659.023 | BA54: {=INDEX($BI$46:$CM$192,MATCH($B54,$BI$46:$BI$192,0),BA$47)*BA$39} -> 41659.023 | BB54: {=INDEX($BI$46:$CM$192,MATCH($B54,$BI$46:$BI$192,0),BB$47)*BB$39} -> 34397.466 | BG54: =IF(C54="","",INDEX([10]TPU!$G:$G,MATCH($C54,[10]TPU!$A:$A,0))) -> 0.69 | BI54: 2.1 | BJ54: =INDEX(INDIRECT("memória_cálculo"),MATCH($BI54,INDIRECT("indice_cáculo"),0),2) -> RO-00072 | BK54: =INDEX(INDIRECT("memória_cálculo"),MATCH($BI54,INDIRECT("indice_cáculo"),0),3) -> escavação, carga e transporte de material de 1ª categoria - executado com escavadeira de 1,40 m3 e caminhão basculante de 12 m3 e com caminho de serviço pavimentado - dmt de 50 a 200 m | BL54: =INDEX(INDIRECT("memória_cálculo"),MATCH($BI54,INDIRECT("indice_cáculo"),0),4) -> m3 | BM54: {=INDEX(INDIRECT("memória_cálculo"),MATCH($BI54,INDIRECT("indice_cáculo"),0),BM$45)} -> 61701.858 | BN54: {=INDEX(INDIRECT("memória_cálculo"),MATCH($BI54,INDIRECT("indice_cáculo"),0),BN$45)} -> 14574.134 | BO54: {=INDEX(INDIRECT("memória_cálculo"),MATCH($BI54,INDIRECT("indice_cáculo"),0),BO$45)} -> 565.9578 | BP54: {=INDEX(INDIRECT("memória_cálculo"),MATCH($BI54,INDIRECT("indice_cáculo"),0),BP$45)} -> 1261.206 | BQ54: {=INDEX(INDIRECT("memória_cálculo"),MATCH($BI54,INDIRECT("indice_cáculo"),0),BQ$45)} -> 1945.4382 | BR54: {=INDEX(INDIRECT("memória_cálculo"),MATCH($BI54,INDIRECT("indice_cáculo"),0),BR$45)} -> 61701.858 | BS54: {=INDEX(INDIRECT("memória_cálculo"),MATCH($BI54,INDIRECT("indice_cáculo"),0),BS$45)} -> 14574.134 | BT54: {=INDEX(INDIRECT("memória_cálculo"),MATCH($BI54,INDIRECT("indice_cáculo"),0),BT$45)} -> 565.9578 | ... CL54: {=INDEX(INDIRECT("memória_cálculo"),MATCH($BI54,INDIRECT("indice_cáculo"),0),CL$45)} -> 0
B55: 1.2 | C55: =INDEX(INDIRECT("memória_cálculo"),MATCH($B55,INDIRECT("indice_cáculo"),0),2) -> ED-51132 | D55: =INDEX(INDIRECT("memória_cálculo"),MATCH($B55,INDIRECT("indice_cáculo"),0),3) -> carga mecânica de material de qualquer natureza sobre caminhão, exclusive transporte | E55: =INDEX(INDIRECT("memória_cálculo"),MATCH($B55,INDIRECT("indice_cáculo"),0),4) -> m3 | X55: {=INDEX($BI$46:$CM$192,MATCH($B55,$BI$46:$BI$192,0),X$47)*X$39} -> 8331.8046 | Y55: {=INDEX($BI$46:$CM$192,MATCH($B55,$BI$46:$BI$192,0),Y$47)*Y$39} -> 8331.8046 | Z55: {=INDEX($BI$46:$CM$192,MATCH($B55,$BI$46:$BI$192,0),Z$47)*Z$39} -> 0 | AB55: {=INDEX($BI$46:$CM$192,MATCH($B55,$BI$46:$BI$192,0),AB$47)*AB$39} -> 6879.4932 | AD55: {=INDEX($BI$46:$CM$192,MATCH($B55,$BI$46:$BI$192,0),AD$47)*AD$39} -> 6879.4932 | AE55: {=INDEX($BI$46:$CM$192,MATCH($B55,$BI$46:$BI$192,0),AE$47)*AE$39} -> 6879.4932 | AF55: {=INDEX($BI$46:$CM$192,MATCH($B55,$BI$46:$BI$192,0),AF$47)*AF$39} -> 6879.4932 | AG55: {=INDEX($BI$46:$CM$192,MATCH($B55,$BI$46:$BI$192,0),AG$47)*AG$39} -> 6879.4932 | AH55: {=INDEX($BI$46:$CM$192,MATCH($B55,$BI$46:$BI$192,0),AH$47)*AH$39} -> 6879.4932 | AI55: {=INDEX($BI$46:$CM$192,MATCH($B55,$BI$46:$BI$192,0),AI$47)*AI$39} -> 6879.4932 | AJ55: {=INDEX($BI$46:$CM$192,MATCH($B55,$BI$46:$BI$192,0),AJ$47)*AJ$39} -> 6879.4932 | AK55: {=INDEX($BI$46:$CM$192,MATCH($B55,$BI$46:$BI$192,0),AK$47)*AK$39} -> 6879.4932 | ... AR55: {=INDEX($BI$46:$CM$192,MATCH($B55,$BI$46:$BI$192,0),AR$47)*AR$39} -> 8331.8046 | AU55: {=INDEX($BI$46:$CM$192,MATCH($B55,$BI$46:$BI$192,0),AU$47)*AU$39} -> 6879.4932 | AV55: {=INDEX($BI$46:$CM$192,MATCH($B55,$BI$46:$BI$192,0),AV$47)*AV$39} -> 8331.8046 | AW55: {=INDEX($BI$46:$CM$192,MATCH($B55,$BI$46:$BI$192,0),AW$47)*AW$39} -> 8331.8046 | AX55: {=INDEX($BI$46:$CM$192,MATCH($B55,$BI$46:$BI$192,0),AX$47)*AX$39} -> 8331.8046 | AY55: {=INDEX($BI$46:$CM$192,MATCH($B55,$BI$46:$BI$192,0),AY$47)*AY$39} -> 8331.8046 | AZ55: {=INDEX($BI$46:$CM$192,MATCH($B55,$BI$46:$BI$192,0),AZ$47)*AZ$39} -> 8331.8046 | BA55: {=INDEX($BI$46:$CM$192,MATCH($B55,$BI$46:$BI$192,0),BA$47)*BA$39} -> 8331.8046 | BB55: {=INDEX($BI$46:$CM$192,MATCH($B55,$BI$46:$BI$192,0),BB$47)*BB$39} -> 6879.4932 | BG55: =IF(C55="","",INDEX([10]TPU!$G:$G,MATCH($C55,[10]TPU!$A:$A,0))) -> 3.98 | BI55: 2.2 | BJ55: =INDEX(INDIRECT("memória_cálculo"),MATCH($BI55,INDIRECT("indice_cáculo"),0),2) -> RO-00077 | BK55: =INDEX(INDIRECT("memória_cálculo"),MATCH($BI55,INDIRECT("indice_cáculo"),0),3) -> escavação, carga e transporte de material de 1ª categoria - executado com escavadeira de 1,40 m3 e caminhão basculante de 12 m3 e com caminho de serviço pavimentado - dmt de 1.000 a 1.200 m | BL55: =INDEX(INDIRECT("memória_cálculo"),MATCH($BI55,INDIRECT("indice_cáculo"),0),4) -> m3 | BM55: {=INDEX(INDIRECT("memória_cálculo"),MATCH($BI55,INDIRECT("indice_cáculo"),0),BM$45)} -> 41134.572 | BN55: {=INDEX(INDIRECT("memória_cálculo"),MATCH($BI55,INDIRECT("indice_cáculo"),0),BN$45)} -> 58296.535 | BO55: {=INDEX(INDIRECT("memória_cálculo"),MATCH($BI55,INDIRECT("indice_cáculo"),0),BO$45)} -> 3207.0942 | BP55: {=INDEX(INDIRECT("memória_cálculo"),MATCH($BI55,INDIRECT("indice_cáculo"),0),BP$45)} -> 5044.824 | BQ55: {=INDEX(INDIRECT("memória_cálculo"),MATCH($BI55,INDIRECT("indice_cáculo"),0),BQ$45)} -> 7781.7528 | BR55: {=INDEX(INDIRECT("memória_cálculo"),MATCH($BI55,INDIRECT("indice_cáculo"),0),BR$45)} -> 41134.572 | BS55: {=INDEX(INDIRECT("memória_cálculo"),MATCH($BI55,INDIRECT("indice_cáculo"),0),BS$45)} -> 58296.535 | BT55: {=INDEX(INDIRECT("memória_cálculo"),MATCH($BI55,INDIRECT("indice_cáculo"),0),BT$45)} -> 3207.0942 | ... CL55: {=INDEX(INDIRECT("memória_cálculo"),MATCH($BI55,INDIRECT("indice_cáculo"),0),CL$45)} -> 0 | CP55: 1.2 | CQ55: =INDEX([10]TPU!$A:$A,MATCH($DV55,[10]TPU!$P:$P,0)) -> ED-51132 | CR55: =INDEX([10]TPU!$C:$C,MATCH($DV55,[10]TPU!$P:$P,0)) -> carga mecânica de material de qualquer natureza sobre caminhão, exclusive transporte | CS55: =INDEX([10]TPU!$D:$D,MATCH($DV55,[10]TPU!$P:$P,0)) -> m3 | CT55: =CT57*CT58 -> 8331.8046 | CU55: =CU57*CU58 -> 6879.4932 | CV55: =CV57*CV58 -> 876.26 | CW55: =CW57*CW58 -> 4821.0986 | CX55: =CX57*CX58 -> 5809.1996 | CY55: =CY57*CY58 -> 8331.8046 | CZ55: =CZ57*CZ58 -> 6879.4932 | DA55: =DA57*DA58 -> 876.26 | ... DT55: =DT57*DT58 -> 0 | DV55: ED-51132
B56: 1.3 | C56: =INDEX(INDIRECT("memória_cálculo"),MATCH($B56,INDIRECT("indice_cáculo"),0),2) -> RO-00881 | D56: =INDEX(INDIRECT("memória_cálculo"),MATCH($B56,INDIRECT("indice_cáculo"),0),3) -> Transporte com caminhão basculante de 6 m³ - rodovia pavimentada | E56: =INDEX(INDIRECT("memória_cálculo"),MATCH($B56,INDIRECT("indice_cáculo"),0),4) -> txkm | X56: {=INDEX($BI$46:$CM$192,MATCH($B56,$BI$46:$BI$192,0),X$47)*X$39} -> 133308.87 | Y56: {=INDEX($BI$46:$CM$192,MATCH($B56,$BI$46:$BI$192,0),Y$47)*Y$39} -> 133308.87 | Z56: {=INDEX($BI$46:$CM$192,MATCH($B56,$BI$46:$BI$192,0),Z$47)*Z$39} -> 0 | AB56: {=INDEX($BI$46:$CM$192,MATCH($B56,$BI$46:$BI$192,0),AB$47)*AB$39} -> 110071.89 | AD56: {=INDEX($BI$46:$CM$192,MATCH($B56,$BI$46:$BI$192,0),AD$47)*AD$39} -> 110071.89 | AE56: {=INDEX($BI$46:$CM$192,MATCH($B56,$BI$46:$BI$192,0),AE$47)*AE$39} -> 110071.89 | AF56: {=INDEX($BI$46:$CM$192,MATCH($B56,$BI$46:$BI$192,0),AF$47)*AF$39} -> 110071.89 | AG56: {=INDEX($BI$46:$CM$192,MATCH($B56,$BI$46:$BI$192,0),AG$47)*AG$39} -> 110071.89 | AH56: {=INDEX($BI$46:$CM$192,MATCH($B56,$BI$46:$BI$192,0),AH$47)*AH$39} -> 110071.89 | AI56: {=INDEX($BI$46:$CM$192,MATCH($B56,$BI$46:$BI$192,0),AI$47)*AI$39} -> 110071.89 | AJ56: {=INDEX($BI$46:$CM$192,MATCH($B56,$BI$46:$BI$192,0),AJ$47)*AJ$39} -> 110071.89 | AK56: {=INDEX($BI$46:$CM$192,MATCH($B56,$BI$46:$BI$192,0),AK$47)*AK$39} -> 110071.89 | ... AR56: {=INDEX($BI$46:$CM$192,MATCH($B56,$BI$46:$BI$192,0),AR$47)*AR$39} -> 133308.87 | AU56: {=INDEX($BI$46:$CM$192,MATCH($B56,$BI$46:$BI$192,0),AU$47)*AU$39} -> 110071.89 | AV56: {=INDEX($BI$46:$CM$192,MATCH($B56,$BI$46:$BI$192,0),AV$47)*AV$39} -> 133308.87 | AW56: {=INDEX($BI$46:$CM$192,MATCH($B56,$BI$46:$BI$192,0),AW$47)*AW$39} -> 133308.87 | AX56: {=INDEX($BI$46:$CM$192,MATCH($B56,$BI$46:$BI$192,0),AX$47)*AX$39} -> 133308.87 | AY56: {=INDEX($BI$46:$CM$192,MATCH($B56,$BI$46:$BI$192,0),AY$47)*AY$39} -> 133308.87 | AZ56: {=INDEX($BI$46:$CM$192,MATCH($B56,$BI$46:$BI$192,0),AZ$47)*AZ$39} -> 133308.87 | BA56: {=INDEX($BI$46:$CM$192,MATCH($B56,$BI$46:$BI$192,0),BA$47)*BA$39} -> 133308.87 | BB56: {=INDEX($BI$46:$CM$192,MATCH($B56,$BI$46:$BI$192,0),BB$47)*BB$39} -> 110071.89 | BG56: =IF(C56="","",INDEX([10]TPU!$G:$G,MATCH($C56,[10]TPU!$A:$A,0))) -> 0.96 | BI56: 2.3 | BJ56: =INDEX(INDIRECT("memória_cálculo"),MATCH($BI56,INDIRECT("indice_cáculo"),0),2) -> RO-00084 | BK56: =INDEX(INDIRECT("memória_cálculo"),MATCH($BI56,INDIRECT("indice_cáculo"),0),3) -> escavação, carga e transporte de material de 1ª categoria - executado com escavadeira de 1,40 m3 e caminhão basculante de 12 m3 e com caminho de serviço pavimentado - dmt de 3.000 m | BL56: =INDEX(INDIRECT("memória_cálculo"),MATCH($BI56,INDIRECT("indice_cáculo"),0),4) -> m3 | BM56: {=INDEX(INDIRECT("memória_cálculo"),MATCH($BI56,INDIRECT("indice_cáculo"),0),BM$45)} -> 0 | BN56: {=INDEX(INDIRECT("memória_cálculo"),MATCH($BI56,INDIRECT("indice_cáculo"),0),BN$45)} -> 0 | BO56: {=INDEX(INDIRECT("memória_cálculo"),MATCH($BI56,INDIRECT("indice_cáculo"),0),BO$45)} -> 0 | BP56: {=INDEX(INDIRECT("memória_cálculo"),MATCH($BI56,INDIRECT("indice_cáculo"),0),BP$45)} -> 0 | BQ56: {=INDEX(INDIRECT("memória_cálculo"),MATCH($BI56,INDIRECT("indice_cáculo"),0),BQ$45)} -> 0 | BR56: {=INDEX(INDIRECT("memória_cálculo"),MATCH($BI56,INDIRECT("indice_cáculo"),0),BR$45)} -> 0 | BS56: {=INDEX(INDIRECT("memória_cálculo"),MATCH($BI56,INDIRECT("indice_cáculo"),0),BS$45)} -> 0 | BT56: {=INDEX(INDIRECT("memória_cálculo"),MATCH($BI56,INDIRECT("indice_cáculo"),0),BT$45)} -> 0 | ... CL56: {=INDEX(INDIRECT("memória_cálculo"),MATCH($BI56,INDIRECT("indice_cáculo"),0),CL$45)} -> 0
B57: 1.4 | C57: =INDEX(INDIRECT("memória_cálculo"),MATCH($B57,INDIRECT("indice_cáculo"),0),2) -> 4413942 | D57: =INDEX(INDIRECT("memória_cálculo"),MATCH($B57,INDIRECT("indice_cáculo"),0),3) -> Espalhamento de material em bota-fora | E57: =INDEX(INDIRECT("memória_cálculo"),MATCH($B57,INDIRECT("indice_cáculo"),0),4) -> m³ | X57: {=INDEX($BI$46:$CM$192,MATCH($B57,$BI$46:$BI$192,0),X$47)*X$39} -> 8331.8046 | Y57: {=INDEX($BI$46:$CM$192,MATCH($B57,$BI$46:$BI$192,0),Y$47)*Y$39} -> 8331.8046 | Z57: {=INDEX($BI$46:$CM$192,MATCH($B57,$BI$46:$BI$192,0),Z$47)*Z$39} -> 0 | AB57: {=INDEX($BI$46:$CM$192,MATCH($B57,$BI$46:$BI$192,0),AB$47)*AB$39} -> 6879.4932 | AD57: {=INDEX($BI$46:$CM$192,MATCH($B57,$BI$46:$BI$192,0),AD$47)*AD$39} -> 6879.4932 | AE57: {=INDEX($BI$46:$CM$192,MATCH($B57,$BI$46:$BI$192,0),AE$47)*AE$39} -> 6879.4932 | AF57: {=INDEX($BI$46:$CM$192,MATCH($B57,$BI$46:$BI$192,0),AF$47)*AF$39} -> 6879.4932 | AG57: {=INDEX($BI$46:$CM$192,MATCH($B57,$BI$46:$BI$192,0),AG$47)*AG$39} -> 6879.4932 | AH57: {=INDEX($BI$46:$CM$192,MATCH($B57,$BI$46:$BI$192,0),AH$47)*AH$39} -> 6879.4932 | AI57: {=INDEX($BI$46:$CM$192,MATCH($B57,$BI$46:$BI$192,0),AI$47)*AI$39} -> 6879.4932 | AJ57: {=INDEX($BI$46:$CM$192,MATCH($B57,$BI$46:$BI$192,0),AJ$47)*AJ$39} -> 6879.4932 | AK57: {=INDEX($BI$46:$CM$192,MATCH($B57,$BI$46:$BI$192,0),AK$47)*AK$39} -> 6879.4932 | ... AR57: {=INDEX($BI$46:$CM$192,MATCH($B57,$BI$46:$BI$192,0),AR$47)*AR$39} -> 8331.8046 | AU57: {=INDEX($BI$46:$CM$192,MATCH($B57,$BI$46:$BI$192,0),AU$47)*AU$39} -> 6879.4932 | AV57: {=INDEX($BI$46:$CM$192,MATCH($B57,$BI$46:$BI$192,0),AV$47)*AV$39} -> 8331.8046 | AW57: {=INDEX($BI$46:$CM$192,MATCH($B57,$BI$46:$BI$192,0),AW$47)*AW$39} -> 8331.8046 | AX57: {=INDEX($BI$46:$CM$192,MATCH($B57,$BI$46:$BI$192,0),AX$47)*AX$39} -> 8331.8046 | AY57: {=INDEX($BI$46:$CM$192,MATCH($B57,$BI$46:$BI$192,0),AY$47)*AY$39} -> 8331.8046 | AZ57: {=INDEX($BI$46:$CM$192,MATCH($B57,$BI$46:$BI$192,0),AZ$47)*AZ$39} -> 8331.8046 | BA57: {=INDEX($BI$46:$CM$192,MATCH($B57,$BI$46:$BI$192,0),BA$47)*BA$39} -> 8331.8046 | BB57: {=INDEX($BI$46:$CM$192,MATCH($B57,$BI$46:$BI$192,0),BB$47)*BB$39} -> 6879.4932 | BG57: =IF(C57="","",INDEX([10]TPU!$G:$G,MATCH($C57,[10]TPU!$A:$A,0))) -> 2.44 | BI57: 2.4 | BJ57: =INDEX(INDIRECT("memória_cálculo"),MATCH($BI57,INDIRECT("indice_cáculo"),0),2) -> RO-00881 | BK57: =INDEX(INDIRECT("memória_cálculo"),MATCH($BI57,INDIRECT("indice_cáculo"),0),3) -> Transporte com caminhão basculante de 6 m³ - rodovia pavimentada | BL57: =INDEX(INDIRECT("memória_cálculo"),MATCH($BI57,INDIRECT("indice_cáculo"),0),4) -> txkm | BM57: {=INDEX(INDIRECT("memória_cálculo"),MATCH($BI57,INDIRECT("indice_cáculo"),0),BM$45)} -> 0 | BN57: {=INDEX(INDIRECT("memória_cálculo"),MATCH($BI57,INDIRECT("indice_cáculo"),0),BN$45)} -> 0 | BO57: {=INDEX(INDIRECT("memória_cálculo"),MATCH($BI57,INDIRECT("indice_cáculo"),0),BO$45)} -> 0 | BP57: {=INDEX(INDIRECT("memória_cálculo"),MATCH($BI57,INDIRECT("indice_cáculo"),0),BP$45)} -> 0 | BQ57: {=INDEX(INDIRECT("memória_cálculo"),MATCH($BI57,INDIRECT("indice_cáculo"),0),BQ$45)} -> 0 | BR57: {=INDEX(INDIRECT("memória_cálculo"),MATCH($BI57,INDIRECT("indice_cáculo"),0),BR$45)} -> 0 | BS57: {=INDEX(INDIRECT("memória_cálculo"),MATCH($BI57,INDIRECT("indice_cáculo"),0),BS$45)} -> 0 | BT57: {=INDEX(INDIRECT("memória_cálculo"),MATCH($BI57,INDIRECT("indice_cáculo"),0),BT$45)} -> 0 | ... CL57: {=INDEX(INDIRECT("memória_cálculo"),MATCH($BI57,INDIRECT("indice_cáculo"),0),CL$45)} -> 0 | CR57: Área de Limpeza | CS57: m² | CT57: =CT53 -> 41659.023 | CU57: =CU53 -> 34397.466 | CV57: =CV53 -> 4381.3 | CW57: =CW53 -> 24105.493 | CX57: =CX53 -> 29045.998 | CY57: =CY53 -> 41659.023 | CZ57: =CZ53 -> 34397.466 | DA57: =DA53 -> 4381.3 | ... DT57: =DT53 -> 0
B58: 1.5 | C58: =INDEX(INDIRECT("memória_cálculo"),MATCH($B58,INDIRECT("indice_cáculo"),0),2) -> ED-50697 | D58: =INDEX(INDIRECT("memória_cálculo"),MATCH($B58,INDIRECT("indice_cáculo"),0),3) -> corte de árvore com motosserra, diâmetro do tronco de quinze (15) centímetros até trinta (30) centímetros, exclusive destocamento e afastamento | E58: =INDEX(INDIRECT("memória_cálculo"),MATCH($B58,INDIRECT("indice_cáculo"),0),4) -> un | X58: {=INDEX($BI$46:$CM$192,MATCH($B58,$BI$46:$BI$192,0),X$47)*X$39} -> 100 | Y58: {=INDEX($BI$46:$CM$192,MATCH($B58,$BI$46:$BI$192,0),Y$47)*Y$39} -> 100 | Z58: {=INDEX($BI$46:$CM$192,MATCH($B58,$BI$46:$BI$192,0),Z$47)*Z$39} -> 0 | AB58: {=INDEX($BI$46:$CM$192,MATCH($B58,$BI$46:$BI$192,0),AB$47)*AB$39} -> 100 | AD58: {=INDEX($BI$46:$CM$192,MATCH($B58,$BI$46:$BI$192,0),AD$47)*AD$39} -> 100 | AE58: {=INDEX($BI$46:$CM$192,MATCH($B58,$BI$46:$BI$192,0),AE$47)*AE$39} -> 100 | AF58: {=INDEX($BI$46:$CM$192,MATCH($B58,$BI$46:$BI$192,0),AF$47)*AF$39} -> 100 | AG58: {=INDEX($BI$46:$CM$192,MATCH($B58,$BI$46:$BI$192,0),AG$47)*AG$39} -> 100 | AH58: {=INDEX($BI$46:$CM$192,MATCH($B58,$BI$46:$BI$192,0),AH$47)*AH$39} -> 100 | AI58: {=INDEX($BI$46:$CM$192,MATCH($B58,$BI$46:$BI$192,0),AI$47)*AI$39} -> 100 | AJ58: {=INDEX($BI$46:$CM$192,MATCH($B58,$BI$46:$BI$192,0),AJ$47)*AJ$39} -> 100 | AK58: {=INDEX($BI$46:$CM$192,MATCH($B58,$BI$46:$BI$192,0),AK$47)*AK$39} -> 100 | ... AR58: {=INDEX($BI$46:$CM$192,MATCH($B58,$BI$46:$BI$192,0),AR$47)*AR$39} -> 100 | AU58: {=INDEX($BI$46:$CM$192,MATCH($B58,$BI$46:$BI$192,0),AU$47)*AU$39} -> 100 | AV58: {=INDEX($BI$46:$CM$192,MATCH($B58,$BI$46:$BI$192,0),AV$47)*AV$39} -> 100 | AW58: {=INDEX($BI$46:$CM$192,MATCH($B58,$BI$46:$BI$192,0),AW$47)*AW$39} -> 100 | AX58: {=INDEX($BI$46:$CM$192,MATCH($B58,$BI$46:$BI$192,0),AX$47)*AX$39} -> 100 | AY58: {=INDEX($BI$46:$CM$192,MATCH($B58,$BI$46:$BI$192,0),AY$47)*AY$39} -> 100 | AZ58: {=INDEX($BI$46:$CM$192,MATCH($B58,$BI$46:$BI$192,0),AZ$47)*AZ$39} -> 100 | BA58: {=INDEX($BI$46:$CM$192,MATCH($B58,$BI$46:$BI$192,0),BA$47)*BA$39} -> 100 | BB58: {=INDEX($BI$46:$CM$192,MATCH($B58,$BI$46:$BI$192,0),BB$47)*BB$39} -> 100 | BG58: =IF(C58="","",INDEX([10]TPU!$G:$G,MATCH($C58,[10]TPU!$A:$A,0))) -> 70.18 | BI58: 2.5 | BJ58: =INDEX(INDIRECT("memória_cálculo"),MATCH($BI58,INDIRECT("indice_cáculo"),0),2) -> RO-00112 | BK58: =INDEX(INDIRECT("memória_cálculo"),MATCH($BI58,INDIRECT("indice_cáculo"),0),3) -> escavação, carga e transporte de material de 2ª categoria - executado com escavadeira de 1,40 m3 e caminhão basculante de 12 m3 e com caminho de serviço pavimentado - dmt de 50 a 200 m | BL58: =INDEX(INDIRECT("memória_cálculo"),MATCH($BI58,INDIRECT("indice_cáculo"),0),4) -> m3 | BM58: {=INDEX(INDIRECT("memória_cálculo"),MATCH($BI58,INDIRECT("indice_cáculo"),0),BM$45)} -> 6855.762 | BN58: {=INDEX(INDIRECT("memória_cálculo"),MATCH($BI58,INDIRECT("indice_cáculo"),0),BN$45)} -> 1619.3482 | BO58: {=INDEX(INDIRECT("memória_cálculo"),MATCH($BI58,INDIRECT("indice_cáculo"),0),BO$45)} -> 62.8842 | BP58: {=INDEX(INDIRECT("memória_cálculo"),MATCH($BI58,INDIRECT("indice_cáculo"),0),BP$45)} -> 140.134 | BQ58: {=INDEX(INDIRECT("memória_cálculo"),MATCH($BI58,INDIRECT("indice_cáculo"),0),BQ$45)} -> 216.1598 | BR58: {=INDEX(INDIRECT("memória_cálculo"),MATCH($BI58,INDIRECT("indice_cáculo"),0),BR$45)} -> 6855.762 | BS58: {=INDEX(INDIRECT("memória_cálculo"),MATCH($BI58,INDIRECT("indice_cáculo"),0),BS$45)} -> 1619.3482 | BT58: {=INDEX(INDIRECT("memória_cálculo"),MATCH($BI58,INDIRECT("indice_cáculo"),0),BT$45)} -> 62.8842 | ... CL58: {=INDEX(INDIRECT("memória_cálculo"),MATCH($BI58,INDIRECT("indice_cáculo"),0),CL$45)} -> 0 | CR58: Espessura Terreno | CS58: m | CT58: 0.2 | CU58: 0.2 | CV58: 0.2 | CW58: 0.2 | CX58: 0.2 | CY58: 0.2 | CZ58: 0.2 | DA58: 0.2 | DB58: 0.2 | DC58: 0.2 | DD58: 0.2 | DE58: 0.2 | DF58: 0.2 | DG58: 0.2 | DH58: 0.2 | DI58: 0.2 | DJ58: 0.2 | DK58: 0.2 | DL58: 0.2 | DM58: 0.2 | DN58: 0.2 | DO58: 0.2 | DP58: 0.2 | DQ58: 0.2 | DR58: 0.2 | DS58: 0.2 | DT58: 0.2
B59: 1.6 | C59: =INDEX(INDIRECT("memória_cálculo"),MATCH($B59,INDIRECT("indice_cáculo"),0),2) -> ED-50699 | D59: =INDEX(INDIRECT("memória_cálculo"),MATCH($B59,INDIRECT("indice_cáculo"),0),3) -> corte de árvore com motosserra, diâmetro do tronco acima de trinta (30) centímetros até cinquenta (50) centímetros, exclusive destocamento e afastamento | E59: =INDEX(INDIRECT("memória_cálculo"),MATCH($B59,INDIRECT("indice_cáculo"),0),4) -> un | X59: {=INDEX($BI$46:$CM$192,MATCH($B59,$BI$46:$BI$192,0),X$47)*X$39} -> 50 | Y59: {=INDEX($BI$46:$CM$192,MATCH($B59,$BI$46:$BI$192,0),Y$47)*Y$39} -> 50 | Z59: {=INDEX($BI$46:$CM$192,MATCH($B59,$BI$46:$BI$192,0),Z$47)*Z$39} -> 0 | AB59: {=INDEX($BI$46:$CM$192,MATCH($B59,$BI$46:$BI$192,0),AB$47)*AB$39} -> 50 | AD59: {=INDEX($BI$46:$CM$192,MATCH($B59,$BI$46:$BI$192,0),AD$47)*AD$39} -> 50 | AE59: {=INDEX($BI$46:$CM$192,MATCH($B59,$BI$46:$BI$192,0),AE$47)*AE$39} -> 50 | AF59: {=INDEX($BI$46:$CM$192,MATCH($B59,$BI$46:$BI$192,0),AF$47)*AF$39} -> 50 | AG59: {=INDEX($BI$46:$CM$192,MATCH($B59,$BI$46:$BI$192,0),AG$47)*AG$39} -> 50 | AH59: {=INDEX($BI$46:$CM$192,MATCH($B59,$BI$46:$BI$192,0),AH$47)*AH$39} -> 50 | AI59: {=INDEX($BI$46:$CM$192,MATCH($B59,$BI$46:$BI$192,0),AI$47)*AI$39} -> 50 | AJ59: {=INDEX($BI$46:$CM$192,MATCH($B59,$BI$46:$BI$192,0),AJ$47)*AJ$39} -> 50 | AK59: {=INDEX($BI$46:$CM$192,MATCH($B59,$BI$46:$BI$192,0),AK$47)*AK$39} -> 50 | ... AR59: {=INDEX($BI$46:$CM$192,MATCH($B59,$BI$46:$BI$192,0),AR$47)*AR$39} -> 50 | AU59: {=INDEX($BI$46:$CM$192,MATCH($B59,$BI$46:$BI$192,0),AU$47)*AU$39} -> 50 | AV59: {=INDEX($BI$46:$CM$192,MATCH($B59,$BI$46:$BI$192,0),AV$47)*AV$39} -> 50 | AW59: {=INDEX($BI$46:$CM$192,MATCH($B59,$BI$46:$BI$192,0),AW$47)*AW$39} -> 50 | AX59: {=INDEX($BI$46:$CM$192,MATCH($B59,$BI$46:$BI$192,0),AX$47)*AX$39} -> 50 | AY59: {=INDEX($BI$46:$CM$192,MATCH($B59,$BI$46:$BI$192,0),AY$47)*AY$39} -> 50 | AZ59: {=INDEX($BI$46:$CM$192,MATCH($B59,$BI$46:$BI$192,0),AZ$47)*AZ$39} -> 50 | BA59: {=INDEX($BI$46:$CM$192,MATCH($B59,$BI$46:$BI$192,0),BA$47)*BA$39} -> 50 | BB59: {=INDEX($BI$46:$CM$192,MATCH($B59,$BI$46:$BI$192,0),BB$47)*BB$39} -> 50 | BG59: =IF(C59="","",INDEX([10]TPU!$G:$G,MATCH($C59,[10]TPU!$A:$A,0))) -> 116.96 | BI59: 2.6 | BJ59: =INDEX(INDIRECT("memória_cálculo"),MATCH($BI59,INDIRECT("indice_cáculo"),0),2) -> RO-00117 | BK59: =INDEX(INDIRECT("memória_cálculo"),MATCH($BI59,INDIRECT("indice_cáculo"),0),3) -> escavação, carga e transporte de material de 2ª categoria - executado com escavadeira de 1,40 m3 e caminhão basculante de 12 m3 e com caminho de serviço pavimentado - dmt de 1.000 a 1.200 m | BL59: =INDEX(INDIRECT("memória_cálculo"),MATCH($BI59,INDIRECT("indice_cáculo"),0),4) -> m3 | BM59: {=INDEX(INDIRECT("memória_cálculo"),MATCH($BI59,INDIRECT("indice_cáculo"),0),BM$45)} -> 4570.508 | BN59: {=INDEX(INDIRECT("memória_cálculo"),MATCH($BI59,INDIRECT("indice_cáculo"),0),BN$45)} -> 6477.3928 | BO59: {=INDEX(INDIRECT("memória_cálculo"),MATCH($BI59,INDIRECT("indice_cáculo"),0),BO$45)} -> 356.3438 | BP59: {=INDEX(INDIRECT("memória_cálculo"),MATCH($BI59,INDIRECT("indice_cáculo"),0),BP$45)} -> 560.536 | BQ59: {=INDEX(INDIRECT("memória_cálculo"),MATCH($BI59,INDIRECT("indice_cáculo"),0),BQ$45)} -> 864.6392 | BR59: {=INDEX(INDIRECT("memória_cálculo"),MATCH($BI59,INDIRECT("indice_cáculo"),0),BR$45)} -> 4570.508 | BS59: {=INDEX(INDIRECT("memória_cálculo"),MATCH($BI59,INDIRECT("indice_cáculo"),0),BS$45)} -> 6477.3928 | BT59: {=INDEX(INDIRECT("memória_cálculo"),MATCH($BI59,INDIRECT("indice_cáculo"),0),BT$45)} -> 356.3438 | ... CL59: {=INDEX(INDIRECT("memória_cálculo"),MATCH($BI59,INDIRECT("indice_cáculo"),0),CL$45)} -> 0 | CR59: Peso específico solo (t/m³) | CS59: t/m³ | CT59: 1.6 | CU59: 1.6 | CV59: 1.6 | CW59: 1.6 | CX59: 1.6 | CY59: 1.6 | CZ59: 1.6 | DA59: 1.6 | DB59: 1.6 | DC59: 1.6 | DD59: 1.6 | DE59: 1.6 | DF59: 1.6 | DG59: 1.6 | DH59: 1.6 | DI59: 1.6 | DJ59: 1.6 | DK59: 1.6 | DL59: 1.6 | DM59: 1.6 | DN59: 1.6 | DO59: 1.6 | DP59: 1.6 | DQ59: 1.6 | DR59: 1.6 | DS59: 1.6 | DT59: 1.6
B60: 2 | D60: TERRAPLENAGEM | BG60: {=IF(C60="","",INDEX([10]TPU!$A:$G,MATCH(C60,[10]TPU!$A:$A,0),COLUMN([10]TPU!$G$3)))} | BI60: 2.7 | BJ60: =INDEX(INDIRECT("memória_cálculo"),MATCH($BI60,INDIRECT("indice_cáculo"),0),2) -> RO-00124 | BK60: =INDEX(INDIRECT("memória_cálculo"),MATCH($BI60,INDIRECT("indice_cáculo"),0),3) -> escavação, carga e transporte de material de 2ª categoria - executado com escavadeira de 1,40 m3 e caminhão basculante de 12 m3 e com caminho de serviço pavimentado - dmt de 3.000 m | BL60: =INDEX(INDIRECT("memória_cálculo"),MATCH($BI60,INDIRECT("indice_cáculo"),0),4) -> m3 | BM60: {=INDEX(INDIRECT("memória_cálculo"),MATCH($BI60,INDIRECT("indice_cáculo"),0),BM$45)} -> 0 | BN60: {=INDEX(INDIRECT("memória_cálculo"),MATCH($BI60,INDIRECT("indice_cáculo"),0),BN$45)} -> 0 | BO60: {=INDEX(INDIRECT("memória_cálculo"),MATCH($BI60,INDIRECT("indice_cáculo"),0),BO$45)} -> 0 | BP60: {=INDEX(INDIRECT("memória_cálculo"),MATCH($BI60,INDIRECT("indice_cáculo"),0),BP$45)} -> 0 | BQ60: {=INDEX(INDIRECT("memória_cálculo"),MATCH($BI60,INDIRECT("indice_cáculo"),0),BQ$45)} -> 0 | BR60: {=INDEX(INDIRECT("memória_cálculo"),MATCH($BI60,INDIRECT("indice_cáculo"),0),BR$45)} -> 0 | BS60: {=INDEX(INDIRECT("memória_cálculo"),MATCH($BI60,INDIRECT("indice_cáculo"),0),BS$45)} -> 0 | BT60: {=INDEX(INDIRECT("memória_cálculo"),MATCH($BI60,INDIRECT("indice_cáculo"),0),BT$45)} -> 0 | ... CL60: {=INDEX(INDIRECT("memória_cálculo"),MATCH($BI60,INDIRECT("indice_cáculo"),0),CL$45)} -> 0
B61: 2.1 | C61: =INDEX(INDIRECT("memória_cálculo"),MATCH($B61,INDIRECT("indice_cáculo"),0),2) -> RO-00072 | D61: =INDEX(INDIRECT("memória_cálculo"),MATCH($B61,INDIRECT("indice_cáculo"),0),3) -> escavação, carga e transporte de material de 1ª categoria - executado com escavadeira de 1,40 m3 e caminhão basculante de 12 m3 e com caminho de serviço pavimentado - dmt de 50 a 200 m | E61: =INDEX(INDIRECT("memória_cálculo"),MATCH($B61,INDIRECT("indice_cáculo"),0),4) -> m3 | X61: {=INDEX($BI$46:$CM$192,MATCH($B61,$BI$46:$BI$192,0),X$47)*X$39} -> 61701.858 | Y61: {=INDEX($BI$46:$CM$192,MATCH($B61,$BI$46:$BI$192,0),Y$47)*Y$39} -> 61701.858 | Z61: {=INDEX($BI$46:$CM$192,MATCH($B61,$BI$46:$BI$192,0),Z$47)*Z$39} -> 0 | AB61: {=INDEX($BI$46:$CM$192,MATCH($B61,$BI$46:$BI$192,0),AB$47)*AB$39} -> 14574.134 | AD61: {=INDEX($BI$46:$CM$192,MATCH($B61,$BI$46:$BI$192,0),AD$47)*AD$39} -> 14574.134 | AE61: {=INDEX($BI$46:$CM$192,MATCH($B61,$BI$46:$BI$192,0),AE$47)*AE$39} -> 14574.134 | AF61: {=INDEX($BI$46:$CM$192,MATCH($B61,$BI$46:$BI$192,0),AF$47)*AF$39} -> 14574.134 | AG61: {=INDEX($BI$46:$CM$192,MATCH($B61,$BI$46:$BI$192,0),AG$47)*AG$39} -> 14574.134 | AH61: {=INDEX($BI$46:$CM$192,MATCH($B61,$BI$46:$BI$192,0),AH$47)*AH$39} -> 14574.134 | AI61: {=INDEX($BI$46:$CM$192,MATCH($B61,$BI$46:$BI$192,0),AI$47)*AI$39} -> 14574.134 | AJ61: {=INDEX($BI$46:$CM$192,MATCH($B61,$BI$46:$BI$192,0),AJ$47)*AJ$39} -> 14574.134 | AK61: {=INDEX($BI$46:$CM$192,MATCH($B61,$BI$46:$BI$192,0),AK$47)*AK$39} -> 14574.134 | ... AR61: {=INDEX($BI$46:$CM$192,MATCH($B61,$BI$46:$BI$192,0),AR$47)*AR$39} -> 61701.858 | AU61: {=INDEX($BI$46:$CM$192,MATCH($B61,$BI$46:$BI$192,0),AU$47)*AU$39} -> 14574.134 | AV61: {=INDEX($BI$46:$CM$192,MATCH($B61,$BI$46:$BI$192,0),AV$47)*AV$39} -> 61701.858 | AW61: {=INDEX($BI$46:$CM$192,MATCH($B61,$BI$46:$BI$192,0),AW$47)*AW$39} -> 61701.858 | AX61: {=INDEX($BI$46:$CM$192,MATCH($B61,$BI$46:$BI$192,0),AX$47)*AX$39} -> 61701.858 | AY61: {=INDEX($BI$46:$CM$192,MATCH($B61,$BI$46:$BI$192,0),AY$47)*AY$39} -> 61701.858 | AZ61: {=INDEX($BI$46:$CM$192,MATCH($B61,$BI$46:$BI$192,0),AZ$47)*AZ$39} -> 61701.858 | BA61: {=INDEX($BI$46:$CM$192,MATCH($B61,$BI$46:$BI$192,0),BA$47)*BA$39} -> 61701.858 | BB61: {=INDEX($BI$46:$CM$192,MATCH($B61,$BI$46:$BI$192,0),BB$47)*BB$39} -> 14574.134 | BG61: =IF(C61="","",INDEX([10]TPU!$G:$G,MATCH($C61,[10]TPU!$A:$A,0))) -> 6.72 | BI61: 2.8 | BJ61: =INDEX(INDIRECT("memória_cálculo"),MATCH($BI61,INDIRECT("indice_cáculo"),0),2) -> RO-00881 | BK61: =INDEX(INDIRECT("memória_cálculo"),MATCH($BI61,INDIRECT("indice_cáculo"),0),3) -> Transporte com caminhão basculante de 6 m³ - rodovia pavimentada | BL61: =INDEX(INDIRECT("memória_cálculo"),MATCH($BI61,INDIRECT("indice_cáculo"),0),4) -> txkm | BM61: {=INDEX(INDIRECT("memória_cálculo"),MATCH($BI61,INDIRECT("indice_cáculo"),0),BM$45)} -> 0 | BN61: {=INDEX(INDIRECT("memória_cálculo"),MATCH($BI61,INDIRECT("indice_cáculo"),0),BN$45)} -> 0 | BO61: {=INDEX(INDIRECT("memória_cálculo"),MATCH($BI61,INDIRECT("indice_cáculo"),0),BO$45)} -> 0 | BP61: {=INDEX(INDIRECT("memória_cálculo"),MATCH($BI61,INDIRECT("indice_cáculo"),0),BP$45)} -> 0 | BQ61: {=INDEX(INDIRECT("memória_cálculo"),MATCH($BI61,INDIRECT("indice_cáculo"),0),BQ$45)} -> 0 | BR61: {=INDEX(INDIRECT("memória_cálculo"),MATCH($BI61,INDIRECT("indice_cáculo"),0),BR$45)} -> 0 | BS61: {=INDEX(INDIRECT("memória_cálculo"),MATCH($BI61,INDIRECT("indice_cáculo"),0),BS$45)} -> 0 | BT61: {=INDEX(INDIRECT("memória_cálculo"),MATCH($BI61,INDIRECT("indice_cáculo"),0),BT$45)} -> 0 | ... CL61: {=INDEX(INDIRECT("memória_cálculo"),MATCH($BI61,INDIRECT("indice_cáculo"),0),CL$45)} -> 0 | CP61: 1.3 | CQ61: =INDEX([10]TPU!$A:$A,MATCH($DV61,[10]TPU!$P:$P,0)) -> RO-00881 | CR61: =INDEX([10]TPU!$C:$C,MATCH($DV61,[10]TPU!$P:$P,0)) -> Transporte com caminhão basculante de 6 m³ - rodovia pavimentada | CS61: =INDEX([10]TPU!$D:$D,MATCH($DV61,[10]TPU!$P:$P,0)) -> txkm | CT61: =CT63*CT64*CT65 -> 133308.87 | CU61: =CU63*CU64*CU65 -> 110071.89 | CV61: =CV63*CV64*CV65 -> 14020.16 | CW61: =CW63*CW64*CW65 -> 77137.578 | CX61: =CX63*CX64*CX65 -> 92947.194 | CY61: =CY63*CY64*CY65 -> 133308.87 | CZ61: =CZ63*CZ64*CZ65 -> 110071.89 | DA61: =DA63*DA64*DA65 -> 14020.16 | ... DT61: =DT63*DT64*DT65 -> 0 | DV61: RO-41369
B62: 2.2 | C62: =INDEX(INDIRECT("memória_cálculo"),MATCH($B62,INDIRECT("indice_cáculo"),0),2) -> RO-00077 | D62: =INDEX(INDIRECT("memória_cálculo"),MATCH($B62,INDIRECT("indice_cáculo"),0),3) -> escavação, carga e transporte de material de 1ª categoria - executado com escavadeira de 1,40 m3 e caminhão basculante de 12 m3 e com caminho de serviço pavimentado - dmt de 1.000 a 1.200 m | E62: =INDEX(INDIRECT("memória_cálculo"),MATCH($B62,INDIRECT("indice_cáculo"),0),4) -> m3 | X62: {=INDEX($BI$46:$CM$192,MATCH($B62,$BI$46:$BI$192,0),X$47)*X$39} -> 41134.572 | Y62: {=INDEX($BI$46:$CM$192,MATCH($B62,$BI$46:$BI$192,0),Y$47)*Y$39} -> 41134.572 | Z62: {=INDEX($BI$46:$CM$192,MATCH($B62,$BI$46:$BI$192,0),Z$47)*Z$39} -> 0 | AB62: {=INDEX($BI$46:$CM$192,MATCH($B62,$BI$46:$BI$192,0),AB$47)*AB$39} -> 58296.535 | AD62: {=INDEX($BI$46:$CM$192,MATCH($B62,$BI$46:$BI$192,0),AD$47)*AD$39} -> 58296.535 | AE62: {=INDEX($BI$46:$CM$192,MATCH($B62,$BI$46:$BI$192,0),AE$47)*AE$39} -> 58296.535 | AF62: {=INDEX($BI$46:$CM$192,MATCH($B62,$BI$46:$BI$192,0),AF$47)*AF$39} -> 58296.535 | AG62: {=INDEX($BI$46:$CM$192,MATCH($B62,$BI$46:$BI$192,0),AG$47)*AG$39} -> 58296.535 | AH62: {=INDEX($BI$46:$CM$192,MATCH($B62,$BI$46:$BI$192,0),AH$47)*AH$39} -> 58296.535 | AI62: {=INDEX($BI$46:$CM$192,MATCH($B62,$BI$46:$BI$192,0),AI$47)*AI$39} -> 58296.535 | AJ62: {=INDEX($BI$46:$CM$192,MATCH($B62,$BI$46:$BI$192,0),AJ$47)*AJ$39} -> 58296.535 | AK62: {=INDEX($BI$46:$CM$192,MATCH($B62,$BI$46:$BI$192,0),AK$47)*AK$39} -> 58296.535 | ... AR62: {=INDEX($BI$46:$CM$192,MATCH($B62,$BI$46:$BI$192,0),AR$47)*AR$39} -> 41134.572 | AU62: {=INDEX($BI$46:$CM$192,MATCH($B62,$BI$46:$BI$192,0),AU$47)*AU$39} -> 58296.535 | AV62: {=INDEX($BI$46:$CM$192,MATCH($B62,$BI$46:$BI$192,0),AV$47)*AV$39} -> 41134.572 | AW62: {=INDEX($BI$46:$CM$192,MATCH($B62,$BI$46:$BI$192,0),AW$47)*AW$39} -> 41134.572 | AX62: {=INDEX($BI$46:$CM$192,MATCH($B62,$BI$46:$BI$192,0),AX$47)*AX$39} -> 41134.572 | AY62: {=INDEX($BI$46:$CM$192,MATCH($B62,$BI$46:$BI$192,0),AY$47)*AY$39} -> 41134.572 | AZ62: {=INDEX($BI$46:$CM$192,MATCH($B62,$BI$46:$BI$192,0),AZ$47)*AZ$39} -> 41134.572 | BA62: {=INDEX($BI$46:$CM$192,MATCH($B62,$BI$46:$BI$192,0),BA$47)*BA$39} -> 41134.572 | BB62: {=INDEX($BI$46:$CM$192,MATCH($B62,$BI$46:$BI$192,0),BB$47)*BB$39} -> 58296.535 | BG62: =IF(C62="","",INDEX([10]TPU!$G:$G,MATCH($C62,[10]TPU!$A:$A,0))) -> 8.48 | BI62: 2.9 | BJ62: =INDEX(INDIRECT("memória_cálculo"),MATCH($BI62,INDIRECT("indice_cáculo"),0),2) -> RO-00190 | BK62: =INDEX(INDIRECT("memória_cálculo"),MATCH($BI62,INDIRECT("indice_cáculo"),0),3) -> escavação, carga e transporte de material de 3ª categoria - executado com escavadeira de 1,40 m3 e caminhão basculante de 12 m3 e com caminho de serviço pavimentado - dmt de 50 a 200 m | BL62: =INDEX(INDIRECT("memória_cálculo"),MATCH($BI62,INDIRECT("indice_cáculo"),0),4) -> m3 | BM62: {=INDEX(INDIRECT("memória_cálculo"),MATCH($BI62,INDIRECT("indice_cáculo"),0),BM$45)} -> 0 | BN62: {=INDEX(INDIRECT("memória_cálculo"),MATCH($BI62,INDIRECT("indice_cáculo"),0),BN$45)} -> 0 | BO62: {=INDEX(INDIRECT("memória_cálculo"),MATCH($BI62,INDIRECT("indice_cáculo"),0),BO$45)} -> 0 | BP62: {=INDEX(INDIRECT("memória_cálculo"),MATCH($BI62,INDIRECT("indice_cáculo"),0),BP$45)} -> 0 | BQ62: {=INDEX(INDIRECT("memória_cálculo"),MATCH($BI62,INDIRECT("indice_cáculo"),0),BQ$45)} -> 0 | BR62: {=INDEX(INDIRECT("memória_cálculo"),MATCH($BI62,INDIRECT("indice_cáculo"),0),BR$45)} -> 0 | BS62: {=INDEX(INDIRECT("memória_cálculo"),MATCH($BI62,INDIRECT("indice_cáculo"),0),BS$45)} -> 0 | BT62: {=INDEX(INDIRECT("memória_cálculo"),MATCH($BI62,INDIRECT("indice_cáculo"),0),BT$45)} -> 0 | ... CL62: {=INDEX(INDIRECT("memória_cálculo"),MATCH($BI62,INDIRECT("indice_cáculo"),0),CL$45)} -> 0
B63: 2.3 | C63: =INDEX(INDIRECT("memória_cálculo"),MATCH($B63,INDIRECT("indice_cáculo"),0),2) -> RO-00084 | D63: =INDEX(INDIRECT("memória_cálculo"),MATCH($B63,INDIRECT("indice_cáculo"),0),3) -> escavação, carga e transporte de material de 1ª categoria - executado com escavadeira de 1,40 m3 e caminhão basculante de 12 m3 e com caminho de serviço pavimentado - dmt de 3.000 m | E63: =INDEX(INDIRECT("memória_cálculo"),MATCH($B63,INDIRECT("indice_cáculo"),0),4) -> m3 | X63: {=INDEX($BI$46:$CM$192,MATCH($B63,$BI$46:$BI$192,0),X$47)*X$39} -> 0 | Y63: {=INDEX($BI$46:$CM$192,MATCH($B63,$BI$46:$BI$192,0),Y$47)*Y$39} -> 0 | Z63: {=INDEX($BI$46:$CM$192,MATCH($B63,$BI$46:$BI$192,0),Z$47)*Z$39} -> 0 | AB63: {=INDEX($BI$46:$CM$192,MATCH($B63,$BI$46:$BI$192,0),AB$47)*AB$39} -> 0 | AD63: {=INDEX($BI$46:$CM$192,MATCH($B63,$BI$46:$BI$192,0),AD$47)*AD$39} -> 0 | AE63: {=INDEX($BI$46:$CM$192,MATCH($B63,$BI$46:$BI$192,0),AE$47)*AE$39} -> 0 | AF63: {=INDEX($BI$46:$CM$192,MATCH($B63,$BI$46:$BI$192,0),AF$47)*AF$39} -> 0 | AG63: {=INDEX($BI$46:$CM$192,MATCH($B63,$BI$46:$BI$192,0),AG$47)*AG$39} -> 0 | AH63: {=INDEX($BI$46:$CM$192,MATCH($B63,$BI$46:$BI$192,0),AH$47)*AH$39} -> 0 | AI63: {=INDEX($BI$46:$CM$192,MATCH($B63,$BI$46:$BI$192,0),AI$47)*AI$39} -> 0 | AJ63: {=INDEX($BI$46:$CM$192,MATCH($B63,$BI$46:$BI$192,0),AJ$47)*AJ$39} -> 0 | AK63: {=INDEX($BI$46:$CM$192,MATCH($B63,$BI$46:$BI$192,0),AK$47)*AK$39} -> 0 | ... AR63: {=INDEX($BI$46:$CM$192,MATCH($B63,$BI$46:$BI$192,0),AR$47)*AR$39} -> 0 | AU63: {=INDEX($BI$46:$CM$192,MATCH($B63,$BI$46:$BI$192,0),AU$47)*AU$39} -> 0 | AV63: {=INDEX($BI$46:$CM$192,MATCH($B63,$BI$46:$BI$192,0),AV$47)*AV$39} -> 0 | AW63: {=INDEX($BI$46:$CM$192,MATCH($B63,$BI$46:$BI$192,0),AW$47)*AW$39} -> 0 | AX63: {=INDEX($BI$46:$CM$192,MATCH($B63,$BI$46:$BI$192,0),AX$47)*AX$39} -> 0 | AY63: {=INDEX($BI$46:$CM$192,MATCH($B63,$BI$46:$BI$192,0),AY$47)*AY$39} -> 0 | AZ63: {=INDEX($BI$46:$CM$192,MATCH($B63,$BI$46:$BI$192,0),AZ$47)*AZ$39} -> 0 | BA63: {=INDEX($BI$46:$CM$192,MATCH($B63,$BI$46:$BI$192,0),BA$47)*BA$39} -> 0 | BB63: {=INDEX($BI$46:$CM$192,MATCH($B63,$BI$46:$BI$192,0),BB$47)*BB$39} -> 0 | BG63: =IF(C63="","",INDEX([10]TPU!$G:$G,MATCH($C63,[10]TPU!$A:$A,0))) -> 11.5 | BI63: 2.10 | BJ63: =INDEX(INDIRECT("memória_cálculo"),MATCH($BI63,INDIRECT("indice_cáculo"),0),2) -> RO-00195 | BK63: =INDEX(INDIRECT("memória_cálculo"),MATCH($BI63,INDIRECT("indice_cáculo"),0),3) -> escavação, carga e transporte de material de 3ª categoria - executado com escavadeira de 1,40 m3 e caminhão basculante de 12 m3 e com caminho de serviço pavimentado - dmt de 1.000 a 1.200 m | BL63: =INDEX(INDIRECT("memória_cálculo"),MATCH($BI63,INDIRECT("indice_cáculo"),0),4) -> m3 | BM63: {=INDEX(INDIRECT("memória_cálculo"),MATCH($BI63,INDIRECT("indice_cáculo"),0),BM$45)} -> 0 | BN63: {=INDEX(INDIRECT("memória_cálculo"),MATCH($BI63,INDIRECT("indice_cáculo"),0),BN$45)} -> 0 | BO63: {=INDEX(INDIRECT("memória_cálculo"),MATCH($BI63,INDIRECT("indice_cáculo"),0),BO$45)} -> 0 | BP63: {=INDEX(INDIRECT("memória_cálculo"),MATCH($BI63,INDIRECT("indice_cáculo"),0),BP$45)} -> 0 | BQ63: {=INDEX(INDIRECT("memória_cálculo"),MATCH($BI63,INDIRECT("indice_cáculo"),0),BQ$45)} -> 0 | BR63: {=INDEX(INDIRECT("memória_cálculo"),MATCH($BI63,INDIRECT("indice_cáculo"),0),BR$45)} -> 0 | BS63: {=INDEX(INDIRECT("memória_cálculo"),MATCH($BI63,INDIRECT("indice_cáculo"),0),BS$45)} -> 0 | BT63: {=INDEX(INDIRECT("memória_cálculo"),MATCH($BI63,INDIRECT("indice_cáculo"),0),BT$45)} -> 0 | ... CL63: {=INDEX(INDIRECT("memória_cálculo"),MATCH($BI63,INDIRECT("indice_cáculo"),0),CL$45)} -> 0 | CR63: Volume | CS63: m³ | CT63: =CT$55 -> 8331.8046 | CU63: =CU$55 -> 6879.4932 | CV63: =CV$55 -> 876.26 | CW63: =CW$55 -> 4821.0986 | CX63: =CX$55 -> 5809.1996 | CY63: =CY$55 -> 8331.8046 | CZ63: =CZ$55 -> 6879.4932 | DA63: =DA$55 -> 876.26 | ... DT63: =DT$55 -> 0
B64: 2.4 | C64: =INDEX(INDIRECT("memória_cálculo"),MATCH($B64,INDIRECT("indice_cáculo"),0),2) -> RO-00881 | D64: =INDEX(INDIRECT("memória_cálculo"),MATCH($B64,INDIRECT("indice_cáculo"),0),3) -> Transporte com caminhão basculante de 6 m³ - rodovia pavimentada | E64: =INDEX(INDIRECT("memória_cálculo"),MATCH($B64,INDIRECT("indice_cáculo"),0),4) -> txkm | X64: {=INDEX($BI$46:$CM$192,MATCH($B64,$BI$46:$BI$192,0),X$47)*X$39} -> 0 | Y64: {=INDEX($BI$46:$CM$192,MATCH($B64,$BI$46:$BI$192,0),Y$47)*Y$39} -> 0 | Z64: {=INDEX($BI$46:$CM$192,MATCH($B64,$BI$46:$BI$192,0),Z$47)*Z$39} -> 0 | AB64: {=INDEX($BI$46:$CM$192,MATCH($B64,$BI$46:$BI$192,0),AB$47)*AB$39} -> 0 | AD64: {=INDEX($BI$46:$CM$192,MATCH($B64,$BI$46:$BI$192,0),AD$47)*AD$39} -> 0 | AE64: {=INDEX($BI$46:$CM$192,MATCH($B64,$BI$46:$BI$192,0),AE$47)*AE$39} -> 0 | AF64: {=INDEX($BI$46:$CM$192,MATCH($B64,$BI$46:$BI$192,0),AF$47)*AF$39} -> 0 | AG64: {=INDEX($BI$46:$CM$192,MATCH($B64,$BI$46:$BI$192,0),AG$47)*AG$39} -> 0 | AH64: {=INDEX($BI$46:$CM$192,MATCH($B64,$BI$46:$BI$192,0),AH$47)*AH$39} -> 0 | AI64: {=INDEX($BI$46:$CM$192,MATCH($B64,$BI$46:$BI$192,0),AI$47)*AI$39} -> 0 | AJ64: {=INDEX($BI$46:$CM$192,MATCH($B64,$BI$46:$BI$192,0),AJ$47)*AJ$39} -> 0 | AK64: {=INDEX($BI$46:$CM$192,MATCH($B64,$BI$46:$BI$192,0),AK$47)*AK$39} -> 0 | ... AR64: {=INDEX($BI$46:$CM$192,MATCH($B64,$BI$46:$BI$192,0),AR$47)*AR$39} -> 0 | AU64: {=INDEX($BI$46:$CM$192,MATCH($B64,$BI$46:$BI$192,0),AU$47)*AU$39} -> 0 | AV64: {=INDEX($BI$46:$CM$192,MATCH($B64,$BI$46:$BI$192,0),AV$47)*AV$39} -> 0 | AW64: {=INDEX($BI$46:$CM$192,MATCH($B64,$BI$46:$BI$192,0),AW$47)*AW$39} -> 0 | AX64: {=INDEX($BI$46:$CM$192,MATCH($B64,$BI$46:$BI$192,0),AX$47)*AX$39} -> 0 | AY64: {=INDEX($BI$46:$CM$192,MATCH($B64,$BI$46:$BI$192,0),AY$47)*AY$39} -> 0 | AZ64: {=INDEX($BI$46:$CM$192,MATCH($B64,$BI$46:$BI$192,0),AZ$47)*AZ$39} -> 0 | BA64: {=INDEX($BI$46:$CM$192,MATCH($B64,$BI$46:$BI$192,0),BA$47)*BA$39} -> 0 | BB64: {=INDEX($BI$46:$CM$192,MATCH($B64,$BI$46:$BI$192,0),BB$47)*BB$39} -> 0 | BG64: =IF(C64="","",INDEX([10]TPU!$G:$G,MATCH($C64,[10]TPU!$A:$A,0))) -> 0.96 | BI64: 2.11 | BJ64: =INDEX(INDIRECT("memória_cálculo"),MATCH($BI64,INDIRECT("indice_cáculo"),0),2) -> RO-00202 | BK64: =INDEX(INDIRECT("memória_cálculo"),MATCH($BI64,INDIRECT("indice_cáculo"),0),3) -> escavação, carga e transporte de material de 3ª categoria - executado com escavadeira de 1,40 m3 e caminhão basculante de 12 m3 e com caminho de serviço pavimentado - dmt de 3.000 m | BL64: =INDEX(INDIRECT("memória_cálculo"),MATCH($BI64,INDIRECT("indice_cáculo"),0),4) -> m3 | BM64: {=INDEX(INDIRECT("memória_cálculo"),MATCH($BI64,INDIRECT("indice_cáculo"),0),BM$45)} -> 0 | BN64: {=INDEX(INDIRECT("memória_cálculo"),MATCH($BI64,INDIRECT("indice_cáculo"),0),BN$45)} -> 0 | BO64: {=INDEX(INDIRECT("memória_cálculo"),MATCH($BI64,INDIRECT("indice_cáculo"),0),BO$45)} -> 0 | BP64: {=INDEX(INDIRECT("memória_cálculo"),MATCH($BI64,INDIRECT("indice_cáculo"),0),BP$45)} -> 0 | BQ64: {=INDEX(INDIRECT("memória_cálculo"),MATCH($BI64,INDIRECT("indice_cáculo"),0),BQ$45)} -> 0 | BR64: {=INDEX(INDIRECT("memória_cálculo"),MATCH($BI64,INDIRECT("indice_cáculo"),0),BR$45)} -> 0 | BS64: {=INDEX(INDIRECT("memória_cálculo"),MATCH($BI64,INDIRECT("indice_cáculo"),0),BS$45)} -> 0 | BT64: {=INDEX(INDIRECT("memória_cálculo"),MATCH($BI64,INDIRECT("indice_cáculo"),0),BT$45)} -> 0 | ... CL64: {=INDEX(INDIRECT("memória_cálculo"),MATCH($BI64,INDIRECT("indice_cáculo"),0),CL$45)} -> 0 | CR64: DMT | CS64: km | CT64: 10 | CU64: 10 | CV64: 10 | CW64: 10 | CX64: 10 | CY64: 10 | CZ64: 10 | DA64: 10 | DB64: 10 | DC64: 10 | DD64: 10 | DE64: 10 | DF64: 10 | DG64: 10 | DH64: 10 | DI64: 10 | DJ64: 10 | DK64: 10 | DL64: 10 | DM64: 10 | DN64: 10 | DO64: 10 | DP64: 10 | DQ64: 10 | DR64: 10 | DS64: 10 | DT64: 10
B65: 2.5 | C65: =INDEX(INDIRECT("memória_cálculo"),MATCH($B65,INDIRECT("indice_cáculo"),0),2) -> RO-00112 | D65: =INDEX(INDIRECT("memória_cálculo"),MATCH($B65,INDIRECT("indice_cáculo"),0),3) -> escavação, carga e transporte de material de 2ª categoria - executado com escavadeira de 1,40 m3 e caminhão basculante de 12 m3 e com caminho de serviço pavimentado - dmt de 50 a 200 m | E65: =INDEX(INDIRECT("memória_cálculo"),MATCH($B65,INDIRECT("indice_cáculo"),0),4) -> m3 | X65: {=INDEX($BI$46:$CM$192,MATCH($B65,$BI$46:$BI$192,0),X$47)*X$39} -> 6855.762 | Y65: {=INDEX($BI$46:$CM$192,MATCH($B65,$BI$46:$BI$192,0),Y$47)*Y$39} -> 6855.762 | Z65: {=INDEX($BI$46:$CM$192,MATCH($B65,$BI$46:$BI$192,0),Z$47)*Z$39} -> 0 | AB65: {=INDEX($BI$46:$CM$192,MATCH($B65,$BI$46:$BI$192,0),AB$47)*AB$39} -> 1619.3482 | AD65: {=INDEX($BI$46:$CM$192,MATCH($B65,$BI$46:$BI$192,0),AD$47)*AD$39} -> 1619.3482 | AE65: {=INDEX($BI$46:$CM$192,MATCH($B65,$BI$46:$BI$192,0),AE$47)*AE$39} -> 1619.3482 | AF65: {=INDEX($BI$46:$CM$192,MATCH($B65,$BI$46:$BI$192,0),AF$47)*AF$39} -> 1619.3482 | AG65: {=INDEX($BI$46:$CM$192,MATCH($B65,$BI$46:$BI$192,0),AG$47)*AG$39} -> 1619.3482 | AH65: {=INDEX($BI$46:$CM$192,MATCH($B65,$BI$46:$BI$192,0),AH$47)*AH$39} -> 1619.3482 | AI65: {=INDEX($BI$46:$CM$192,MATCH($B65,$BI$46:$BI$192,0),AI$47)*AI$39} -> 1619.3482 | AJ65: {=INDEX($BI$46:$CM$192,MATCH($B65,$BI$46:$BI$192,0),AJ$47)*AJ$39} -> 1619.3482 | AK65: {=INDEX($BI$46:$CM$192,MATCH($B65,$BI$46:$BI$192,0),AK$47)*AK$39} -> 1619.3482 | ... AR65: {=INDEX($BI$46:$CM$192,MATCH($B65,$BI$46:$BI$192,0),AR$47)*AR$39} -> 6855.762 | AU65: {=INDEX($BI$46:$CM$192,MATCH($B65,$BI$46:$BI$192,0),AU$47)*AU$39} -> 1619.3482 | AV65: {=INDEX($BI$46:$CM$192,MATCH($B65,$BI$46:$BI$192,0),AV$47)*AV$39} -> 6855.762 | AW65: {=INDEX($BI$46:$CM$192,MATCH($B65,$BI$46:$BI$192,0),AW$47)*AW$39} -> 6855.762 | AX65: {=INDEX($BI$46:$CM$192,MATCH($B65,$BI$46:$BI$192,0),AX$47)*AX$39} -> 6855.762 | AY65: {=INDEX($BI$46:$CM$192,MATCH($B65,$BI$46:$BI$192,0),AY$47)*AY$39} -> 6855.762 | AZ65: {=INDEX($BI$46:$CM$192,MATCH($B65,$BI$46:$BI$192,0),AZ$47)*AZ$39} -> 6855.762 | BA65: {=INDEX($BI$46:$CM$192,MATCH($B65,$BI$46:$BI$192,0),BA$47)*BA$39} -> 6855.762 | BB65: {=INDEX($BI$46:$CM$192,MATCH($B65,$BI$46:$BI$192,0),BB$47)*BB$39} -> 1619.3482 | BG65: =IF(C65="","",INDEX([10]TPU!$G:$G,MATCH($C65,[10]TPU!$A:$A,0))) -> 10.33 | BI65: 2.12 | BJ65: =INDEX(INDIRECT("memória_cálculo"),MATCH($BI65,INDIRECT("indice_cáculo"),0),2) -> RO-00881 | BK65: =INDEX(INDIRECT("memória_cálculo"),MATCH($BI65,INDIRECT("indice_cáculo"),0),3) -> Transporte com caminhão basculante de 6 m³ - rodovia pavimentada | BL65: =INDEX(INDIRECT("memória_cálculo"),MATCH($BI65,INDIRECT("indice_cáculo"),0),4) -> txkm | BM65: {=INDEX(INDIRECT("memória_cálculo"),MATCH($BI65,INDIRECT("indice_cáculo"),0),BM$45)} -> 0 | BN65: {=INDEX(INDIRECT("memória_cálculo"),MATCH($BI65,INDIRECT("indice_cáculo"),0),BN$45)} -> 0 | BO65: {=INDEX(INDIRECT("memória_cálculo"),MATCH($BI65,INDIRECT("indice_cáculo"),0),BO$45)} -> 0 | BP65: {=INDEX(INDIRECT("memória_cálculo"),MATCH($BI65,INDIRECT("indice_cáculo"),0),BP$45)} -> 0 | BQ65: {=INDEX(INDIRECT("memória_cálculo"),MATCH($BI65,INDIRECT("indice_cáculo"),0),BQ$45)} -> 0 | BR65: {=INDEX(INDIRECT("memória_cálculo"),MATCH($BI65,INDIRECT("indice_cáculo"),0),BR$45)} -> 0 | BS65: {=INDEX(INDIRECT("memória_cálculo"),MATCH($BI65,INDIRECT("indice_cáculo"),0),BS$45)} -> 0 | BT65: {=INDEX(INDIRECT("memória_cálculo"),MATCH($BI65,INDIRECT("indice_cáculo"),0),BT$45)} -> 0 | ... CL65: {=INDEX(INDIRECT("memória_cálculo"),MATCH($BI65,INDIRECT("indice_cáculo"),0),CL$45)} -> 0 | CR65: Peso específico solo (t/m³) | CS65: t/m³ | CT65: 1.6 | CU65: 1.6 | CV65: 1.6 | CW65: 1.6 | CX65: 1.6 | CY65: 1.6 | CZ65: 1.6 | DA65: 1.6 | DB65: 1.6 | DC65: 1.6 | DD65: 1.6 | DE65: 1.6 | DF65: 1.6 | DG65: 1.6 | DH65: 1.6 | DI65: 1.6 | DJ65: 1.6 | DK65: 1.6 | DL65: 1.6 | DM65: 1.6 | DN65: 1.6 | DO65: 1.6 | DP65: 1.6 | DQ65: 1.6 | DR65: 1.6 | DS65: 1.6 | DT65: 1.6
B66: 2.6 | C66: =INDEX(INDIRECT("memória_cálculo"),MATCH($B66,INDIRECT("indice_cáculo"),0),2) -> RO-00117 | D66: =INDEX(INDIRECT("memória_cálculo"),MATCH($B66,INDIRECT("indice_cáculo"),0),3) -> escavação, carga e transporte de material de 2ª categoria - executado com escavadeira de 1,40 m3 e caminhão basculante de 12 m3 e com caminho de serviço pavimentado - dmt de 1.000 a 1.200 m | E66: =INDEX(INDIRECT("memória_cálculo"),MATCH($B66,INDIRECT("indice_cáculo"),0),4) -> m3 | X66: {=INDEX($BI$46:$CM$192,MATCH($B66,$BI$46:$BI$192,0),X$47)*X$39} -> 4570.508 | Y66: {=INDEX($BI$46:$CM$192,MATCH($B66,$BI$46:$BI$192,0),Y$47)*Y$39} -> 4570.508 | Z66: {=INDEX($BI$46:$CM$192,MATCH($B66,$BI$46:$BI$192,0),Z$47)*Z$39} -> 0 | AB66: {=INDEX($BI$46:$CM$192,MATCH($B66,$BI$46:$BI$192,0),AB$47)*AB$39} -> 6477.3928 | AD66: {=INDEX($BI$46:$CM$192,MATCH($B66,$BI$46:$BI$192,0),AD$47)*AD$39} -> 6477.3928 | AE66: {=INDEX($BI$46:$CM$192,MATCH($B66,$BI$46:$BI$192,0),AE$47)*AE$39} -> 6477.3928 | AF66: {=INDEX($BI$46:$CM$192,MATCH($B66,$BI$46:$BI$192,0),AF$47)*AF$39} -> 6477.3928 | AG66: {=INDEX($BI$46:$CM$192,MATCH($B66,$BI$46:$BI$192,0),AG$47)*AG$39} -> 6477.3928 | AH66: {=INDEX($BI$46:$CM$192,MATCH($B66,$BI$46:$BI$192,0),AH$47)*AH$39} -> 6477.3928 | AI66: {=INDEX($BI$46:$CM$192,MATCH($B66,$BI$46:$BI$192,0),AI$47)*AI$39} -> 6477.3928 | AJ66: {=INDEX($BI$46:$CM$192,MATCH($B66,$BI$46:$BI$192,0),AJ$47)*AJ$39} -> 6477.3928 | AK66: {=INDEX($BI$46:$CM$192,MATCH($B66,$BI$46:$BI$192,0),AK$47)*AK$39} -> 6477.3928 | ... AR66: {=INDEX($BI$46:$CM$192,MATCH($B66,$BI$46:$BI$192,0),AR$47)*AR$39} -> 4570.508 | AU66: {=INDEX($BI$46:$CM$192,MATCH($B66,$BI$46:$BI$192,0),AU$47)*AU$39} -> 6477.3928 | AV66: {=INDEX($BI$46:$CM$192,MATCH($B66,$BI$46:$BI$192,0),AV$47)*AV$39} -> 4570.508 | AW66: {=INDEX($BI$46:$CM$192,MATCH($B66,$BI$46:$BI$192,0),AW$47)*AW$39} -> 4570.508 | AX66: {=INDEX($BI$46:$CM$192,MATCH($B66,$BI$46:$BI$192,0),AX$47)*AX$39} -> 4570.508 | AY66: {=INDEX($BI$46:$CM$192,MATCH($B66,$BI$46:$BI$192,0),AY$47)*AY$39} -> 4570.508 | AZ66: {=INDEX($BI$46:$CM$192,MATCH($B66,$BI$46:$BI$192,0),AZ$47)*AZ$39} -> 4570.508 | BA66: {=INDEX($BI$46:$CM$192,MATCH($B66,$BI$46:$BI$192,0),BA$47)*BA$39} -> 4570.508 | BB66: {=INDEX($BI$46:$CM$192,MATCH($B66,$BI$46:$BI$192,0),BB$47)*BB$39} -> 6477.3928 | BG66: =IF(C66="","",INDEX([10]TPU!$G:$G,MATCH($C66,[10]TPU!$A:$A,0))) -> 11.66 | BI66: 2.13 | BJ66: =INDEX(INDIRECT("memória_cálculo"),MATCH($BI66,INDIRECT("indice_cáculo"),0),2) -> RO-00215 | BK66: =INDEX(INDIRECT("memória_cálculo"),MATCH($BI66,INDIRECT("indice_cáculo"),0),3) -> compactação de aterros a 100% do proctor normal (inclui espalhamento) | BL66: =INDEX(INDIRECT("memória_cálculo"),MATCH($BI66,INDIRECT("indice_cáculo"),0),4) -> m3 | BM66: {=INDEX(INDIRECT("memória_cálculo"),MATCH($BI66,INDIRECT("indice_cáculo"),0),BM$45)} -> 39189.904 | BN66: {=INDEX(INDIRECT("memória_cálculo"),MATCH($BI66,INDIRECT("indice_cáculo"),0),BN$45)} -> 15480.952 | BO66: {=INDEX(INDIRECT("memória_cálculo"),MATCH($BI66,INDIRECT("indice_cáculo"),0),BO$45)} -> 203.792 | BP66: {=INDEX(INDIRECT("memória_cálculo"),MATCH($BI66,INDIRECT("indice_cáculo"),0),BP$45)} -> 48523.872 | BQ66: {=INDEX(INDIRECT("memória_cálculo"),MATCH($BI66,INDIRECT("indice_cáculo"),0),BQ$45)} -> 92419.416 | BR66: {=INDEX(INDIRECT("memória_cálculo"),MATCH($BI66,INDIRECT("indice_cáculo"),0),BR$45)} -> 39189.904 | BS66: {=INDEX(INDIRECT("memória_cálculo"),MATCH($BI66,INDIRECT("indice_cáculo"),0),BS$45)} -> 15480.952 | BT66: {=INDEX(INDIRECT("memória_cálculo"),MATCH($BI66,INDIRECT("indice_cáculo"),0),BT$45)} -> 203.792 | ... CL66: {=INDEX(INDIRECT("memória_cálculo"),MATCH($BI66,INDIRECT("indice_cáculo"),0),CL$45)} -> 0
B67: 2.7 | C67: =INDEX(INDIRECT("memória_cálculo"),MATCH($B67,INDIRECT("indice_cáculo"),0),2) -> RO-00124 | D67: =INDEX(INDIRECT("memória_cálculo"),MATCH($B67,INDIRECT("indice_cáculo"),0),3) -> escavação, carga e transporte de material de 2ª categoria - executado com escavadeira de 1,40 m3 e caminhão basculante de 12 m3 e com caminho de serviço pavimentado - dmt de 3.000 m | E67: =INDEX(INDIRECT("memória_cálculo"),MATCH($B67,INDIRECT("indice_cáculo"),0),4) -> m3 | X67: {=INDEX($BI$46:$CM$192,MATCH($B67,$BI$46:$BI$192,0),X$47)*X$39} -> 0 | Y67: {=INDEX($BI$46:$CM$192,MATCH($B67,$BI$46:$BI$192,0),Y$47)*Y$39} -> 0 | Z67: {=INDEX($BI$46:$CM$192,MATCH($B67,$BI$46:$BI$192,0),Z$47)*Z$39} -> 0 | AB67: {=INDEX($BI$46:$CM$192,MATCH($B67,$BI$46:$BI$192,0),AB$47)*AB$39} -> 0 | AD67: {=INDEX($BI$46:$CM$192,MATCH($B67,$BI$46:$BI$192,0),AD$47)*AD$39} -> 0 | AE67: {=INDEX($BI$46:$CM$192,MATCH($B67,$BI$46:$BI$192,0),AE$47)*AE$39} -> 0 | AF67: {=INDEX($BI$46:$CM$192,MATCH($B67,$BI$46:$BI$192,0),AF$47)*AF$39} -> 0 | AG67: {=INDEX($BI$46:$CM$192,MATCH($B67,$BI$46:$BI$192,0),AG$47)*AG$39} -> 0 | AH67: {=INDEX($BI$46:$CM$192,MATCH($B67,$BI$46:$BI$192,0),AH$47)*AH$39} -> 0 | AI67: {=INDEX($BI$46:$CM$192,MATCH($B67,$BI$46:$BI$192,0),AI$47)*AI$39} -> 0 | AJ67: {=INDEX($BI$46:$CM$192,MATCH($B67,$BI$46:$BI$192,0),AJ$47)*AJ$39} -> 0 | AK67: {=INDEX($BI$46:$CM$192,MATCH($B67,$BI$46:$BI$192,0),AK$47)*AK$39} -> 0 | ... AR67: {=INDEX($BI$46:$CM$192,MATCH($B67,$BI$46:$BI$192,0),AR$47)*AR$39} -> 0 | AU67: {=INDEX($BI$46:$CM$192,MATCH($B67,$BI$46:$BI$192,0),AU$47)*AU$39} -> 0 | AV67: {=INDEX($BI$46:$CM$192,MATCH($B67,$BI$46:$BI$192,0),AV$47)*AV$39} -> 0 | AW67: {=INDEX($BI$46:$CM$192,MATCH($B67,$BI$46:$BI$192,0),AW$47)*AW$39} -> 0 | AX67: {=INDEX($BI$46:$CM$192,MATCH($B67,$BI$46:$BI$192,0),AX$47)*AX$39} -> 0 | AY67: {=INDEX($BI$46:$CM$192,MATCH($B67,$BI$46:$BI$192,0),AY$47)*AY$39} -> 0 | AZ67: {=INDEX($BI$46:$CM$192,MATCH($B67,$BI$46:$BI$192,0),AZ$47)*AZ$39} -> 0 | BA67: {=INDEX($BI$46:$CM$192,MATCH($B67,$BI$46:$BI$192,0),BA$47)*BA$39} -> 0 | BB67: {=INDEX($BI$46:$CM$192,MATCH($B67,$BI$46:$BI$192,0),BB$47)*BB$39} -> 0 | BG67: =IF(C67="","",INDEX([10]TPU!$G:$G,MATCH($C67,[10]TPU!$A:$A,0))) -> 14.74 | BI67: 2.14 | BJ67: =INDEX(INDIRECT("memória_cálculo"),MATCH($BI67,INDIRECT("indice_cáculo"),0),2) -> RO-00217 | BK67: =INDEX(INDIRECT("memória_cálculo"),MATCH($BI67,INDIRECT("indice_cáculo"),0),3) -> compactação de aterros a 100% do proctor intermediário (inclui espalhamento) | BL67: =INDEX(INDIRECT("memória_cálculo"),MATCH($BI67,INDIRECT("indice_cáculo"),0),4) -> m3 | BM67: {=INDEX(INDIRECT("memória_cálculo"),MATCH($BI67,INDIRECT("indice_cáculo"),0),BM$45)} -> 2196 | BN67: {=INDEX(INDIRECT("memória_cálculo"),MATCH($BI67,INDIRECT("indice_cáculo"),0),BN$45)} -> 3960 | BO67: {=INDEX(INDIRECT("memória_cálculo"),MATCH($BI67,INDIRECT("indice_cáculo"),0),BO$45)} -> 219.6 | BP67: {=INDEX(INDIRECT("memória_cálculo"),MATCH($BI67,INDIRECT("indice_cáculo"),0),BP$45)} -> 4392 | BQ67: {=INDEX(INDIRECT("memória_cálculo"),MATCH($BI67,INDIRECT("indice_cáculo"),0),BQ$45)} -> 2196 | BR67: {=INDEX(INDIRECT("memória_cálculo"),MATCH($BI67,INDIRECT("indice_cáculo"),0),BR$45)} -> 2196 | BS67: {=INDEX(INDIRECT("memória_cálculo"),MATCH($BI67,INDIRECT("indice_cáculo"),0),BS$45)} -> 3960 | BT67: {=INDEX(INDIRECT("memória_cálculo"),MATCH($BI67,INDIRECT("indice_cáculo"),0),BT$45)} -> 219.6 | ... CL67: {=INDEX(INDIRECT("memória_cálculo"),MATCH($BI67,INDIRECT("indice_cáculo"),0),CL$45)} -> 0 | CP67: 1.4 | CQ67: =INDEX([10]TPU!$A:$A,MATCH($DV67,[10]TPU!$P:$P,0)) -> 4413942 | CR67: =INDEX([10]TPU!$C:$C,MATCH($DV67,[10]TPU!$P:$P,0)) -> Espalhamento de material em bota-fora | CS67: =INDEX([10]TPU!$D:$D,MATCH($DV67,[10]TPU!$P:$P,0)) -> m³ | CT67: =CT69*CT70 -> 8331.8046 | CU67: =CU69*CU70 -> 6879.4932 | CV67: =CV69*CV70 -> 876.26 | CW67: =CW69*CW70 -> 4821.0986 | CX67: =CX69*CX70 -> 5809.1996 | CY67: =CY69*CY70 -> 8331.8046 | CZ67: =CZ69*CZ70 -> 6879.4932 | DA67: =DA69*DA70 -> 876.26 | ... DT67: =DT69*DT70 -> 0 | DV67: 4413942
B68: 2.8 | C68: =INDEX(INDIRECT("memória_cálculo"),MATCH($B68,INDIRECT("indice_cáculo"),0),2) -> RO-00881 | D68: =INDEX(INDIRECT("memória_cálculo"),MATCH($B68,INDIRECT("indice_cáculo"),0),3) -> Transporte com caminhão basculante de 6 m³ - rodovia pavimentada | E68: =INDEX(INDIRECT("memória_cálculo"),MATCH($B68,INDIRECT("indice_cáculo"),0),4) -> txkm | X68: {=INDEX($BI$46:$CM$192,MATCH($B68,$BI$46:$BI$192,0),X$47)*X$39} -> 0 | Y68: {=INDEX($BI$46:$CM$192,MATCH($B68,$BI$46:$BI$192,0),Y$47)*Y$39} -> 0 | Z68: {=INDEX($BI$46:$CM$192,MATCH($B68,$BI$46:$BI$192,0),Z$47)*Z$39} -> 0 | AB68: {=INDEX($BI$46:$CM$192,MATCH($B68,$BI$46:$BI$192,0),AB$47)*AB$39} -> 0 | AD68: {=INDEX($BI$46:$CM$192,MATCH($B68,$BI$46:$BI$192,0),AD$47)*AD$39} -> 0 | AE68: {=INDEX($BI$46:$CM$192,MATCH($B68,$BI$46:$BI$192,0),AE$47)*AE$39} -> 0 | AF68: {=INDEX($BI$46:$CM$192,MATCH($B68,$BI$46:$BI$192,0),AF$47)*AF$39} -> 0 | AG68: {=INDEX($BI$46:$CM$192,MATCH($B68,$BI$46:$BI$192,0),AG$47)*AG$39} -> 0 | AH68: {=INDEX($BI$46:$CM$192,MATCH($B68,$BI$46:$BI$192,0),AH$47)*AH$39} -> 0 | AI68: {=INDEX($BI$46:$CM$192,MATCH($B68,$BI$46:$BI$192,0),AI$47)*AI$39} -> 0 | AJ68: {=INDEX($BI$46:$CM$192,MATCH($B68,$BI$46:$BI$192,0),AJ$47)*AJ$39} -> 0 | AK68: {=INDEX($BI$46:$CM$192,MATCH($B68,$BI$46:$BI$192,0),AK$47)*AK$39} -> 0 | ... AR68: {=INDEX($BI$46:$CM$192,MATCH($B68,$BI$46:$BI$192,0),AR$47)*AR$39} -> 0 | AU68: {=INDEX($BI$46:$CM$192,MATCH($B68,$BI$46:$BI$192,0),AU$47)*AU$39} -> 0 | AV68: {=INDEX($BI$46:$CM$192,MATCH($B68,$BI$46:$BI$192,0),AV$47)*AV$39} -> 0 | AW68: {=INDEX($BI$46:$CM$192,MATCH($B68,$BI$46:$BI$192,0),AW$47)*AW$39} -> 0 | AX68: {=INDEX($BI$46:$CM$192,MATCH($B68,$BI$46:$BI$192,0),AX$47)*AX$39} -> 0 | AY68: {=INDEX($BI$46:$CM$192,MATCH($B68,$BI$46:$BI$192,0),AY$47)*AY$39} -> 0 | AZ68: {=INDEX($BI$46:$CM$192,MATCH($B68,$BI$46:$BI$192,0),AZ$47)*AZ$39} -> 0 | BA68: {=INDEX($BI$46:$CM$192,MATCH($B68,$BI$46:$BI$192,0),BA$47)*BA$39} -> 0 | BB68: {=INDEX($BI$46:$CM$192,MATCH($B68,$BI$46:$BI$192,0),BB$47)*BB$39} -> 0 | BG68: =IF(C68="","",INDEX([10]TPU!$G:$G,MATCH($C68,[10]TPU!$A:$A,0))) -> 0.96 | BI68: 2.15 | BJ68: =INDEX(INDIRECT("memória_cálculo"),MATCH($BI68,INDIRECT("indice_cáculo"),0),2) -> 5502979 | BK68: =INDEX(INDIRECT("memória_cálculo"),MATCH($BI68,INDIRECT("indice_cáculo"),0),3) -> Construção de corpo de aterro com material de 3ª categoria oriundo de corte | BL68: =INDEX(INDIRECT("memória_cálculo"),MATCH($BI68,INDIRECT("indice_cáculo"),0),4) -> m³ | BM68: {=INDEX(INDIRECT("memória_cálculo"),MATCH($BI68,INDIRECT("indice_cáculo"),0),BM$45)} -> 0 | BN68: {=INDEX(INDIRECT("memória_cálculo"),MATCH($BI68,INDIRECT("indice_cáculo"),0),BN$45)} -> 0 | BO68: {=INDEX(INDIRECT("memória_cálculo"),MATCH($BI68,INDIRECT("indice_cáculo"),0),BO$45)} -> 0 | BP68: {=INDEX(INDIRECT("memória_cálculo"),MATCH($BI68,INDIRECT("indice_cáculo"),0),BP$45)} -> 0 | BQ68: {=INDEX(INDIRECT("memória_cálculo"),MATCH($BI68,INDIRECT("indice_cáculo"),0),BQ$45)} -> 0 | BR68: {=INDEX(INDIRECT("memória_cálculo"),MATCH($BI68,INDIRECT("indice_cáculo"),0),BR$45)} -> 0 | BS68: {=INDEX(INDIRECT("memória_cálculo"),MATCH($BI68,INDIRECT("indice_cáculo"),0),BS$45)} -> 0 | BT68: {=INDEX(INDIRECT("memória_cálculo"),MATCH($BI68,INDIRECT("indice_cáculo"),0),BT$45)} -> 0 | ... CL68: {=INDEX(INDIRECT("memória_cálculo"),MATCH($BI68,INDIRECT("indice_cáculo"),0),CL$45)} -> 0
B69: 2.9 | C69: =INDEX(INDIRECT("memória_cálculo"),MATCH($B69,INDIRECT("indice_cáculo"),0),2) -> RO-00190 | D69: =INDEX(INDIRECT("memória_cálculo"),MATCH($B69,INDIRECT("indice_cáculo"),0),3) -> escavação, carga e transporte de material de 3ª categoria - executado com escavadeira de 1,40 m3 e caminhão basculante de 12 m3 e com caminho de serviço pavimentado - dmt de 50 a 200 m | E69: =INDEX(INDIRECT("memória_cálculo"),MATCH($B69,INDIRECT("indice_cáculo"),0),4) -> m3 | X69: {=INDEX($BI$46:$CM$192,MATCH($B69,$BI$46:$BI$192,0),X$47)*X$39} -> 0 | Y69: {=INDEX($BI$46:$CM$192,MATCH($B69,$BI$46:$BI$192,0),Y$47)*Y$39} -> 0 | Z69: {=INDEX($BI$46:$CM$192,MATCH($B69,$BI$46:$BI$192,0),Z$47)*Z$39} -> 0 | AB69: {=INDEX($BI$46:$CM$192,MATCH($B69,$BI$46:$BI$192,0),AB$47)*AB$39} -> 0 | AD69: {=INDEX($BI$46:$CM$192,MATCH($B69,$BI$46:$BI$192,0),AD$47)*AD$39} -> 0 | AE69: {=INDEX($BI$46:$CM$192,MATCH($B69,$BI$46:$BI$192,0),AE$47)*AE$39} -> 0 | AF69: {=INDEX($BI$46:$CM$192,MATCH($B69,$BI$46:$BI$192,0),AF$47)*AF$39} -> 0 | AG69: {=INDEX($BI$46:$CM$192,MATCH($B69,$BI$46:$BI$192,0),AG$47)*AG$39} -> 0 | AH69: {=INDEX($BI$46:$CM$192,MATCH($B69,$BI$46:$BI$192,0),AH$47)*AH$39} -> 0 | AI69: {=INDEX($BI$46:$CM$192,MATCH($B69,$BI$46:$BI$192,0),AI$47)*AI$39} -> 0 | AJ69: {=INDEX($BI$46:$CM$192,MATCH($B69,$BI$46:$BI$192,0),AJ$47)*AJ$39} -> 0 | AK69: {=INDEX($BI$46:$CM$192,MATCH($B69,$BI$46:$BI$192,0),AK$47)*AK$39} -> 0 | ... AR69: {=INDEX($BI$46:$CM$192,MATCH($B69,$BI$46:$BI$192,0),AR$47)*AR$39} -> 0 | AU69: {=INDEX($BI$46:$CM$192,MATCH($B69,$BI$46:$BI$192,0),AU$47)*AU$39} -> 0 | AV69: {=INDEX($BI$46:$CM$192,MATCH($B69,$BI$46:$BI$192,0),AV$47)*AV$39} -> 0 | AW69: {=INDEX($BI$46:$CM$192,MATCH($B69,$BI$46:$BI$192,0),AW$47)*AW$39} -> 0 | AX69: {=INDEX($BI$46:$CM$192,MATCH($B69,$BI$46:$BI$192,0),AX$47)*AX$39} -> 0 | AY69: {=INDEX($BI$46:$CM$192,MATCH($B69,$BI$46:$BI$192,0),AY$47)*AY$39} -> 0 | AZ69: {=INDEX($BI$46:$CM$192,MATCH($B69,$BI$46:$BI$192,0),AZ$47)*AZ$39} -> 0 | BA69: {=INDEX($BI$46:$CM$192,MATCH($B69,$BI$46:$BI$192,0),BA$47)*BA$39} -> 0 | BB69: {=INDEX($BI$46:$CM$192,MATCH($B69,$BI$46:$BI$192,0),BB$47)*BB$39} -> 0 | BG69: =IF(C69="","",INDEX([10]TPU!$G:$G,MATCH($C69,[10]TPU!$A:$A,0))) -> 48.43 | BI69: 2.16 | BJ69: =INDEX(INDIRECT("memória_cálculo"),MATCH($BI69,INDIRECT("indice_cáculo"),0),2) -> 4016008 | BK69: =INDEX(INDIRECT("memória_cálculo"),MATCH($BI69,INDIRECT("indice_cáculo"),0),3) -> Escavação e carga de material de jazida com trator de 127 kW e carregadeira de 3,4 m³ | BL69: =INDEX(INDIRECT("memória_cálculo"),MATCH($BI69,INDIRECT("indice_cáculo"),0),4) -> m³ | BM69: {=INDEX(INDIRECT("memória_cálculo"),MATCH($BI69,INDIRECT("indice_cáculo"),0),BM$45)} -> 0 | BN69: {=INDEX(INDIRECT("memória_cálculo"),MATCH($BI69,INDIRECT("indice_cáculo"),0),BN$45)} -> 0 | BO69: {=INDEX(INDIRECT("memória_cálculo"),MATCH($BI69,INDIRECT("indice_cáculo"),0),BO$45)} -> 0 | BP69: {=INDEX(INDIRECT("memória_cálculo"),MATCH($BI69,INDIRECT("indice_cáculo"),0),BP$45)} -> 59045.072 | BQ69: {=INDEX(INDIRECT("memória_cálculo"),MATCH($BI69,INDIRECT("indice_cáculo"),0),BQ$45)} -> 107122.85 | BR69: {=INDEX(INDIRECT("memória_cálculo"),MATCH($BI69,INDIRECT("indice_cáculo"),0),BR$45)} -> 0 | BS69: {=INDEX(INDIRECT("memória_cálculo"),MATCH($BI69,INDIRECT("indice_cáculo"),0),BS$45)} -> 0 | BT69: {=INDEX(INDIRECT("memória_cálculo"),MATCH($BI69,INDIRECT("indice_cáculo"),0),BT$45)} -> 0 | ... CL69: {=INDEX(INDIRECT("memória_cálculo"),MATCH($BI69,INDIRECT("indice_cáculo"),0),CL$45)} -> 0 | CR69: Área | CS69: m² | CT69: =CT49 -> 41659.023 | CU69: =CU49 -> 34397.466 | CV69: =CV49 -> 4381.3 | CW69: =CW49 -> 24105.493 | CX69: =CX49 -> 29045.998 | CY69: =CY49 -> 41659.023 | CZ69: =CZ49 -> 34397.466 | DA69: =DA49 -> 4381.3 | ... DT69: =DT49 -> 0
B70: 2.10 | C70: =INDEX(INDIRECT("memória_cálculo"),MATCH($B70,INDIRECT("indice_cáculo"),0),2) -> RO-00195 | D70: =INDEX(INDIRECT("memória_cálculo"),MATCH($B70,INDIRECT("indice_cáculo"),0),3) -> escavação, carga e transporte de material de 3ª categoria - executado com escavadeira de 1,40 m3 e caminhão basculante de 12 m3 e com caminho de serviço pavimentado - dmt de 1.000 a 1.200 m | E70: =INDEX(INDIRECT("memória_cálculo"),MATCH($B70,INDIRECT("indice_cáculo"),0),4) -> m3 | X70: {=INDEX($BI$46:$CM$192,MATCH($B70,$BI$46:$BI$192,0),X$47)*X$39} -> 0 | Y70: {=INDEX($BI$46:$CM$192,MATCH($B70,$BI$46:$BI$192,0),Y$47)*Y$39} -> 0 | Z70: {=INDEX($BI$46:$CM$192,MATCH($B70,$BI$46:$BI$192,0),Z$47)*Z$39} -> 0 | AB70: {=INDEX($BI$46:$CM$192,MATCH($B70,$BI$46:$BI$192,0),AB$47)*AB$39} -> 0 | AD70: {=INDEX($BI$46:$CM$192,MATCH($B70,$BI$46:$BI$192,0),AD$47)*AD$39} -> 0 | AE70: {=INDEX($BI$46:$CM$192,MATCH($B70,$BI$46:$BI$192,0),AE$47)*AE$39} -> 0 | AF70: {=INDEX($BI$46:$CM$192,MATCH($B70,$BI$46:$BI$192,0),AF$47)*AF$39} -> 0 | AG70: {=INDEX($BI$46:$CM$192,MATCH($B70,$BI$46:$BI$192,0),AG$47)*AG$39} -> 0 | AH70: {=INDEX($BI$46:$CM$192,MATCH($B70,$BI$46:$BI$192,0),AH$47)*AH$39} -> 0 | AI70: {=INDEX($BI$46:$CM$192,MATCH($B70,$BI$46:$BI$192,0),AI$47)*AI$39} -> 0 | AJ70: {=INDEX($BI$46:$CM$192,MATCH($B70,$BI$46:$BI$192,0),AJ$47)*AJ$39} -> 0 | AK70: {=INDEX($BI$46:$CM$192,MATCH($B70,$BI$46:$BI$192,0),AK$47)*AK$39} -> 0 | ... AR70: {=INDEX($BI$46:$CM$192,MATCH($B70,$BI$46:$BI$192,0),AR$47)*AR$39} -> 0 | AU70: {=INDEX($BI$46:$CM$192,MATCH($B70,$BI$46:$BI$192,0),AU$47)*AU$39} -> 0 | AV70: {=INDEX($BI$46:$CM$192,MATCH($B70,$BI$46:$BI$192,0),AV$47)*AV$39} -> 0 | AW70: {=INDEX($BI$46:$CM$192,MATCH($B70,$BI$46:$BI$192,0),AW$47)*AW$39} -> 0 | AX70: {=INDEX($BI$46:$CM$192,MATCH($B70,$BI$46:$BI$192,0),AX$47)*AX$39} -> 0 | AY70: {=INDEX($BI$46:$CM$192,MATCH($B70,$BI$46:$BI$192,0),AY$47)*AY$39} -> 0 | AZ70: {=INDEX($BI$46:$CM$192,MATCH($B70,$BI$46:$BI$192,0),AZ$47)*AZ$39} -> 0 | BA70: {=INDEX($BI$46:$CM$192,MATCH($B70,$BI$46:$BI$192,0),BA$47)*BA$39} -> 0 | BB70: {=INDEX($BI$46:$CM$192,MATCH($B70,$BI$46:$BI$192,0),BB$47)*BB$39} -> 0 | BG70: =IF(C70="","",INDEX([10]TPU!$G:$G,MATCH($C70,[10]TPU!$A:$A,0))) -> 51.52 | BI70: 2.17 | BJ70: =INDEX(INDIRECT("memória_cálculo"),MATCH($BI70,INDIRECT("indice_cáculo"),0),2) -> RO-00881 | BK70: =INDEX(INDIRECT("memória_cálculo"),MATCH($BI70,INDIRECT("indice_cáculo"),0),3) -> Transporte com caminhão basculante de 6 m³ - rodovia pavimentada | BL70: =INDEX(INDIRECT("memória_cálculo"),MATCH($BI70,INDIRECT("indice_cáculo"),0),4) -> txkm | BM70: {=INDEX(INDIRECT("memória_cálculo"),MATCH($BI70,INDIRECT("indice_cáculo"),0),BM$45)} -> 0 | BN70: {=INDEX(INDIRECT("memória_cálculo"),MATCH($BI70,INDIRECT("indice_cáculo"),0),BN$45)} -> 0 | BO70: {=INDEX(INDIRECT("memória_cálculo"),MATCH($BI70,INDIRECT("indice_cáculo"),0),BO$45)} -> 0 | BP70: {=INDEX(INDIRECT("memória_cálculo"),MATCH($BI70,INDIRECT("indice_cáculo"),0),BP$45)} -> 531405.65 | BQ70: {=INDEX(INDIRECT("memória_cálculo"),MATCH($BI70,INDIRECT("indice_cáculo"),0),BQ$45)} -> 964105.63 | BR70: {=INDEX(INDIRECT("memória_cálculo"),MATCH($BI70,INDIRECT("indice_cáculo"),0),BR$45)} -> 0 | BS70: {=INDEX(INDIRECT("memória_cálculo"),MATCH($BI70,INDIRECT("indice_cáculo"),0),BS$45)} -> 0 | BT70: {=INDEX(INDIRECT("memória_cálculo"),MATCH($BI70,INDIRECT("indice_cáculo"),0),BT$45)} -> 0 | ... CL70: {=INDEX(INDIRECT("memória_cálculo"),MATCH($BI70,INDIRECT("indice_cáculo"),0),CL$45)} -> 0 | CR70: Espessura solo | CS70: m | CT70: =CT58 -> 0.2 | CU70: =CU58 -> 0.2 | CV70: =CV58 -> 0.2 | CW70: =CW58 -> 0.2 | CX70: =CX58 -> 0.2 | CY70: =CY58 -> 0.2 | CZ70: =CZ58 -> 0.2 | DA70: =DA58 -> 0.2 | ... DT70: =DT58 -> 0.2
B71: 2.11 | C71: =INDEX(INDIRECT("memória_cálculo"),MATCH($B71,INDIRECT("indice_cáculo"),0),2) -> RO-00202 | D71: =INDEX(INDIRECT("memória_cálculo"),MATCH($B71,INDIRECT("indice_cáculo"),0),3) -> escavação, carga e transporte de material de 3ª categoria - executado com escavadeira de 1,40 m3 e caminhão basculante de 12 m3 e com caminho de serviço pavimentado - dmt de 3.000 m | E71: =INDEX(INDIRECT("memória_cálculo"),MATCH($B71,INDIRECT("indice_cáculo"),0),4) -> m3 | X71: {=INDEX($BI$46:$CM$192,MATCH($B71,$BI$46:$BI$192,0),X$47)*X$39} -> 0 | Y71: {=INDEX($BI$46:$CM$192,MATCH($B71,$BI$46:$BI$192,0),Y$47)*Y$39} -> 0 | Z71: {=INDEX($BI$46:$CM$192,MATCH($B71,$BI$46:$BI$192,0),Z$47)*Z$39} -> 0 | AB71: {=INDEX($BI$46:$CM$192,MATCH($B71,$BI$46:$BI$192,0),AB$47)*AB$39} -> 0 | AD71: {=INDEX($BI$46:$CM$192,MATCH($B71,$BI$46:$BI$192,0),AD$47)*AD$39} -> 0 | AE71: {=INDEX($BI$46:$CM$192,MATCH($B71,$BI$46:$BI$192,0),AE$47)*AE$39} -> 0 | AF71: {=INDEX($BI$46:$CM$192,MATCH($B71,$BI$46:$BI$192,0),AF$47)*AF$39} -> 0 | AG71: {=INDEX($BI$46:$CM$192,MATCH($B71,$BI$46:$BI$192,0),AG$47)*AG$39} -> 0 | AH71: {=INDEX($BI$46:$CM$192,MATCH($B71,$BI$46:$BI$192,0),AH$47)*AH$39} -> 0 | AI71: {=INDEX($BI$46:$CM$192,MATCH($B71,$BI$46:$BI$192,0),AI$47)*AI$39} -> 0 | AJ71: {=INDEX($BI$46:$CM$192,MATCH($B71,$BI$46:$BI$192,0),AJ$47)*AJ$39} -> 0 | AK71: {=INDEX($BI$46:$CM$192,MATCH($B71,$BI$46:$BI$192,0),AK$47)*AK$39} -> 0 | ... AR71: {=INDEX($BI$46:$CM$192,MATCH($B71,$BI$46:$BI$192,0),AR$47)*AR$39} -> 0 | AU71: {=INDEX($BI$46:$CM$192,MATCH($B71,$BI$46:$BI$192,0),AU$47)*AU$39} -> 0 | AV71: {=INDEX($BI$46:$CM$192,MATCH($B71,$BI$46:$BI$192,0),AV$47)*AV$39} -> 0 | AW71: {=INDEX($BI$46:$CM$192,MATCH($B71,$BI$46:$BI$192,0),AW$47)*AW$39} -> 0 | AX71: {=INDEX($BI$46:$CM$192,MATCH($B71,$BI$46:$BI$192,0),AX$47)*AX$39} -> 0 | AY71: {=INDEX($BI$46:$CM$192,MATCH($B71,$BI$46:$BI$192,0),AY$47)*AY$39} -> 0 | AZ71: {=INDEX($BI$46:$CM$192,MATCH($B71,$BI$46:$BI$192,0),AZ$47)*AZ$39} -> 0 | BA71: {=INDEX($BI$46:$CM$192,MATCH($B71,$BI$46:$BI$192,0),BA$47)*BA$39} -> 0 | BB71: {=INDEX($BI$46:$CM$192,MATCH($B71,$BI$46:$BI$192,0),BB$47)*BB$39} -> 0 | BG71: =IF(C71="","",INDEX([10]TPU!$G:$G,MATCH($C71,[10]TPU!$A:$A,0))) -> 55.87 | BI71: 2.18 | BJ71: =INDEX(INDIRECT("memória_cálculo"),MATCH($BI71,INDIRECT("indice_cáculo"),0),2) -> 4413984 | BK71: =INDEX(INDIRECT("memória_cálculo"),MATCH($BI71,INDIRECT("indice_cáculo"),0),3) -> Regularização de bota-fora com espalhamento e compactação | BL71: =INDEX(INDIRECT("memória_cálculo"),MATCH($BI71,INDIRECT("indice_cáculo"),0),4) -> m³ | BM71: {=INDEX(INDIRECT("memória_cálculo"),MATCH($BI71,INDIRECT("indice_cáculo"),0),BM$45)} -> 63151.109 | BN71: {=INDEX(INDIRECT("memória_cálculo"),MATCH($BI71,INDIRECT("indice_cáculo"),0),BN$45)} -> 56957.834 | BO71: {=INDEX(INDIRECT("memória_cálculo"),MATCH($BI71,INDIRECT("indice_cáculo"),0),BO$45)} -> 3669.3909 | BP71: {=INDEX(INDIRECT("memória_cálculo"),MATCH($BI71,INDIRECT("indice_cáculo"),0),BP$45)} -> 700.67 | BQ71: {=INDEX(INDIRECT("memória_cálculo"),MATCH($BI71,INDIRECT("indice_cáculo"),0),BQ$45)} -> 1080.799 | BR71: {=INDEX(INDIRECT("memória_cálculo"),MATCH($BI71,INDIRECT("indice_cáculo"),0),BR$45)} -> 63151.109 | BS71: {=INDEX(INDIRECT("memória_cálculo"),MATCH($BI71,INDIRECT("indice_cáculo"),0),BS$45)} -> 56957.834 | BT71: {=INDEX(INDIRECT("memória_cálculo"),MATCH($BI71,INDIRECT("indice_cáculo"),0),BT$45)} -> 3669.3909 | ... CL71: {=INDEX(INDIRECT("memória_cálculo"),MATCH($BI71,INDIRECT("indice_cáculo"),0),CL$45)} -> 0
B72: 2.12 | C72: =INDEX(INDIRECT("memória_cálculo"),MATCH($B72,INDIRECT("indice_cáculo"),0),2) -> RO-00881 | D72: =INDEX(INDIRECT("memória_cálculo"),MATCH($B72,INDIRECT("indice_cáculo"),0),3) -> Transporte com caminhão basculante de 6 m³ - rodovia pavimentada | E72: =INDEX(INDIRECT("memória_cálculo"),MATCH($B72,INDIRECT("indice_cáculo"),0),4) -> txkm | X72: {=INDEX($BI$46:$CM$192,MATCH($B72,$BI$46:$BI$192,0),X$47)*X$39} -> 0 | Y72: {=INDEX($BI$46:$CM$192,MATCH($B72,$BI$46:$BI$192,0),Y$47)*Y$39} -> 0 | Z72: {=INDEX($BI$46:$CM$192,MATCH($B72,$BI$46:$BI$192,0),Z$47)*Z$39} -> 0 | AB72: {=INDEX($BI$46:$CM$192,MATCH($B72,$BI$46:$BI$192,0),AB$47)*AB$39} -> 0 | AD72: {=INDEX($BI$46:$CM$192,MATCH($B72,$BI$46:$BI$192,0),AD$47)*AD$39} -> 0 | AE72: {=INDEX($BI$46:$CM$192,MATCH($B72,$BI$46:$BI$192,0),AE$47)*AE$39} -> 0 | AF72: {=INDEX($BI$46:$CM$192,MATCH($B72,$BI$46:$BI$192,0),AF$47)*AF$39} -> 0 | AG72: {=INDEX($BI$46:$CM$192,MATCH($B72,$BI$46:$BI$192,0),AG$47)*AG$39} -> 0 | AH72: {=INDEX($BI$46:$CM$192,MATCH($B72,$BI$46:$BI$192,0),AH$47)*AH$39} -> 0 | AI72: {=INDEX($BI$46:$CM$192,MATCH($B72,$BI$46:$BI$192,0),AI$47)*AI$39} -> 0 | AJ72: {=INDEX($BI$46:$CM$192,MATCH($B72,$BI$46:$BI$192,0),AJ$47)*AJ$39} -> 0 | AK72: {=INDEX($BI$46:$CM$192,MATCH($B72,$BI$46:$BI$192,0),AK$47)*AK$39} -> 0 | ... AR72: {=INDEX($BI$46:$CM$192,MATCH($B72,$BI$46:$BI$192,0),AR$47)*AR$39} -> 0 | AU72: {=INDEX($BI$46:$CM$192,MATCH($B72,$BI$46:$BI$192,0),AU$47)*AU$39} -> 0 | AV72: {=INDEX($BI$46:$CM$192,MATCH($B72,$BI$46:$BI$192,0),AV$47)*AV$39} -> 0 | AW72: {=INDEX($BI$46:$CM$192,MATCH($B72,$BI$46:$BI$192,0),AW$47)*AW$39} -> 0 | AX72: {=INDEX($BI$46:$CM$192,MATCH($B72,$BI$46:$BI$192,0),AX$47)*AX$39} -> 0 | AY72: {=INDEX($BI$46:$CM$192,MATCH($B72,$BI$46:$BI$192,0),AY$47)*AY$39} -> 0 | AZ72: {=INDEX($BI$46:$CM$192,MATCH($B72,$BI$46:$BI$192,0),AZ$47)*AZ$39} -> 0 | BA72: {=INDEX($BI$46:$CM$192,MATCH($B72,$BI$46:$BI$192,0),BA$47)*BA$39} -> 0 | BB72: {=INDEX($BI$46:$CM$192,MATCH($B72,$BI$46:$BI$192,0),BB$47)*BB$39} -> 0 | BG72: =IF(C72="","",INDEX([10]TPU!$G:$G,MATCH($C72,[10]TPU!$A:$A,0))) -> 0.96 | BI72: 2.19 | BJ72: =INDEX(INDIRECT("memória_cálculo"),MATCH($BI72,INDIRECT("indice_cáculo"),0),2) -> RO-00881 | BK72: =INDEX(INDIRECT("memória_cálculo"),MATCH($BI72,INDIRECT("indice_cáculo"),0),3) -> Transporte com caminhão basculante de 6 m³ - rodovia pavimentada | BL72: =INDEX(INDIRECT("memória_cálculo"),MATCH($BI72,INDIRECT("indice_cáculo"),0),4) -> txkm | BM72: {=INDEX(INDIRECT("memória_cálculo"),MATCH($BI72,INDIRECT("indice_cáculo"),0),BM$45)} -> 568359.98 | BN72: {=INDEX(INDIRECT("memória_cálculo"),MATCH($BI72,INDIRECT("indice_cáculo"),0),BN$45)} -> 512620.51 | BO72: {=INDEX(INDIRECT("memória_cálculo"),MATCH($BI72,INDIRECT("indice_cáculo"),0),BO$45)} -> 33024.518 | BP72: {=INDEX(INDIRECT("memória_cálculo"),MATCH($BI72,INDIRECT("indice_cáculo"),0),BP$45)} -> 6306.03 | BQ72: {=INDEX(INDIRECT("memória_cálculo"),MATCH($BI72,INDIRECT("indice_cáculo"),0),BQ$45)} -> 9727.191 | BR72: {=INDEX(INDIRECT("memória_cálculo"),MATCH($BI72,INDIRECT("indice_cáculo"),0),BR$45)} -> 568359.98 | BS72: {=INDEX(INDIRECT("memória_cálculo"),MATCH($BI72,INDIRECT("indice_cáculo"),0),BS$45)} -> 512620.51 | BT72: {=INDEX(INDIRECT("memória_cálculo"),MATCH($BI72,INDIRECT("indice_cáculo"),0),BT$45)} -> 33024.518 | ... CL72: {=INDEX(INDIRECT("memória_cálculo"),MATCH($BI72,INDIRECT("indice_cáculo"),0),CL$45)} -> 0 | CP72: 1.5 | CQ72: =INDEX([10]TPU!$A:$A,MATCH($DV72,[10]TPU!$P:$P,0)) -> ED-50697 | CR72: =INDEX([10]TPU!$C:$C,MATCH($DV72,[10]TPU!$P:$P,0)) -> corte de árvore com motosserra, diâmetro do tronco de quinze (15) centímetros até trinta (30) centímetros, exclusive destocamento e afastamento | CS72: =INDEX([10]TPU!$D:$D,MATCH($DV72,[10]TPU!$P:$P,0)) -> un | CT72: =ROUND(CT74*CT75,0) -> 100 | CU72: =ROUND(CU74*CU75,0) -> 100 | CV72: =ROUND(CV74*CV75,0) -> 4 | CW72: =ROUND(CW74*CW75,0) -> 100 | CX72: =ROUND(CX74*CX75,0) -> 100 | CY72: =ROUND(CY74*CY75,0) -> 100 | CZ72: =ROUND(CZ74*CZ75,0) -> 100 | DA72: =ROUND(DA74*DA75,0) -> 4 | ... DT72: =ROUND(DT74*DT75,0) -> 0 | DV72: RO-40108
B73: 2.13 | C73: =INDEX(INDIRECT("memória_cálculo"),MATCH($B73,INDIRECT("indice_cáculo"),0),2) -> RO-00215 | D73: =INDEX(INDIRECT("memória_cálculo"),MATCH($B73,INDIRECT("indice_cáculo"),0),3) -> compactação de aterros a 100% do proctor normal (inclui espalhamento) | E73: =INDEX(INDIRECT("memória_cálculo"),MATCH($B73,INDIRECT("indice_cáculo"),0),4) -> m3 | X73: {=INDEX($BI$46:$CM$192,MATCH($B73,$BI$46:$BI$192,0),X$47)*X$39} -> 39189.904 | Y73: {=INDEX($BI$46:$CM$192,MATCH($B73,$BI$46:$BI$192,0),Y$47)*Y$39} -> 39189.904 | Z73: {=INDEX($BI$46:$CM$192,MATCH($B73,$BI$46:$BI$192,0),Z$47)*Z$39} -> 0 | AB73: {=INDEX($BI$46:$CM$192,MATCH($B73,$BI$46:$BI$192,0),AB$47)*AB$39} -> 15480.952 | AD73: {=INDEX($BI$46:$CM$192,MATCH($B73,$BI$46:$BI$192,0),AD$47)*AD$39} -> 15480.952 | AE73: {=INDEX($BI$46:$CM$192,MATCH($B73,$BI$46:$BI$192,0),AE$47)*AE$39} -> 15480.952 | AF73: {=INDEX($BI$46:$CM$192,MATCH($B73,$BI$46:$BI$192,0),AF$47)*AF$39} -> 15480.952 | AG73: {=INDEX($BI$46:$CM$192,MATCH($B73,$BI$46:$BI$192,0),AG$47)*AG$39} -> 15480.952 | AH73: {=INDEX($BI$46:$CM$192,MATCH($B73,$BI$46:$BI$192,0),AH$47)*AH$39} -> 15480.952 | AI73: {=INDEX($BI$46:$CM$192,MATCH($B73,$BI$46:$BI$192,0),AI$47)*AI$39} -> 15480.952 | AJ73: {=INDEX($BI$46:$CM$192,MATCH($B73,$BI$46:$BI$192,0),AJ$47)*AJ$39} -> 15480.952 | AK73: {=INDEX($BI$46:$CM$192,MATCH($B73,$BI$46:$BI$192,0),AK$47)*AK$39} -> 15480.952 | ... AR73: {=INDEX($BI$46:$CM$192,MATCH($B73,$BI$46:$BI$192,0),AR$47)*AR$39} -> 39189.904 | AU73: {=INDEX($BI$46:$CM$192,MATCH($B73,$BI$46:$BI$192,0),AU$47)*AU$39} -> 15480.952 | AV73: {=INDEX($BI$46:$CM$192,MATCH($B73,$BI$46:$BI$192,0),AV$47)*AV$39} -> 39189.904 | AW73: {=INDEX($BI$46:$CM$192,MATCH($B73,$BI$46:$BI$192,0),AW$47)*AW$39} -> 39189.904 | AX73: {=INDEX($BI$46:$CM$192,MATCH($B73,$BI$46:$BI$192,0),AX$47)*AX$39} -> 39189.904 | AY73: {=INDEX($BI$46:$CM$192,MATCH($B73,$BI$46:$BI$192,0),AY$47)*AY$39} -> 39189.904 | AZ73: {=INDEX($BI$46:$CM$192,MATCH($B73,$BI$46:$BI$192,0),AZ$47)*AZ$39} -> 39189.904 | BA73: {=INDEX($BI$46:$CM$192,MATCH($B73,$BI$46:$BI$192,0),BA$47)*BA$39} -> 39189.904 | BB73: {=INDEX($BI$46:$CM$192,MATCH($B73,$BI$46:$BI$192,0),BB$47)*BB$39} -> 15480.952 | BG73: =IF(C73="","",INDEX([10]TPU!$G:$G,MATCH($C73,[10]TPU!$A:$A,0))) -> 6.34 | BI73: 3 | BK73: PAVIMENTAÇÃO
B74: 2.14 | C74: =INDEX(INDIRECT("memória_cálculo"),MATCH($B74,INDIRECT("indice_cáculo"),0),2) -> RO-00217 | D74: =INDEX(INDIRECT("memória_cálculo"),MATCH($B74,INDIRECT("indice_cáculo"),0),3) -> compactação de aterros a 100% do proctor intermediário (inclui espalhamento) | E74: =INDEX(INDIRECT("memória_cálculo"),MATCH($B74,INDIRECT("indice_cáculo"),0),4) -> m3 | X74: {=INDEX($BI$46:$CM$192,MATCH($B74,$BI$46:$BI$192,0),X$47)*X$39} -> 2196 | Y74: {=INDEX($BI$46:$CM$192,MATCH($B74,$BI$46:$BI$192,0),Y$47)*Y$39} -> 2196 | Z74: {=INDEX($BI$46:$CM$192,MATCH($B74,$BI$46:$BI$192,0),Z$47)*Z$39} -> 0 | AB74: {=INDEX($BI$46:$CM$192,MATCH($B74,$BI$46:$BI$192,0),AB$47)*AB$39} -> 3960 | AD74: {=INDEX($BI$46:$CM$192,MATCH($B74,$BI$46:$BI$192,0),AD$47)*AD$39} -> 3960 | AE74: {=INDEX($BI$46:$CM$192,MATCH($B74,$BI$46:$BI$192,0),AE$47)*AE$39} -> 3960 | AF74: {=INDEX($BI$46:$CM$192,MATCH($B74,$BI$46:$BI$192,0),AF$47)*AF$39} -> 3960 | AG74: {=INDEX($BI$46:$CM$192,MATCH($B74,$BI$46:$BI$192,0),AG$47)*AG$39} -> 3960 | AH74: {=INDEX($BI$46:$CM$192,MATCH($B74,$BI$46:$BI$192,0),AH$47)*AH$39} -> 3960 | AI74: {=INDEX($BI$46:$CM$192,MATCH($B74,$BI$46:$BI$192,0),AI$47)*AI$39} -> 3960 | AJ74: {=INDEX($BI$46:$CM$192,MATCH($B74,$BI$46:$BI$192,0),AJ$47)*AJ$39} -> 3960 | AK74: {=INDEX($BI$46:$CM$192,MATCH($B74,$BI$46:$BI$192,0),AK$47)*AK$39} -> 3960 | ... AR74: {=INDEX($BI$46:$CM$192,MATCH($B74,$BI$46:$BI$192,0),AR$47)*AR$39} -> 2196 | AU74: {=INDEX($BI$46:$CM$192,MATCH($B74,$BI$46:$BI$192,0),AU$47)*AU$39} -> 3960 | AV74: {=INDEX($BI$46:$CM$192,MATCH($B74,$BI$46:$BI$192,0),AV$47)*AV$39} -> 2196 | AW74: {=INDEX($BI$46:$CM$192,MATCH($B74,$BI$46:$BI$192,0),AW$47)*AW$39} -> 2196 | AX74: {=INDEX($BI$46:$CM$192,MATCH($B74,$BI$46:$BI$192,0),AX$47)*AX$39} -> 2196 | AY74: {=INDEX($BI$46:$CM$192,MATCH($B74,$BI$46:$BI$192,0),AY$47)*AY$39} -> 2196 | AZ74: {=INDEX($BI$46:$CM$192,MATCH($B74,$BI$46:$BI$192,0),AZ$47)*AZ$39} -> 2196 | BA74: {=INDEX($BI$46:$CM$192,MATCH($B74,$BI$46:$BI$192,0),BA$47)*BA$39} -> 2196 | BB74: {=INDEX($BI$46:$CM$192,MATCH($B74,$BI$46:$BI$192,0),BB$47)*BB$39} -> 3960 | BG74: =IF(C74="","",INDEX([10]TPU!$G:$G,MATCH($C74,[10]TPU!$A:$A,0))) -> 10.94 | BI74: 3.1 | BJ74: =INDEX(INDIRECT("memória_cálculo"),MATCH($BI74,INDIRECT("indice_cáculo"),0),2) -> 4011463 | BK74: =INDEX(INDIRECT("memória_cálculo"),MATCH($BI74,INDIRECT("indice_cáculo"),0),3) -> Concreto asfáltico - faixa C - areia e brita comerciais | BL74: =INDEX(INDIRECT("memória_cálculo"),MATCH($BI74,INDIRECT("indice_cáculo"),0),4) -> t | BM74: {=INDEX(INDIRECT("memória_cálculo"),MATCH($BI74,INDIRECT("indice_cáculo"),0),BM$45)} -> 0 | BN74: {=INDEX(INDIRECT("memória_cálculo"),MATCH($BI74,INDIRECT("indice_cáculo"),0),BN$45)} -> 0 | BO74: {=INDEX(INDIRECT("memória_cálculo"),MATCH($BI74,INDIRECT("indice_cáculo"),0),BO$45)} -> 0 | BP74: {=INDEX(INDIRECT("memória_cálculo"),MATCH($BI74,INDIRECT("indice_cáculo"),0),BP$45)} -> 0 | BQ74: {=INDEX(INDIRECT("memória_cálculo"),MATCH($BI74,INDIRECT("indice_cáculo"),0),BQ$45)} -> 0 | BR74: {=INDEX(INDIRECT("memória_cálculo"),MATCH($BI74,INDIRECT("indice_cáculo"),0),BR$45)} -> 0 | BS74: {=INDEX(INDIRECT("memória_cálculo"),MATCH($BI74,INDIRECT("indice_cáculo"),0),BS$45)} -> 0 | BT74: {=INDEX(INDIRECT("memória_cálculo"),MATCH($BI74,INDIRECT("indice_cáculo"),0),BT$45)} -> 0 | ... CL74: {=INDEX(INDIRECT("memória_cálculo"),MATCH($BI74,INDIRECT("indice_cáculo"),0),CL$45)} -> 0 | CR74: Taxa árvores 0,15m<d<0,30m | CS74: arv./km | CT74: 100 | CU74: 100 | CV74: 40 | CW74: 100 | CX74: 100 | CY74: 100 | CZ74: 100 | DA74: 40 | DB74: 100 | DC74: 100 | DD74: 100 | DE74: 100 | DF74: 40 | DG74: 100 | DH74: 100 | DI74: 100 | DJ74: 100 | DK74: 40 | DL74: 100 | DM74: 100 | DN74: 100 | DO74: 100 | DP74: 40 | DQ74: 100 | DR74: 100 | DS74: 100
B75: 2.15 | C75: =INDEX(INDIRECT("memória_cálculo"),MATCH($B75,INDIRECT("indice_cáculo"),0),2) -> 5502979 | D75: =INDEX(INDIRECT("memória_cálculo"),MATCH($B75,INDIRECT("indice_cáculo"),0),3) -> Construção de corpo de aterro com material de 3ª categoria oriundo de corte | E75: =INDEX(INDIRECT("memória_cálculo"),MATCH($B75,INDIRECT("indice_cáculo"),0),4) -> m³ | X75: {=INDEX($BI$46:$CM$192,MATCH($B75,$BI$46:$BI$192,0),X$47)*X$39} -> 0 | Y75: {=INDEX($BI$46:$CM$192,MATCH($B75,$BI$46:$BI$192,0),Y$47)*Y$39} -> 0 | Z75: {=INDEX($BI$46:$CM$192,MATCH($B75,$BI$46:$BI$192,0),Z$47)*Z$39} -> 0 | AB75: {=INDEX($BI$46:$CM$192,MATCH($B75,$BI$46:$BI$192,0),AB$47)*AB$39} -> 0 | AD75: {=INDEX($BI$46:$CM$192,MATCH($B75,$BI$46:$BI$192,0),AD$47)*AD$39} -> 0 | AE75: {=INDEX($BI$46:$CM$192,MATCH($B75,$BI$46:$BI$192,0),AE$47)*AE$39} -> 0 | AF75: {=INDEX($BI$46:$CM$192,MATCH($B75,$BI$46:$BI$192,0),AF$47)*AF$39} -> 0 | AG75: {=INDEX($BI$46:$CM$192,MATCH($B75,$BI$46:$BI$192,0),AG$47)*AG$39} -> 0 | AH75: {=INDEX($BI$46:$CM$192,MATCH($B75,$BI$46:$BI$192,0),AH$47)*AH$39} -> 0 | AI75: {=INDEX($BI$46:$CM$192,MATCH($B75,$BI$46:$BI$192,0),AI$47)*AI$39} -> 0 | AJ75: {=INDEX($BI$46:$CM$192,MATCH($B75,$BI$46:$BI$192,0),AJ$47)*AJ$39} -> 0 | AK75: {=INDEX($BI$46:$CM$192,MATCH($B75,$BI$46:$BI$192,0),AK$47)*AK$39} -> 0 | ... AR75: {=INDEX($BI$46:$CM$192,MATCH($B75,$BI$46:$BI$192,0),AR$47)*AR$39} -> 0 | AU75: {=INDEX($BI$46:$CM$192,MATCH($B75,$BI$46:$BI$192,0),AU$47)*AU$39} -> 0 | AV75: {=INDEX($BI$46:$CM$192,MATCH($B75,$BI$46:$BI$192,0),AV$47)*AV$39} -> 0 | AW75: {=INDEX($BI$46:$CM$192,MATCH($B75,$BI$46:$BI$192,0),AW$47)*AW$39} -> 0 | AX75: {=INDEX($BI$46:$CM$192,MATCH($B75,$BI$46:$BI$192,0),AX$47)*AX$39} -> 0 | AY75: {=INDEX($BI$46:$CM$192,MATCH($B75,$BI$46:$BI$192,0),AY$47)*AY$39} -> 0 | AZ75: {=INDEX($BI$46:$CM$192,MATCH($B75,$BI$46:$BI$192,0),AZ$47)*AZ$39} -> 0 | BA75: {=INDEX($BI$46:$CM$192,MATCH($B75,$BI$46:$BI$192,0),BA$47)*BA$39} -> 0 | BB75: {=INDEX($BI$46:$CM$192,MATCH($B75,$BI$46:$BI$192,0),BB$47)*BB$39} -> 0 | BG75: =IF(C75="","",INDEX([10]TPU!$G:$G,MATCH($C75,[10]TPU!$A:$A,0))) -> 20.55 | BI75: 3.2 | BJ75: =INDEX(INDIRECT("memória_cálculo"),MATCH($BI75,INDIRECT("indice_cáculo"),0),2) -> CA0004 | BK75: =INDEX(INDIRECT("memória_cálculo"),MATCH($BI75,INDIRECT("indice_cáculo"),0),3) -> Cimentos asfálticos CAP-50-70 | BL75: =INDEX(INDIRECT("memória_cálculo"),MATCH($BI75,INDIRECT("indice_cáculo"),0),4) -> T | BM75: {=INDEX(INDIRECT("memória_cálculo"),MATCH($BI75,INDIRECT("indice_cáculo"),0),BM$45)} -> 0 | BN75: {=INDEX(INDIRECT("memória_cálculo"),MATCH($BI75,INDIRECT("indice_cáculo"),0),BN$45)} -> 0 | BO75: {=INDEX(INDIRECT("memória_cálculo"),MATCH($BI75,INDIRECT("indice_cáculo"),0),BO$45)} -> 0 | BP75: {=INDEX(INDIRECT("memória_cálculo"),MATCH($BI75,INDIRECT("indice_cáculo"),0),BP$45)} -> 0 | BQ75: {=INDEX(INDIRECT("memória_cálculo"),MATCH($BI75,INDIRECT("indice_cáculo"),0),BQ$45)} -> 0 | BR75: {=INDEX(INDIRECT("memória_cálculo"),MATCH($BI75,INDIRECT("indice_cáculo"),0),BR$45)} -> 0 | BS75: {=INDEX(INDIRECT("memória_cálculo"),MATCH($BI75,INDIRECT("indice_cáculo"),0),BS$45)} -> 0 | BT75: {=INDEX(INDIRECT("memória_cálculo"),MATCH($BI75,INDIRECT("indice_cáculo"),0),BT$45)} -> 0 | ... CL75: {=INDEX(INDIRECT("memória_cálculo"),MATCH($BI75,INDIRECT("indice_cáculo"),0),CL$45)} -> 0 | CR75: Extensão | CS75: km | CT75: =CT51/1000 -> 1 | CU75: =CU51/1000 -> 1 | CV75: =CV51/1000 -> 0.1 | CW75: =CW51/1000 -> 1 | CX75: =CX51/1000 -> 1 | CY75: =CY51/1000 -> 1 | CZ75: =CZ51/1000 -> 1 | DA75: =DA51/1000 -> 0.1 | ... DT75: =DT51/1000 -> 0
B76: 2.16 | C76: =INDEX(INDIRECT("memória_cálculo"),MATCH($B76,INDIRECT("indice_cáculo"),0),2) -> 4016008 | D76: =INDEX(INDIRECT("memória_cálculo"),MATCH($B76,INDIRECT("indice_cáculo"),0),3) -> Escavação e carga de material de jazida com trator de 127 kW e carregadeira de 3,4 m³ | E76: =INDEX(INDIRECT("memória_cálculo"),MATCH($B76,INDIRECT("indice_cáculo"),0),4) -> m³ | X76: {=INDEX($BI$46:$CM$192,MATCH($B76,$BI$46:$BI$192,0),X$47)*X$39} -> 0 | Y76: {=INDEX($BI$46:$CM$192,MATCH($B76,$BI$46:$BI$192,0),Y$47)*Y$39} -> 0 | Z76: {=INDEX($BI$46:$CM$192,MATCH($B76,$BI$46:$BI$192,0),Z$47)*Z$39} -> 0 | AB76: {=INDEX($BI$46:$CM$192,MATCH($B76,$BI$46:$BI$192,0),AB$47)*AB$39} -> 0 | AD76: {=INDEX($BI$46:$CM$192,MATCH($B76,$BI$46:$BI$192,0),AD$47)*AD$39} -> 0 | AE76: {=INDEX($BI$46:$CM$192,MATCH($B76,$BI$46:$BI$192,0),AE$47)*AE$39} -> 0 | AF76: {=INDEX($BI$46:$CM$192,MATCH($B76,$BI$46:$BI$192,0),AF$47)*AF$39} -> 0 | AG76: {=INDEX($BI$46:$CM$192,MATCH($B76,$BI$46:$BI$192,0),AG$47)*AG$39} -> 0 | AH76: {=INDEX($BI$46:$CM$192,MATCH($B76,$BI$46:$BI$192,0),AH$47)*AH$39} -> 0 | AI76: {=INDEX($BI$46:$CM$192,MATCH($B76,$BI$46:$BI$192,0),AI$47)*AI$39} -> 0 | AJ76: {=INDEX($BI$46:$CM$192,MATCH($B76,$BI$46:$BI$192,0),AJ$47)*AJ$39} -> 0 | AK76: {=INDEX($BI$46:$CM$192,MATCH($B76,$BI$46:$BI$192,0),AK$47)*AK$39} -> 0 | ... AR76: {=INDEX($BI$46:$CM$192,MATCH($B76,$BI$46:$BI$192,0),AR$47)*AR$39} -> 0 | AU76: {=INDEX($BI$46:$CM$192,MATCH($B76,$BI$46:$BI$192,0),AU$47)*AU$39} -> 0 | AV76: {=INDEX($BI$46:$CM$192,MATCH($B76,$BI$46:$BI$192,0),AV$47)*AV$39} -> 0 | AW76: {=INDEX($BI$46:$CM$192,MATCH($B76,$BI$46:$BI$192,0),AW$47)*AW$39} -> 0 | AX76: {=INDEX($BI$46:$CM$192,MATCH($B76,$BI$46:$BI$192,0),AX$47)*AX$39} -> 0 | AY76: {=INDEX($BI$46:$CM$192,MATCH($B76,$BI$46:$BI$192,0),AY$47)*AY$39} -> 0 | AZ76: {=INDEX($BI$46:$CM$192,MATCH($B76,$BI$46:$BI$192,0),AZ$47)*AZ$39} -> 0 | BA76: {=INDEX($BI$46:$CM$192,MATCH($B76,$BI$46:$BI$192,0),BA$47)*BA$39} -> 0 | BB76: {=INDEX($BI$46:$CM$192,MATCH($B76,$BI$46:$BI$192,0),BB$47)*BB$39} -> 0 | BG76: =IF(C76="","",INDEX([10]TPU!$G:$G,MATCH($C76,[10]TPU!$A:$A,0))) -> 5.44 | BI76: 3.3 | BJ76: =INDEX(INDIRECT("memória_cálculo"),MATCH($BI76,INDIRECT("indice_cáculo"),0),2) -> ED-7623 | BK76: =INDEX(INDIRECT("memória_cálculo"),MATCH($BI76,INDIRECT("indice_cáculo"),0),3) -> Execução e aplicação de concreto betuminoso usinado a quente (cbuq), massa comercial, incluindo fornecimento e transporte dos agregados e material betuminoso, exclusive transporte da massa asfáltica até a pista | BL76: =INDEX(INDIRECT("memória_cálculo"),MATCH($BI76,INDIRECT("indice_cáculo"),0),4) -> m³ | BM76: {=INDEX(INDIRECT("memória_cálculo"),MATCH($BI76,INDIRECT("indice_cáculo"),0),BM$45)} -> 796.425 | BN76: {=INDEX(INDIRECT("memória_cálculo"),MATCH($BI76,INDIRECT("indice_cáculo"),0),BN$45)} -> 1149.45 | BO76: {=INDEX(INDIRECT("memória_cálculo"),MATCH($BI76,INDIRECT("indice_cáculo"),0),BO$45)} -> 27.45 | BP76: {=INDEX(INDIRECT("memória_cálculo"),MATCH($BI76,INDIRECT("indice_cáculo"),0),BP$45)} -> 669.225 | BQ76: {=INDEX(INDIRECT("memória_cálculo"),MATCH($BI76,INDIRECT("indice_cáculo"),0),BQ$45)} -> 776.49 | BR76: {=INDEX(INDIRECT("memória_cálculo"),MATCH($BI76,INDIRECT("indice_cáculo"),0),BR$45)} -> 584.045 | BS76: {=INDEX(INDIRECT("memória_cálculo"),MATCH($BI76,INDIRECT("indice_cáculo"),0),BS$45)} -> 842.93 | BT76: {=INDEX(INDIRECT("memória_cálculo"),MATCH($BI76,INDIRECT("indice_cáculo"),0),BT$45)} -> 20.13 | ... CL76: {=INDEX(INDIRECT("memória_cálculo"),MATCH($BI76,INDIRECT("indice_cáculo"),0),CL$45)} -> 0
B77: 2.17 | C77: =INDEX(INDIRECT("memória_cálculo"),MATCH($B77,INDIRECT("indice_cáculo"),0),2) -> RO-00881 | D77: =INDEX(INDIRECT("memória_cálculo"),MATCH($B77,INDIRECT("indice_cáculo"),0),3) -> Transporte com caminhão basculante de 6 m³ - rodovia pavimentada | E77: =INDEX(INDIRECT("memória_cálculo"),MATCH($B77,INDIRECT("indice_cáculo"),0),4) -> txkm | X77: {=INDEX($BI$46:$CM$192,MATCH($B77,$BI$46:$BI$192,0),X$47)*X$39} -> 0 | Y77: {=INDEX($BI$46:$CM$192,MATCH($B77,$BI$46:$BI$192,0),Y$47)*Y$39} -> 0 | Z77: {=INDEX($BI$46:$CM$192,MATCH($B77,$BI$46:$BI$192,0),Z$47)*Z$39} -> 0 | AB77: {=INDEX($BI$46:$CM$192,MATCH($B77,$BI$46:$BI$192,0),AB$47)*AB$39} -> 0 | AD77: {=INDEX($BI$46:$CM$192,MATCH($B77,$BI$46:$BI$192,0),AD$47)*AD$39} -> 0 | AE77: {=INDEX($BI$46:$CM$192,MATCH($B77,$BI$46:$BI$192,0),AE$47)*AE$39} -> 0 | AF77: {=INDEX($BI$46:$CM$192,MATCH($B77,$BI$46:$BI$192,0),AF$47)*AF$39} -> 0 | AG77: {=INDEX($BI$46:$CM$192,MATCH($B77,$BI$46:$BI$192,0),AG$47)*AG$39} -> 0 | AH77: {=INDEX($BI$46:$CM$192,MATCH($B77,$BI$46:$BI$192,0),AH$47)*AH$39} -> 0 | AI77: {=INDEX($BI$46:$CM$192,MATCH($B77,$BI$46:$BI$192,0),AI$47)*AI$39} -> 0 | AJ77: {=INDEX($BI$46:$CM$192,MATCH($B77,$BI$46:$BI$192,0),AJ$47)*AJ$39} -> 0 | AK77: {=INDEX($BI$46:$CM$192,MATCH($B77,$BI$46:$BI$192,0),AK$47)*AK$39} -> 0 | ... AR77: {=INDEX($BI$46:$CM$192,MATCH($B77,$BI$46:$BI$192,0),AR$47)*AR$39} -> 0 | AU77: {=INDEX($BI$46:$CM$192,MATCH($B77,$BI$46:$BI$192,0),AU$47)*AU$39} -> 0 | AV77: {=INDEX($BI$46:$CM$192,MATCH($B77,$BI$46:$BI$192,0),AV$47)*AV$39} -> 0 | AW77: {=INDEX($BI$46:$CM$192,MATCH($B77,$BI$46:$BI$192,0),AW$47)*AW$39} -> 0 | AX77: {=INDEX($BI$46:$CM$192,MATCH($B77,$BI$46:$BI$192,0),AX$47)*AX$39} -> 0 | AY77: {=INDEX($BI$46:$CM$192,MATCH($B77,$BI$46:$BI$192,0),AY$47)*AY$39} -> 0 | AZ77: {=INDEX($BI$46:$CM$192,MATCH($B77,$BI$46:$BI$192,0),AZ$47)*AZ$39} -> 0 | BA77: {=INDEX($BI$46:$CM$192,MATCH($B77,$BI$46:$BI$192,0),BA$47)*BA$39} -> 0 | BB77: {=INDEX($BI$46:$CM$192,MATCH($B77,$BI$46:$BI$192,0),BB$47)*BB$39} -> 0 | BG77: =IF(C77="","",INDEX([10]TPU!$G:$G,MATCH($C77,[10]TPU!$A:$A,0))) -> 0.96 | BI77: 3.4 | BJ77: =INDEX(INDIRECT("memória_cálculo"),MATCH($BI77,INDIRECT("indice_cáculo"),0),2) -> RO-00388 | BK77: =INDEX(INDIRECT("memória_cálculo"),MATCH($BI77,INDIRECT("indice_cáculo"),0),3) -> imprimação com emulsão asfáltica (execução, exclui fornecimento e transporte do material betuminoso até a obra) | BL77: =INDEX(INDIRECT("memória_cálculo"),MATCH($BI77,INDIRECT("indice_cáculo"),0),4) -> m2 | BM77: {=INDEX(INDIRECT("memória_cálculo"),MATCH($BI77,INDIRECT("indice_cáculo"),0),BM$45)} -> 10619 | BN77: {=INDEX(INDIRECT("memória_cálculo"),MATCH($BI77,INDIRECT("indice_cáculo"),0),BN$45)} -> 15326 | BO77: {=INDEX(INDIRECT("memória_cálculo"),MATCH($BI77,INDIRECT("indice_cáculo"),0),BO$45)} -> 366 | BP77: {=INDEX(INDIRECT("memória_cálculo"),MATCH($BI77,INDIRECT("indice_cáculo"),0),BP$45)} -> 8923 | BQ77: {=INDEX(INDIRECT("memória_cálculo"),MATCH($BI77,INDIRECT("indice_cáculo"),0),BQ$45)} -> 10353.2 | BR77: {=INDEX(INDIRECT("memória_cálculo"),MATCH($BI77,INDIRECT("indice_cáculo"),0),BR$45)} -> 10619 | BS77: {=INDEX(INDIRECT("memória_cálculo"),MATCH($BI77,INDIRECT("indice_cáculo"),0),BS$45)} -> 15326 | BT77: {=INDEX(INDIRECT("memória_cálculo"),MATCH($BI77,INDIRECT("indice_cáculo"),0),BT$45)} -> 366 | ... CL77: {=INDEX(INDIRECT("memória_cálculo"),MATCH($BI77,INDIRECT("indice_cáculo"),0),CL$45)} -> 0
B78: 2.18 | C78: =INDEX(INDIRECT("memória_cálculo"),MATCH($B78,INDIRECT("indice_cáculo"),0),2) -> 4413984 | D78: =INDEX(INDIRECT("memória_cálculo"),MATCH($B78,INDIRECT("indice_cáculo"),0),3) -> Regularização de bota-fora com espalhamento e compactação | E78: =INDEX(INDIRECT("memória_cálculo"),MATCH($B78,INDIRECT("indice_cáculo"),0),4) -> m³ | X78: {=INDEX($BI$46:$CM$192,MATCH($B78,$BI$46:$BI$192,0),X$47)*X$39} -> 63151.109 | Y78: {=INDEX($BI$46:$CM$192,MATCH($B78,$BI$46:$BI$192,0),Y$47)*Y$39} -> 63151.109 | Z78: {=INDEX($BI$46:$CM$192,MATCH($B78,$BI$46:$BI$192,0),Z$47)*Z$39} -> 0 | AB78: {=INDEX($BI$46:$CM$192,MATCH($B78,$BI$46:$BI$192,0),AB$47)*AB$39} -> 56957.834 | AD78: {=INDEX($BI$46:$CM$192,MATCH($B78,$BI$46:$BI$192,0),AD$47)*AD$39} -> 56957.834 | AE78: {=INDEX($BI$46:$CM$192,MATCH($B78,$BI$46:$BI$192,0),AE$47)*AE$39} -> 56957.834 | AF78: {=INDEX($BI$46:$CM$192,MATCH($B78,$BI$46:$BI$192,0),AF$47)*AF$39} -> 56957.834 | AG78: {=INDEX($BI$46:$CM$192,MATCH($B78,$BI$46:$BI$192,0),AG$47)*AG$39} -> 56957.834 | AH78: {=INDEX($BI$46:$CM$192,MATCH($B78,$BI$46:$BI$192,0),AH$47)*AH$39} -> 56957.834 | AI78: {=INDEX($BI$46:$CM$192,MATCH($B78,$BI$46:$BI$192,0),AI$47)*AI$39} -> 56957.834 | AJ78: {=INDEX($BI$46:$CM$192,MATCH($B78,$BI$46:$BI$192,0),AJ$47)*AJ$39} -> 56957.834 | AK78: {=INDEX($BI$46:$CM$192,MATCH($B78,$BI$46:$BI$192,0),AK$47)*AK$39} -> 56957.834 | ... AR78: {=INDEX($BI$46:$CM$192,MATCH($B78,$BI$46:$BI$192,0),AR$47)*AR$39} -> 63151.109 | AU78: {=INDEX($BI$46:$CM$192,MATCH($B78,$BI$46:$BI$192,0),AU$47)*AU$39} -> 56957.834 | AV78: {=INDEX($BI$46:$CM$192,MATCH($B78,$BI$46:$BI$192,0),AV$47)*AV$39} -> 63151.109 | AW78: {=INDEX($BI$46:$CM$192,MATCH($B78,$BI$46:$BI$192,0),AW$47)*AW$39} -> 63151.109 | AX78: {=INDEX($BI$46:$CM$192,MATCH($B78,$BI$46:$BI$192,0),AX$47)*AX$39} -> 63151.109 | AY78: {=INDEX($BI$46:$CM$192,MATCH($B78,$BI$46:$BI$192,0),AY$47)*AY$39} -> 63151.109 | AZ78: {=INDEX($BI$46:$CM$192,MATCH($B78,$BI$46:$BI$192,0),AZ$47)*AZ$39} -> 63151.109 | BA78: {=INDEX($BI$46:$CM$192,MATCH($B78,$BI$46:$BI$192,0),BA$47)*BA$39} -> 63151.109 | BB78: {=INDEX($BI$46:$CM$192,MATCH($B78,$BI$46:$BI$192,0),BB$47)*BB$39} -> 56957.834 | BG78: =IF(C78="","",INDEX([10]TPU!$G:$G,MATCH($C78,[10]TPU!$A:$A,0))) -> 4.74 | BI78: 3.5 | BJ78: =INDEX(INDIRECT("memória_cálculo"),MATCH($BI78,INDIRECT("indice_cáculo"),0),2) -> RO-51229 | BK78: =INDEX(INDIRECT("memória_cálculo"),MATCH($BI78,INDIRECT("indice_cáculo"),0),3) -> pintura de ligação (execução e fornecimento do material betuminoso, exclusive transporte do material betuminoso) | BL78: =INDEX(INDIRECT("memória_cálculo"),MATCH($BI78,INDIRECT("indice_cáculo"),0),4) -> m2 | BM78: {=INDEX(INDIRECT("memória_cálculo"),MATCH($BI78,INDIRECT("indice_cáculo"),0),BM$45)} -> 21238 | BN78: {=INDEX(INDIRECT("memória_cálculo"),MATCH($BI78,INDIRECT("indice_cáculo"),0),BN$45)} -> 30652 | BO78: {=INDEX(INDIRECT("memória_cálculo"),MATCH($BI78,INDIRECT("indice_cáculo"),0),BO$45)} -> 732 | BP78: {=INDEX(INDIRECT("memória_cálculo"),MATCH($BI78,INDIRECT("indice_cáculo"),0),BP$45)} -> 17846 | BQ78: {=INDEX(INDIRECT("memória_cálculo"),MATCH($BI78,INDIRECT("indice_cáculo"),0),BQ$45)} -> 20706.4 | BR78: {=INDEX(INDIRECT("memória_cálculo"),MATCH($BI78,INDIRECT("indice_cáculo"),0),BR$45)} -> 21238 | BS78: {=INDEX(INDIRECT("memória_cálculo"),MATCH($BI78,INDIRECT("indice_cáculo"),0),BS$45)} -> 30652 | BT78: {=INDEX(INDIRECT("memória_cálculo"),MATCH($BI78,INDIRECT("indice_cáculo"),0),BT$45)} -> 732 | ... CL78: {=INDEX(INDIRECT("memória_cálculo"),MATCH($BI78,INDIRECT("indice_cáculo"),0),CL$45)} -> 0 | CP78: 1.6 | CQ78: =INDEX([10]TPU!$A:$A,MATCH($DV78,[10]TPU!$P:$P,0)) -> ED-50699 | CR78: =INDEX([10]TPU!$C:$C,MATCH($DV78,[10]TPU!$P:$P,0)) -> corte de árvore com motosserra, diâmetro do tronco acima de trinta (30) centímetros até cinquenta (50) centímetros, exclusive destocamento e afastamento | CS78: =INDEX([10]TPU!$D:$D,MATCH($DV78,[10]TPU!$P:$P,0)) -> un | CT78: =ROUND(CT80*CT81,0) -> 50 | CU78: =ROUND(CU80*CU81,0) -> 50 | CV78: =ROUND(CV80*CV81,0) -> 2 | CW78: =ROUND(CW80*CW81,0) -> 50 | CX78: =ROUND(CX80*CX81,0) -> 50 | CY78: =ROUND(CY80*CY81,0) -> 50 | CZ78: =ROUND(CZ80*CZ81,0) -> 50 | DA78: =ROUND(DA80*DA81,0) -> 2 | ... DT78: =ROUND(DT80*DT81,0) -> 0 | DV78: RO-42488
B79: 2.19 | C79: =INDEX(INDIRECT("memória_cálculo"),MATCH($B79,INDIRECT("indice_cáculo"),0),2) -> RO-00881 | D79: =INDEX(INDIRECT("memória_cálculo"),MATCH($B79,INDIRECT("indice_cáculo"),0),3) -> Transporte com caminhão basculante de 6 m³ - rodovia pavimentada | E79: =INDEX(INDIRECT("memória_cálculo"),MATCH($B79,INDIRECT("indice_cáculo"),0),4) -> txkm | X79: {=INDEX($BI$46:$CM$192,MATCH($B79,$BI$46:$BI$192,0),X$47)*X$39} -> 568359.98 | Y79: {=INDEX($BI$46:$CM$192,MATCH($B79,$BI$46:$BI$192,0),Y$47)*Y$39} -> 568359.98 | Z79: {=INDEX($BI$46:$CM$192,MATCH($B79,$BI$46:$BI$192,0),Z$47)*Z$39} -> 0 | AB79: {=INDEX($BI$46:$CM$192,MATCH($B79,$BI$46:$BI$192,0),AB$47)*AB$39} -> 512620.51 | AD79: {=INDEX($BI$46:$CM$192,MATCH($B79,$BI$46:$BI$192,0),AD$47)*AD$39} -> 512620.51 | AE79: {=INDEX($BI$46:$CM$192,MATCH($B79,$BI$46:$BI$192,0),AE$47)*AE$39} -> 512620.51 | AF79: {=INDEX($BI$46:$CM$192,MATCH($B79,$BI$46:$BI$192,0),AF$47)*AF$39} -> 512620.51 | AG79: {=INDEX($BI$46:$CM$192,MATCH($B79,$BI$46:$BI$192,0),AG$47)*AG$39} -> 512620.51 | AH79: {=INDEX($BI$46:$CM$192,MATCH($B79,$BI$46:$BI$192,0),AH$47)*AH$39} -> 512620.51 | AI79: {=INDEX($BI$46:$CM$192,MATCH($B79,$BI$46:$BI$192,0),AI$47)*AI$39} -> 512620.51 | AJ79: {=INDEX($BI$46:$CM$192,MATCH($B79,$BI$46:$BI$192,0),AJ$47)*AJ$39} -> 512620.51 | AK79: {=INDEX($BI$46:$CM$192,MATCH($B79,$BI$46:$BI$192,0),AK$47)*AK$39} -> 512620.51 | ... AR79: {=INDEX($BI$46:$CM$192,MATCH($B79,$BI$46:$BI$192,0),AR$47)*AR$39} -> 568359.98 | AU79: {=INDEX($BI$46:$CM$192,MATCH($B79,$BI$46:$BI$192,0),AU$47)*AU$39} -> 512620.51 | AV79: {=INDEX($BI$46:$CM$192,MATCH($B79,$BI$46:$BI$192,0),AV$47)*AV$39} -> 568359.98 | AW79: {=INDEX($BI$46:$CM$192,MATCH($B79,$BI$46:$BI$192,0),AW$47)*AW$39} -> 568359.98 | AX79: {=INDEX($BI$46:$CM$192,MATCH($B79,$BI$46:$BI$192,0),AX$47)*AX$39} -> 568359.98 | AY79: {=INDEX($BI$46:$CM$192,MATCH($B79,$BI$46:$BI$192,0),AY$47)*AY$39} -> 568359.98 | AZ79: {=INDEX($BI$46:$CM$192,MATCH($B79,$BI$46:$BI$192,0),AZ$47)*AZ$39} -> 568359.98 | BA79: {=INDEX($BI$46:$CM$192,MATCH($B79,$BI$46:$BI$192,0),BA$47)*BA$39} -> 568359.98 | BB79: {=INDEX($BI$46:$CM$192,MATCH($B79,$BI$46:$BI$192,0),BB$47)*BB$39} -> 512620.51 | BG79: =IF(C79="","",INDEX([10]TPU!$G:$G,MATCH($C79,[10]TPU!$A:$A,0))) -> 0.96 | BI79: 3.6 | BJ79: =INDEX(INDIRECT("memória_cálculo"),MATCH($BI79,INDIRECT("indice_cáculo"),0),2) -> 4011240 | BK79: =INDEX(INDIRECT("memória_cálculo"),MATCH($BI79,INDIRECT("indice_cáculo"),0),3) -> Base estabilizada granulometricamente com mistura solo brita (70% - 30%) com 3% de cimento em usina com material de jazida e brita comercial | BL79: =INDEX(INDIRECT("memória_cálculo"),MATCH($BI79,INDIRECT("indice_cáculo"),0),4) -> m³ | BM79: {=INDEX(INDIRECT("memória_cálculo"),MATCH($BI79,INDIRECT("indice_cáculo"),0),BM$45)} -> 1936.62 | BN79: {=INDEX(INDIRECT("memória_cálculo"),MATCH($BI79,INDIRECT("indice_cáculo"),0),BN$45)} -> 2783.88 | BO79: {=INDEX(INDIRECT("memória_cálculo"),MATCH($BI79,INDIRECT("indice_cáculo"),0),BO$45)} -> 68.4 | BP79: {=INDEX(INDIRECT("memória_cálculo"),MATCH($BI79,INDIRECT("indice_cáculo"),0),BP$45)} -> 1631.34 | BQ79: {=INDEX(INDIRECT("memória_cálculo"),MATCH($BI79,INDIRECT("indice_cáculo"),0),BQ$45)} -> 1888.776 | BR79: {=INDEX(INDIRECT("memória_cálculo"),MATCH($BI79,INDIRECT("indice_cáculo"),0),BR$45)} -> 2045.16 | BS79: {=INDEX(INDIRECT("memória_cálculo"),MATCH($BI79,INDIRECT("indice_cáculo"),0),BS$45)} -> 2939.49 | BT79: {=INDEX(INDIRECT("memória_cálculo"),MATCH($BI79,INDIRECT("indice_cáculo"),0),BT$45)} -> 72.295 | ... CL79: {=INDEX(INDIRECT("memória_cálculo"),MATCH($BI79,INDIRECT("indice_cáculo"),0),CL$45)} -> 0
B80: 3 | D80: PAVIMENTAÇÃO | BG80: {=IF(C80="","",INDEX([10]TPU!$A:$G,MATCH(C80,[10]TPU!$A:$A,0),COLUMN([10]TPU!$G$3)))} | BI80: 3.7 | BJ80: =INDEX(INDIRECT("memória_cálculo"),MATCH($BI80,INDIRECT("indice_cáculo"),0),2) -> RO-00312 | BK80: =INDEX(INDIRECT("memória_cálculo"),MATCH($BI80,INDIRECT("indice_cáculo"),0),3) -> Sub-base estabilizada granulometricamente, executada com recicladora, com mistura de solos, com material de jazida - Compactado na energia intermediária (Execução, incluído escavação e carga do material de jazida, exclui o transporte) | BL80: =INDEX(INDIRECT("memória_cálculo"),MATCH($BI80,INDIRECT("indice_cáculo"),0),4) -> m³ | BM80: {=INDEX(INDIRECT("memória_cálculo"),MATCH($BI80,INDIRECT("indice_cáculo"),0),BM$45)} -> 3287.7 | BN80: {=INDEX(INDIRECT("memória_cálculo"),MATCH($BI80,INDIRECT("indice_cáculo"),0),BN$45)} -> 4699.8 | BO80: {=INDEX(INDIRECT("memória_cálculo"),MATCH($BI80,INDIRECT("indice_cáculo"),0),BO$45)} -> 120 | BP80: {=INDEX(INDIRECT("memória_cálculo"),MATCH($BI80,INDIRECT("indice_cáculo"),0),BP$45)} -> 2778.9 | BQ80: {=INDEX(INDIRECT("memória_cálculo"),MATCH($BI80,INDIRECT("indice_cáculo"),0),BQ$45)} -> 3207.96 | BR80: {=INDEX(INDIRECT("memória_cálculo"),MATCH($BI80,INDIRECT("indice_cáculo"),0),BR$45)} -> 3289.2 | BS80: {=INDEX(INDIRECT("memória_cálculo"),MATCH($BI80,INDIRECT("indice_cáculo"),0),BS$45)} -> 4701.3 | BT80: {=INDEX(INDIRECT("memória_cálculo"),MATCH($BI80,INDIRECT("indice_cáculo"),0),BT$45)} -> 120.15 | ... CL80: {=INDEX(INDIRECT("memória_cálculo"),MATCH($BI80,INDIRECT("indice_cáculo"),0),CL$45)} -> 0 | CR80: Taxa árvores 0,15m<d<0,30m | CS80: arv./km | CT80: =CT74/2 -> 50 | CU80: =CU74/2 -> 50 | CV80: =CV74/2 -> 20 | CW80: =CW74/2 -> 50 | CX80: =CX74/2 -> 50 | CY80: =CY74/2 -> 50 | CZ80: =CZ74/2 -> 50 | DA80: =DA74/2 -> 20 | ... DS80: =DS74/2 -> 50
