Workbook
Name indice_cáculo: MC_Dispositivo!$CP:$CP
Name memória_cálculo: MC_Dispositivo!$CP:$DT

Sheet Cadastro_Dren_Sup
A1: ID | B1: RODOVIA | C1: LADO | D1: SENTIDO | E1: KM_INICIO | F1: KM_FIM | G1: TIPO | H1: Volume de Concreto (m³/m) | I1: EXTENSÃO (m) | M1: Dispositivo | N1: Bom | P1: Bom
A2: 1 | B2: CMG-120 | C2: Direita | D2: Crescente | E2: 569205.03 | F2: 569384.69 | G2: DR-6 | H2: 0.102 | I2: 179.65618 | L2: Sarjeta Triangula de Corte | M2: DR-1B | N2: =SUMIF(G:G,M2,I:I) -> 101926.93 | O2: 0.114 | P2: =N2*$O2 -> 11619.67
A3: 2 | B3: =$B$2 -> CMG-120 | C3: Esquerda | D3: Crescente | E3: 569218.59 | F3: 569228.99 | G3: DR-6 | H3: 0.102 | I3: 10.399999 | L3: Valeta Trapezoidal | M3: DR-3B | N3: =SUMIF(G:G,M3,I:I) -> 535.77217 | O3: 0.112 | P3: =N3*$O3 -> 60.006483
A4: 3 | B4: =$B$2 -> CMG-120 | C4: Direita | D4: Crescente | E4: 569416.87 | F4: 569661.61 | G4: DR-6 | H4: 0.102 | I4: 244.73088 | L4: Sarjeta Triangula de Aterro | M4: DR-6 | N4: =SUMIF(G:G,M4,I:I) -> 192586.43 | O4: 0.102 | P4: =N4*$O4 -> 19643.816
A5: 4 | B5: =$B$2 -> CMG-120 | C5: Direita | D5: Crescente | E5: 569661.61 | F5: 569750.55 | G5: DR-6 | H5: 0.102 | I5: 88.946177 | M5: Meio fio e sarjeta de concreto | N5: =SUMIF(G:G,M5,I:I) -> 17089.552 | O5: =0.133+0.077 -> 0.21 | P5: =N5*$O5 -> 3588.8058
A6: 5 | B6: =$B$2 -> CMG-120 | C6: Direita | D6: Crescente | E6: 569761.56 | F6: 570389.22 | G6: DR-6 | H6: 0.102 | I6: 627.66184 | M6: Total | N6: =SUM(N2:N5) -> 312138.68
A7: 6 | B7: =$B$2 -> CMG-120 | C7: Direita | D7: Crescente | E7: 570411.21 | F7: 570662.9 | G7: DR-6 | H7: 0.102 | I7: 251.68262
A8: 7 | B8: =$B$2 -> CMG-120 | C8: Direita | D8: Crescente | E8: 570839.33 | F8: 570883.82 | G8: DR-6 | H8: 0.102 | I8: 44.491541
A9: 8 | B9: =$B$2 -> CMG-120 | C9: Direita | D9: Crescente | E9: 570922.05 | F9: 572151.52 | G9: Meio fio e sarjeta de concreto | H9: 0.21 | I9: 1229.4663 | L9: Complementações da Drenagem Superficial
A10: 9 | B10: =$B$2 -> CMG-120 | C10: Direita | D10: Crescente | E10: 572166.77 | F10: 572288.94 | G10: Meio fio e sarjeta de concreto | H10: 0.21 | I10: 122.17149 | L10: Rodovia | M10: DR-1B | N10: Meio Fio
A11: 10 | B11: =$B$2 -> CMG-120 | C11: Direita | D11: Crescente | E11: 572288.94 | F11: 572393.1 | G11: Meio fio e sarjeta de concreto | H11: 0.21 | I11: 104.16236 | L11: CMG-120 | M11: =[3]QUANTIDADES_REC!$F$122+[3]QUANTIDADES_TI!$F$78 -> 9116.0119 | N11: =[3]QUANTIDADES_REC!$F$123+[3]QUANTIDADES_TI!$F$79 -> 39980.265
A12: 11 | B12: =$B$2 -> CMG-120 | C12: Direita | D12: Crescente | E12: 572404.04 | F12: 572488.51 | G12: Meio fio e sarjeta de concreto | H12: 0.21 | I12: 84.475484 | L12: BR-356 | M12: =[4]QUANTIDADES_REC!$F$122+[4]QUANTIDADES_TI!$F$78 -> 17512.647 | N12: =[4]QUANTIDADES_REC!$F$123+[4]QUANTIDADES_TI!$F$79 -> 9557.6367
A13: 12 | B13: =$B$2 -> CMG-120 | C13: Direita | D13: Crescente | E13: 573015.02 | F13: 573083.08 | G13: Meio fio e sarjeta de concreto | H13: 0.21 | I13: 68.05785 | L13: LMG-813 | M13: =[5]QUANTIDADES_REC!$F$122+[5]QUANTIDADES_TI!$F$78 -> 9925.2147 | N13: =[5]QUANTIDADES_REC!$F$123+[5]QUANTIDADES_TI!$F$79 -> 1545.5502
A14: 13 | B14: =$B$2 -> CMG-120 | C14: Direita | D14: Crescente | E14: 573091.2 | F14: 573106.34 | G14: Meio fio e sarjeta de concreto | H14: 0.21 | I14: 15.140782 | L14: MG-329 | M14: =[6]QUANTIDADES_REC!$F$122+[6]QUANTIDADES_TI!$F$78 -> 10847.682 | N14: =[6]QUANTIDADES_REC!$F$123+[6]QUANTIDADES_TI!$F$79 -> 4153.9994
A15: 14 | B15: =$B$2 -> CMG-120 | C15: Direita | D15: Crescente | E15: 573121.01 | F15: 573144.36 | G15: Meio fio e sarjeta de concreto | H15: 0.21 | I15: 23.3513 | L15: MG-262 | M15: =[7]QUANTIDADES_REC!$F$122+[7]QUANTIDADES_TI!$F$78 -> 15852.147 | N15: =[7]QUANTIDADES_REC!$F$123+[7]QUANTIDADES_TI!$F$79 -> 17058.825
A16: 15 | B16: =$B$2 -> CMG-120 | C16: Direita | D16: Crescente | E16: 573261.68 | F16: 573334.84 | G16: Meio fio e sarjeta de concreto | H16: 0.21 | I16: 73.156259
A17: 16 | B17: =$B$2 -> CMG-120 | C17: Direita | D17: Crescente | E17: 573334.84 | F17: 573436.39 | G17: Meio fio e sarjeta de concreto | H17: 0.21 | I17: 101.55241
A18: 17 | B18: =$B$2 -> CMG-120 | C18: Direita | D18: Crescente | E18: 573443.88 | F18: 573467.45 | G18: Meio fio e sarjeta de concreto | H18: 0.21 | I18: 23.567684
A19: 18 | B19: =$B$2 -> CMG-120 | C19: Direita | D19: Crescente | E19: 573491.89 | F19: 573574.52 | G19: Meio fio e sarjeta de concreto | H19: 0.21 | I19: 82.63074
A20: 19 | B20: =$B$2 -> CMG-120 | C20: Direita | D20: Crescente | E20: 573594.41 | F20: 573738.01 | G20: Meio fio e sarjeta de concreto | H20: 0.21 | I20: 143.60093
A21: 20 | B21: =$B$2 -> CMG-120 | C21: Direita | D21: Crescente | E21: 573784.45 | F21: 573791.4 | G21: Meio fio e sarjeta de concreto | H21: 0.21 | I21: 6.9509134
A22: 21 | B22: =$B$2 -> CMG-120 | C22: Direita | D22: Crescente | E22: 573806.63 | F22: 573837.06 | G22: Meio fio e sarjeta de concreto | H22: 0.21 | I22: 30.428935
A23: 22 | B23: =$B$2 -> CMG-120 | C23: Direita | D23: Crescente | E23: 573845.29 | F23: 574248.37 | G23: Meio fio e sarjeta de concreto | H23: 0.21 | I23: 403.08147
A24: 23 | B24: =$B$2 -> CMG-120 | C24: Direita | D24: Crescente | E24: 574273.32 | F24: 574474.04 | G24: Meio fio e sarjeta de concreto | H24: 0.21 | I24: 200.7264
A25: 24 | B25: =$B$2 -> CMG-120 | C25: Direita | D25: Crescente | E25: 574507.6 | F25: 574546.7 | G25: DR-1B | H25: 0.114 | I25: 39.103177
A26: 25 | B26: =$B$2 -> CMG-120 | C26: Direita | D26: Crescente | E26: 574624.41 | F26: 574652.23 | G26: DR-6 | H26: 0.102 | I26: 27.816319
A27: 26 | B27: =$B$2 -> CMG-120 | C27: Direita | D27: Crescente | E27: 574734.71 | F27: 574996.23 | G27: DR-6 | H27: 0.102 | I27: 261.51464
... A205: 204 | B205: =$B$2 -> CMG-120 | C205: Direita | D205: Decrescente | E205: 569816.9 | F205: 569672.68 | G205: DR-1B | H205: 0.114 | I205: 144.22077
A206: 1 | B206: BR-356 | C206: Direita | D206: Crescente | E206: 30416.202 | F206: 31137.65 | G206: DR-1B | H206: 0.114 | I206: 721.44831
A207: 2 | B207: BR-356 | C207: Direita | D207: Crescente | E207: 31554.887 | F207: 32315.305 | G207: DR-1B | H207: 0.114 | I207: 760.41763
A208: 3 | B208: BR-356 | C208: Direita | D208: Crescente | E208: 32551.695 | F208: 33028.244 | G208: DR-6 | H208: 0.102 | I208: 476.54902
A209: 4 | B209: BR-356 | C209: Direita | D209: Crescente | E209: 33160.973 | F209: 33833.946 | G209: DR-1B | H209: 0.114 | I209: 672.97346
A210: 5 | B210: BR-356 | C210: Direita | D210: Crescente | E210: 34091.351 | F210: 34616.257 | G210: DR-1B | H210: 0.114 | I210: 524.90539
A211: 6 | B211: BR-356 | C211: Direita | D211: Crescente | E211: 34974.716 | F211: 36295.714 | G211: DR-1B | H211: 0.114 | I211: 1320.9974
A212: 7 | B212: BR-356 | C212: Direita | D212: Crescente | E212: 36663.234 | F212: 38014.186 | G212: DR-1B | H212: 0.114 | I212: 1350.9513
A213: 8 | B213: BR-356 | C213: Direita | D213: Crescente | E213: 38050.251 | F213: 39832.471 | G213: DR-6 | H213: 0.102 | I213: 1782.2198
A214: 9 | B214: BR-356 | C214: Direita | D214: Crescente | E214: 40036.213 | F214: 40419.909 | G214: DR-6 | H214: 0.102 | I214: 383.69677
A215: 10 | B215: BR-356 | C215: Direita | D215: Crescente | E215: 40774.659 | F215: 40847.395 | G215: DR-6 | H215: 0.102 | I215: 72.735584
A216: 11 | B216: BR-356 | C216: Direita | D216: Crescente | E216: 40920.353 | F216: 43163.864 | G216: DR-6 | H216: 0.102 | I216: 2243.5112
A217: 12 | B217: BR-356 | C217: Direita | D217: Crescente | E217: 43427.009 | F217: 43553.46 | G217: DR-6 | H217: 0.102 | I217: 126.45058
...

Sheet Cadastro SV
A1: ID | B1: VIA | C1: Lado | D1: SENTIDO | E1: KM | F1: TIPO | G1: SUBTIPO | H1: CONSERVAÇÃO PLACA | I1: Nº DE SUPORTES | J1: TIPO DE SUPORTE | K1: LARGURA | L1: ALTURA | M1: DIAMETRO | N1: ÁREA
S2: SINALIZAÇÃO VERTICAL | V2: TOTAL | Y2: Área/m² | Z2: SINALIZAÇÃO VERTICAL | AB2: Placa | AC2: TOTAL | AE2: Área/m² | AF2: SINALIZAÇÃO VERTICAL | AH2: Placa | AI2: TOTAL
S3: Bom | T3: Regular | U3: Ruim | Z3: Bom | AA3: Regular | AB3: Ruim | AF3: Bom | AG3: Regular | AH3: Ruim
A4: 1 | B4: CMG-120 | C4: Direita | D4: Crescente | E4: 570708.1 | F4: Advertencia | G4: A-18 | H4: Bom | I4: 1 | J4: Perfil Metalico (I/C) | K4: 1 | L4: 1 | M4: - | N4: =IF(M4="",K4*L4,IF(G4="R-1",K4*L4,IF(LEFT(G4,1)="R",PI()*((M4^2)/4),K4*L4))) -> 1 | R4: Qtd | S4: =COUNTIF($H:$H,S3) -> 3816 | T4: =COUNTIF($H:$H,T3) -> 99 | U4: =COUNTIF($H:$H,U3) -> 44 | V4: =+U4+T4+S4 -> 3959 | Y4: Advertencia | Z4: =SUMIFS($N:$N,$F:$F,$Y4,$H:$H,Z$3) -> 1528.4875 | AA4: =SUMIFS($N:$N,$F:$F,$Y4,$H:$H,AA$3) -> 39.07 | AB4: =SUMIFS($N:$N,$F:$F,$Y4,$H:$H,AB$3) -> 20.35 | AC4: =SUM(Z4:AB4) -> 1587.9075 | AD4: x | AE4: R-1 | AF4: =SUMIFS($N:$N,$G:$G,$AE4,$H:$H,Z$3) -> 12.935 | AG4: =SUMIFS($N:$N,$G:$G,$AE4,$H:$H,AA$3) -> 0.64 | AH4: =SUMIFS($N:$N,$G:$G,$AE4,$H:$H,AB$3) -> 0 | AI4: =SUM(AF4:AH4) -> 13.575
A5: 2 | B5: CMG-120 | C5: Direita | D5: Crescente | E5: 570841.7 | F5: Advertencia | G5: A-18 | H5: Bom | I5: 1 | J5: Perfil Metalico (I/C) | K5: 1 | L5: 1 | M5: - | N5: =IF(M5="",K5*L5,IF(G5="R-1",K5*L5,IF(LEFT(G5,1)="R",PI()*((M5^2)/4),K5*L5))) -> 1 | R5: Área | S5: =SUMIF($H:$H,S3,$N:$N) -> 4744.2028 | T5: =SUMIF($H:$H,T3,$N:$N) -> 109.84518 | U5: =SUMIF($H:$H,U3,$N:$N) -> 87.735398 | V5: =+U5+T5+S5 -> 4941.7833 | Y5: Apoio Operacional | Z5: =SUMIFS($N:$N,$F:$F,$Y5,$H:$H,Z$3) -> 139.86 | AA5: =SUMIFS($N:$N,$F:$F,$Y5,$H:$H,AA$3) -> 0 | AB5: =SUMIFS($N:$N,$F:$F,$Y5,$H:$H,AB$3) -> 20 | AC5: =SUM(Z5:AB5) -> 159.86 | AD5: x | AE5: R-2 | AF5: =SUMIFS($N:$N,$G:$G,$AE5,$H:$H,Z$3) -> 10.406526 | AG5: =SUMIFS($N:$N,$G:$G,$AE5,$H:$H,AA$3) -> 0 | AH5: =SUMIFS($N:$N,$G:$G,$AE5,$H:$H,AB$3) -> 0 | AI5: =SUM(AF5:AH5) -> 10.406526
A6: 3 | B6: CMG-120 | C6: Esquerda | D6: Crescente | E6: 570862.96 | F6: Regulamentacao | G6: R-1 | H6: Bom | I6: 1 | J6: Perfil Metalico (I/C) | K6: 0.75 | L6: 0.75 | M6: - | N6: =IF(M6="",K6*L6,IF(G6="R-1",K6*L6,IF(LEFT(G6,1)="R",PI()*((M6^2)/4),K6*L6))) -> 0.5625 | Y6: Dispositivos Auxiliares | Z6: =SUMIFS($N:$N,$F:$F,$Y6,$H:$H,Z$3) -> 388.9854 | AA6: =SUMIFS($N:$N,$F:$F,$Y6,$H:$H,AA$3) -> 9.1 | AB6: =SUMIFS($N:$N,$F:$F,$Y6,$H:$H,AB$3) -> 2.4 | AC6: =SUM(Z6:AB6) -> 400.4854 | AD6: x
A7: 4 | B7: CMG-120 | C7: Direita | D7: Crescente | E7: 571692.68 | F7: Regulamentacao | G7: R-19 | H7: Bom | I7: 1 | J7: Fixada na estrutura | K7: - | L7: - | M7: 0.5 | N7: =IF(M7="",K7*L7,IF(G7="R-1",K7*L7,IF(LEFT(G7,1)="R",PI()*((M7^2)/4),K7*L7))) -> 0.19634954 | Y7: Educativos | Z7: =SUMIFS($N:$N,$F:$F,$Y7,$H:$H,Z$3) -> 253.5 | AA7: =SUMIFS($N:$N,$F:$F,$Y7,$H:$H,AA$3) -> 4 | AB7: =SUMIFS($N:$N,$F:$F,$Y7,$H:$H,AB$3) -> 11.6 | AC7: =SUM(Z7:AB7) -> 269.1
A8: 5 | B8: CMG-120 | C8: Direita | D8: Crescente | E8: 571847.03 | F8: Regulamentacao | G8: R-19 | H8: Regular | I8: 1 | J8: Fixada na estrutura | K8: - | L8: - | M8: 0.5 | N8: =IF(M8="",K8*L8,IF(G8="R-1",K8*L8,IF(LEFT(G8,1)="R",PI()*((M8^2)/4),K8*L8))) -> 0.19634954 | R8: Tronco/m² | S8: Sinalização Vertical Qtd | V8: TOTAL | Y8: Indicativa Regulamentacao | Z8: =SUMIFS($N:$N,$F:$F,$Y8,$H:$H,Z$3) -> 153.55 | AA8: =SUMIFS($N:$N,$F:$F,$Y8,$H:$H,AA$3) -> 0.375 | AB8: =SUMIFS($N:$N,$F:$F,$Y8,$H:$H,AB$3) -> 7.2 | AC8: =SUM(Z8:AB8) -> 161.125
A9: 6 | B9: CMG-120 | C9: Direita | D9: Crescente | E9: 571960.98 | F9: Regulamentacao | G9: R-6a | H9: Regular | I9: 1 | J9: Fixada na estrutura | K9: - | L9: - | M9: 0.5 | N9: =IF(M9="",K9*L9,IF(G9="R-1",K9*L9,IF(LEFT(G9,1)="R",PI()*((M9^2)/4),K9*L9))) -> 0.19634954 | S9: Bom | T9: Regular | U9: Ruim | Y9: Marco Quilométrico | Z9: =SUMIFS($N:$N,$F:$F,$Y9,$H:$H,Z$3) -> 119.88 | AA9: =SUMIFS($N:$N,$F:$F,$Y9,$H:$H,AA$3) -> 0.8 | AB9: =SUMIFS($N:$N,$F:$F,$Y9,$H:$H,AB$3) -> 1.85 | AC9: =SUM(Z9:AB9) -> 122.53 | AD9: x
A10: 7 | B10: CMG-120 | C10: Direita | D10: Crescente | E10: 571993.29 | F10: Regulamentacao | G10: R-6a | H10: Bom | I10: 1 | J10: Fixada na estrutura | K10: - | L10: - | M10: 0.5 | N10: =IF(M10="",K10*L10,IF(G10="R-1",K10*L10,IF(LEFT(G10,1)="R",PI()*((M10^2)/4),K10*L10))) -> 0.19634954 | R10: Marco Quilométrico | S10: =Z9 -> 119.88 | T10: =AA9 -> 0.8 | U10: =AB9 -> 1.85 | V10: =SUM(S10:U10) -> 122.53 | Y10: Marcador de Perigo | Z10: =SUMIFS($N:$N,$F:$F,$Y10,$H:$H,Z$3) -> 14.16 | AA10: =SUMIFS($N:$N,$F:$F,$Y10,$H:$H,AA$3) -> 0 | AB10: =SUMIFS($N:$N,$F:$F,$Y10,$H:$H,AB$3) -> 0 | AC10: =SUM(Z10:AB10) -> 14.16 | AD10: x
A11: 8 | B11: CMG-120 | C11: Direita | D11: Crescente | E11: 572019.57 | F11: Regulamentacao | G11: R-6a | H11: Bom | I11: 1 | J11: Fixada na estrutura | K11: - | L11: - | M11: 0.5 | N11: =IF(M11="",K11*L11,IF(G11="R-1",K11*L11,IF(LEFT(G11,1)="R",PI()*((M11^2)/4),K11*L11))) -> 0.19634954 | R11: Regulamentação | S11: =Z8+Z11 -> 644.93986 | T11: =AA8+AA11 -> 11.475176 | U11: =AB8+AB11 -> 8.2353982 | V11: =SUM(S11:U11) -> 664.65043 | Y11: Regulamentacao | Z11: =SUMIFS($N:$N,$F:$F,$Y11,$H:$H,Z$3) -> 491.38986 | AA11: =SUMIFS($N:$N,$F:$F,$Y11,$H:$H,AA$3) -> 11.100176 | AB11: =SUMIFS($N:$N,$F:$F,$Y11,$H:$H,AB$3) -> 1.0353982 | AC11: =SUM(Z11:AB11) -> 503.52543 | AD11: x
A12: 9 | B12: CMG-120 | C12: Direita | D12: Crescente | E12: 572045 | F12: Regulamentacao | G12: R-6a | H12: Bom | I12: 1 | J12: Fixada na estrutura | K12: - | L12: - | M12: 0.5 | N12: =IF(M12="",K12*L12,IF(G12="R-1",K12*L12,IF(LEFT(G12,1)="R",PI()*((M12^2)/4),K12*L12))) -> 0.19634954 | R12: Educativa | S12: =Z5+Z7+Z12+Z13+Z14+Z15 -> 2027.25 | T12: =AA5+AA7+AA12+AA13+AA14+AA15 -> 49.4 | U12: =AB5+AB7+AB12+AB13+AB14+AB15 -> 54.9 | V12: =SUM(S12:U12) -> 2131.55 | Y12: Servicos Auxiliares | Z12: =SUMIFS($N:$N,$F:$F,$Y12,$H:$H,Z$3) -> 129.69 | AA12: =SUMIFS($N:$N,$F:$F,$Y12,$H:$H,AA$3) -> 3.9 | AB12: =SUMIFS($N:$N,$F:$F,$Y12,$H:$H,AB$3) -> 0 | AC12: =SUM(Z12:AB12) -> 133.59
A13: 10 | B13: CMG-120 | C13: Direita | D13: Crescente | E13: 572075.45 | F13: Regulamentacao | G13: R-6a | H13: Bom | I13: 1 | J13: Fixada na estrutura | K13: - | L13: - | M13: 0.5 | N13: =IF(M13="",K13*L13,IF(G13="R-1",K13*L13,IF(LEFT(G13,1)="R",PI()*((M13^2)/4),K13*L13))) -> 0.19634954 | R13: Marcador de Perigo + Auxiliares | S13: =Z10+Z6 -> 403.1454 | T13: =AA10+AA6 -> 9.1 | U13: =AB10+AB6 -> 2.4 | V13: =SUM(S13:U13) -> 414.6454 | Y13: Sinalizacao de Identificacao | Z13: =SUMIFS($N:$N,$F:$F,$Y13,$H:$H,Z$3) -> 190.3 | AA13: =SUMIFS($N:$N,$F:$F,$Y13,$H:$H,AA$3) -> 0 | AB13: =SUMIFS($N:$N,$F:$F,$Y13,$H:$H,AB$3) -> 0 | AC13: =SUM(Z13:AB13) -> 190.3
A14: 11 | B14: CMG-120 | C14: Direita | D14: Crescente | E14: 572105.87 | F14: Regulamentacao | G14: R-6a | H14: Bom | I14: 1 | J14: Fixada na estrutura | K14: - | L14: - | M14: 0.5 | N14: =IF(M14="",K14*L14,IF(G14="R-1",K14*L14,IF(LEFT(G14,1)="R",PI()*((M14^2)/4),K14*L14))) -> 0.19634954 | R14: Advertencia | S14: =Z4 -> 1528.4875 | T14: =AA4 -> 39.07 | U14: =AB4 -> 20.35 | V14: =SUM(S14:U14) -> 1587.9075 | Y14: Sinalizacao de Localizacao | Z14: =SUMIFS($N:$N,$F:$F,$Y14,$H:$H,Z$3) -> 269.4 | AA14: =SUMIFS($N:$N,$F:$F,$Y14,$H:$H,AA$3) -> 0 | AB14: =SUMIFS($N:$N,$F:$F,$Y14,$H:$H,AB$3) -> 0 | AC14: =SUM(Z14:AB14) -> 269.4
A15: 12 | B15: CMG-120 | C15: Direita | D15: Crescente | E15: 572129.27 | F15: Regulamentacao | G15: R-6a | H15: Bom | I15: 1 | J15: Fixada na estrutura | K15: - | L15: - | M15: 0.5 | N15: =IF(M15="",K15*L15,IF(G15="R-1",K15*L15,IF(LEFT(G15,1)="R",PI()*((M15^2)/4),K15*L15))) -> 0.19634954 | R15: Soma | S15: =SUM(S10:S14) -> 4723.7028 | T15: =SUM(T10:T14) -> 109.84518 | U15: =SUM(U10:U14) -> 87.735398 | V15: =SUM(S15:U15) -> 4921.2833 | Y15: Sinalizacao de Orientacao | Z15: =SUMIFS($N:$N,$F:$F,$Y15,$H:$H,Z$3) -> 1044.5 | AA15: =SUMIFS($N:$N,$F:$F,$Y15,$H:$H,AA$3) -> 41.5 | AB15: =SUMIFS($N:$N,$F:$F,$Y15,$H:$H,AB$3) -> 23.3 | AC15: =SUM(Z15:AB15) -> 1109.3
A16: 13 | B16: CMG-120 | C16: Direita | D16: Crescente | E16: 572181.64 | F16: Regulamentacao | G16: R-6a | H16: Regular | I16: 1 | J16: Fixada na estrutura | K16: - | L16: - | M16: 0.5 | N16: =IF(M16="",K16*L16,IF(G16="R-1",K16*L16,IF(LEFT(G16,1)="R",PI()*((M16^2)/4),K16*L16))) -> 0.19634954
A17: 14 | B17: CMG-120 | C17: Direita | D17: Crescente | E17: 572219.59 | F17: Regulamentacao | G17: R-6c | H17: Bom | I17: 1 | J17: Perfil Metalico (I/C) | K17: - | L17: - | M17: 0.5 | N17: =IF(M17="",K17*L17,IF(G17="R-1",K17*L17,IF(LEFT(G17,1)="R",PI()*((M17^2)/4),K17*L17))) -> 0.19634954
A18: 15 | B18: CMG-120 | C18: Esquerda | D18: Crescente | E18: 572219.59 | F18: Regulamentacao | G18: R-4a | H18: Bom | I18: 1 | J18: Perfil Metalico (I/C) | K18: - | L18: - | M18: 0.5 | N18: =IF(M18="",K18*L18,IF(G18="R-1",K18*L18,IF(LEFT(G18,1)="R",PI()*((M18^2)/4),K18*L18))) -> 0.19634954 | AC18: =SUM(AC4:AC15) -> 4921.2833
A19: 16 | B19: CMG-120 | C19: Direita | D19: Crescente | E19: 572229.8 | F19: Regulamentacao | G19: R-6c | H19: Bom | I19: 1 | J19: Perfil Metalico (I/C) | K19: - | L19: - | M19: 0.5 | N19: =IF(M19="",K19*L19,IF(G19="R-1",K19*L19,IF(LEFT(G19,1)="R",PI()*((M19^2)/4),K19*L19))) -> 0.19634954
A20: 17 | B20: CMG-120 | C20: Direita | D20: Crescente | E20: 572240.05 | F20: Regulamentacao | G20: R-6b | H20: Bom | I20: 1 | J20: Perfil Metalico (I/C) | K20: - | L20: - | M20: 0.5 | N20: =IF(M20="",K20*L20,IF(G20="R-1",K20*L20,IF(LEFT(G20,1)="R",PI()*((M20^2)/4),K20*L20))) -> 0.19634954
A21: 18 | B21: CMG-120 | C21: Direita | D21: Crescente | E21: 572254.23 | F21: Servicos Auxiliares | G21: IE | H21: Bom | I21: 1 | J21: Perfil Metalico (I/C) | K21: 0.5 | L21: 0.5 | M21: - | N21: =IF(M21="",K21*L21,IF(G21="R-1",K21*L21,IF(LEFT(G21,1)="R",PI()*((M21^2)/4),K21*L21))) -> 0.25 | Y21: Quantidade/Unidade | Z21: SINALIZAÇÃO VERTICAL | AB21: Placa | AC21: TOTAL
A22: 19 | B22: CMG-120 | C22: Direita | D22: Crescente | E22: 572264.49 | F22: Servicos Auxiliares | G22: S | H22: Bom | I22: 1 | J22: Perfil Metalico (I/C) | K22: 0.5 | L22: 0.5 | M22: - | N22: =IF(M22="",K22*L22,IF(G22="R-1",K22*L22,IF(LEFT(G22,1)="R",PI()*((M22^2)/4),K22*L22))) -> 0.25 | Z22: Bom | AA22: Regular | AB22: Ruim
A23: 20 | B23: CMG-120 | C23: Direita | D23: Crescente | E23: 572264.49 | F23: Regulamentacao | G23: R-6a | H23: Bom | I23: 1 | J23: Perfil Metalico (I/C) | K23: - | L23: - | M23: 0.5 | N23: =IF(M23="",K23*L23,IF(G23="R-1",K23*L23,IF(LEFT(G23,1)="R",PI()*((M23^2)/4),K23*L23))) -> 0.19634954 | Y23: Advertencia | Z23: =COUNTIFS($F:$F,$Y23,$H:$H,Z$22) -> 1100 | AA23: =COUNTIFS($F:$F,$Y23,$H:$H,AA$22) -> 32 | AB23: =COUNTIFS($F:$F,$Y23,$H:$H,AB$22) -> 16 | AC23: =SUM(Z23:AB23) -> 1148
A24: 21 | B24: CMG-120 | C24: Direita | D24: Crescente | E24: 572278.67 | F24: Regulamentacao | G24: R-6a | H24: Regular | I24: 1 | J24: Fixada na estrutura | K24: - | L24: - | M24: 0.75 | N24: =IF(M24="",K24*L24,IF(G24="R-1",K24*L24,IF(LEFT(G24,1)="R",PI()*((M24^2)/4),K24*L24))) -> 0.44178647 | Y24: Apoio Operacional | Z24: =COUNTIFS($F:$F,$Y24,$H:$H,Z$22) -> 26 | AA24: =COUNTIFS($F:$F,$Y24,$H:$H,AA$22) -> 0 | AB24: =COUNTIFS($F:$F,$Y24,$H:$H,AB$22) -> 1 | AC24: =SUM(Z24:AB24) -> 27
A25: 22 | B25: CMG-120 | C25: Direita | D25: Crescente | E25: 572303.13 | F25: Regulamentacao | G25: R-6b | H25: Bom | I25: 1 | J25: Perfil Metalico (I/C) | K25: - | L25: - | M25: 0.75 | N25: =IF(M25="",K25*L25,IF(G25="R-1",K25*L25,IF(LEFT(G25,1)="R",PI()*((M25^2)/4),K25*L25))) -> 0.44178647 | Y25: Dispositivos Auxiliares | Z25: =COUNTIFS($F:$F,$Y25,$H:$H,Z$22) -> 1293 | AA25: =COUNTIFS($F:$F,$Y25,$H:$H,AA$22) -> 28 | AB25: =COUNTIFS($F:$F,$Y25,$H:$H,AB$22) -> 8 | AC25: =SUM(Z25:AB25) -> 1329
A26: 23 | B26: CMG-120 | C26: Direita | D26: Crescente | E26: 572313.41 | F26: Regulamentacao | G26: R-6a | H26: Bom | I26: 1 | J26: Fixada na estrutura | K26: - | L26: - | M26: 0.75 | N26: =IF(M26="",K26*L26,IF(G26="R-1",K26*L26,IF(LEFT(G26,1)="R",PI()*((M26^2)/4),K26*L26))) -> 0.44178647 | Y26: Educativos | Z26: =COUNTIFS($F:$F,$Y26,$H:$H,Z$22) -> 41 | AA26: =COUNTIFS($F:$F,$Y26,$H:$H,AA$22) -> 2 | AB26: =COUNTIFS($F:$F,$Y26,$H:$H,AB$22) -> 3 | AC26: =SUM(Z26:AB26) -> 46
A27: 24 | B27: CMG-120 | C27: Direita | D27: Crescente | E27: 572326.96 | F27: Regulamentacao | G27: R-4a | H27: Bom | I27: 1 | J27: Fixada na estrutura | K27: - | L27: - | M27: 0.5 | N27: =IF(M27="",K27*L27,IF(G27="R-1",K27*L27,IF(LEFT(G27,1)="R",PI()*((M27^2)/4),K27*L27))) -> 0.19634954 | Y27: Indicativa Regulamentacao | Z27: =COUNTIFS($F:$F,$Y27,$H:$H,Z$22) -> 61 | AA27: =COUNTIFS($F:$F,$Y27,$H:$H,AA$22) -> 1 | AB27: =COUNTIFS($F:$F,$Y27,$H:$H,AB$22) -> 2 | AC27: =SUM(Z27:AB27) -> 64
A28: 25 | B28: CMG-120 | C28: Direita | D28: Crescente | E28: 572326.96 | F28: Regulamentacao | G28: R-6a | H28: Bom | I28: 1 | J28: Fixada na estrutura | K28: - | L28: - | M28: 0.5 | N28: =IF(M28="",K28*L28,IF(G28="R-1",K28*L28,IF(LEFT(G28,1)="R",PI()*((M28^2)/4),K28*L28))) -> 0.19634954 | Y28: Marco Quilométrico | Z28: =COUNTIFS($F:$F,$Y28,$H:$H,Z$22) -> 145 | AA28: =COUNTIFS($F:$F,$Y28,$H:$H,AA$22) -> 2 | AB28: =COUNTIFS($F:$F,$Y28,$H:$H,AB$22) -> 5 | AC28: =SUM(Z28:AB28) -> 152
A29: 26 | B29: CMG-120 | C29: Esquerda | D29: Crescente | E29: 572326.96 | F29: Regulamentacao | G29: R-3 | H29: Bom | I29: 1 | J29: Perfil Metalico (I/C) | K29: - | L29: - | M29: 0.5 | N29: =IF(M29="",K29*L29,IF(G29="R-1",K29*L29,IF(LEFT(G29,1)="R",PI()*((M29^2)/4),K29*L29))) -> 0.19634954 | Y29: Marcador de Perigo | Z29: =COUNTIFS($F:$F,$Y29,$H:$H,Z$22) -> 53 | AA29: =COUNTIFS($F:$F,$Y29,$H:$H,AA$22) -> 0 | AB29: =COUNTIFS($F:$F,$Y29,$H:$H,AB$22) -> 0 | AC29: =SUM(Z29:AB29) -> 53
A30: 27 | B30: CMG-120 | C30: Direita | D30: Crescente | E30: 572347.69 | F30: Regulamentacao | G30: R-6a | H30: Bom | I30: 1 | J30: Fixada na estrutura | K30: - | L30: - | M30: 0.5 | N30: =IF(M30="",K30*L30,IF(G30="R-1",K30*L30,IF(LEFT(G30,1)="R",PI()*((M30^2)/4),K30*L30))) -> 0.19634954 | Y30: Regulamentacao | Z30: =COUNTIFS($F:$F,$Y30,$H:$H,Z$22) -> 715 | AA30: =COUNTIFS($F:$F,$Y30,$H:$H,AA$22) -> 22 | AB30: =COUNTIFS($F:$F,$Y30,$H:$H,AB$22) -> 2 | AC30: =SUM(Z30:AB30) -> 739
A31: 28 | B31: CMG-120 | C31: Direita | D31: Crescente | E31: 572369.46 | F31: Regulamentacao | G31: R-6a | H31: Bom | I31: 1 | J31: Fixada na estrutura | K31: - | L31: - | M31: 0.5 | N31: =IF(M31="",K31*L31,IF(G31="R-1",K31*L31,IF(LEFT(G31,1)="R",PI()*((M31^2)/4),K31*L31))) -> 0.19634954 | Y31: Servicos Auxiliares | Z31: =COUNTIFS($F:$F,$Y31,$H:$H,Z$22) -> 85 | AA31: =COUNTIFS($F:$F,$Y31,$H:$H,AA$22) -> 4 | AB31: =COUNTIFS($F:$F,$Y31,$H:$H,AB$22) -> 0 | AC31: =SUM(Z31:AB31) -> 89
A32: 29 | B32: CMG-120 | C32: Esquerda | D32: Crescente | E32: 572393.1 | F32: Regulamentacao | G32: R-24a | H32: Bom | I32: 1 | J32: Perfil Metalico (I/C) | K32: - | L32: - | M32: 0.5 | N32: =IF(M32="",K32*L32,IF(G32="R-1",K32*L32,IF(LEFT(G32,1)="R",PI()*((M32^2)/4),K32*L32))) -> 0.19634954 | Y32: Sinalizacao de Identificacao | Z32: =COUNTIFS($F:$F,$Y32,$H:$H,Z$22) -> 47 | AA32: =COUNTIFS($F:$F,$Y32,$H:$H,AA$22) -> 0 | AB32: =COUNTIFS($F:$F,$Y32,$H:$H,AB$22) -> 0 | AC32: =SUM(Z32:AB32) -> 47
A33: 30 | B33: CMG-120 | C33: Esquerda | D33: Crescente | E33: 572393.1 | F33: Regulamentacao | G33: R-6c | H33: Bom | I33: 1 | J33: Perfil Metalico (I/C) | K33: - | L33: - | M33: 0.5 | N33: =IF(M33="",K33*L33,IF(G33="R-1",K33*L33,IF(LEFT(G33,1)="R",PI()*((M33^2)/4),K33*L33))) -> 0.19634954 | Y33: Sinalizacao de Localizacao | Z33: =COUNTIFS($F:$F,$Y33,$H:$H,Z$22) -> 55 | AA33: =COUNTIFS($F:$F,$Y33,$H:$H,AA$22) -> 0 | AB33: =COUNTIFS($F:$F,$Y33,$H:$H,AB$22) -> 0 | AC33: =SUM(Z33:AB33) -> 55
A34: 31 | B34: CMG-120 | C34: Direita | D34: Crescente | E34: 572404.04 | F34: Regulamentacao | G34: R-6a | H34: Bom | I34: 1 | J34: Fixada na estrutura | K34: - | L34: - | M34: 0.5 | N34: =IF(M34="",K34*L34,IF(G34="R-1",K34*L34,IF(LEFT(G34,1)="R",PI()*((M34^2)/4),K34*L34))) -> 0.19634954 | Y34: Sinalizacao de Orientacao | Z34: =COUNTIFS($F:$F,$Y34,$H:$H,Z$22) -> 189 | AA34: =COUNTIFS($F:$F,$Y34,$H:$H,AA$22) -> 8 | AB34: =COUNTIFS($F:$F,$Y34,$H:$H,AB$22) -> 7 | AC34: =SUM(Z34:AB34) -> 204
A35: 32 | B35: CMG-120 | C35: Esquerda | D35: Crescente | E35: 572414.96 | F35: Regulamentacao | G35: R-6c | H35: Regular | I35: 1 | J35: Perfil Metalico (I/C) | K35: - | L35: - | M35: 0.5 | N35: =IF(M35="",K35*L35,IF(G35="R-1",K35*L35,IF(LEFT(G35,1)="R",PI()*((M35^2)/4),K35*L35))) -> 0.19634954 | AC35: =SUM(AC23:AC34) -> 3953
A36: 33 | B36: CMG-120 | C36: Direita | D36: Crescente | E36: 572425.22 | F36: Servicos Auxiliares | G36: S | H36: Bom | I36: 1 | J36: Fixada na estrutura | K36: 0.5 | L36: 0.5 | M36: - | N36: =IF(M36="",K36*L36,IF(G36="R-1",K36*L36,IF(LEFT(G36,1)="R",PI()*((M36^2)/4),K36*L36))) -> 0.25
A37: 34 | B37: CMG-120 | C37: Direita | D37: Crescente | E37: 572425.22 | F37: Regulamentacao | G37: R-6a | H37: Bom | I37: 1 | J37: Fixada na estrutura | K37: - | L37: - | M37: 0.75 | N37: =IF(M37="",K37*L37,IF(G37="R-1",K37*L37,IF(LEFT(G37,1)="R",PI()*((M37^2)/4),K37*L37))) -> 0.44178647
A38: 35 | B38: CMG-120 | C38: Direita | D38: Crescente | E38: 572439.62 | F38: Regulamentacao | G38: R-6a | H38: Bom | I38: 1 | J38: Fixada na estrutura | K38: - | L38: - | M38: 0.75 | N38: =IF(M38="",K38*L38,IF(G38="R-1",K38*L38,IF(LEFT(G38,1)="R",PI()*((M38^2)/4),K38*L38))) -> 0.44178647
A39: 36 | B39: CMG-120 | C39: Direita | D39: Crescente | E39: 572449.38 | F39: Regulamentacao | G39: R-6a | H39: Bom | I39: 1 | J39: Perfil Metalico (I/C) | K39: - | L39: - | M39: 0.5 | N39: =IF(M39="",K39*L39,IF(G39="R-1",K39*L39,IF(LEFT(G39,1)="R",PI()*((M39^2)/4),K39*L39))) -> 0.19634954
A40: 37 | B40: CMG-120 | C40: Esquerda | D40: Crescente | E40: 572464.06 | F40: Regulamentacao | G40: R-6c | H40: Bom | I40: 1 | J40: Perfil Metalico (I/C) | K40: - | L40: - | M40: 0.5 | N40: =IF(M40="",K40*L40,IF(G40="R-1",K40*L40,IF(LEFT(G40,1)="R",PI()*((M40^2)/4),K40*L40))) -> 0.19634954
...

Sheet Cadastro DS
A1: ID | B1: RODOVIA | C1: LADO | D1: SENTIDO | E1: KM_INICIO | F1: KM_FIM | G1: TIPO | H1: EXTENSÃO (m) | I1: CONSERVAÇÃO | J1: Terminal ou transição Início | K1: Terminal ou transição Fim | O1: Quantidade | P1: Dispositivo | Q1: Quantidade
A2: 1 | B2: CMG-120 | C2: Direita | D2: Crescente | E2: 569884.88 | F2: 569976.73 | G2: Guarda-corpo metalico | H2: 98.8184 | I2: Bom | J2: - | K2: - | O2: =COUNTIF(G:G,P2) -> 14 | P2: Guarda-corpo metalico | Q2: =SUMIFS($H:$H,$G:$G,$P2) -> 575.6682
A3: 2 | B3: CMG-120 | C3: Direita | D3: Crescente | E3: 570400.34 | F3: 570445.39 | G3: Defensa Metalica | H3: 51.8121 | I3: Bom | J3: Terminal Aereo | K3: Terminal Aereo | O3: =COUNTIF(G:G,P3) -> 193 | P3: Defensa Metalica | Q3: =SUMIFS($H:$H,$G:$G,$P3) -> 13459.79
A4: 3 | B4: CMG-120 | C4: Direita | D4: Crescente | E4: 573300.89 | F4: 573334.84 | G4: Guarda-corpo metalico | H4: 35.7196 | I4: Bom | J4: - | K4: - | O4: =COUNTIF(G:G,P4) -> 30 | P4: Guarda-corpo de concreto | Q4: =SUMIFS($H:$H,$G:$G,$P4) -> 1692.6556
A5: 4 | B5: CMG-120 | C5: Direita | D5: Crescente | E5: 573555.7 | F5: 573566.99 | G5: Guarda-corpo de concreto | H5: 11.5671 | I5: Bom | J5: - | K5: - | O5: =COUNTIF(G:G,P5) -> 15 | P5: Barreira de concreto | Q5: =SUMIFS($H:$H,$G:$G,$P5) -> 759.8366
A6: 5 | B6: CMG-120 | C6: Direita | D6: Crescente | E6: 576040.88 | F6: 576074.39 | G6: Defensa Metalica | H6: 35.4275 | I6: Bom | J6: Terminal Ancorado | K6: Transicao Tripla | P6: Total | Q6: =SUM(Q2:Q5) -> 16487.951
A7: 6 | B7: CMG-120 | C7: Direita | D7: Crescente | E7: 576074.39 | F7: 576132.36 | G7: Barreira de concreto | H7: 57.483 | I7: Bom | J7: - | K7: -
A8: 7 | B8: CMG-120 | C8: Direita | D8: Crescente | E8: 576132.36 | F8: 576156.69 | G8: Defensa Metalica | H8: 20.713 | I8: Bom | J8: Transicao Tripla | K8: Terminal Ancorado
A9: 8 | B9: CMG-120 | C9: Direita | D9: Crescente | E9: 579260.31 | F9: 579282.11 | G9: Defensa Metalica | H9: 31.3395 | I9: Bom | J9: Terminal Ancorado | K9: Transicao Tripla | P9: Dispositivo de Saída | Q9: Condição (und)
A10: 9 | B10: CMG-120 | C10: Direita | D10: Crescente | E10: 579296.35 | F10: 579331.14 | G10: Guarda-corpo de concreto | H10: 35.6902 | I10: Bom | J10: - | K10: - | Q10: Bom
A11: 10 | B11: CMG-120 | C11: Direita | D11: Crescente | E11: 579331.14 | F11: 579355.63 | G11: Defensa Metalica | H11: 22.1681 | I11: Bom | J11: Transicao Tripla | K11: Terminal Ancorado | P11: Terminal Aereo | Q11: =COUNTIFS($J:$J,$P11)+COUNTIFS($K:$K,$P11) -> 110
A12: 11 | B12: CMG-120 | C12: Direita | D12: Crescente | E12: 587613.86 | F12: 587657.92 | G12: Defensa Metalica | H12: 37.4902 | I12: Bom | J12: Terminal Aereo | K12: Terminal Aereo | P12: Transicao Tripla | Q12: =COUNTIFS($J:$J,$P12)+COUNTIFS($K:$K,$P12) -> 30
A13: 12 | B13: CMG-120 | C13: Direita | D13: Crescente | E13: 587657.92 | F13: 587668.93 | G13: Guarda-corpo de concreto | H13: 6.7154 | I13: Regular | J13: - | K13: - | P13: Terminal Ancorado | Q13: =COUNTIFS($J:$J,$P13)+COUNTIFS($K:$K,$P13) -> 200
A14: 13 | B14: CMG-120 | C14: Direita | D14: Crescente | E14: 587668.93 | F14: 587679.95 | G14: Defensa Metalica | H14: 16.1581 | I14: Bom | J14: Terminal Aereo | K14: Terminal Aereo | P14: Transicao Dupla | Q14: =COUNTIFS($J:$J,$P14)+COUNTIFS($K:$K,$P14) -> 25
A15: 14 | B15: CMG-120 | C15: Direita | D15: Crescente | E15: 587793.83 | F15: 587814.69 | G15: Defensa Metalica | H15: 19.0835 | I15: Bom | J15: Terminal Ancorado | K15: Terminal Ancorado | P15: Terminal Atenuador de Impacto | Q15: =COUNTIFS($J:$J,$P15)+COUNTIFS($K:$K,$P15) -> 13
A16: 15 | B16: CMG-120 | C16: Direita | D16: Crescente | E16: 590831.64 | F16: 590927.99 | G16: Defensa Metalica | H16: 95.152 | I16: Bom | J16: Terminal Aereo | K16: Terminal Ancorado | P16: Total | Q16: =SUM(Q11:Q15) -> 378
A17: 16 | B17: CMG-120 | C17: Direita | D17: Crescente | E17: 593656.86 | F17: 593804.83 | G17: Defensa Metalica | H17: 145.7366 | I17: Bom | J17: Terminal Aereo | K17: Terminal Ancorado
A18: 17 | B18: CMG-120 | C18: Direita | D18: Crescente | E18: 597877.53 | F18: 598009.76 | G18: Defensa Metalica | H18: 128.1641 | I18: Bom | J18: Terminal Aereo | K18: Terminal Ancorado
A19: 18 | B19: CMG-120 | C19: Direita | D19: Crescente | E19: 599015.66 | F19: 599045.83 | G19: Defensa Metalica | H19: 34.3471 | I19: Regular | J19: Terminal Ancorado | K19: Terminal Ancorado
A20: 19 | B20: CMG-120 | C20: Direita | D20: Crescente | E20: 599045.83 | F20: 599061 | G20: Guarda-corpo metalico | H20: 15.5827 | I20: Bom | J20: - | K20: -
A21: 20 | B21: CMG-120 | C21: Direita | D21: Crescente | E21: 599061 | F21: 599076.13 | G21: Defensa Metalica | H21: 12.6392 | I21: Regular | J21: Terminal Aereo | K21: Terminal Ancorado
A22: 21 | B22: CMG-120 | C22: Direita | D22: Crescente | E22: 603009.65 | F22: 603044.36 | G22: Defensa Metalica | H22: 33.9662 | I22: Bom | J22: Terminal Ancorado | K22: Transicao Tripla
A23: 22 | B23: CMG-120 | C23: Direita | D23: Crescente | E23: 603044.36 | F23: 603044.36 | G23: Guarda-corpo de concreto | H23: 5.8766 | I23: Bom | J23: - | K23: -
A24: 23 | B24: CMG-120 | C24: Direita | D24: Crescente | E24: 604110.86 | F24: 604150.12 | G24: Defensa Metalica | H24: 33.0658 | I24: Bom | J24: Terminal Ancorado | K24: Transicao Tripla
A25: 24 | B25: CMG-120 | C25: Direita | D25: Crescente | E25: 604150.12 | F25: 604174.5 | G25: Barreira de concreto | H25: 30.2403 | I25: Bom | J25: - | K25: -
A26: 25 | B26: CMG-120 | C26: Direita | D26: Crescente | E26: 604174.5 | F26: 604189.31 | G26: Defensa Metalica | H26: 9.4912 | I26: Bom | J26: Transicao Dupla | K26: Terminal Ancorado
A27: 26 | B27: CMG-120 | C27: Direita | D27: Crescente | E27: 606582.47 | F27: 606642.16 | G27: Defensa Metalica | H27: 53.315 | I27: Bom | J27: Terminal Aereo | K27: Terminal Ancorado
A28: 27 | B28: CMG-120 | C28: Direita | D28: Crescente | E28: 606651.96 | F28: 606682.52 | G28: Defensa Metalica | H28: 24.0398 | I28: Bom | J28: Terminal Ancorado | K28: Terminal Aereo
... A253: 57 | B253: MG-262 | C253: Direita | D253: Decrescente | E253: 4701.4526 | F253: 4691.2277 | G253: Defensa Metalica | H253: 11.0961 | I253: Bom | J253: Transicao Dupla | K253: Terminal Ancorado

Sheet Cadastro_Bueiro
A1: km Estaca | B1: Rodovia | C1: Tipo | D1: Dimensão (m) | E1: Comp (m) | F1: Entr. | G1: Saída | H1: Auxiliar | J1: Tipo | K1: Dimensão m | L1: Quantidade | M1: Extensão Total m | N1: Área m² | O1: Volume m³ | P1: Área de limpeza da Boca (m²)
A2: 600 | B2: MG-262 | C2: BSTC | D2: 0.6 | E2: 18 | F2: Caixa | G2: Boca | H2: 1 | J2: BSTC | K2: 0.4 | L2: =COUNTIFS(C:C,J2,D:D,K2) -> 76 | M2: =SUMIFS(E:E,C:C,J2,D:D,K2) -> 1298 | N2: =(PI()*0.4^2)/4 -> 0.12566371 | O2: =M2*N2 -> 163.11149 | P2: =(4*( ( (K2+0.4) *2) + (0.27*4) * 2 ))/2 -> 7.52
A3: 750 | B3: MG-262 | C3: BSTC | D3: 0.6 | E3: 18 | F3: Caixa | G3: Boca | H3: 1 | J3: BSTC | K3: 0.6 | L3: =COUNTIFS(C:C,J3,D:D,K3) -> 303 | M3: =SUMIFS(E:E,C:C,J3,D:D,K3) -> 6210.6 | N3: =(PI()*0.6^2)/4 -> 0.28274334 | O3: =M3*N3 -> 1756.0058 | P3: =(4*( ( (K3+0.4) *2) + (0.27*4) * 2 ))/2 -> 8.32
A4: 4950 | B4: MG-262 | C4: BSTC | D4: 0.6 | E4: 18 | F4: Caixa | G4: Boca | H4: 1 | J4: BSTC | K4: 0.8 | L4: =COUNTIFS(C:C,J4,D:D,K4) -> 205 | M4: =SUMIFS(E:E,C:C,J4,D:D,K4) -> 4737.5 | N4: =(PI()*0.8^2)/4 -> 0.50265482 | O4: =M4*N4 -> 2381.3272 | P4: =(4*( ( (K4+0.4) *2) + (0.27*4) * 2 ))/2 -> 9.12
A5: 5200 | B5: MG-262 | C5: BSTC | D5: 0.6 | E5: 18 | F5: Caixa | G5: Boca | H5: 1 | J5: BSTC | K5: 1 | L5: =COUNTIFS(C:C,J5,D:D,K5) -> 34 | M5: =SUMIFS(E:E,C:C,J5,D:D,K5) -> 1004 | N5: =(PI()*1^2)/4 -> 0.78539816 | O5: =M5*N5 -> 788.53976 | P5: =(4*( ( (K5+0.4) *2) + (0.27*4) * 2 ))/2 -> 9.92
A6: 8600 | B6: MG-262 | C6: BSTC | D6: 0.6 | E6: 18 | F6: Caixa | G6: Boca | H6: 1 | J6: BSTC | K6: 1.2 | L6: =COUNTIFS(C:C,J6,D:D,K6) -> 2 | M6: =SUMIFS(E:E,C:C,J6,D:D,K6) -> 50 | N6: =(PI()*1.2^2)/4 -> 1.1309734 | O6: =M6*N6 -> 56.548668 | P6: =(4*( ( (K6+0.4) *2) + (0.27*4) * 2 ))/2 -> 10.72
A7: 11800 | B7: MG-262 | C7: BSTC | D7: 0.6 | E7: 18 | F7: Caixa | G7: Boca | H7: 1 | J7: BDTC | K7: 0.8 | L7: =COUNTIFS(C:C,J7,D:D,K7) -> 9 | M7: =SUMIFS(E:E,C:C,J7,D:D,K7) -> 271 | N7: =((PI()*0.8^2)/4)*2 -> 1.0053096 | O7: =M7*N7 -> 272.43891 | P7: =((4*( ( (K7+0.4) *2) + (0.27*4) * 2 ))/2)*2+1 -> 19.24
A8: 14500 | B8: MG-262 | C8: BSTC | D8: 0.6 | E8: 18 | F8: Caixa | G8: Boca | H8: 1 | J8: BDTC | K8: 1 | L8: =COUNTIFS(C:C,J8,D:D,K8) -> 5 | M8: =SUMIFS(E:E,C:C,J8,D:D,K8) -> 140 | N8: =((PI()*1^2)/4)*2 -> 1.5707963 | O8: =M8*N8 -> 219.91149 | P8: =((4*( ( (K8+0.4) *2) + (0.27*4) * 2 ))/2)*2+1 -> 20.84 | Q8: =M8/L8 -> 28
A9: 15100 | B9: MG-262 | C9: BSTC | D9: 0.6 | E9: 100 | F9: Caixa | G9: Boca | H9: 1 | J9: BDTC | K9: 1.2 | L9: =COUNTIFS(C:C,J9,D:D,K9) -> 2 | M9: =SUMIFS(E:E,C:C,J9,D:D,K9) -> 47 | N9: =((PI()*1.2^2)/4)*2 -> 2.2619467 | O9: =M9*N9 -> 106.3115 | P9: =((4*( ( (K9+0.4) *2) + (0.27*4) * 2 ))/2)*2+1 -> 22.44 | Q9: =M9/L9 -> 23.5
A10: 15400 | B10: MG-262 | C10: BSTC | D10: 0.6 | E10: 28 | F10: Caixa | G10: Boca | H10: 1 | J10: BTTC | K10: 1 | L10: =COUNTIFS(C:C,J10,D:D,K10) -> 1 | M10: =SUMIFS(E:E,C:C,J10,D:D,K10) -> 30 | N10: =((PI()*1^2)/4)*3 -> 2.3561945 | O10: =M10*N10 -> 70.685835 | P10: =((4*( ( (K10+0.4) *2) + (0.27*4) * 2 ))/2)*3+1 -> 30.76 | Q10: =M10/L10 -> 30
A11: 16200 | B11: MG-262 | C11: BSTC | D11: 0.4 | E11: 28 | F11: Boca | G11: Boca | H11: 1 | J11: BTTM | K11: 2 | L11: =COUNTIFS(C:C,J11,D:D,K11) -> 1 | M11: =SUMIFS(E:E,C:C,J11,D:D,K11) -> 55 | N11: =((PI()*2^2)/4)*3 -> 9.424778 | O11: =M11*N11 -> 518.36279 | P11: =((4*( ( (K11+0.4) *2) + (0.27*4) * 2 ))/2)*3+1 -> 42.76 | Q11: =M11/L11 -> 55
A12: 17750 | B12: MG-262 | C12: BSTC | D12: 0.4 | E12: 30 | F12: Caixa | G12: Boca | H12: 1 | J12: BSCC | K12: 0,80X1,10 | L12: =COUNTIFS(C:C,J12,D:D,K12) -> 1 | M12: =SUMIFS(E:E,C:C,J12,D:D,K12) -> 61 | N12: =0.8*1.1 -> 0.88 | O12: =M12*N12 -> 53.68 | P12: =(4*( ( (1.1+0.4) *2) + (0.27*4) * 2 ))/2 -> 10.32 | Q12: =M12/L12 -> 61
A13: 17800 | B13: MG-262 | C13: BSTC | D13: 0.4 | E13: 18 | F13: Caixa | G13: Boca | H13: 1 | J13: BSCC | K13: 0,8x1,0 | L13: =COUNTIFS(C:C,J13,D:D,K13) -> 1 | M13: =SUMIFS(E:E,C:C,J13,D:D,K13) -> 78 | N13: =0.8*1 -> 0.8 | O13: =M13*N13 -> 62.4 | P13: =(4*( ( (1+0.4) *2) + (0.27*4) * 2 ))/2 -> 9.92 | Q13: =M13/L13 -> 78
A14: 18100 | B14: MG-262 | C14: BSTC | D14: 0.4 | E14: 30 | F14: Caixa | G14: Boca | H14: 1 | J14: BSCC | K14: 1,0X1,0 | L14: =COUNTIFS(C:C,J14,D:D,K14) -> 3 | M14: =SUMIFS(E:E,C:C,J14,D:D,K14) -> 118 | N14: 1 | O14: =M14*N14 -> 118 | P14: =(4*( ( (1+0.4) *2) + (0.27*4) * 2 ))/2 -> 9.92 | Q14: =M14/L14 -> 39.333333
A15: 19100 | B15: MG-262 | C15: BSTC | D15: 0.4 | E15: 30 | F15: Caixa | G15: Boca | H15: 1 | J15: BSCC | K15: 1,0x1,5 | L15: =COUNTIFS(C:C,J15,D:D,K15) -> 1 | M15: =SUMIFS(E:E,C:C,J15,D:D,K15) -> 53 | N15: 1.5 | O15: =M15*N15 -> 79.5 | P15: =(4*( ( (1.5+0.4) *2) + (0.27*4) * 2 ))/2 -> 11.92 | Q15: =M15/L15 -> 53
A16: 19200 | B16: MG-262 | C16: BSTC | D16: 0.4 | E16: 18 | F16: Caixa | G16: Boca | H16: 1 | J16: BSCC | K16: 1,5X1,0 | L16: =COUNTIFS(C:C,J16,D:D,K16) -> 2 | M16: =SUMIFS(E:E,C:C,J16,D:D,K16) -> 89 | N16: 1.5 | O16: =M16*N16 -> 133.5 | P16: =(4*( ( (1+0.4) *2) + (0.27*4) * 2 ))/2 -> 9.92 | Q16: =M16/L16 -> 44.5
A17: 21400 | B17: MG-262 | C17: BSTC | D17: 0.4 | E17: 12 | F17: Caixa | G17: Boca | H17: 1 | J17: BSCC | K17: 1,5X1,5 | L17: =COUNTIFS(C:C,J17,D:D,K17) -> 2 | M17: =SUMIFS(E:E,C:C,J17,D:D,K17) -> 38 | N17: =1.5*1.5 -> 2.25 | O17: =M17*N17 -> 85.5 | P17: =(4*( ( (1.5+0.4) *2) + (0.27*4) * 2 ))/2 -> 11.92 | Q17: =M17/L17 -> 19
A18: 21900 | B18: MG-262 | C18: BSTC | D18: 0.6 | E18: 12 | F18: Caixa | G18: Boca | H18: 1 | J18: BSCC | K18: 1,5X2,0 | L18: =COUNTIFS(C:C,J18,D:D,K18) -> 2 | M18: =SUMIFS(E:E,C:C,J18,D:D,K18) -> 86 | N18: 3 | O18: =M18*N18 -> 258 | P18: =(4*( ( (2+0.4) *2) + (0.27*4) * 2 ))/2 -> 13.92 | Q18: =M18/L18 -> 43
A19: 22200 | B19: MG-262 | C19: BSTC | D19: 0.4 | E19: 18 | F19: Caixa | G19: Boca | H19: 1 | J19: BSCC | K19: 1,50X1,70 | L19: =COUNTIFS(C:C,J19,D:D,K19) -> 1 | M19: =SUMIFS(E:E,C:C,J19,D:D,K19) -> 24 | N19: =1.5*1.7 -> 2.55 | O19: =M19*N19 -> 61.2 | P19: =(4*( ( (1.7+0.4) *2) + (0.27*4) * 2 ))/2 -> 12.72 | Q19: =M19/L19 -> 24
A20: 22350 | B20: MG-262 | C20: BSTC | D20: 0.4 | E20: 18 | F20: Boca | G20: Boca | H20: 1 | J20: BSCC | K20: 2,0X1,5 | L20: =COUNTIFS(C:C,J20,D:D,K20) -> 1 | M20: =SUMIFS(E:E,C:C,J20,D:D,K20) -> 27 | N20: =2*1.5 -> 3 | O20: =M20*N20 -> 81 | P20: =(4*( ( (1.5+0.4) *2) + (0.27*4) * 2 ))/2 -> 11.92 | Q20: =M20/L20 -> 27
A21: 22650 | B21: MG-262 | C21: BSTC | D21: 0.4 | E21: 30 | F21: Caixa | G21: Boca | H21: 1 | J21: BSCC | K21: 2,5X2,0 | L21: =COUNTIFS(C:C,J21,D:D,K21) -> 1 | M21: =SUMIFS(E:E,C:C,J21,D:D,K21) -> 16 | N21: 5 | O21: =M21*N21 -> 80 | P21: =(4*( ( (2+0.4) *2) + (0.27*4) * 2 ))/2 -> 13.92 | Q21: =M21/L21 -> 16
A22: 22700 | B22: MG-262 | C22: BSTC | D22: 1 | E22: 30 | F22: Caixa | G22: Boca | H22: 1 | J22: BSCC | K22: 2,0X3,5 | L22: =COUNTIFS(C:C,J22,D:D,K22) -> 1 | M22: =SUMIFS(E:E,C:C,J22,D:D,K22) -> 20 | N22: 7 | O22: =M22*N22 -> 140 | P22: =(4*( ( (3.5+0.4) *2) + (0.27*4) * 2 ))/2 -> 19.92 | Q22: =M22/L22 -> 20
A23: 22800 | B23: MG-262 | C23: BSTC | D23: 1 | E23: 18 | F23: Caixa | G23: Boca | H23: 1 | J23: BSCC | K23: 2,5X3,0 | L23: =COUNTIFS(C:C,J23,D:D,K23) -> 2 | M23: =SUMIFS(E:E,C:C,J23,D:D,K23) -> 77 | N23: =2.5*3 -> 7.5 | O23: =M23*N23 -> 577.5 | P23: =(4*( ( (3+0.4) *2) + (0.27*4) * 2 ))/2 -> 17.92 | Q23: =M23/L23 -> 38.5
A24: 23050 | B24: MG-262 | C24: BSTC | D24: 0.4 | E24: 18 | F24: Caixa | G24: Boca | H24: 1 | J24: BSCC | K24: 3,0X3,0 | L24: =COUNTIFS(C:C,J24,D:D,K24) -> 1 | M24: =SUMIFS(E:E,C:C,J24,D:D,K24) -> 21 | N24: 9 | O24: =M24*N24 -> 189 | P24: =(4*( ( (3+0.4) *2) + (0.27*4) * 2 ))/2 -> 17.92 | Q24: =M24/L24 -> 21
A25: 23300 | B25: MG-262 | C25: BSTC | D25: 0.4 | E25: 18 | F25: Boca | G25: Boca | H25: 1 | J25: BSCC | K25: 4,0X3,O | L25: =COUNTIFS(C:C,J25,D:D,K25) -> 1 | M25: =SUMIFS(E:E,C:C,J25,D:D,K25) -> 22 | N25: 12 | O25: =M25*N25 -> 264 | P25: =(4*( ( (3+0.4) *2) + (0.27*4) * 2 ))/2 -> 17.92 | Q25: =M25/L25 -> 22
A26: 23800 | B26: MG-262 | C26: BSTC | D26: 0.4 | E26: 12 | F26: Caixa | G26: Boca | H26: 1 | J26: BDCC | K26: 1,0X2,0 | L26: =COUNTIFS(C:C,J26,D:D,K26) -> 1 | M26: =SUMIFS(E:E,C:C,J26,D:D,K26) -> 18 | N26: 4 | O26: =M26*N26 -> 72 | P26: =(4*( ( (2+0.4) *2) + (0.27*4) * 2 ))/2 -> 13.92 | Q26: =M26/L26 -> 18
A27: 24200 | B27: MG-262 | C27: BSTC | D27: 0.4 | E27: 18 | F27: Boca | G27: Boca | H27: 1 | J27: BDCC | K27: 2,00X2,00 | L27: =COUNTIFS(C:C,J27,D:D,K27) -> 1 | M27: =SUMIFS(E:E,C:C,J27,D:D,K27) -> 17 | N27: 8 | O27: =M27*N27 -> 136 | P27: =(4*( ( (2+0.4) *2) + (0.27*4) * 2 ))/2 -> 13.92 | Q27: =M27/L27 -> 17
A28: 24600 | B28: MG-262 | C28: BSTC | D28: 0.4 | E28: 18 | F28: Caixa | G28: Boca | H28: 1 | J28: ARMCO | K28: 1 | L28: =COUNTIFS(C:C,J28,D:D,K28) -> 1 | M28: =SUMIFS(E:E,C:C,J28,D:D,K28) -> 19 | N28: =(PI()*1^2)/4 -> 0.78539816 | O28: =M28*N28 -> 14.922565 | P28: =(4*( ( (1+0.4) *2) + (0.27*4) * 2 ))/2 -> 9.92 | Q28: =M28/L28 -> 19
A29: 24700 | B29: MG-262 | C29: BSTC | D29: 0.4 | E29: 12 | F29: Caixa | G29: Boca | H29: 1 | J29: ARMCO | K29: 1.8 | L29: =COUNTIFS(C:C,J29,D:D,K29) -> 1 | M29: =SUMIFS(E:E,C:C,J29,D:D,K29) -> 62 | N29: =(PI()*1.8^2)/4 -> 2.54469 | O29: =M29*N29 -> 157.77078 | P29: =(4*( ( (1+0.4) *2) + (0.27*4) * 2 ))/2 -> 9.92 | Q29: =M29/L29 -> 62
A30: 24800 | B30: MG-262 | C30: BSTC | D30: 0.4 | E30: 12 | F30: Caixa | G30: Boca | H30: 1 | J30: ARMCO | K30: 2 | L30: =COUNTIFS(C:C,J30,D:D,K30) -> 3 | M30: =SUMIFS(E:E,C:C,J30,D:D,K30) -> 144 | N30: =(PI()*2^2)/4 -> 3.1415927 | O30: =M30*N30 -> 452.38934 | P30: =(4*( ( (1+0.4) *2) + (0.27*4) * 2 ))/2 -> 9.92 | Q30: =M30/L30 -> 48
A31: 25100 | B31: MG-262 | C31: BSTC | D31: 0.4 | E31: 12 | F31: Caixa | G31: Boca | H31: 1
A32: 26350 | B32: MG-262 | C32: BSTC | D32: 0.4 | E32: 30 | F32: Caixa | G32: Boca | H32: 1
A33: 26500 | B33: MG-262 | C33: BSTC | D33: 0.4 | E33: 18 | F33: Caixa | G33: Boca | H33: 1
A34: 26700 | B34: MG-262 | C34: BSTC | D34: 0.6 | E34: 18 | F34: Caixa | G34: Boca | H34: 1
A35: 27650 | B35: MG-262 | C35: BSTC | D35: 0.4 | E35: 12 | F35: Caixa | G35: Boca | H35: 1
A36: 28000 | B36: MG-262 | C36: BSTC | D36: 0.4 | E36: 12 | F36: Caixa | G36: Boca | H36: 1
A37: 28600 | B37: MG-262 | C37: BSTC | D37: 0.6 | E37: 12 | F37: Caixa | G37: Boca | H37: 1
A38: 28900 | B38: MG-262 | C38: BSTC | D38: 0.6 | E38: 12 | F38: Caixa | G38: Boca | H38: 1
A39: 30700 | B39: MG-262 | C39: BSTC | D39: 0.6 | E39: 30 | F39: Caixa | G39: Boca | H39: 1
A40: 31300 | B40: MG-262 | C40: BSTC | D40: 0.6 | E40: 30 | F40: Caixa | G40: Boca | H40: 1
...

Sheet MC_Dispositivo
B2: Quantitativo | Memória de Cálculo Dispositivo
B4: Conteúdo
B5: Item | C5: descrição
B6: 1 | C6: Totalizador de Serviços
B7: 2 | C7: Memória de Cálculo
B8: 3
B9: 4
B10: 5
B11: 6
B12: 7
B13: 8
B14: 9
B15: 10
B16: 11
B17: 12
B18: 13
B19: 14
... B30: 25
L34: x
B35: PROGRAMA DE CONCESSÃO DE RODOVIAS DE MINAS GERAIS LOTE OURO PRETO | E35: LOTE | F35: OURO PRETO | G35: OURO PRETO | H35: OURO PRETO | I35: OURO PRETO | J35: OURO PRETO | K35: OURO PRETO | L35: OURO PRETO | M35: OURO PRETO | N35: OURO PRETO | O35: OURO PRETO | P35: OURO PRETO | Q35: OURO PRETO | R35: OURO PRETO | S35: OURO PRETO | T35: OURO PRETO | U35: OURO PRETO | V35: OURO PRETO | W35: OURO PRETO | X35: OURO PRETO | Y35: OURO PRETO | Z35: OURO PRETO | AB35: OURO PRETO | AD35: OURO PRETO | AE35: OURO PRETO | AF35: OURO PRETO | AG35: OURO PRETO | AH35: OURO PRETO | AI35: OURO PRETO | AJ35: OURO PRETO | AK35: OURO PRETO | AL35: OURO PRETO | AM35: OURO PRETO | AN35: OURO PRETO | AO35: OURO PRETO | AP35: OURO PRETO | AQ35: OURO PRETO | AR35: OURO PRETO | AS35: OURO PRETO | AT35: OURO PRETO | AU35: OURO PRETO | AV35: OURO PRETO | AW35: OURO PRETO | AX35: OURO PRETO | AY35: OURO PRETO | AZ35: OURO PRETO | BA35: OURO PRETO | BB35: OURO PRETO | BE35: OURO PRETO
E36: RODOVIA | F36: CMG-120 | G36: CMG-120 | H36: CMG-120 | I36: CMG-120 | J36: CMG-120 | K36: CMG-120 | L36: CMG-120 | M36: LMG-813 | N36: LMG-813 | O36: LMG-813 | P36: LMG-813 | Q36: LMG-813 | R36: LMG-813 | S36: LMG-813 | T36: LMG-813 | U36: LMG-813 | V36: MG-329 | W36: MG-329 | X36: MG-329 | Y36: MG-329 | Z36: MG-329 | AB36: BR-356 | AD36: BR-356 | AE36: BR-356 | AF36: BR-356 | AG36: BR-356 | AH36: BR-356 | AI36: BR-356 | AJ36: BR-356 | AK36: BR-356 | AL36: BR-356 | AM36: BR-356 | AN36: BR-356 | AO36: BR-356 | AP36: BR-356 | AQ36: BR-356 | AR36: BR-356 | AS36: BR-356 | AT36: BR-356 | AU36: BR-356 | AV36: MG-262 | AW36: MG-262 | AX36: MG-262 | AY36: MG-262 | AZ36: MG-262 | BA36: MG-262 | BB36: MG-262
E37: SEGMENTO | F37: Interseção Tipo 1 | G37: Interseção Tipo 1 | H37: Interseção Tipo 1 | I37: Interseção Tipo 1 | J37: Interseção Tipo 1 | K37: Interseção Tipo 1 | L37: Interseção Tipo 1 | M37: Interseção Tipo 4 | N37: Interseção Tipo 3 | O37: Interseção Tipo 3 | P37: Interseção Tipo 3 | Q37: Interseção Tipo 3 | R37: Interseção Tipo 3 | S37: Interseção Tipo 3 | T37: Interseção Tipo 3 | U37: Interseção Tipo 3 | V37: Interseção Tipo 1 | W37: Interseção Tipo 1 | X37: Interseção Tipo 1 | Y37: Interseção Tipo 1 | Z37: Interseção Tipo 1 | AB37: Interseção Tipo 2 | AD37: Interseção Tipo 2 | AE37: Interseção Tipo 2 | AF37: Interseção Tipo 2 | AG37: Interseção Tipo 2 | AH37: Interseção Tipo 2 | AI37: Interseção Tipo 2 | AJ37: Interseção Tipo 2 | AK37: Interseção Tipo 2 | AL37: Interseção Tipo 2 | AM37: Interseção Tipo 2 | AN37: Interseção Tipo 2 | AO37: Interseção Tipo 2 | AP37: Interseção Tipo 2 | AQ37: Interseção Tipo 2 | AR37: Interseção Tipo 1 | AS37: Interseção Tipo 2 | AT37: Interseção Tipo 2 | AU37: Interseção Tipo 2 | AV37: Interseção Tipo 1 | AW37: Interseção Tipo 1 | AX37: Interseção Tipo 1 | AY37: Interseção Tipo 1 | AZ37: Interseção Tipo 1 | BA37: Interseção Tipo 1 | BB37: Interseção Tipo 2
E38: Contorno/Travessia | F38: Contorno Ponte Nova | K38: Contorno de Viçosa | L38: Contorno de Viçosa | N38: Contorno Paraopeba | O38: Contorno Paraopeba | R38: Contorno Aranha | S38: Contorno Aranha | Z38: Contorno Ponte Nova | AE38: Travessia Itabirito | AF38: Travessia Itabirito | AL38: Cachoeira do Campo | AM38: Cachoeira do Campo | AS38: Retorno em U* | AT38: Retorno em U* | AU38: Contorno de Cachoeira do Campo
E39: Quantidade | F39: 1 | G39: 1 | H39: 1 | I39: 1 | J39: 1 | K39: 1 | L39: 1 | M39: 1 | N39: 1 | O39: 1 | P39: 1 | Q39: 1 | R39: 1 | S39: 1 | T39: 1 | U39: 1 | V39: 1 | W39: 1 | X39: 1 | Y39: 1 | AB39: 1 | AD39: 1 | AE39: 1 | AF39: 1 | AG39: 1 | AH39: 1 | AI39: 1 | AJ39: 1 | AK39: 1 | AL39: 1 | AM39: 1 | AN39: 1 | AO39: 1 | AP39: 1 | AQ39: 1 | AR39: 1 | AS39: 1 | AT39: 1 | AU39: 1 | AV39: 1 | AW39: 1 | AX39: 1 | AY39: 1 | AZ39: 1 | BA39: 1 | BB39: 1 | BG39: MG
B40: MEMÓRIA DE CÁLCULO E QUANTIDADES | DISPOSITIVO | E40: $ | F40: =SUMPRODUCT(F$53:F$2166,$BG$53:$BG$2166) -> 0 | G40: =SUMPRODUCT(G$53:G$2166,$BG$53:$BG$2166) -> 0 | H40: =SUMPRODUCT(H$53:H$2166,$BG$53:$BG$2166) -> 0 | I40: =SUMPRODUCT(I$53:I$2166,$BG$53:$BG$2166) -> 0 | J40: =SUMPRODUCT(J$53:J$2166,$BG$53:$BG$2166) -> 0 | K40: =SUMPRODUCT(K$53:K$2166,$BG$53:$BG$2166) -> 0 | L40: =SUMPRODUCT(L$53:L$2166,$BG$53:$BG$2166) -> 0 | M40: =SUMPRODUCT(M$53:M$2166,$BG$53:$BG$2166) -> 0 | ... Z40: =SUMPRODUCT(Z$53:Z$2166,$BG$53:$BG$2166) -> 0 | AB40: =SUMPRODUCT(AB$53:AB$2166,$BG$53:$BG$2166) -> 6517851.4 | AD40: =SUMPRODUCT(AD$53:AD$2166,$BG$53:$BG$2166) -> 6517851.4 | AE40: =SUMPRODUCT(AE$53:AE$2166,$BG$53:$BG$2166) -> 6517851.4 | AF40: =SUMPRODUCT(AF$53:AF$2166,$BG$53:$BG$2166) -> 6517851.4 | AG40: =SUMPRODUCT(AG$53:AG$2166,$BG$53:$BG$2166) -> 6517851.4 | AH40: =SUMPRODUCT(AH$53:AH$2166,$BG$53:$BG$2166) -> 6517851.4 | AI40: =SUMPRODUCT(AI$53:AI$2166,$BG$53:$BG$2166) -> 6517851.4 | AJ40: =SUMPRODUCT(AJ$53:AJ$2166,$BG$53:$BG$2166) -> 6517851.4 | AK40: =SUMPRODUCT(AK$53:AK$2166,$BG$53:$BG$2166) -> 6517851.4 | ... BB40: =SUMPRODUCT(BB$53:BB$2166,$BG$53:$BG$2166) -> 4681082.1 | BG40: =SUM(F40:BE40) -> 1.5444726e+08
H41: =H32&H33 | I41: =I32&I33 | V41: =V32&V33 | AS41: *Foram deletados quantitativos abaixo para chegar em um valor de 1,6 milhão de custo paramétrico do retorno em U | BE41: =BE32&BE33 | BG41: =BG40/SUM(F39:BE39) -> 3357549.1
BM42: CMG-120 | BN42: CMG-120 | BO42: CMG-120 | BP42: CMG-120 | BQ42: CMG-120 | BR42: LMG-813 | BS42: LMG-813 | BT42: LMG-813 | BU42: LMG-813 | BV42: LMG-813 | BW42: MG-329 | BX42: MG-329 | BY42: MG-329 | BZ42: MG-329 | CA42: MG-329 | CB42: BR-356 | CC42: BR-356 | CD42: BR-356 | CE42: BR-356 | CF42: BR-356 | CG42: MG-262 | CH42: MG-262 | CI42: MG-262 | CJ42: MG-262 | CK42: MG-262
F43: 0 | G43: 0 | H43: 0 | I43: 0 | J43: 0 | K43: 0 | L43: 0 | M43: 0 | N43: 0 | O43: 0 | P43: 0 | Q43: 0 | R43: 0 | S43: 0 | T43: 0 | U43: 0 | V43: =IF(V36="CMG-120",INDEX(#REF!,1,MATCH(V44*1000,#REF!,-1)), IF(V36="LMG-813",INDEX(#REF!,MATCH(V44*1000,#REF!,1)), IF(V36="MG-329",INDEX('[8]329'!$F$3:$AI$3,MATCH(V44*1000,'[8]329'!$F$4:$AI$4,1)), IF(V36="BR-356",INDEX('[8]356'!$F$3:$AI$3,MATCH(V44*1000,'[8]356'!$F$4:$AI$4,1)), IF(V36="MG-262",INDEX('[8]262'!$F$3:$AI$3,MATCH(V44*1000,'[8]262'!$F$4:$AI$4,1))))))) -> 7 | W43: =IF(W36="CMG-120",INDEX(#REF!,1,MATCH(W44*1000,#REF!,-1)), IF(W36="LMG-813",INDEX(#REF!,MATCH(W44*1000,#REF!,1)), IF(W36="MG-329",INDEX('[8]329'!$F$3:$AI$3,MATCH(W44*1000,'[8]329'!$F$4:$AI$4,1)), IF(W36="BR-356",INDEX('[8]356'!$F$3:$AI$3,MATCH(W44*1000,'[8]356'!$F$4:$AI$4,1)), IF(W36="MG-262",INDEX('[8]262'!$F$3:$AI$3,MATCH(W44*1000,'[8]262'!$F$4:$AI$4,1))))))) -> 8 | X43: =IF(X36="MG-329",IFERROR(INDEX('[9]329'!$F$3:$AI$3,MATCH(X45*1000,'[9]329'!$F$4:$AI$4,1)),INDEX('[9]329'!$F$3:$AI$3,MATCH(X44*1000,'[9]329'!$F$4:$AI$4,1))), IF(X36="BR-356",IFERROR(INDEX('[9]356'!$F$3:$AI$3,MATCH(X45*1000,'[9]356'!$F$4:$AI$4,1)),INDEX('[9]356'!$F$3:$AI$3,MATCH(X44*1000,'[9]356'!$F$4:$AI$4,1))), IF(X36="MG-262",IFERROR(INDEX('[9]262'!$F$3:$AI$3,MATCH(X45*1000,'[9]262'!$F$4:$AI$4,-1)),INDEX('[9]262'!$F$3:$AI$3,MATCH(X44*1000,'[9]262'!$F$4:$AI$4,-1)))))) -> 4 | Y43: =IF(Y36="MG-329",IFERROR(INDEX('[9]329'!$F$3:$AI$3,MATCH(Y45*1000,'[9]329'!$F$4:$AI$4,1)),INDEX('[9]329'!$F$3:$AI$3,MATCH(Y44*1000,'[9]329'!$F$4:$AI$4,1))), IF(Y36="BR-356",IFERROR(INDEX('[9]356'!$F$3:$AI$3,MATCH(Y45*1000,'[9]356'!$F$4:$AI$4,1)),INDEX('[9]356'!$F$3:$AI$3,MATCH(Y44*1000,'[9]356'!$F$4:$AI$4,1))), IF(Y36="MG-262",IFERROR(INDEX('[9]262'!$F$3:$AI$3,MATCH(Y45*1000,'[9]262'!$F$4:$AI$4,-1)),INDEX('[9]262'!$F$3:$AI$3,MATCH(Y44*1000,'[9]262'!$F$4:$AI$4,-1)))))) -> 4 | Z43: =IF(Z36="MG-329",IFERROR(INDEX('[9]329'!$F$3:$AI$3,MATCH(Z45*1000,'[9]329'!$F$4:$AI$4,1)),INDEX('[9]329'!$F$3:$AI$3,MATCH(Z44*1000,'[9]329'!$F$4:$AI$4,1))), IF(Z36="BR-356",IFERROR(INDEX('[9]356'!$F$3:$AI$3,MATCH(Z45*1000,'[9]356'!$F$4:$AI$4,1)),INDEX('[9]356'!$F$3:$AI$3,MATCH(Z44*1000,'[9]356'!$F$4:$AI$4,1))), IF(Z36="MG-262",IFERROR(INDEX('[9]262'!$F$3:$AI$3,MATCH(Z45*1000,'[9]262'!$F$4:$AI$4,-1)),INDEX('[9]262'!$F$3:$AI$3,MATCH(Z44*1000,'[9]262'!$F$4:$AI$4,-1)))))) -> 4 | AA43: =IF(AA36="MG-329",IFERROR(INDEX('[9]329'!$F$3:$AI$3,MATCH(AA45*1000,'[9]329'!$F$4:$AI$4,1)),INDEX('[9]329'!$F$3:$AI$3,MATCH(AA44*1000,'[9]329'!$F$4:$AI$4,1))), IF(AA36="BR-356",IFERROR(INDEX('[9]356'!$F$3:$AI$3,MATCH(AA45*1000,'[9]356'!$F$4:$AI$4,1)),INDEX('[9]356'!$F$3:$AI$3,MATCH(AA44*1000,'[9]356'!$F$4:$AI$4,1))), IF(AA36="MG-262",IFERROR(INDEX('[9]262'!$F$3:$AI$3,MATCH(AA45*1000,'[9]262'!$F$4:$AI$4,-1)),INDEX('[9]262'!$F$3:$AI$3,MATCH(AA44*1000,'[9]262'!$F$4:$AI$4,-1)))))) -> FALSE | AB43: =IF(AB36="MG-329",IFERROR(INDEX('[9]329'!$F$3:$AI$3,MATCH(AB45*1000,'[9]329'!$F$4:$AI$4,1)),INDEX('[9]329'!$F$3:$AI$3,MATCH(AB44*1000,'[9]329'!$F$4:$AI$4,1))), IF(AB36="BR-356",IFERROR(INDEX('[9]356'!$F$3:$AI$3,MATCH(AB45*1000,'[9]356'!$F$4:$AI$4,1)),INDEX('[9]356'!$F$3:$AI$3,MATCH(AB44*1000,'[9]356'!$F$4:$AI$4,1))), IF(AB36="MG-262",IFERROR(INDEX('[9]262'!$F$3:$AI$3,MATCH(AB45*1000,'[9]262'!$F$4:$AI$4,-1)),INDEX('[9]262'!$F$3:$AI$3,MATCH(AB44*1000,'[9]262'!$F$4:$AI$4,-1)))))) -> 3 | AC43: =IF(AC36="MG-329",IFERROR(INDEX('[9]329'!$F$3:$AI$3,MATCH(AC45*1000,'[9]329'!$F$4:$AI$4,1)),INDEX('[9]329'!$F$3:$AI$3,MATCH(AC44*1000,'[9]329'!$F$4:$AI$4,1))), IF(AC36="BR-356",IFERROR(INDEX('[9]356'!$F$3:$AI$3,MATCH(AC45*1000,'[9]356'!$F$4:$AI$4,1)),INDEX('[9]356'!$F$3:$AI$3,MATCH(AC44*1000,'[9]356'!$F$4:$AI$4,1))), IF(AC36="MG-262",IFERROR(INDEX('[9]262'!$F$3:$AI$3,MATCH(AC45*1000,'[9]262'!$F$4:$AI$4,-1)),INDEX('[9]262'!$F$3:$AI$3,MATCH(AC44*1000,'[9]262'!$F$4:$AI$4,-1)))))) -> FALSE | AD43: =IF(AD36="MG-329",IFERROR(INDEX('[9]329'!$F$3:$AI$3,MATCH(AD45*1000,'[9]329'!$F$4:$AI$4,1)),INDEX('[9]329'!$F$3:$AI$3,MATCH(AD44*1000,'[9]329'!$F$4:$AI$4,1))), IF(AD36="BR-356",IFERROR(INDEX('[9]356'!$F$3:$AI$3,MATCH(AD45*1000,'[9]356'!$F$4:$AI$4,1)),INDEX('[9]356'!$F$3:$AI$3,MATCH(AD44*1000,'[9]356'!$F$4:$AI$4,1))), IF(AD36="MG-262",IFERROR(INDEX('[9]262'!$F$3:$AI$3,MATCH(AD45*1000,'[9]262'!$F$4:$AI$4,-1)),INDEX('[9]262'!$F$3:$AI$3,MATCH(AD44*1000,'[9]262'!$F$4:$AI$4,-1)))))) -> 3 | AE43: =IF(AE36="MG-329",IFERROR(INDEX('[9]329'!$F$3:$AI$3,MATCH(AE45*1000,'[9]329'!$F$4:$AI$4,1)),INDEX('[9]329'!$F$3:$AI$3,MATCH(AE44*1000,'[9]329'!$F$4:$AI$4,1))), IF(AE36="BR-356",IFERROR(INDEX('[9]356'!$F$3:$AI$3,MATCH(AE45*1000,'[9]356'!$F$4:$AI$4,1)),INDEX('[9]356'!$F$3:$AI$3,MATCH(AE44*1000,'[9]356'!$F$4:$AI$4,1))), IF(AE36="MG-262",IFERROR(INDEX('[9]262'!$F$3:$AI$3,MATCH(AE45*1000,'[9]262'!$F$4:$AI$4,-1)),INDEX('[9]262'!$F$3:$AI$3,MATCH(AE44*1000,'[9]262'!$F$4:$AI$4,-1)))))) -> 4 | ... BB43: =IF(BB36="MG-329",IFERROR(INDEX('[9]329'!$F$3:$AI$3,MATCH(BB45*1000,'[9]329'!$F$4:$AI$4,1)),INDEX('[9]329'!$F$3:$AI$3,MATCH(BB44*1000,'[9]329'!$F$4:$AI$4,1))), IF(BB36="BR-356",IFERROR(INDEX('[9]356'!$F$3:$AI$3,MATCH(BB45*1000,'[9]356'!$F$4:$AI$4,1)),INDEX('[9]356'!$F$3:$AI$3,MATCH(BB44*1000,'[9]356'!$F$4:$AI$4,1))), IF(BB36="MG-262",IFERROR(INDEX('[9]262'!$F$3:$AI$3,MATCH(BB45*1000,'[9]262'!$F$4:$AI$4,-1)),INDEX('[9]262'!$F$3:$AI$3,MATCH(BB44*1000,'[9]262'!$F$4:$AI$4,-1)))))) -> 3 | BI43: QUANTIDADE UNITÁRIO DE SERVIÇO | BM43: Interseção Tipo 1 | BN43: Interseção Tipo 2 | BO43: Interseção Tipo 3 | BP43: Interseção Tipo 4 | BQ43: Interseção Tipo 5 | BR43: Interseção Tipo 1 | BS43: Interseção Tipo 2 | BT43: Interseção Tipo 3 | BU43: Interseção Tipo 4 | BV43: Interseção Tipo 5 | BW43: Interseção Tipo 1 | BX43: Interseção Tipo 2 | BY43: Interseção Tipo 3 | BZ43: Interseção Tipo 4 | CA43: Interseção Tipo 5 | CB43: Interseção Tipo 1 | CC43: Interseção Tipo 2 | CD43: Interseção Tipo 3 | CE43: Interseção Tipo 4 | CF43: Interseção Tipo 5 | CG43: Interseção Tipo 1 | CH43: Interseção Tipo 2 | CI43: Interseção Tipo 3 | CJ43: Interseção Tipo 4 | CK43: Interseção Tipo 5 | CT43: 5 | CU43: =CT43+1 -> 6 | CV43: =CU43+1 -> 7 | CW43: =CV43+1 -> 8 | CX43: =CW43+1 -> 9 | CY43: =CX43+1 -> 10 | CZ43: =CY43+1 -> 11 | DA43: =CZ43+1 -> 12 | DB43: =DA43+1 -> 13 | ... DT43: =DS43+1 -> 31
B44: ITEM | C44: CÓDIGO | D44: DESCRIÇÃO | E44: UNID. | F44: 575.2 | G44: 581.9 | H44: 587.7 | I44: 597.3 | J44: 604.3 | K44: 613.6 | L44: 619 | M44: 0 | N44: 6.6 | O44: 9 | P44: 12.7 | Q44: 13.1 | R44: 18.7 | S44: 22 | T44: 29.5 | U44: 35.5 | V44: 100 | W44: 111.6 | X44: 117.4 | Y44: 124.5 | Z44: 134.1 | AB44: 32.8 | AD44: 42.5 | AE44: 52.2 | AF44: 55.4 | AG44: 57.6 | AH44: 60.4 | AI44: 62.8 | AJ44: 65.8 | AK44: 68.1 | AL44: 71.8 | AM44: 75 | AN44: 78.7 | AO44: 83.5 | AP44: 89.4 | AQ44: 94 | AR44: 108.5 | AS44: 106 | AT44: 100.5 | AU44: 73 | AV44: 14.98 | AW44: 24.9 | AX44: 38 | AY44: 47.2 | AZ44: 58.4 | BA44: 66 | BB44: 72.3 | BI44: ITEM | BJ44: CÓDIGO | BK44: DESCRIÇÃO | BL44: UNID. | BM44: QUANT. | BN44: QUANT. | BO44: QUANT. | BP44: QUANT. | BQ44: QUANT. | BR44: QUANT. | BS44: QUANT. | BT44: QUANT. | BU44: QUANT. | BV44: QUANT. | BW44: QUANT. | BX44: QUANT. | BY44: QUANT. | BZ44: QUANT. | CA44: QUANT. | CB44: QUANT. | CC44: QUANT. | CD44: QUANT. | CE44: QUANT. | CF44: QUANT. | CG44: QUANT. | CH44: QUANT. | CI44: QUANT. | CJ44: QUANT. | CK44: QUANT. | CR44: MEMÓRIA DE CÁLCULO
F45: 576 | G45: 582.55 | H45: 588.3 | I45: 598 | J45: 605 | K45: 614.5 | L45: 619 | M45: 0 | N45: 7.3 | O45: 9.5 | P45: 12.7 | Q45: 13.1 | R45: 18.7 | S45: 22 | T45: 29.5 | U45: 35.5 | V45: 100 | W45: 112.3 | X45: 118 | Y45: 125 | Z45: 134.9 | AB45: =AB44+AB46 -> 33.5 | AD45: 43 | AE45: 52.6 | AF45: 56.3 | AG45: 58.4 | AH45: 61 | AI45: 63.3 | AJ45: 66.3 | AK45: 69.1 | AL45: 72.4 | AM45: 75.6 | AN45: 79.4 | AO45: 84 | AP45: 90 | AQ45: 94.6 | AR45: 109 | AS45: 106.5 | AT45: 101 | AU45: 73.5 | AV45: 15.2 | AW45: 25.5 | AX45: 38.6 | AY45: 47.9 | AZ45: 59 | BA45: 66.6 | BB45: 73.1 | BG45: PREÇO UNITÁRIO | BM45: 5 | BN45: =BM45+1 -> 6 | BO45: =BN45+1 -> 7 | BP45: =BO45+1 -> 8 | BQ45: =BP45+1 -> 9 | BR45: =BQ45+1 -> 10 | BS45: =BR45+1 -> 11 | BT45: =BS45+1 -> 12 | BU45: =BT45+1 -> 13 | ... CM45: =CL45+1 -> 31 | CT45: CMG-120 | CU45: CMG-120 | CV45: CMG-120 | CW45: CMG-120 | CX45: CMG-120 | CY45: LMG-813 | CZ45: LMG-813 | DA45: LMG-813 | DB45: LMG-813 | DC45: LMG-813 | DD45: MG-329 | DE45: MG-329 | DF45: MG-329 | DG45: MG-329 | DH45: MG-329 | DI45: BR-356 | DJ45: BR-356 | DK45: BR-356 | DL45: BR-356 | DM45: BR-356 | DN45: MG-262 | DO45: MG-262 | DP45: MG-262 | DQ45: MG-262 | DR45: MG-262
F46: =F45-F44 -> 0.8 | G46: =G45-G44 -> 0.65 | H46: =H45-H44 -> 0.6 | I46: =I45-I44 -> 0.7 | J46: =J45-J44 -> 0.7 | K46: =K45-K44 -> 0.9 | L46: =L45-L44 -> 0 | M46: =M45-M44 -> 0 | ... Z46: =Z45-Z44 -> 0.8 | AB46: 0.7 | AD46: =AD45-AD44 -> 0.5 | AE46: =AE45-AE44 -> 0.4 | AF46: =AF45-AF44 -> 0.9 | AG46: =AG45-AG44 -> 0.8 | AH46: =AH45-AH44 -> 0.6 | AI46: =AI45-AI44 -> 0.5 | AJ46: =AJ45-AJ44 -> 0.5 | AK46: =AK45-AK44 -> 1 | ... BB46: =BB45-BB44 -> 0.8 | BI46: 1 | BK46: SERVIÇOS PRELIMINARES | CP46: 1 | CR46: SERVIÇOS PRELIMINARES | CT46: Interseção Tipo 1 | CU46: Interseção Tipo 2 | CV46: Interseção Tipo 3 | CW46: Interseção Tipo 4 | CX46: Interseção Tipo 5 | CY46: Interseção Tipo 1 | CZ46: Interseção Tipo 2 | DA46: Interseção Tipo 3 | DB46: Interseção Tipo 4 | DC46: Interseção Tipo 5 | DD46: Interseção Tipo 1 | DE46: Interseção Tipo 2 | DF46: Interseção Tipo 3 | DG46: Interseção Tipo 4 | DH46: Interseção Tipo 5 | DI46: Interseção Tipo 1 | DJ46: Interseção Tipo 2 | DK46: Interseção Tipo 3 | DL46: Interseção Tipo 4 | DM46: Interseção Tipo 5 | DN46: Interseção Tipo 1 | DO46: Interseção Tipo 2 | DP46: Interseção Tipo 3 | DQ46: Interseção Tipo 4 | DR46: Interseção Tipo 5
